Workbook

Sheet Feuil1
A1: Fiche de Création de Personnage pour AD&D 2.5 | H1: By Mordraoi
A3: 1 - Tirage des caractéristiques principales : | E3: 2 - Choix de la race du Personnage :
A5: Méthode utilisée : | E5: Race de Personnage :
A7: Caractéristiques | B7: Valeur initiale | C7: Ajustées | E7: Capacités Raciales | H7: Coût
A8: Force
A9: Dextérité
A10: Constitution
A11: Intelligence
A12: Sagesse
A13: Charisme
A15: Ajustements raciaux :
A17: Caractéristiques | B17: Bonus/Malus
A18: Force
A19: Dextérité
A20: Constitution
A21: Intelligence
A22: Sagesse
A23: Charisme | E23: Points de Personnage reçus: | G23: =VLOOKUP(Feuil1!G5,Feuil2!A1:C22,3,FALSE) -> #N/A
E24: Coût Total de la Race : | G24: =SUM(G8:H21) -> 0
E25: PP restants : | G25: =SUM(G23-G24) -> #N/A
A26: Caractéristiques | B26: Sous-Carac | C26: Valeur
A27: Force | B27: Endurance | E27: 3 - Choix de la classe de Personnage | H27: PP
A28: =SUM(C8+B18) -> 0 | B28: Puissance
A29: Dextérité | B29: Précision | E29: Classe 1 | H29: =VLOOKUP(E29,Feuil2!D1:F26,3,FALSE) -> 0
A30: =SUM(C9+B19) -> 0 | B30: Equilibre
A31: Constitution | B31: Resistance | E31: Classe 2 | H31: =VLOOKUP(E31,Feuil2!D1:F26,3,FALSE) -> 0
A32: =SUM(C10+B20) -> 0 | B32: Vigueur
A33: Intelligence | B33: Intellect | E33: Classe 3 | H33: =VLOOKUP(E33,Feuil2!D1:F26,3,FALSE) -> 0
A34: =SUM(C11+B21) -> 0 | B34: Erudition
A35: Sagesse | B35: Intuition | E35: Habiletés de Classe | H35: Coût
A36: =SUM(C12+B22) -> 0 | B36: Volonté
A37: Charisme | B37: Magnétisme
A38: =SUM(C13+B23) -> 0 | B38: Charme
A40: Bonus de PP dù à Erudition : | C40: =VLOOKUP(C34,Feuil2!G1:H19,2,FALSE) -> #N/A
A42: Nom du Personnage :
A45: Taille : | C45: CM | E45: Restrictions Optionelles | H45: PP
A46: Poids : | C46: KG
A47: Age : | C47: ANS
A48: Age Max. : | C48: ANS
E49: Points de Personnage reçus: | G49: =SUM(H29+H31+H33) -> 0
...

Sheet Feuil2
A1: RACES | D1: CLASSES | G1: Erudition | H1: Bonus
D2: Classe 1 | F2: 0 | G2: 3 | H2: 1
A3: Autres | C3: variable | D3: Classe 2 | F3: 0 | G3: 4 | H3: 1
A4: Demi-Elfe | C4: 25 | D4: Classe 3 | F4: 0 | G4: 5 | H4: 1
A5: Demi-Ogre | C5: 15 | D5: Arpenteur de Sorts | F5: 0 | G5: 6 | H5: 1
A6: Demi-Orque | C6: 15 | D6: Barbare | F6: 0 | G6: 7 | H6: 1
A7: Elfe Aquatique | C7: 45 | D7: Barde | F7: 70 | G7: 8 | H7: 1
A8: Elfe Noir | C8: 45 | D8: Chaman | F8: 0 | G8: 9 | H8: 2
A9: Elfe Gris | C9: 45 | D9: Chanteur de Sorts | F9: 0 | G9: 10 | H9: 2
A10: Elfe Haut | C10: 45 | D10: Clerc | F10: 125 | G10: 11 | H10: 2
A11: Elfe Sylvestre | C11: 45 | D11: Croisé | F11: 0 | G11: 12 | H11: 3
A12: Gnome de Profondeurs | C12: 45 | D12: Druide | F12: 100 | G12: 13 | H12: 3
A13: Gnome des Rochers | C13: 45 | D13: Guerrier | F13: 15 | G13: 14 | H13: 4
A14: Gnomes des Forêts | C14: 45 | D14: Mage Spécialiste | F14: 30 | G14: 15 | H14: 4
A15: Humain | C15: 10 | D15: Magicien | F15: 40 | G15: 16 | H15: 5
... A19: Nains Gris | C19: 45 | D19: Prêtre Spécialiste | F19: 0 | G19: 20 | H19: 9
A20: Petite-Gens, Costaud | C20: 45 | D20: Psioniste | F20: 35
A21: Petite-Gens, Grand-gars | C21: 45 | D21: Rôdeur | F21: 60
A22: Petite-Gens, Pieds Velus | C22: 45 | D22: Templier | F22: 0 | G22: Alignement
D23: Voleur | F23: 80 | G23: Loyal Bon
D24: Mono-classé | F24: 0 | G24: Loyal Neutre
D25: Bi-classé | F25: 0 | G25: Loyal Mauvais
G26: Neutre Bon
G27: Neutre absolu
D28: Classe Sociale | G28: Neutre Mauvais
D29: Classe Inférieure | G29: Chaotique Bon
D30: Classe Moyenne Inférieure | G30: Chaotique Neutre
D31: Classe Moyenne Supérieure | G31: Chaotique Mauvais
D32: Classe Supérieure
