Workbook
Name maggo1: #REF!
Name maggo2: #REF!

Sheet EXPLICATIONS
A1: EXPLICATION SUR L'UTILISATION DE LA FEUILLE DE PERSONNAGE
A3: Cette feuille reprend quasiment toutes les informations présentes dans la feuille originale de AD&D.
B5: SAISIE DES INFORMATIONS 3 CHOIX :
C6: * Saisir manuellement dans la cellule concernée
C7: * Choisir dans le menu déroulant de la cellule
C8: * Ne rien inscrire puisque la feuille calcule seule,
B10: LISTE DES SAISIES MANUELLES :
C11: Nom du joueur, Date de création, NOM, niveau, age, taille/poids, signe particuliers
C12: Chiifre des caractéristiques + % de force (si nécessaire)
C13: Objets magiques
C14: Total PV et Total Xp
C15: Pièces d'or
C16: Possessions & Equipement + Notes
B18: SORTILEGES :
C19: Dans cette version, seul le nombre de sorts authorisés se calcule automatiquement,
C20: Les sorts doivent être inscrits manuellement
B22: IMPRESSION :
C23: La feuille est paramétrée pour une impression pleine page en Recto/Verrso
A25: NOTA : | B25: * l'alignement ne figure pas dans la feuille et devra être écrit sur la feuille une fois imprimée.
B27: * Des feuilles spécifiques à chaque classe avec automatisation des informations des sortilèges
B28: seront disponibles si cela intéresse des gens,
A31: En espérant que cela pourra rendre service à de nombreuses personnes.
A32: J'ai voulu créér une feuille de perso à l'image de l'originale,
A33: Avec toute mon amitié.
A34: MagicStef
A36: PS : | B36: Je conseille de faire une sauvegarde de la feuille avant toute utilisation (on ne sait jamais lol),
B37: De même, le présent onglet "EXPLICATIONS", peut ensuite être supprimé,

Sheet Feuil1
A1: Feuille de personnage | AP1: Sortilèges
AP2: Nombre maximum de sorts authorisés
A3: Nom du joueur : | AC3: Date de création :
AQ4: Sort niv 1 | AU4: =IF(Table_Sorts!$K$1="Clerc",VLOOKUP(Table_Sorts!$K$3,Table_Sorts!$A$9:$J$38,2,FALSE)+$M$16,IF(Table_Sorts!$K$1="DRUIDE",VLOOKUP(Table_Sorts!$K$3,Table_Sorts!$L$9:$U$29,2,FALSE)+$M$16,IF(Table_Sorts!$K$1="PALADIN",VLOOKUP(Table_Sorts!$K$3,Table_Sorts!$W$9:$AF$29,2,FALSE),IF(Table_Sorts!$K$1="MAGICIEN",VLOOKUP(Table_Sorts!$K$3,Table_Sorts!$AH$9:$AQ$38,2,FALSE),IF(Table_Sorts!$K$1="ILLUSIONNISTE",VLOOKUP(Table_Sorts!$K$3,Table_Sorts!$AS$9:$BB$35,2,FALSE),"Aucun"))))) -> Aucun | AX4: Sort niv 2 | BB4: =IF(Table_Sorts!$K$1="Clerc",VLOOKUP(Table_Sorts!$K$3,Table_Sorts!$A$9:$J$38,3,FALSE)+$N$16,IF(Table_Sorts!$K$1="DRUIDE",VLOOKUP(Table_Sorts!$K$3,Table_Sorts!$L$9:$U$29,3,FALSE)+$N$16,IF(Table_Sorts!$K$1="PALADIN",VLOOKUP(Table_Sorts!$K$3,Table_Sorts!$W$9:$AF$29,3,FALSE),IF(Table_Sorts!$K$1="MAGICIEN",VLOOKUP(Table_Sorts!$K$3,Table_Sorts!$AH$9:$AQ$38,3,FALSE),IF(Table_Sorts!$K$1="ILLUSIONNISTE",VLOOKUP(Table_Sorts!$K$3,Table_Sorts!$AS$9:$BB$35,3,FALSE),"Aucun"))))) -> Aucun | BE4: Sort niv 3 | BI4: =IF(Table_Sorts!$K$1="Clerc",VLOOKUP(Table_Sorts!$K$3,Table_Sorts!$A$9:$J$38,4,FALSE)+$O$16,IF(Table_Sorts!$K$1="DRUIDE",VLOOKUP(Table_Sorts!$K$3,Table_Sorts!$L$9:$U$29,4,FALSE)+$O$16,IF(Table_Sorts!$K$1="PALADIN",VLOOKUP(Table_Sorts!$K$3,Table_Sorts!$W$9:$AF$29,4,FALSE),IF(Table_Sorts!$K$1="MAGICIEN",VLOOKUP(Table_Sorts!$K$3,Table_Sorts!$AH$9:$AQ$38,4,FALSE),IF(Table_Sorts!$K$1="ILLUSIONNISTE",VLOOKUP(Table_Sorts!$K$3,Table_Sorts!$AS$9:$BB$35,4,FALSE),"Aucun"))))) -> Aucun | BL4: Sort niv 4 | BQ4: =IF(Table_Sorts!$K$1="Clerc",VLOOKUP(Table_Sorts!$K$3,Table_Sorts!$A$9:$J$38,5,FALSE)+$P$16,IF(Table_Sorts!$K$1="DRUIDE",VLOOKUP(Table_Sorts!$K$3,Table_Sorts!$L$9:$U$29,5,FALSE)+$P$16,IF(Table_Sorts!$K$1="PALADIN",VLOOKUP(Table_Sorts!$K$3,Table_Sorts!$W$9:$AF$29,5,FALSE),IF(Table_Sorts!$K$1="MAGICIEN",VLOOKUP(Table_Sorts!$K$3,Table_Sorts!$AH$9:$AQ$38,5,FALSE),IF(Table_Sorts!$K$1="ILLUSIONNISTE",VLOOKUP(Table_Sorts!$K$3,Table_Sorts!$AS$9:$BB$35,5,FALSE),"Aucun"))))) -> Aucun | BT4: Sort niv 5 | BX4: =IF(Table_Sorts!$K$1="Clerc",VLOOKUP(Table_Sorts!$K$3,Table_Sorts!$A$9:$J$38,6,FALSE),IF(Table_Sorts!$K$1="DRUIDE",VLOOKUP(Table_Sorts!$K$3,Table_Sorts!$L$9:$U$29,6,FALSE),IF(Table_Sorts!$K$1="PALADIN",VLOOKUP(Table_Sorts!$K$3,Table_Sorts!$W$9:$AF$29,6,FALSE),IF(Table_Sorts!$K$1="MAGICIEN",VLOOKUP(Table_Sorts!$K$3,Table_Sorts!$AH$9:$AQ$38,6,FALSE),IF(Table_Sorts!$K$1="ILLUSIONNISTE",VLOOKUP(Table_Sorts!$K$3,Table_Sorts!$AS$9:$BB$35,6,FALSE),"Aucun"))))) -> Aucun | CA4: Sort niv 6 | CE4: =IF(Table_Sorts!$K$1="Clerc",VLOOKUP(Table_Sorts!$K$3,Table_Sorts!$A$9:$J$38,7,FALSE),IF(Table_Sorts!$K$1="DRUIDE",VLOOKUP(Table_Sorts!$K$3,Table_Sorts!$L$9:$U$29,7,FALSE),IF(Table_Sorts!$K$1="PALADIN",VLOOKUP(Table_Sorts!$K$3,Table_Sorts!$W$9:$AF$29,7,FALSE),IF(Table_Sorts!$K$1="MAGICIEN",VLOOKUP(Table_Sorts!$K$3,Table_Sorts!$AH$9:$AQ$38,7,FALSE),IF(Table_Sorts!$K$1="ILLUSIONNISTE",VLOOKUP(Table_Sorts!$K$3,Table_Sorts!$AS$9:$BB$35,7,FALSE),"Aucun"))))) -> Aucun | CH4: Sort niv 7 | CL4: =IF(Table_Sorts!$K$1="Clerc",VLOOKUP(Table_Sorts!$K$3,Table_Sorts!$A$9:$J$38,8,FALSE),IF(Table_Sorts!$K$1="DRUIDE",VLOOKUP(Table_Sorts!$K$3,Table_Sorts!$L$9:$U$29,8,FALSE),IF(Table_Sorts!$K$1="PALADIN",VLOOKUP(Table_Sorts!$K$3,Table_Sorts!$W$9:$AF$29,8,FALSE),IF(Table_Sorts!$K$1="MAGICIEN",VLOOKUP(Table_Sorts!$K$3,Table_Sorts!$AH$9:$AQ$38,8,FALSE),IF(Table_Sorts!$K$1="ILLUSIONNISTE",VLOOKUP(Table_Sorts!$K$3,Table_Sorts!$AS$9:$BB$35,8,FALSE),"Aucun"))))) -> Aucun
L5: Classe : | N5: GUERRIER | W5: Titre : | Y5: =(VLOOKUP(Feuil1!$N$5,Feuil2!$AW$1:$AY$135,1,FALSE)&(" ")&(VLOOKUP(Feuil2!$BM$10,Feuil2!$AX$1:$AZ$135,3,FALSE))) -> GUERRIER Vétéran | AI5: Niveau : | AL5: 1
L6: Race : | N6: HUMAIN | W6: Sexe : | Y6: Homme | AI6: Age : | AP6: Sortilèges de Niveau 1
L7: Dieu : | N7: Aucun | V7: Talent acquis : | Z7: Aucun | AF7: Taille/Poids : | AP7: Nom du sortilège | BD7: PORTEE | BK7: DUREE | BR7: CAST TIME | BW7: JET PROTECTION | CC7: INFORMATIONS
B8: Couleur de peau : | G8: Halée | L8: Couleur des yeux : | Q8: Noisette | W8: Couleur des cheveux : | AC8: Chatains
B9: Signe particulier :
A11: 10 | C11: 0 | D11: FOR | F11: Toucher | H11: =IF($C$12=0,VLOOKUP(Feuil1!$A$11,Feuil2!$L$81:$Q$99,2,FALSE),VLOOKUP(Feuil1!$C$11,Feuil2!$E$81:$J$182,2,FALSE)) -> 0 | K11: Dégats | M11: =IF($C$12=0,VLOOKUP(Feuil1!$A$11,Feuil2!$L$81:$Q$99,3,FALSE),VLOOKUP(Feuil1!$C$11,Feuil2!$E$81:$J$182,3,FALSE)) -> 0 | P11: Ajust | R11: =IF($C$12=0,VLOOKUP(Feuil1!$A$11,Feuil2!$L$81:$Q$99,4,FALSE),VLOOKUP(Feuil1!$C$11,Feuil2!$E$81:$J$182,4,FALSE)) -> 0 | U11: Ouvert | W11: =IF($C$12=0,VLOOKUP(Feuil1!$A$11,Feuil2!$L$81:$Q$99,5,FALSE),VLOOKUP(Feuil1!$C$11,Feuil2!$E$81:$J$182,5,FALSE)) -> 1 - 2 | Z11: Torsion | AB11: =IF($C$12=0,VLOOKUP(Feuil1!$A$11,Feuil2!$L$81:$Q$99,6,FALSE),VLOOKUP(Feuil1!$C$11,Feuil2!$E$81:$J$182,6,FALSE)) -> 0.02 | AE11: APTITUDES
C12: =IF(OR($N$5="GUERRIER",$N$5="PALADIN",$N$5="RANGER")*AND($A$11=18),1,0) -> 0 | P12: Poids | U12: portes | Z12: Barreaux | AE12: Race
A13: 10 | D13: INT | F13: Lang | H13: =VLOOKUP($A$13,Feuil2!$E$19:$I$37,2,FALSE) -> 2 | K13: Know | M13: =VLOOKUP($A$13,Feuil2!$E$19:$I$37,3,FALSE) -> 0.45 | P13: Sorts | R13: =VLOOKUP($A$13,Feuil2!$E$19:$I$37,4,FALSE) -> 5 | U13: Sorts | W13: =VLOOKUP($A$13,Feuil2!$E$19:$I$37,5,FALSE) -> 7 | AE13: Infra-vision : | AK13: =VLOOKUP(Feuil1!$N$6,Feuil2!$CF$1:$CJ$8,2,FALSE) -> NON
F14: Add | K14: Spells | P14: Min | U14: Max | AE14: Detect pass secret : | AK14: =VLOOKUP(Feuil1!$N$6,Feuil2!$CF$1:$CJ$8,3,FALSE) -> NON
A15: 10 | D15: SAG | F15: Ajust | H15: =VLOOKUP($A$15,Feuil2!$K$19:$R$37,2,FALSE) -> 0 | K15: Niveau | M15: 1 | N15: 2 | O15: 3 | P15: 4 | R15: % Echec | T15: =IF(OR($N$5="CLERC",$N$5="DRUIDE"),VLOOKUP($A$15,Feuil2!$K$19:$R$37,7,FALSE),"no") -> no | U15: =IF(OR($N$5="CLERC",$N$5="DRUIDE"),VLOOKUP($A$15,Feuil2!$K$19:$R$37,6,FALSE),"no") -> no | W15: Ajust | Y15: =VLOOKUP($A$15,Feuil2!$K$19:$R$37,8,FALSE) -> 0 | AE15: Résistance : | AK15: =VLOOKUP(Feuil1!$N$6,Feuil2!$CF$1:$CJ$8,4,FALSE) -> Aucune
F16: Magie | K16: Sort | M16: =IF(OR($N$5="CLERC",$N$5="DRUIDE"),VLOOKUP($A$15,Feuil2!$K$19:$R$37,3,FALSE),"no") -> no | N16: =IF(OR($N$5="CLERC",$N$5="DRUIDE"),VLOOKUP($A$15,Feuil2!$K$19:$R$37,4,FALSE),"no") -> no | O16: =IF(OR($N$5="CLERC",$N$5="DRUIDE"),VLOOKUP($A$15,Feuil2!$K$19:$R$37,5,FALSE),"no") -> no | P16: =IF(OR($N$5="CLERC",$N$5="DRUIDE"),VLOOKUP($A$15,Feuil2!$K$19:$R$37,6,FALSE),"no") -> no | R16: aux sorts | T16: =IF(OR($N$5="CLERC",$N$5="DRUIDE"),VLOOKUP($A$15,Feuil2!$K$19:$R$37,6,FALSE),"no") -> no | U16: =IF(OR($N$5="CLERC",$N$5="DRUIDE"),VLOOKUP($A$15,Feuil2!$K$19:$R$37,6,FALSE),"no") -> no | W16: Jp/Sorts | AE16: Att par surprise : | AK16: =VLOOKUP(Feuil1!$N$6,Feuil2!$CF$1:$CJ$8,5,FALSE) -> 1-2 sur 1D6
A17: 10 | D17: DEX | F17: Ajust | H17: =VLOOKUP($A$17,Feuil2!$E$40:$H$58,2,FALSE) -> 0 | K17: Ajustement | P17: =VLOOKUP($A$17,Feuil2!$E$40:$H$58,3,FALSE) -> 0 | S17: Ajustement Classe d'Armure | Z17: =VLOOKUP($A$17,Feuil2!$E$40:$H$58,4,FALSE) -> 0 | AE17: Classe
F18: Surprise | K18: Toucher Projectiles | S18: Jp / Baguettes et Souffle | AE18: Charme/Know legend : | AL18: =VLOOKUP($N$5,Feuil2!$CF$11:$CK$20,2,FALSE) -> 0 | AP18: Sortilèges de Niveau 2
A19: 10 | D19: CON | F19: Ajustement | I19: =VLOOKUP($A$19,Feuil2!$E$61:$H$79,2,FALSE) -> 0 | L19: Choc | N19: =VLOOKUP($A$19,Feuil2!$E$61:$H$79,3,FALSE) -> 0.7 | Q19: % de | T19: =VLOOKUP($A$19,Feuil2!$E$61:$H$79,4,FALSE) -> 0.75 | W19: Ajust JP | AB19: =VLOOKUP($A$19,Feuil2!$E$61:$I$79,5,FALSE) -> 0 | AE19: Vade retro : | AL19: =VLOOKUP($N$5,Feuil2!$CF$11:$CK$20,3,FALSE) -> NON | AP19: Nom du sortilège | BD19: PORTEE | BK19: DUREE | BR19: CAST TIME | BW19: JET PROTECTION | CC19: INFORMATIONS
F20: Points de vie | L20: Metab | Q20: Resurrection | W20: Potion / Pétrification | AE20: Assassinat : | AL20: =VLOOKUP($N$5,Feuil2!$CF$11:$CK$20,4,FALSE) -> NON
A21: 10 | D21: CHA | F21: Nbr Max | I21: =VLOOKUP($A$21,Feuil2!$K$61:$N$79,2,FALSE) -> 4 | L21: Ajustement | O21: =VLOOKUP($A$21,Feuil2!$K$61:$N$79,3,FALSE) -> 0 | R21: Ajustement | U21: =VLOOKUP($A$21,Feuil2!$K$61:$N$79,4,FALSE) -> 0 | AE21: Detect magic : | AL21: =VLOOKUP($N$5,Feuil2!$CF$11:$CK$20,5,FALSE) -> NON
F22: Suivants | L22: Loyauté | R22: Réactions | AE22: Bonus Magie : | AL22: =VLOOKUP($N$5,Feuil2!$CF$11:$CK$20,6,FALSE) -> Aucun
A24: Type | F24: Description | M24: Bonus | S24: Talents de voleur | AF24: Objets Magiques
K25: Protect | M25: Magie | O25: JP | S25: Classe | U25: Dext | W25: Race | Y25: TOTAL
A26: Armure | C26: Aucune | K26: =IF(VLOOKUP($C$26,Feuil2!$S$1:$V$15,3,FALSE)=0,VLOOKUP(Feuil1!$C$26,Feuil2!$S$1:$V$15,4,FALSE),0) -> 0 | M26: =IF(K26=0,VLOOKUP(Feuil1!$C$26,Feuil2!$S$1:$V$15,4,FALSE),0) -> 0 | O26: =IF(M26=0,"",M26) | S26: =IF($N$5="VOLEUR",VLOOKUP($AL$5,Feuil2!$P$50:$X$74,2,FALSE),IF($N$5="ASSASSIN",VLOOKUP(($AL$5-2),Feuil2!$P$50:$X$74,2,FALSE),VLOOKUP(1,Feuil2!$P$50:$X$74,2,FALSE))) -> 0.3 | U26: =VLOOKUP($A$17,Feuil2!$E$40:$M$58,5,FALSE) -> -0.1 | W26: =VLOOKUP($N$6,Feuil2!$P$40:$X$47,2,FALSE) -> 0.1 | Y26: =SUM(S26:X27) -> 0.3 | AA26: Pick Pocket
A28: Bouclier | C28: Aucun | K28: =IF(VLOOKUP($C$28,Feuil2!$X$1:$Z$9,2,FALSE)=0,VLOOKUP(Feuil1!$C$28,Feuil2!$X$1:$Z$9,3,FALSE),0) -> 0 | M28: =IF(K28=0,VLOOKUP(Feuil1!$C$28,Feuil2!$X$1:$Z$9,3,FALSE),0) -> 0 | O28: =IF(M28=0,"",M28) | S28: =IF($N$5="VOLEUR",VLOOKUP($AL$5,Feuil2!$P$50:$X$74,3,FALSE),IF($N$5="ASSASSIN",VLOOKUP(($AL$5-2),Feuil2!$P$50:$X$74,3,FALSE),VLOOKUP(1,Feuil2!$P$50:$X$74,3,FALSE))) -> 0.25 | U28: =VLOOKUP($A$17,Feuil2!$E$40:$M$58,6,FALSE) -> -0.05 | W28: =VLOOKUP($N$6,Feuil2!$P$40:$X$47,3,FALSE) -> 0 | Y28: =SUM(S28:X29) -> 0.2 | AA28: Crochetage
A30: Anneau | C30: Pas d'anneau | K30: =IF(C30<>"",0,0) -> 0 | M30: =IF(K30=0,VLOOKUP(C30,Feuil2!$AE$1:$AF$7,2,FALSE),o) -> 0 | O30: =IF(M30=0,"",M30) | S30: =IF($N$5="VOLEUR",VLOOKUP($AL$5,Feuil2!$P$50:$X$74,4,FALSE),IF($N$5="ASSASSIN",VLOOKUP(($AL$5-2),Feuil2!$P$50:$X$74,4,FALSE),VLOOKUP(1,Feuil2!$P$50:$X$74,4,FALSE))) -> 0.2 | U30: =VLOOKUP($A$17,Feuil2!$E$40:$M$58,7,FALSE) -> -0.1 | W30: =VLOOKUP($N$6,Feuil2!$P$40:$X$47,4,FALSE) -> 0 | Y30: =SUM(S30:X31) -> 0.1 | AA30: Repérage et Désamorçage | AP30: Sortilèges de Niveau 3
AP31: Nom du sortilège | BD31: PORTEE | BK31: DUREE | BR31: CAST TIME | BW31: JET PROTECTION | CC31: INFORMATIONS
A32: Bracelet | C32: Pas de bracelet | K32: =IF(C32<>"",0,0) -> 0 | M32: =IF(K32=0,VLOOKUP(C32,Feuil2!$AB$1:$AC$7,2,FALSE),o) -> 0 | O32: =IF(M32=0,"",M32) | S32: =IF($N$5="VOLEUR",VLOOKUP($AL$5,Feuil2!$P$50:$X$74,5,FALSE),IF($N$5="ASSASSIN",VLOOKUP(($AL$5-2),Feuil2!$P$50:$X$74,5,FALSE),VLOOKUP(1,Feuil2!$P$50:$X$74,5,FALSE))) -> 0.15 | U32: =VLOOKUP($A$17,Feuil2!$E$40:$M$58,8,FALSE) -> -0.15 | W32: =VLOOKUP($N$6,Feuil2!$P$40:$X$47,5,FALSE) -> 0 | Y32: =SUM(S32:X33) -> 0 | AA32: Déplacement silencieux
A34: Cape | C34: Pas de cape | K34: =IF(C34<>"",0,0) -> 0 | M34: =IF(K34=0,VLOOKUP(C34,Feuil2!$AH$1:$AI$7,2,FALSE),o) -> 0 | O34: =IF(M34=0,"",M34) | S34: =IF($N$5="VOLEUR",VLOOKUP($AL$5,Feuil2!$P$50:$X$74,6,FALSE),IF($N$5="ASSASSIN",VLOOKUP(($AL$5-2),Feuil2!$P$50:$X$74,6,FALSE),VLOOKUP(1,Feuil2!$P$50:$X$74,6,FALSE))) -> 0.1 | U34: =VLOOKUP($A$17,Feuil2!$E$40:$M$58,9,FALSE) -> 0.05 | W34: =VLOOKUP($N$6,Feuil2!$P$40:$X$47,6,FALSE) -> 0.05 | Y34: =SUM(S34:X35) -> 0.2 | AA34: Dissimulation dans l'ombre
A36: Autre | C36: Aucun | K36: =IF(C36<>"",0,0) -> 0 | M36: =IF(K36=0,VLOOKUP(C36,Feuil2!$AK$1:$AL$12,2,FALSE),o) -> 0 | O36: =IF(M36=0,"",M36) | S36: =IF($N$5="VOLEUR",VLOOKUP($AL$5,Feuil2!$P$50:$X$74,7,FALSE),IF($N$5="ASSASSIN",VLOOKUP(($AL$5-2),Feuil2!$P$50:$X$74,7,FALSE),VLOOKUP(1,Feuil2!$P$50:$X$74,7,FALSE))) -> 0.1 | W36: =VLOOKUP($N$6,Feuil2!$P$40:$X$47,7,FALSE) -> 0 | Y36: =SUM(S36:X37) -> 0.1 | AA36: Ecoute aux portes
A38: Autre | C38: Aucun | K38: =IF(C38<>"",0,0) -> 0 | M38: =IF(K38=0,VLOOKUP(C38,Feuil2!$AK$1:$AL$12,2,FALSE),o) -> 0 | O38: =IF(M38=0,"",M38) | S38: =IF($N$5="VOLEUR",VLOOKUP($AL$5,Feuil2!$P$50:$X$74,8,FALSE),IF($N$5="ASSASSIN",VLOOKUP(($AL$5-2),Feuil2!$P$50:$X$74,8,FALSE),VLOOKUP(1,Feuil2!$P$50:$X$74,8,FALSE))) -> 0.85 | W38: =VLOOKUP($N$6,Feuil2!$P$40:$X$47,8,FALSE) -> 0 | Y38: =SUM(S38:X39) -> 0.85 | AA38: Escalade
I40: Dos | M40: FACE | S40: =IF($N$5="VOLEUR",VLOOKUP($AL$5,Feuil2!$P$50:$X$74,9,FALSE),IF($N$5="ASSASSIN",VLOOKUP(($AL$5-2),Feuil2!$P$50:$X$74,9,FALSE),VLOOKUP(1,Feuil2!$P$50:$X$74,9,FALSE))) -> 0 | W40: =VLOOKUP($N$6,Feuil2!$P$40:$X$47,9,FALSE) -> 0 | Y40: =SUM(S40:X41) -> 0 | AA40: Lecture des Langages
A41: DEXT | C41: =+$Z$17 -> 0 | G41: CA | I41: =+M41+4 -> 14 | M41: =SUM((SUM(K26:L39)),(SUM(M26:N39)),($C$41),(10)) -> 10
AP42: Sortilèges de Niveau 4
AP43: Nom du sortilège | BD43: PORTEE | BK43: DUREE | BR43: CAST TIME | BW43: JET PROTECTION | CC43: INFORMATIONS
A44: Jets de Protection | Q44: Points de Vie | AH44: Vitesse
AH45: =(VLOOKUP(C26,Feuil2!CN1:CO10,2,FALSE)&" "&"""") -> 12 "
F46: BASE | H46: CHAR | J46: RACE | L46: MAGIE | N46: TOTAL | Q46: Classe : | S46: =+N5 -> GUERRIER | Z46: Dés à : | AB46: =VLOOKUP(S46,Feuil2!K223:L232,2,FALSE) -> 10 | AD46: Faces
A47: Paralysie/Poison | F47: =VLOOKUP(Feuil2!$P$183,Feuil2!$B$188:$H$322,3,FALSE) -> 14 | H47: CON | J47: =VLOOKUP($N$6,Feuil2!$K$211:$P$218,2,FALSE) -> 0 | L47: =SUM($O$26:$P$39) -> 0 | N47: =+F47+J47+L47 -> 14 | AH47: Pièces d'Or
A48: Mort magique | H48: =+AB19 -> 0 | Q48: Bonus | S48: =+I19 -> 0 | X48: TOTAL
...

Sheet Feuil2
A1: Classe | B1: niv | C1: Nom | E1: Classe | F1: Race | S1: Armure | T1: Encombrement | U1: m | V1: Réel | X1: Bouclier | Y1: m | Z1: CA | AB1: Bracelet | AC1: CA | AE1: Anneau | AF1: CA | AH1: Cape | AI1: CA | AK1: Objet | AL1: CA | AW1: Classe | AX1: N° | AY1: niv | AZ1: Nom | BV1: Pick pocket | BW1: Crochetage | BX1: detect piège | BY1: Silent move | BZ1: Shadow hide | CA1: Ecoute porte | CB1: Escalade | CC1: Lecture langages | CF1: Race | CG1: Infra-vision : | CH1: Detect pass secret : | CI1: Résistance : | CJ1: Att par surprise : | CN1: armure | CO1: mvt | CR1: Cheveux | CS1: Peau | CT1: Yeux | CW1: Dieux
A2: CLERC | B2: 1 | C2: Acolyte | E2: CLERC | F2: HUMAIN | G2: niv | H2: CLERC | I2: DRUIDE | J2: GUERRIER | K2: PALADIN | L2: RANGER | M2: MAGICIEN | N2: ILLUSIONNISTE | O2: VOLEUR | P2: ASSASSIN | S2: Aucune | U2: 0 | V2: 0 | X2: Aucun | Y2: 0 | Z2: 0 | AB2: Pas de bracelet | AC2: 0 | AE2: Pas d'anneau | AF2: 0 | AH2: Pas de cape | AI2: 0 | AK2: Aucun | AL2: 0 | AW2: CLERC | AX2: 1 | AY2: 1 | AZ2: Acolyte | BU2: 1 | BV2: 30 | BW2: 25 | BX2: 20 | BY2: 15 | BZ2: 10 | CA2: 10 | CB2: 85 | CF2: HUMAIN | CG2: NON | CH2: NON | CI2: Aucune | CJ2: 1-2 sur 1D6 | CN2: Aucune | CO2: 12 | CR2: Chauve | CS2: Très blanche | CT2: Noirs | CW2: Aucun
A3: CLERC | B3: 2 | C3: Adepte | E3: DRUIDE | F3: ELFE | G3: 1 | H3: Acolyte | I3: Novice | J3: Vétéran | K3: Preux | L3: Trappeur | M3: Apprenti-Sorcier | N3: Prestidigitateur | O3: Vagabond | P3: Bravo | S3: Robe | T3: Tissu | U3: 0 | V3: -1 | X3: Bouclier bois | Y3: 0 | Z3: -1 | AB3: Bracelet de protection -1 | AC3: -1 | AE3: Anneau de protection -1 | AF3: -1 | AH3: Cape de protection -1 | AI3: -1 | AK3: Arme -1 | AL3: -1 | AW3: CLERC | AX3: 2 | AY3: 2 | AZ3: Adepte | BM3: Niveau | BU3: 2 | BV3: 35 | BW3: 29 | BX3: 25 | BY3: 21 | BZ3: 15 | CA3: 10 | CB3: 86 | CF3: ELFE | CG3: 20M | CH3: 1 (ou3) sur 1D6 | CI3: Charme 90% | CJ3: 1 sur 1D6 | CN3: Robe | CO3: 12 | CR3: Blonds platine | CS3: Blanche | CT3: Marrons | CW3: Aurile Déesse de l'hiver
A4: CLERC | B4: 3 | C4: Prêtre | E4: GUERRIER | F4: NAIN | G4: 2 | H4: Adepte | I4: Hermine | J4: Guerrier | K4: Sentilnelle | L4: Pisteur | M4: Envoûteur | N4: Manipulateur Néophite | O4: Pied-Feutré | P4: Coupe-Jarret | S4: Armure de cuir | T4: Cuir | U4: 0 | V4: -2 | X4: Bouclier cuir | Y4: 0 | Z4: -1 | AB4: Bracelet de protection -2 | AC4: -2 | AE4: Anneau de protection -2 | AF4: -2 | AH4: Cape de protection -2 | AI4: -2 | AK4: Arme -2 | AL4: -2 | AW4: CLERC | AX4: 3 | AY4: 3 | AZ4: Prêtre | BM4: =+Feuil1!$AL$5 -> 1 | BU4: 3 | BV4: 40 | BW4: 33 | BX4: 30 | BY4: 27 | BZ4: 20 | CA4: 15 | CB4: 87 | CF4: NAIN | CG4: 20M | CH4: 1 à 4 sur 1D6 | CI4: Magic CONST | CJ4: 1-2 sur 1D6 | CN4: Armure de cuir | CO4: 10 | CR4: Blonds | CS4: Halée | CT4: Verts | CW4: Azouth le Magicien
A5: CLERC | B5: 4 | C5: Curé | E5: PALADIN | F5: DEMI-ELFE | G5: 3 | H5: Prêtre | I5: Initié du 1er Cercle | J5: Maitre d'armes | K5: Protecteur | L5: Eclaireur | M5: Invocateur | N5: Manipulateur | O5: Vide-Gousset | P5: Etrangleur | S5: Armure de cuir cloutée | T5: Cuir | U5: 0 | V5: -3 | X5: Bouclier métal | Y5: 0 | Z5: -1 | AB5: Bracelet de protection -3 | AC5: -3 | AE5: Anneau de protection -3 | AF5: -3 | AH5: Cape de protection -3 | AI5: -3 | AK5: Arme -3 | AL5: -3 | AW5: CLERC | AX5: 4 | AY5: 4 | AZ5: Curé | BU5: 4 | BV5: 45 | BW5: 37 | BX5: 35 | BY5: 33 | BZ5: 25 | CA5: 15 | CB5: 88 | CC5: 20 | CF5: DEMI-ELFE | CG5: 20M | CH5: 1 (ou3) sur 1D6 | CI5: Charme 30% | CJ5: 1 sur 1D6 | CN5: Armure de cuir cloutée | CO5: 9 | CR5: Blonds foncés | CS5: Bronzée | CT5: Bleus | CW5: Baine Dieu de la guerre
A6: CLERC | B6: 5 | C6: Parfait | E6: RANGER | F6: GNOME | G6: 4 | H6: Curé | I6: Initié du 2ème Cercle | J6: Heros | K6: Défenseur | L6: Chasseur | M6: Théurgiste | N6: Maître Manipulateur | O6: Cambrioleur | P6: Meurtrier | S6: Lorica | T6: Cuir | U6: 0 | V6: -4 | X6: Bouclier -2 | Y6: 1 | Z6: -2 | AB6: Bracelet de protection -4 | AC6: -4 | AE6: Anneau de protection -4 | AF6: -4 | AH6: Cape de protection -4 | AI6: -4 | AK6: Arme -4 | AL6: -4 | AW6: CLERC | AX6: 5 | AY6: 5 | AZ6: Parfait | BG6: CLERC | BH6: DRUIDE | BI6: GUERRIER | BJ6: PALADIN | BK6: RANGER | BL6: MAGICIEN | BM6: ILLUSIONISTE | BN6: VOLEUR | BO6: ASSASSIN | BU6: 5 | BV6: 50 | BW6: 42 | BX6: 40 | BY6: 40 | BZ6: 31 | CA6: 20 | CB6: 90 | CC6: 25 | CF6: GNOME | CG6: 20M | CH6: 1 à 3 sur 1D6 | CI6: Magic CONST | CJ6: 1-2 sur 1D6 | CN6: Lorica | CO6: 9 | CR6: Chatains clairs | CS6: Mat | CT6: Gris | CW6: Beshaba Déesse de Duperie
A7: CLERC | B7: 6 | C7: Evêque | E7: MAGICIEN | F7: PETITE-GENS | G7: 5 | H7: Parfait | I7: Initié du 3ème Cercle | J7: Spadassin | K7: Prétorien | L7: Traqueur | M7: Thaumaturge | N7: Cabaliste | O7: Monte en l'air | P7: Thug | S7: Cote de maille | T7: Metal | U7: 0 | V7: -5 | X7: Bouclier -3 | Y7: 1 | Z7: -3 | AB7: Bracelet de protection -5 | AC7: -5 | AE7: Anneau de protection -5 | AF7: -5 | AH7: Cape de protection -5 | AI7: -5 | AK7: Arme -5 | AL7: -5 | AW7: CLERC | AX7: 6 | AY7: 6 | AZ7: Evêque | BG7: 0 | BH7: 15 | BI7: 29 | BJ7: 44 | BK7: 59 | BL7: 74 | BM7: 89 | BN7: 104 | BO7: 119 | BU7: 6 | BV7: 55 | BW7: 47 | BX7: 45 | BY7: 47 | BZ7: 37 | CA7: 20 | CB7: 92 | CC7: 30 | CF7: PETITE-GENS | CG7: 20M | CH7: 1 à 3 sur 1D6 | CI7: Magic CONST | CJ7: 1-2 sur 1D6 | CN7: Cote de maille | CO7: 9 | CR7: Chatains | CS7: Metis | CT7: Noisette | CW7: Bhaal Dieu du Meurtre
A8: CLERC | B8: 7 | C8: Lama | E8: ILLUSIONNISTE | F8: DEMI-ORC | G8: 6 | H8: Evêque | I8: Initié du 4ème Cercle | J8: Myrmidon | K8: Gardien | L8: Guide | M8: Magicien | N8: Visionnaire | O8: Escroc | P8: Tueur | S8: Harnois | T8: Metal | U8: 0 | V8: -6 | X8: Bouclier -4 | Y8: 1 | Z8: -4 | AK8: Objet Magique -1 | AL8: -1 | AW8: CLERC | AX8: 7 | AY8: 7 | AZ8: Lama | BU8: 7 | BV8: 60 | BW8: 52 | BX8: 50 | BY8: 55 | BZ8: 43 | CA8: 25 | CB8: 94 | CC8: 35 | CF8: DEMI-ORC | CG8: 20M | CH8: NON | CI8: Aucune | CJ8: 1-2 sur 1D6 | CN8: Harnois | CO8: 6 | CR8: Chatains foncés | CS8: Marron | CT8: Violets | CW8: Chauntéa Déesse de la vie
A9: CLERC | B9: 8 | C9: Patriarche | E9: VOLEUR | G9: 7 | H9: Lama | I9: Initié du 5ème Cercle | J9: Champion | K9: Chevalier | L9: Pionnier | M9: Enchanteur | N9: Fantasmiste | O9: Truand | P9: Egorgeur | S9: Plate feuilletée | T9: Metal | U9: 0 | V9: -7 | X9: Bouclier -5 | Y9: 1 | Z9: -5 | AK9: Objet Magique -2 | AL9: -2 | AW9: CLERC | AX9: 8 | AY9: 8 | AZ9: Patriarche | BM9: N° de ligne à rechercher | BU9: 8 | BV9: 65 | BW9: 57 | BX9: 55 | BY9: 62 | BZ9: 49 | CA9: 25 | CB9: 96 | CC9: 40 | CN9: Plate feuilletée | CO9: 4 | CR9: Gris | CS9: Noire | CT9: Jaunes | CW9: Cyric Dieu du Mensonge
A10: CLERC | B10: 9 | C10: Grand Prêtre | E10: ASSASSIN | G10: 8 | H10: Patriarche | I10: Initié du 6ème Cercle | J10: Superhéros | K10: Justicier | L10: Ranger | M10: Magistère | N10: Apparitioniste | O10: Faussaire | P10: Executeur | S10: Armure de Plate | T10: Metal | U10: 0 | V10: -8 | AK10: Objet Magique -3 | AL10: -3 | AW10: CLERC | AX10: 9 | AY10: 9 | AZ10: Grand Prêtre | BG10: CLERC | BI10: =+Feuil1!$AL$5+$BG$7 -> 1 | BM10: =IF(Feuil1!$N$5=Feuil2!BG10,Feuil2!BI10,IF(Feuil1!$N$5=Feuil2!BG11,Feuil2!BI11,IF(Feuil1!$N$5=Feuil2!BG12,Feuil2!BI12,IF(Feuil1!$N$5=Feuil2!BG13,Feuil2!BI13,IF(Feuil1!$N$5=Feuil2!BG14,Feuil2!BI14,IF(Feuil1!$N$5=Feuil2!BG15,Feuil2!BI15,IF(Feuil1!$N$5=Feuil2!BG16,Feuil2!BI16,IF(Feuil1!$N$5=Feuil2!BG17,Feuil2!BI17,Feuil2!BI18)))))))) -> 30 | BU10: 9 | BV10: 70 | BW10: 62 | BX10: 60 | BY10: 70 | BZ10: 56 | CA10: 30 | CB10: 98 | CC10: 45 | CN10: Armure de Plate | CO10: 3 | CR10: Roux | CT10: Vairons | CW10: Déneïr Dieu de l'Ecriture
A11: CLERC | B11: 10 | C11: Grand Prêtre 10e | G11: 9 | H11: Grand Prêtre | I11: Initié du 7ème Cercle | J11: Seigneur | K11: Paladin | L11: Chevalier Ranger | M11: Ensorceleur | N11: créateur | O11: Voleur | P11: Assassin | S11: Armure -1 | T11: Metal | U11: 1 | V11: -1 | AK11: Objet Magique -4 | AL11: -4 | AW11: CLERC | AX11: 10 | AY11: 10 | AZ11: Grand Prêtre 10e | BG11: DRUIDE | BI11: =+Feuil1!$AL$5+$BH$7 -> 16 | BU11: 10 | BV11: 80 | BW11: 57 | BX11: 65 | BY11: 78 | BZ11: 63 | CA11: 30 | CB11: 99 | CC11: 50 | CF11: Classe | CG11: Charme/Know legend : | CH11: Vade retro : | CI11: Assassinat : | CJ11: Detect magic : | CK11: Bonus Magie : | CR11: Bruns | CW11: Eldath Déesse de la Paix
A12: CLERC | B12: 11 | C12: Grand Prêtre 11e | G12: 10 | H12: Grand Prêtre 10e | I12: Initié du 8ème Cercle | J12: Seigneur 10e | K12: Paladin 10e | L12: Seigneur Ranger | M12: Nécromancien | N12: Illusionniste | O12: Maitre Voleur | P12: Expet Assassin | S12: Armure -2 | T12: Metal | U12: 1 | V12: -2 | AK12: Objet Magique -5 | AL12: -5 | AW12: CLERC | AX12: 11 | AY12: 11 | AZ12: Grand Prêtre 11e | BG12: GUERRIER | BI12: =+Feuil1!$AL$5+$BI$7 -> 30 | BU12: 11 | BV12: 90 | BW12: 72 | BX12: 70 | BY12: 76 | BZ12: 70 | CA12: 35 | CB12: 99.1 | CC12: 55 | CF12: CLERC | CG12: 0.05 | CH12: OUI | CI12: NON | CJ12: NON | CK12: Aucun | CR12: Noirs | CW12: Gargauth Dieu de la Trahison
A13: CLERC | B13: 12 | C13: Grand Prêtre 12e | G13: 11 | H13: Grand Prêtre 11e | I13: Initié du 9ème Cercle | J13: Seigneur 11e | K13: Paladin 11e | L13: Seigneur Ranger 11e | M13: Sorcier | N13: Illusionniste 11e | O13: Maitre Voleur 11e | P13: Haut Assassin | S13: Armure -3 | T13: Metal | U13: 1 | V13: -3 | AW13: CLERC | AX13: 12 | AY13: 12 | AZ13: Grand Prêtre 12e | BG13: PALADIN | BI13: =+Feuil1!$AL$5+$BJ$7 -> 45 | BU13: 12 | BV13: 100 | BW13: 77 | BX13: 75 | BY13: 94 | BZ13: 77 | CA13: 35 | CB13: 99.2 | CC13: 60 | CF13: DRUIDE | CG13: 0.1 | CH13: NON | CI13: NON | CJ13: NON | CK13: Aucun | CW13: Gond Dieu de l'Artisanat
A14: CLERC | B14: 13 | C14: Grand Prêtre 13e | G14: 12 | H14: Grand Prêtre 12e | I14: Druide | J14: Seigneur 12e | K14: Paladin 12e | L14: Seigneur Ranger 12e | M14: Sorcier 12e | N14: Illusionniste 12e | O14: Maitre Voleur 12e | P14: Chef Assassin | S14: Armure -4 | T14: Metal | U14: 1 | V14: -4 | AW14: CLERC | AX14: 13 | AY14: 13 | AZ14: Grand Prêtre 13e | BG14: RANGER | BI14: =+Feuil1!$AL$5+$BK$7 -> 60 | BU14: 13 | BV14: 105 | BW14: 82 | BX14: 80 | BY14: 99 | BZ14: 85 | CA14: 40 | CB14: 99.3 | CC14: 65 | CF14: GUERRIER | CG14: 0 | CH14: NON | CI14: NON | CJ14: NON | CK14: Aucun | CR14: Roux | CW14: Heaume Dieu Protecteur
A15: CLERC | B15: 14 | C15: Grand Prêtre 14e | G15: 13 | H15: Grand Prêtre 13e | I15: Archi Druide | J15: Seigneur 13e | K15: Paladin 13e | L15: Seigneur Ranger 13e | M15: Sorcier 13e | N15: Illusionniste 13e | O15: Maitre Voleur 13e | P15: Maitre Assassin | S15: Armure -5 | T15: Metal | U15: 1 | V15: -5 | AW15: CLERC | AX15: 14 | AY15: 14 | AZ15: Grand Prêtre 14e | BG15: MAGICIEN | BI15: =+Feuil1!$AL$5+$BL$7 -> 75 | BU15: 14 | BV15: 110 | BW15: 87 | BX15: 85 | BY15: 99 | BZ15: 93 | CA15: 40 | CB15: 99.4 | CC15: 70 | CF15: PALADIN | CG15: 0 | CH15: OUI | CI15: NON | CJ15: NON | CK15: JP -2 | CN15: dé 100 | CO15: Talent | CW15: Ilmater Dieu de l'Endurance
A16: CLERC | B16: 15 | C16: Grand Prêtre 15e | G16: 14 | H16: Grand Prêtre 14e | I16: Grand Druide | J16: Seigneur 14e | K16: Paladin 14e | L16: Seigneur Ranger 14e | M16: Sorcier 14e | N16: Illusionniste 14e | O16: Maitre Voleur 14e | P16: Maitre de Guilde des Assassins | AW16: CLERC | AX16: 15 | AY16: 15 | AZ16: Grand Prêtre 15e | BG16: ILLUSIONISTE | BI16: =+Feuil1!$AL$5+$BM$7 -> 90 | BU16: 15 | BV16: 115 | BW16: 92 | BX16: 90 | BY16: 99 | BZ16: 99 | CA16: 50 | CB16: 99.5 | CC16: 75 | CF16: RANGER | CG16: 0.05 | CH16: NON | CI16: NON | CJ16: NON | CK16: Aucun | CN16: 1 | CP16: Aucun | CQ16: 1 | CW16: Kélemvor Dieu des Morts
A17: DRUIDE | B17: 1 | C17: Novice | G17: 15 | H17: Grand Prêtre 15e | J17: Seigneur 15e | K17: Paladin 15e | L17: Seigneur Ranger 15e | M17: Sorcier 15e | N17: Illusionniste 15e | O17: Maitre Voleur 15e | P17: Grand père des Assassins | AW17: DRUIDE | AX17: 16 | AY17: 1 | AZ17: Novice | BG17: VOLEUR | BI17: =+Feuil1!$AL$5+$BN$7 -> 105 | CF17: MAGICIEN | CG17: 0.05 | CH17: NON | CI17: NON | CJ17: NON | CK17: Aucun | CN17: 2 | CO17: Armurier | CP17: Armurier | CQ17: 2 | CW17: Lathandre Dieu de l'Aube
A18: DRUIDE | B18: 2 | C18: Hermine | AW18: DRUIDE | AX18: 17 | AY18: 2 | AZ18: Hermine | BG18: ASSASSIN | BI18: =+Feuil1!$AL$5+$BO$7 -> 120 | CF18: ILLUSIONISTE | CG18: 0.05 | CH18: NON | CI18: NON | CJ18: NON | CK18: Aucun | CN18: 3 | CO18: Aucun | CP18: Bijoutier | CQ18: 3 | CW18: Leira Déesse de l'illusion
A19: DRUIDE | B19: 3 | C19: Initié du 1er Cercle | E19: Intelligence | F19: Langue | G19: Know spell | H19: Min | I19: Max | K19: Sagesse | L19: jp | M19: 1 | N19: 2 | O19: 3 | P19: 4 | Q19: % Echec | R19: jp | AW19: DRUIDE | AX19: 18 | AY19: 3 | AZ19: Initié du 1er Cercle | CF19: VOLEUR | CG19: 0.1 | CH19: NON | CI19: NON | CJ19: NON | CK19: Aucun | CN19: 4 | CP19: Exportateur | CQ19: 4 | CW19: Lliira Déesse de la Joie
A20: DRUIDE | B20: 4 | C20: Initié du 2ème Cercle | E20: 1 | F20: 0 | G20: 0 | H20: 0 | I20: 0 | K20: 1 | L20: -3 | Q20: 0.2 | R20: =+L20*-1 -> 3 | AW20: DRUIDE | AX20: 19 | AY20: 4 | AZ20: Initié du 2ème Cercle | CF20: ASSASSIN | CG20: 0.05 | CH20: NON | CI20: OUI | CJ20: NON | CK20: Aucun | CN20: 5 | CO20: Aucun | CP20: Chasseur | CQ20: 5 | CW20: Loviatar Déesse de la Torture
A21: DRUIDE | B21: 5 | C21: Initié du 3ème Cercle | E21: 2 | F21: 0 | G21: 0 | H21: 0 | I21: 0 | K21: 2 | L21: -3 | Q21: 0.2 | R21: =+L21*-1 -> 3 | AW21: DRUIDE | AX21: 20 | AY21: 5 | AZ21: Initié du 3ème Cercle | CN21: 6 | CO21: Aucun | CP21: Constructeur de navires | CQ21: 6 | CW21: Mailikki Déesse des Forêts
A22: DRUIDE | B22: 6 | C22: Initié du 4ème Cercle | E22: 3 | F22: 0 | G22: 0 | H22: 0 | I22: 0 | K22: 3 | L22: -3 | Q22: 0.2 | R22: =+L22*-1 -> 3 | AW22: DRUIDE | AX22: 21 | AY22: 6 | AZ22: Initié du 4ème Cercle | CN22: 7 | CO22: Aucun | CP22: Ebéniste/Sclupteur | CQ22: 7 | CW22: Malar Dieu de la Chasse
A23: DRUIDE | B23: 7 | C23: Initié du 5ème Cercle | E23: 4 | F23: 0 | G23: 0 | H23: 0 | I23: 0 | K23: 4 | L23: -2 | Q23: 0.2 | R23: =+L23*-1 -> 2 | AW23: DRUIDE | AX23: 22 | AY23: 7 | AZ23: Initié du 5ème Cercle | BT23: ARMES DE JET | BU23: mag | BV23: bonus | BW23: degats | BX23: cadence | BZ23: ARMES | CA23: degats | CB23: Cadence | CC23: ARMES | CD23: bonus | CE23: degats | CF23: Cadence | CN23: 8 | CO23: Aucun | CP23: Eleveur | CQ23: 8 | CW23: Mask Dieu des Voleurs
A24: DRUIDE | B24: 8 | C24: Initié du 6ème Cercle | E24: 5 | F24: 0 | G24: 0 | H24: 0 | I24: 0 | K24: 5 | L24: -1 | Q24: 0.2 | R24: =+L24*-1 -> 1 | AW24: DRUIDE | AX24: 23 | AY24: 8 | AZ24: Initié du 6ème Cercle | BT24: Aucune | BU24: 0 | BV24: 0 | BW24: 0 | BX24: 0 | BZ24: Aucune | CA24: 0 | CC24: Aucune | CD24: 0 | CE24: 0 | CF24: 0 | CN24: 9 | CO24: Aucun | CP24: Peintre | CQ24: 9 | CW24: Milil Dieu des Chants
A25: DRUIDE | B25: 9 | C25: Initié du 7ème Cercle | E25: 6 | F25: 0 | G25: 0 | H25: 0 | I25: 0 | K25: 6 | L25: -1 | Q25: 0.2 | R25: =+L25*-1 -> 1 | AW25: DRUIDE | AX25: 24 | AY25: 9 | AZ25: Initié du 7ème Cercle | BT25: Arc | BU25: 0 | BV25: 0 | BW25: 1D6 | BX25: 2 / Round | BZ25: Baton | CA25: 1D6 | CB25: 1 / Round | CC25: Baton +1 | CD25: 1 | CE25: 1D6 | CF25: 1 / Round | CN25: 10 | CO25: Aucun | CP25: Fabricant arc/flèches | CQ25: 10 | CW25: Myrkul Dieu de la Mort
A26: DRUIDE | B26: 10 | C26: Initié du 8ème Cercle | E26: 7 | F26: 0 | G26: 0 | H26: 0 | I26: 0 | K26: 7 | L26: -1 | Q26: 0.2 | R26: =+L26*-1 -> 1 | AW26: DRUIDE | AX26: 25 | AY26: 10 | AZ26: Initié du 8ème Cercle | BT26: Arc +1 | BU26: 1 | BV26: 1 | BW26: 1D6 | BX26: 2 / Round | BZ26: Cimeterre | CA26: 1D8 | CB26: 1 / Round | CC26: Baton +2 | CD26: 2 | CE26: 1D6 | CF26: 1 / Round | CN26: 11 | CO26: Aucun | CP26: Fermier | CQ26: 11 | CW26: Mystra Déesse de la Magie
A27: DRUIDE | B27: 11 | C27: Initié du 9ème Cercle | E27: 8 | F27: 1 | G27: 0 | H27: 0 | I27: 0 | K27: 8 | L27: 0 | Q27: 0.2 | R27: =+L27*-1 -> 0 | AW27: DRUIDE | AX27: 26 | AY27: 11 | AZ27: Initié du 9ème Cercle | BT27: Arc +2 | BU27: 1 | BV27: 2 | BW27: 1D6 | BX27: 2 / Round | BZ27: Couteau de Brèche | CA27: 1D10 | CB27: 1 / Round | CC27: Baton +3 | CD27: 3 | CE27: 1D6 | CF27: 1 / Round | CN27: 12 | CO27: Aucun | CP27: Garde forestier | CQ27: 12 | CW27: Nobanion Dieu des Animaux
A28: DRUIDE | B28: 12 | C28: Druide | E28: 9 | F28: 1 | G28: 0.35 | H28: 4 | I28: 6 | K28: 9 | L28: 0 | Q28: 0.2 | R28: =+L28*-1 -> 0 | AW28: DRUIDE | AX28: 27 | AY28: 12 | AZ28: Druide | BT28: Arc +3 | BU28: 1 | BV28: 3 | BW28: 1D6 | BX28: 2 / Round | BZ28: Dague | CA28: 1D4 | CB28: 1 / Round | CC28: Baton +4 | CD28: 4 | CE28: 1D6 | CF28: 1 / Round | CN28: 13 | CO28: Aucun | CP28: Joueur profesionnel | CQ28: 13 | CW28: Oghma Dieu ddu Savoir
A29: DRUIDE | B29: 13 | C29: Archi Druide | E29: 10 | F29: 2 | G29: 0.45 | H29: 5 | I29: 7 | K29: 10 | L29: 0 | Q29: 0.15 | R29: =+L29*-1 -> 0 | AW29: DRUIDE | AX29: 28 | AY29: 13 | AZ29: Archi Druide | BT29: Arc +4 | BU29: 1 | BV29: 4 | BW29: 1D6 | BX29: 2 / Round | BZ29: Epée Batarde | CA29: 1D12 / 2D8 | CB29: 1 / Round | CC29: Baton +5 | CD29: 5 | CE29: 1D6 | CF29: 1 / Round | CN29: 14 | CO29: Aucun | CP29: Maçon/Charpentier | CQ29: 14 | CW29: Savras Dieu du Destin
A30: DRUIDE | B30: 14 | C30: Grand Druide | E30: 11 | F30: 2 | G30: 0.45 | H30: 5 | I30: 7 | K30: 11 | L30: 0 | Q30: 0.1 | R30: =+L30*-1 -> 0 | AW30: DRUIDE | AX30: 29 | AY30: 14 | AZ30: Grand Druide | BT30: Arc +5 | BU30: 1 | BV30: 5 | BW30: 1D6 | BX30: 2 / Round | BZ30: Epée Courte | CA30: 1D8 | CB30: 1 / Round | CC30: Cimeterre +1 | CD30: 1 | CE30: 1D8 | CF30: 1 / Round | CN30: 15 | CO30: Aucun | CP30: Matelot | CQ30: 15 | CW30: Séluné Déesse de la Lune
A31: GUERRIER | B31: 1 | C31: Vétéran | E31: 12 | F31: 3 | G31: 0.45 | H31: 5 | I31: 7 | K31: 12 | L31: 0 | Q31: 0.05 | R31: =+L31*-1 -> 0 | AW31: GUERRIER | AX31: 30 | AY31: 1 | AZ31: Vétéran | BT31: Arbalette | BU31: 0 | BV31: 0 | BW31: 1D6 + 1 | BX31: 1 / Round | BZ31: Epée Espadon | CA31: 3D6 | CB31: 1 / Round | CC31: Cimeterre +2 | CD31: 2 | CE31: 1D8 | CF31: 1 / Round | CN31: 16 | CO31: Aucun | CP31: Mineur | CQ31: 16 | CW31: Shar Déesse des Ténèbres
A32: GUERRIER | B32: 2 | C32: Guerrier | E32: 13 | F32: 3 | G32: 0.55 | H32: 6 | I32: 9 | K32: 13 | L32: 0 | M32: 1 | Q32: 0 | R32: =+L32*-1 -> 0 | AW32: GUERRIER | AX32: 31 | AY32: 2 | AZ32: Guerrier | BT32: Arbalette +1 | BU32: 1 | BV32: 1 | BW32: 1D6 + 1 | BX32: 1 / Round | BZ32: Epée Large | CA32: 1D6 + 1 | CB32: 1 / Round | CC32: Cimeterre +3 | CD32: 3 | CE32: 1D8 | CF32: 1 / Round | CN32: 17 | CO32: Aucun | CP32: Tailleur | CQ32: 17 | CW32: Sunie Déesse de l'Amour
A33: GUERRIER | B33: 3 | C33: Maitre d'armes | E33: 14 | F33: 4 | G33: 0.55 | H33: 6 | I33: 9 | K33: 14 | L33: 0 | M33: 2 | Q33: 0 | R33: =+L33*-1 -> 0 | AW33: GUERRIER | AX33: 32 | AY33: 3 | AZ33: Maitre d'armes | BT33: Arbalette +2 | BU33: 1 | BV33: 2 | BW33: 1D6 + 1 | BX33: 1 / Round | BZ33: Epée Longue | CA33: 1D12 | CB33: 1 / Round | CC33: Cimeterre +4 | CD33: 4 | CE33: 1D8 | CF33: 1 / Round | CN33: 18 | CO33: Aucun | CP33: Trappeur | CQ33: 18 | CW33: Sylvanus Dieu de la Nature
A34: GUERRIER | B34: 4 | C34: Heros | E34: 15 | F34: 4 | G34: 0.65 | H34: 7 | I34: 11 | K34: 15 | L34: 1 | M34: 2 | N34: 1 | Q34: 0 | R34: =+L34*-1 -> -1 | AW34: GUERRIER | AX34: 33 | AY34: 4 | AZ34: Heros | BT34: Arbalette +3 | BU34: 1 | BV34: 3 | BW34: 1D6 + 1 | BX34: 1 / Round | BZ34: Etoile du matin | CA34: 1D6 + 1 | CB34: 1 / Round | CC34: Cimeterre +5 | CD34: 5 | CE34: 1D8 | CF34: 1 / Round | CN34: 19 | CO34: Aucun | CP34: Jongleur | CQ34: 19 | CW34: Talona Déesse du Poison
A35: GUERRIER | B35: 5 | C35: Spadassin | E35: 16 | F35: 5 | G35: 0.65 | H35: 7 | I35: 11 | K35: 16 | L35: 2 | M35: 2 | N35: 2 | Q35: 0 | R35: =+L35*-1 -> -2 | AW35: GUERRIER | AX35: 34 | AY35: 5 | AZ35: Spadassin | BT35: Arbalette +4 | BU35: 1 | BV35: 4 | BW35: 1D6 + 1 | BX35: 1 / Round | BZ35: Fléau d'Arme | CA35: 2D4 | CB35: 1 / Round | CC35: Dague +1 | CD35: 1 | CE35: 1D4 | CF35: 1 / Round | CN35: 20 | CO35: Aucun | CP35: Conteur | CQ35: 20 | CW35: Talos Dieu des Tempêtes
A36: GUERRIER | B36: 6 | C36: Myrmidon | E36: 17 | F36: 6 | G36: 0.75 | H36: 8 | I36: 14 | K36: 17 | L36: 3 | M36: 2 | N36: 2 | O36: 1 | Q36: 0 | R36: =+L36*-1 -> -3 | AW36: GUERRIER | AX36: 35 | AY36: 6 | AZ36: Myrmidon | BT36: Arbalette +5 | BU36: 1 | BV36: 5 | BW36: 1D6 + 1 | BX36: 1 / Round | BZ36: Fouet | CA36: 1D6 | CB36: 1 / Round | CC36: Dague +2 | CD36: 2 | CE36: 1D4 | CF36: 1 / Round | CN36: 21 | CO36: Bijoutier | CW36: Tempus Dieu de la Guerre
A37: GUERRIER | B37: 7 | C37: Champion | E37: 18 | F37: 7 | G37: 0.85 | H37: 9 | I37: Tous | K37: 18 | L37: 4 | M37: 2 | N37: 2 | O37: 2 | P37: 1 | Q37: 0 | R37: =+L37*-1 -> -4 | AW37: GUERRIER | AX37: 36 | AY37: 7 | AZ37: Champion | BT37: Dague | BU37: 0 | BV37: 0 | BW37: 1D4 | BX37: 2 / Round | BZ37: Guisarme | CA37: 1D8 | CB37: 1 / Round | CC37: Dague +3 | CD37: 3 | CE37: 1D4 | CF37: 1 / Round | CN37: 22 | CO37: Bijoutier | CW37: Tiamat Déesse de Dragons
A38: GUERRIER | B38: 8 | C38: Superhéros | AW38: GUERRIER | AX38: 37 | AY38: 8 | AZ38: Superhéros | BT38: Dague +1 | BU38: 1 | BV38: 1 | BW38: 1D4 | BX38: 2 / Round | BZ38: Hache d'arme | CA38: 1D8 | CB38: 1 / Round | CC38: Dague +4 | CD38: 4 | CE38: 1D4 | CF38: 1 / Round | CN38: 23 | CO38: Exportateur | CW38: Torm Dieu du Courage
A39: GUERRIER | B39: 9 | C39: Seigneur | AW39: GUERRIER | AX39: 38 | AY39: 9 | AZ39: Seigneur | BT39: Dague +2 | BU39: 1 | BV39: 2 | BW39: 1D4 | BX39: 2 / Round | BZ39: Hache de Barbare | CA39: 3D8 | CB39: 1 / Round | CC39: Dague +5 | CD39: 5 | CE39: 1D4 | CF39: 1 / Round | CN39: 24 | CO39: Exportateur | CW39: Tymora Déesse de la Chance
A40: GUERRIER | B40: 10 | C40: Seigneur 10e | E40: Dextérité | F40: Surprise | G40: Hit projectile | H40: CA | I40: Pick pocket | J40: Crochetage | K40: detect piège | L40: Silent move | M40: Shadow hide | P40: Race | Q40: Pick pocket | R40: Crochetage | S40: detect piège | T40: Silent move | U40: Shadow hide | V40: Ecoute porte | W40: Escalade | X40: Lecture langages | AW40: GUERRIER | AX40: 39 | AY40: 10 | AZ40: Seigneur 10e | BT40: Dague +3 | BU40: 1 | BV40: 3 | BW40: 1D4 | BX40: 2 / Round | BZ40: Hallebarde | CA40: 2D6 | CB40: 1 / Round | CC40: Epée Batarde +1 | CD40: 1 | CE40: 1D12 / 2D8 | CF40: 1 / Round | CN40: 25 | CO40: Exportateur | CW40: Tyr Dieu de la Justice
...

Sheet Exp
K5: Clerc | P5: Druide | U5: Guerrier | Z5: Paladin | AE5: Ranger | AJ5: Magicien | AO5: Illusionniste | AT5: Voleur | AY5: Assassin
A6: N° | B6: Classe | C6: niv | D6: min | E6: max | F6: dif | H6: Classe | I6: nb | K6: niv | L6: min | M6: max | N6: dif | P6: niv | Q6: min | R6: max | S6: dif | U6: niv | V6: min | W6: max | X6: dif | Z6: niv | AA6: min | AB6: max | AC6: dif | AE6: niv | AF6: min | AG6: max | AH6: dif | AJ6: niv | AK6: min | AL6: max | AM6: dif | AO6: niv | AP6: min | AQ6: max | AR6: dif | AT6: niv | AU6: min | AV6: max | AW6: dif | AY6: niv | AZ6: min | BA6: max | BB6: dif
A7: 101 | B7: CLERC | C7: 1 | D7: 0 | E7: 1500 | F7: =+E7-D7 -> 1500 | H7: CLERC | I7: 100 | K7: 1 | L7: 0 | M7: 1500 | N7: =+M7-L7 -> 1500 | P7: 1 | Q7: 0 | R7: 2000 | S7: 2000 | U7: 1 | V7: 0 | W7: 2000 | X7: 2000 | Z7: 1 | AA7: 0 | AB7: 2750 | AC7: 2750 | AE7: 1 | AF7: 0 | AG7: 2250 | AH7: 2250 | AJ7: 1 | AK7: 0 | AL7: 2500 | AM7: 2500 | AO7: 1 | AP7: 0 | AQ7: 2250 | AR7: 2250 | AT7: 1 | AU7: 0 | AV7: 1250 | AW7: 1250 | AY7: 1 | AZ7: 0 | BA7: 1500 | BB7: 1500
A8: 102 | B8: CLERC | C8: 2 | D8: 1501 | E8: 3000 | F8: =+E8-E7 -> 1500 | H8: DRUIDE | I8: 200 | K8: 2 | L8: 1501 | M8: 3000 | N8: =+M8-M7 -> 1500 | P8: 2 | Q8: 2001 | R8: 4000 | S8: 2000 | U8: 2 | V8: 2001 | W8: 4000 | X8: 2000 | Z8: 2 | AA8: 2751 | AB8: 5500 | AC8: 2750 | AE8: 2 | AF8: 2251 | AG8: 4500 | AH8: 2250 | AJ8: 2 | AK8: 2501 | AL8: 5000 | AM8: 2500 | AO8: 2 | AP8: 2251 | AQ8: 4500 | AR8: 2250 | AT8: 2 | AU8: 1251 | AV8: 2500 | AW8: 1250 | AY8: 2 | AZ8: 1501 | BA8: 3000 | BB8: 1500
A9: 103 | B9: CLERC | C9: 3 | D9: 3001 | E9: 6000 | F9: =+E9-E8 -> 3000 | H9: GUERRIER | I9: 300 | K9: 3 | L9: 3001 | M9: 6000 | N9: =+M9-M8 -> 3000 | P9: 3 | Q9: 4001 | R9: 7500 | S9: 3500 | U9: 3 | V9: 4001 | W9: 8000 | X9: 4000 | Z9: 3 | AA9: 5501 | AB9: 12000 | AC9: 6500 | AE9: 3 | AF9: 4501 | AG9: 10000 | AH9: 5500 | AJ9: 3 | AK9: 5001 | AL9: 10000 | AM9: 5000 | AO9: 3 | AP9: 4501 | AQ9: 9000 | AR9: 4500 | AT9: 3 | AU9: 2501 | AV9: 5000 | AW9: 2500 | AY9: 3 | AZ9: 3001 | BA9: 6000 | BB9: 3000
A10: 104 | B10: CLERC | C10: 4 | D10: 6001 | E10: 13000 | F10: =+E10-E9 -> 7000 | H10: PALADIN | I10: 400 | K10: 4 | L10: 6001 | M10: 13000 | N10: =+M10-M9 -> 7000 | P10: 4 | Q10: 7501 | R10: 12500 | S10: 5000 | U10: 4 | V10: 8001 | W10: 18000 | X10: 10000 | Z10: 4 | AA10: 12001 | AB10: 24000 | AC10: 12000 | AE10: 4 | AF10: 10001 | AG10: 20000 | AH10: 10000 | AJ10: 4 | AK10: 10001 | AL10: 22500 | AM10: 12500 | AO10: 4 | AP10: 9001 | AQ10: 18000 | AR10: 9000 | AT10: 4 | AU10: 5001 | AV10: 10000 | AW10: 5000 | AY10: 4 | AZ10: 6001 | BA10: 12000 | BB10: 6000
A11: 105 | B11: CLERC | C11: 5 | D11: 13001 | E11: 27500 | F11: =+E11-E10 -> 14500 | H11: RANGER | I11: 500 | K11: 5 | L11: 13001 | M11: 27500 | N11: =+M11-M10 -> 14500 | P11: 5 | Q11: 12501 | R11: 20000 | S11: 7500 | U11: 5 | V11: 18001 | W11: 35000 | X11: 17000 | Z11: 5 | AA11: 24001 | AB11: 45000 | AC11: 21000 | AE11: 5 | AF11: 20001 | AG11: 40000 | AH11: 20000 | AJ11: 5 | AK11: 22501 | AL11: 40000 | AM11: 17500 | AO11: 5 | AP11: 18001 | AQ11: 35000 | AR11: 17000 | AT11: 5 | AU11: 10001 | AV11: 20000 | AW11: 10000 | AY11: 5 | AZ11: 12001 | BA11: 25000 | BB11: 13000
A12: 106 | B12: CLERC | C12: 6 | D12: 27501 | E12: 55000 | F12: =+E12-E11 -> 27500 | H12: MAGICIEN | I12: 600 | K12: 6 | L12: 27501 | M12: 55000 | N12: =+M12-M11 -> 27500 | P12: 6 | Q12: 20001 | R12: 35000 | S12: 15000 | U12: 6 | V12: 35001 | W12: 70000 | X12: 35000 | Z12: 6 | AA12: 45001 | AB12: 95000 | AC12: 50000 | AE12: 6 | AF12: 40001 | AG12: 90000 | AH12: 50000 | AJ12: 6 | AK12: 40001 | AL12: 60000 | AM12: 20000 | AO12: 6 | AP12: 35001 | AQ12: 60000 | AR12: 25000 | AT12: 6 | AU12: 20001 | AV12: 42500 | AW12: 22500 | AY12: 6 | AZ12: 25001 | BA12: 50000 | BB12: 25000
A13: 107 | B13: CLERC | C13: 7 | D13: 55001 | E13: 110000 | F13: =+E13-E12 -> 55000 | H13: ILLUSIONNISTE | I13: 700 | K13: 7 | L13: 55001 | M13: 110000 | N13: =+M13-M12 -> 55000 | P13: 7 | Q13: 35001 | R13: 60000 | S13: 25000 | U13: 7 | V13: 70001 | W13: 125000 | X13: 55000 | Z13: 7 | AA13: 95001 | AB13: 175000 | AC13: 80000 | AE13: 7 | AF13: 90001 | AG13: 150000 | AH13: 60000 | AJ13: 7 | AK13: 60001 | AL13: 90000 | AM13: 30000 | AO13: 7 | AP13: 60001 | AQ13: 95000 | AR13: 35000 | AT13: 7 | AU13: 42501 | AV13: 70000 | AW13: 27500 | AY13: 7 | AZ13: 50001 | BA13: 100000 | BB13: 50000
A14: 108 | B14: CLERC | C14: 8 | D14: 110001 | E14: 225000 | F14: =+E14-E13 -> 115000 | H14: VOLEUR | I14: 800 | K14: 8 | L14: 110001 | M14: 225000 | N14: =+M14-M13 -> 115000 | P14: 8 | Q14: 60001 | R14: 90000 | S14: 30000 | U14: 8 | V14: 125001 | W14: 250000 | X14: 125000 | Z14: 8 | AA14: 175001 | AB14: 350000 | AC14: 175000 | AE14: 8 | AF14: 150001 | AG14: 225000 | AH14: 75000 | AJ14: 8 | AK14: 90001 | AL14: 135000 | AM14: 45000 | AO14: 8 | AP14: 95001 | AQ14: 145000 | AR14: 50000 | AT14: 8 | AU14: 70001 | AV14: 110000 | AW14: 40000 | AY14: 8 | AZ14: 100001 | BA14: 200000 | BB14: 100000
A15: 109 | B15: CLERC | C15: 9 | D15: 225001 | E15: 450000 | F15: =+E15-E14 -> 225000 | H15: ASSASSIN | I15: 900 | K15: 9 | L15: 225001 | M15: 450000 | N15: =+M15-M14 -> 225000 | P15: 9 | Q15: 90001 | R15: 125000 | S15: 35000 | U15: 9 | V15: 250001 | W15: 500000 | X15: 250000 | Z15: 9 | AA15: 350001 | AB15: 700000 | AC15: 350000 | AE15: 9 | AF15: 225001 | AG15: 325000 | AH15: 100000 | AJ15: 9 | AK15: 135001 | AL15: 250000 | AM15: 115000 | AO15: 9 | AP15: 145001 | AQ15: 220000 | AR15: 75000 | AT15: 9 | AU15: 110001 | AV15: 160000 | AW15: 50000 | AY15: 9 | AZ15: 200001 | BA15: 300000 | BB15: 100000
A16: 110 | B16: CLERC | C16: 10 | D16: 450001 | E16: 675000 | F16: =+E16-E15 -> 225000 | K16: 10 | L16: 450001 | M16: 675000 | N16: =+M16-M15 -> 225000 | P16: 10 | Q16: 125001 | R16: 200000 | S16: 75000 | U16: 10 | V16: 500001 | W16: 750000 | X16: 250000 | Z16: 10 | AA16: 700001 | AB16: 1050000 | AC16: 350000 | AE16: 10 | AF16: 325001 | AG16: 650000 | AH16: 325000 | AJ16: 10 | AK16: 250001 | AL16: 375000 | AM16: 125000 | AO16: 10 | AP16: 220001 | AQ16: 440000 | AR16: 220000 | AT16: 10 | AU16: 160001 | AV16: 220000 | AW16: 60000 | AY16: 10 | AZ16: 300001 | BA16: 425000 | BB16: 125000
A17: 111 | B17: CLERC | C17: 11 | D17: 675001 | E17: 900000 | F17: =+E17-E16 -> 225000 | K17: 11 | L17: 675001 | M17: 900000 | N17: =+M17-M16 -> 225000 | P17: 11 | Q17: 200001 | R17: 300000 | S17: 100000 | U17: 11 | V17: 750001 | W17: 1000000 | X17: 250000 | Z17: 11 | AA17: 1050001 | AB17: 1400000 | AC17: 350000 | AE17: 11 | AF17: 650001 | AG17: 975000 | AH17: 325000 | AJ17: 11 | AK17: 375001 | AL17: 750000 | AM17: 375000 | AO17: 11 | AP17: 440001 | AQ17: 660000 | AR17: 220000 | AT17: 11 | AU17: 220001 | AV17: 440000 | AW17: 220000 | AY17: 11 | AZ17: 425001 | BA17: 575000 | BB17: 150000
A18: 112 | B18: CLERC | C18: 12 | D18: 900001 | E18: 1125000 | F18: =+E18-E17 -> 225000 | K18: 12 | L18: 900001 | M18: 1125000 | N18: =+M18-M17 -> 225000 | P18: 12 | Q18: 300001 | R18: 750000 | S18: 450000 | U18: 12 | V18: 1000001 | W18: 1250000 | X18: 250000 | Z18: 12 | AA18: 1400001 | AB18: 1750000 | AC18: 350000 | AE18: 12 | AF18: 975001 | AG18: 1300000 | AH18: 325000 | AJ18: 12 | AK18: 750001 | AL18: 1125000 | AM18: 375000 | AO18: 12 | AP18: 660001 | AQ18: 880000 | AR18: 220000 | AT18: 12 | AU18: 440001 | AV18: 660000 | AW18: 220000 | AY18: 12 | AZ18: 575001 | BA18: 750000 | BB18: 175000
A19: 113 | B19: CLERC | C19: 13 | D19: 1125001 | E19: 1350000 | F19: =+E19-E18 -> 225000 | K19: 13 | L19: 1125001 | M19: 1350000 | N19: =+M19-M18 -> 225000 | P19: 13 | Q19: 750001 | R19: 1500000 | S19: 750000 | U19: 13 | V19: 1250001 | W19: 1500000 | X19: 250000 | Z19: 13 | AA19: 1750001 | AB19: 2100000 | AC19: 350000 | AE19: 13 | AF19: 1300001 | AG19: 1625000 | AH19: 325000 | AJ19: 13 | AK19: 1125001 | AL19: 1500000 | AM19: 375000 | AO19: 13 | AP19: 880001 | AQ19: 1100000 | AR19: 220000 | AT19: 13 | AU19: 660001 | AV19: 880000 | AW19: 220000 | AY19: 13 | AZ19: 750001 | BA19: 1000000 | BB19: 250000
A20: 114 | B20: CLERC | C20: 14 | D20: 1350001 | E20: 1575000 | F20: =+E20-E19 -> 225000 | K20: 14 | L20: 1350001 | M20: 1575000 | N20: =+M20-M19 -> 225000 | P20: 14 | Q20: 1500000 | R20: 1500000 | S20: 0 | U20: 14 | V20: 1500001 | W20: 1750000 | X20: 250000 | Z20: 14 | AA20: 2100001 | AB20: 2450000 | AC20: 350000 | AE20: 14 | AF20: 1625001 | AG20: 1950000 | AH20: 325000 | AJ20: 14 | AK20: 1500001 | AL20: 1875000 | AM20: 375000 | AO20: 14 | AP20: 1100001 | AQ20: 1320000 | AR20: 220000 | AT20: 14 | AU20: 880001 | AV20: 1100000 | AW20: 220000 | AY20: 14 | AZ20: 1000001 | BA20: 1500000 | BB20: 500000
A21: 115 | B21: CLERC | C21: 15 | D21: 1575001 | E21: 1800000 | F21: =+E21-E20 -> 225000 | K21: 15 | L21: 1575001 | M21: 1800000 | N21: =+M21-M20 -> 225000 | P21: 15 | Q21: 1500000 | R21: 1500000 | S21: 0 | U21: 15 | V21: 1750001 | W21: 2000000 | X21: 250000 | Z21: 15 | AA21: 2450001 | AB21: 2800000 | AC21: 350000 | AE21: 15 | AF21: 1950001 | AG21: 2275000 | AH21: 325000 | AJ21: 15 | AK21: 1875001 | AL21: 2250000 | AM21: 375000 | AO21: 15 | AP21: 1320001 | AQ21: 1540000 | AR21: 220000 | AT21: 15 | AU21: 1100001 | AV21: 1320000 | AW21: 220000 | AY21: 15 | AZ21: 1500000 | BA21: 1500000 | BB21: 0
A22: 116 | B22: CLERC | C22: 16 | D22: 1800001 | E22: 2025000 | F22: =+E22-E21 -> 225000 | K22: 16 | L22: 1800001 | M22: 2025000 | N22: =+M22-M21 -> 225000 | P22: 16 | Q22: 1500000 | R22: 1500000 | S22: 0 | U22: 16 | V22: 2000001 | W22: 2250000 | X22: 250000 | Z22: 16 | AA22: 2800001 | AB22: 3150000 | AC22: 350000 | AE22: 16 | AF22: 2275001 | AG22: 2600000 | AH22: 325000 | AJ22: 16 | AK22: 2250001 | AL22: 2625000 | AM22: 375000 | AO22: 16 | AP22: 1540001 | AQ22: 1760000 | AR22: 220000 | AT22: 16 | AU22: 1320001 | AV22: 1540000 | AW22: 220000 | AY22: 16 | AZ22: 1500000 | BA22: 1500000 | BB22: 0
A23: 117 | B23: CLERC | C23: 17 | D23: 2025001 | E23: 2250000 | F23: =+E23-E22 -> 225000 | K23: 17 | L23: 2025001 | M23: 2250000 | N23: =+M23-M22 -> 225000 | P23: 17 | Q23: 1500000 | R23: 1500000 | S23: 0 | U23: 17 | V23: 2250001 | W23: 2500000 | X23: 250000 | Z23: 17 | AA23: 3150001 | AB23: 3500000 | AC23: 350000 | AE23: 17 | AF23: 2600001 | AG23: 2925000 | AH23: 325000 | AJ23: 17 | AK23: 2625001 | AL23: 3000000 | AM23: 375000 | AO23: 17 | AP23: 1760001 | AQ23: 1980000 | AR23: 220000 | AT23: 17 | AU23: 1540001 | AV23: 1760000 | AW23: 220000 | AY23: 17 | AZ23: 1500000 | BA23: 1500000 | BB23: 0
A24: 118 | B24: CLERC | C24: 18 | D24: 2250001 | E24: 2475000 | F24: =+E24-E23 -> 225000 | K24: 18 | L24: 2250001 | M24: 2475000 | N24: =+M24-M23 -> 225000 | P24: 18 | Q24: 1500000 | R24: 1500000 | S24: 0 | U24: 18 | V24: 2500001 | W24: 2750000 | X24: 250000 | Z24: 18 | AA24: 3500001 | AB24: 3850000 | AC24: 350000 | AE24: 18 | AF24: 2925001 | AG24: 3250000 | AH24: 325000 | AJ24: 18 | AK24: 3000001 | AL24: 3375000 | AM24: 375000 | AO24: 18 | AP24: 1980001 | AQ24: 2200000 | AR24: 220000 | AT24: 18 | AU24: 1760001 | AV24: 1980000 | AW24: 220000 | AY24: 18 | AZ24: 1500000 | BA24: 1500000 | BB24: 0
A25: 119 | B25: CLERC | C25: 19 | D25: 2475001 | E25: 2700000 | F25: =+E25-E24 -> 225000 | K25: 19 | L25: 2475001 | M25: 2700000 | N25: =+M25-M24 -> 225000 | P25: 19 | Q25: 1500000 | R25: 1500000 | S25: 0 | U25: 19 | V25: 2750001 | W25: 3000000 | X25: 250000 | Z25: 19 | AA25: 3850001 | AB25: 4200000 | AC25: 350000 | AE25: 19 | AF25: 3250001 | AG25: 3575000 | AH25: 325000 | AJ25: 19 | AK25: 3375001 | AL25: 3750000 | AM25: 375000 | AO25: 19 | AP25: 2200001 | AQ25: 2420000 | AR25: 220000 | AT25: 19 | AU25: 1980001 | AV25: 2200000 | AW25: 220000 | AY25: 19 | AZ25: 1500000 | BA25: 1500000 | BB25: 0
A26: 120 | B26: CLERC | C26: 20 | D26: 2700001 | E26: 2925000 | F26: =+E26-E25 -> 225000 | K26: 20 | L26: 2700001 | M26: 2925000 | N26: =+M26-M25 -> 225000 | P26: 20 | Q26: 1500000 | R26: 1500000 | S26: 0 | U26: 20 | V26: 3000001 | W26: 3250000 | X26: 250000 | Z26: 20 | AA26: 4200001 | AB26: 4550000 | AC26: 350000 | AE26: 20 | AF26: 3575001 | AG26: 3900000 | AH26: 325000 | AJ26: 20 | AK26: 3750001 | AL26: 4125000 | AM26: 375000 | AO26: 20 | AP26: 2420001 | AQ26: 2640000 | AR26: 220000 | AT26: 20 | AU26: 2200001 | AV26: 2420000 | AW26: 220000 | AY26: 20 | AZ26: 1500000 | BA26: 1500000 | BB26: 0
A27: 121 | B27: CLERC | C27: 21 | D27: 2925001 | E27: 3150000 | F27: =+E27-E26 -> 225000 | K27: 21 | L27: 2925001 | M27: 3150000 | N27: =+M27-M26 -> 225000 | P27: 21 | Q27: 1500000 | R27: 1500000 | S27: 0 | U27: 21 | V27: 3250001 | W27: 3500000 | X27: 250000 | Z27: 21 | AA27: 4550001 | AB27: 4900000 | AC27: 350000 | AE27: 21 | AF27: 3900001 | AG27: 4225000 | AH27: 325000 | AJ27: 21 | AK27: 4125001 | AL27: 4500000 | AM27: 375000 | AO27: 21 | AP27: 2640001 | AQ27: 2860000 | AR27: 220000 | AT27: 21 | AU27: 2420001 | AV27: 2640000 | AW27: 220000 | AY27: 21 | AZ27: 1500000 | BA27: 1500000 | BB27: 0
... A31: 125 | B31: CLERC | C31: 25 | D31: 3825001 | E31: 4050000 | F31: =+E31-E30 -> 225000 | K31: 25 | L31: 3825001 | M31: 4050000 | N31: =+M31-M30 -> 225000 | P31: 25 | Q31: 1500000 | R31: 1500000 | S31: 0 | U31: 25 | V31: 4250001 | W31: 4500000 | X31: 250000 | Z31: 25 | AA31: 5950001 | AB31: 6300000 | AC31: 350000 | AE31: 25 | AF31: 5200001 | AG31: 5525000 | AH31: 325000 | AJ31: 25 | AK31: 5625001 | AL31: 6000000 | AM31: 375000 | AO31: 25 | AP31: 3520001 | AQ31: 3740000 | AR31: 220000 | AT31: 25 | AU31: 3300001 | AV31: 3520000 | AW31: 220000 | AY31: 25 | AZ31: 1500000 | BA31: 1500000 | BB31: 0
A32: 201 | B32: DRUIDE | C32: 1 | D32: 0 | E32: 2000 | F32: 2000
A33: 202 | B33: DRUIDE | C33: 2 | D33: 2001 | E33: 4000 | F33: 2000
A34: 203 | B34: DRUIDE | C34: 3 | D34: 4001 | E34: 7500 | F34: 3500
A35: 204 | B35: DRUIDE | C35: 4 | D35: 7501 | E35: 12500 | F35: 5000
A36: 205 | B36: DRUIDE | C36: 5 | D36: 12501 | E36: 20000 | F36: 7500
A37: 206 | B37: DRUIDE | C37: 6 | D37: 20001 | E37: 35000 | F37: 15000
A38: 207 | B38: DRUIDE | C38: 7 | D38: 35001 | E38: 60000 | F38: 25000
A39: 208 | B39: DRUIDE | C39: 8 | D39: 60001 | E39: 90000 | F39: 30000
A40: 209 | B40: DRUIDE | C40: 9 | D40: 90001 | E40: 125000 | F40: 35000
A41: 210 | B41: DRUIDE | C41: 10 | D41: 125001 | E41: 200000 | F41: 75000
A42: 211 | B42: DRUIDE | C42: 11 | D42: 200001 | E42: 300000 | F42: 100000
A43: 212 | B43: DRUIDE | C43: 12 | D43: 300001 | E43: 750000 | F43: 450000
... A231: 925 | B231: ASSASSIN | C231: 25 | D231: 1500000 | E231: 1500000 | F231: 0

Sheet Table_Sorts
K1: =+Feuil1!N5 -> GUERRIER
K3: =+Feuil1!AL5 -> 1
A9: Clerc | B9: 1 | C9: 2 | D9: 3 | E9: 4 | F9: 5 | G9: 6 | H9: 7 | I9: 8 | J9: 9 | L9: Druide | M9: 1 | N9: 2 | O9: 3 | P9: 4 | Q9: 5 | R9: 6 | S9: 7 | T9: 8 | U9: 9 | W9: Paladin | X9: 1 | Y9: 2 | Z9: 3 | AA9: 4 | AB9: 5 | AC9: 6 | AD9: 7 | AE9: 8 | AF9: 9 | AH9: Magicien | AI9: 1 | AJ9: 2 | AK9: 3 | AL9: 4 | AM9: 5 | AN9: 6 | AO9: 7 | AP9: 8 | AQ9: 9 | AS9: Illusionniste | AT9: 1 | AU9: 2 | AV9: 3 | AW9: 4 | AX9: 5 | AY9: 6 | AZ9: 7 | BA9: 8 | BB9: 9
A10: 1 | B10: 1 | C10: 0 | D10: 0 | E10: 0 | F10: 0 | G10: 0 | H10: 0 | I10: 0 | J10: 0 | L10: 1 | M10: 2 | N10: 0 | O10: 0 | P10: 0 | Q10: 0 | R10: 0 | S10: 0 | T10: 0 | U10: 0 | W10: 1 | X10: 0 | Y10: 0 | Z10: 0 | AA10: 0 | AB10: 0 | AC10: 0 | AD10: 0 | AE10: 0 | AF10: 0 | AH10: 1 | AI10: 1 | AJ10: 0 | AK10: 0 | AL10: 0 | AM10: 0 | AN10: 0 | AO10: 0 | AP10: 0 | AQ10: 0 | AS10: 1 | AT10: 1 | AU10: 0 | AV10: 0 | AW10: 0 | AX10: 0 | AY10: 0 | AZ10: 0 | BA10: 0 | BB10: 0
A11: 2 | B11: 2 | C11: 0 | D11: 0 | E11: 0 | F11: 0 | G11: 0 | H11: 0 | I11: 0 | J11: 0 | L11: 2 | M11: 2 | N11: 1 | O11: 0 | P11: 0 | Q11: 0 | R11: 0 | S11: 0 | T11: 0 | U11: 0 | W11: 2 | X11: 0 | Y11: 0 | Z11: 0 | AA11: 0 | AB11: 0 | AC11: 0 | AD11: 0 | AE11: 0 | AF11: 0 | AH11: 2 | AI11: 2 | AJ11: 0 | AK11: 0 | AL11: 0 | AM11: 0 | AN11: 0 | AO11: 0 | AP11: 0 | AQ11: 0 | AS11: 2 | AT11: 2 | AU11: 0 | AV11: 0 | AW11: 0 | AX11: 0 | AY11: 0 | AZ11: 0 | BA11: 0 | BB11: 0
A12: 3 | B12: 2 | C12: 1 | D12: 0 | E12: 0 | F12: 0 | G12: 0 | H12: 0 | I12: 0 | J12: 0 | L12: 3 | M12: 3 | N12: 2 | O12: 1 | P12: 0 | Q12: 0 | R12: 0 | S12: 0 | T12: 0 | U12: 0 | W12: 3 | X12: 0 | Y12: 0 | Z12: 0 | AA12: 0 | AB12: 0 | AC12: 0 | AD12: 0 | AE12: 0 | AF12: 0 | AH12: 3 | AI12: 2 | AJ12: 1 | AK12: 0 | AL12: 0 | AM12: 0 | AN12: 0 | AO12: 0 | AP12: 0 | AQ12: 0 | AS12: 3 | AT12: 2 | AU12: 1 | AV12: 0 | AW12: 0 | AX12: 0 | AY12: 0 | AZ12: 0 | BA12: 0 | BB12: 0
A13: 4 | B13: 3 | C13: 2 | D13: 0 | E13: 0 | F13: 0 | G13: 0 | H13: 0 | I13: 0 | J13: 0 | L13: 4 | M13: 4 | N13: 2 | O13: 2 | P13: 0 | Q13: 0 | R13: 0 | S13: 0 | T13: 0 | U13: 0 | W13: 4 | X13: 0 | Y13: 0 | Z13: 0 | AA13: 0 | AB13: 0 | AC13: 0 | AD13: 0 | AE13: 0 | AF13: 0 | AH13: 4 | AI13: 3 | AJ13: 2 | AK13: 0 | AL13: 0 | AM13: 0 | AN13: 0 | AO13: 0 | AP13: 0 | AQ13: 0 | AS13: 4 | AT13: 3 | AU13: 2 | AV13: 0 | AW13: 0 | AX13: 0 | AY13: 0 | AZ13: 0 | BA13: 0 | BB13: 0
A14: 5 | B14: 3 | C14: 3 | D14: 1 | E14: 0 | F14: 0 | G14: 0 | H14: 0 | I14: 0 | J14: 0 | L14: 5 | M14: 4 | N14: 3 | O14: 2 | P14: 0 | Q14: 0 | R14: 0 | S14: 0 | T14: 0 | U14: 0 | W14: 5 | X14: 0 | Y14: 0 | Z14: 0 | AA14: 0 | AB14: 0 | AC14: 0 | AD14: 0 | AE14: 0 | AF14: 0 | AH14: 5 | AI14: 4 | AJ14: 2 | AK14: 1 | AL14: 0 | AM14: 0 | AN14: 0 | AO14: 0 | AP14: 0 | AQ14: 0 | AS14: 5 | AT14: 4 | AU14: 2 | AV14: 1 | AW14: 0 | AX14: 0 | AY14: 0 | AZ14: 0 | BA14: 0 | BB14: 0
A15: 6 | B15: 3 | C15: 3 | D15: 2 | E15: 0 | F15: 0 | G15: 0 | H15: 0 | I15: 0 | J15: 0 | L15: 6 | M15: 4 | N15: 3 | O15: 2 | P15: 1 | Q15: 0 | R15: 0 | S15: 0 | T15: 0 | U15: 0 | W15: 6 | X15: 0 | Y15: 0 | Z15: 0 | AA15: 0 | AB15: 0 | AC15: 0 | AD15: 0 | AE15: 0 | AF15: 0 | AH15: 6 | AI15: 4 | AJ15: 2 | AK15: 2 | AL15: 0 | AM15: 0 | AN15: 0 | AO15: 0 | AP15: 0 | AQ15: 0 | AS15: 6 | AT15: 4 | AU15: 3 | AV15: 1 | AW15: 0 | AX15: 0 | AY15: 0 | AZ15: 0 | BA15: 0 | BB15: 0
A16: 7 | B16: 3 | C16: 3 | D16: 2 | E16: 1 | F16: 0 | G16: 0 | H16: 0 | I16: 0 | J16: 0 | L16: 7 | M16: 4 | N16: 4 | O16: 3 | P16: 1 | Q16: 0 | R16: 0 | S16: 0 | T16: 0 | U16: 0 | W16: 7 | X16: 0 | Y16: 0 | Z16: 0 | AA16: 0 | AB16: 0 | AC16: 0 | AD16: 0 | AE16: 0 | AF16: 0 | AH16: 7 | AI16: 4 | AJ16: 3 | AK16: 2 | AL16: 1 | AM16: 0 | AN16: 0 | AO16: 0 | AP16: 0 | AQ16: 0 | AS16: 7 | AT16: 4 | AU16: 3 | AV16: 2 | AW16: 0 | AX16: 0 | AY16: 0 | AZ16: 0 | BA16: 0 | BB16: 0
A17: 8 | B17: 3 | C17: 3 | D17: 3 | E17: 2 | F17: 0 | G17: 0 | H17: 0 | I17: 0 | J17: 0 | L17: 8 | M17: 4 | N17: 4 | O17: 3 | P17: 2 | Q17: 0 | R17: 0 | S17: 0 | T17: 0 | U17: 0 | W17: 8 | X17: 0 | Y17: 0 | Z17: 0 | AA17: 0 | AB17: 0 | AC17: 0 | AD17: 0 | AE17: 0 | AF17: 0 | AH17: 8 | AI17: 4 | AJ17: 3 | AK17: 3 | AL17: 2 | AM17: 0 | AN17: 0 | AO17: 0 | AP17: 0 | AQ17: 0 | AS17: 8 | AT17: 4 | AU17: 3 | AV17: 2 | AW17: 1 | AX17: 0 | AY17: 0 | AZ17: 0 | BA17: 0 | BB17: 0
A18: 9 | B18: 4 | C18: 4 | D18: 3 | E18: 2 | F18: 1 | G18: 0 | H18: 0 | I18: 0 | J18: 0 | L18: 9 | M18: 5 | N18: 4 | O18: 3 | P18: 2 | Q18: 1 | R18: 0 | S18: 0 | T18: 0 | U18: 0 | W18: 9 | X18: 1 | Y18: 0 | Z18: 0 | AA18: 0 | AB18: 0 | AC18: 0 | AD18: 0 | AE18: 0 | AF18: 0 | AH18: 9 | AI18: 4 | AJ18: 3 | AK18: 3 | AL18: 2 | AM18: 1 | AN18: 0 | AO18: 0 | AP18: 0 | AQ18: 0 | AS18: 9 | AT18: 5 | AU18: 3 | AV18: 3 | AW18: 2 | AX18: 0 | AY18: 0 | AZ18: 0 | BA18: 0 | BB18: 0
A19: 10 | B19: 4 | C19: 4 | D19: 3 | E19: 3 | F19: 2 | G19: 0 | H19: 0 | I19: 0 | J19: 0 | L19: 10 | M19: 5 | N19: 4 | O19: 3 | P19: 3 | Q19: 2 | R19: 0 | S19: 0 | T19: 0 | U19: 0 | W19: 10 | X19: 2 | Y19: 0 | Z19: 0 | AA19: 0 | AB19: 0 | AC19: 0 | AD19: 0 | AE19: 0 | AF19: 0 | AH19: 10 | AI19: 4 | AJ19: 4 | AK19: 3 | AL19: 2 | AM19: 2 | AN19: 0 | AO19: 0 | AP19: 0 | AQ19: 0 | AS19: 10 | AT19: 5 | AU19: 4 | AV19: 3 | AW19: 2 | AX19: 1 | AY19: 0 | AZ19: 0 | BA19: 0 | BB19: 0
A20: 11 | B20: 5 | C20: 4 | D20: 4 | E20: 3 | F20: 2 | G20: 1 | H20: 0 | I20: 0 | J20: 0 | L20: 11 | M20: 5 | N20: 5 | O20: 3 | P20: 3 | Q20: 2 | R20: 1 | S20: 0 | T20: 0 | U20: 0 | W20: 11 | X20: 2 | Y20: 1 | Z20: 0 | AA20: 0 | AB20: 0 | AC20: 0 | AD20: 0 | AE20: 0 | AF20: 0 | AH20: 11 | AI20: 4 | AJ20: 4 | AK20: 4 | AL20: 3 | AM20: 3 | AN20: 0 | AO20: 0 | AP20: 0 | AQ20: 0 | AS20: 11 | AT20: 5 | AU20: 4 | AV20: 3 | AW20: 3 | AX20: 2 | AY20: 0 | AZ20: 0 | BA20: 0 | BB20: 0
A21: 12 | B21: 6 | C21: 5 | D21: 5 | E21: 4 | F21: 2 | G21: 2 | H21: 0 | I21: 0 | J21: 0 | L21: 12 | M21: 5 | N21: 5 | O21: 4 | P21: 4 | Q21: 3 | R21: 2 | S21: 1 | T21: 0 | U21: 0 | W21: 12 | X21: 2 | Y21: 2 | Z21: 0 | AA21: 0 | AB21: 0 | AC21: 0 | AD21: 0 | AE21: 0 | AF21: 0 | AH21: 12 | AI21: 4 | AJ21: 4 | AK21: 4 | AL21: 4 | AM21: 4 | AN21: 1 | AO21: 0 | AP21: 0 | AQ21: 0 | AS21: 12 | AT21: 5 | AU21: 5 | AV21: 4 | AW21: 3 | AX21: 2 | AY21: 1 | AZ21: 0 | BA21: 0 | BB21: 0
... A29: 20 | B29: 9 | C29: 9 | D29: 9 | E29: 9 | F29: 7 | G29: 5 | H29: 2 | I29: 0 | J29: 0 | L29: 20 | M29: 6 | N29: 6 | O29: 6 | P29: 6 | Q29: 5 | R29: 4 | S29: 3 | T29: 0 | U29: 0 | W29: 20 | X29: 3 | Y29: 3 | Z29: 3 | AA29: 3 | AB29: 0 | AC29: 0 | AD29: 0 | AE29: 0 | AF29: 0 | AH29: 20 | AI29: 5 | AJ29: 5 | AK29: 5 | AL29: 5 | AM29: 5 | AN29: 4 | AO29: 3 | AP29: 3 | AQ29: 2 | AS29: 20 | AT29: 5 | AU29: 5 | AV29: 5 | AW29: 5 | AX29: 4 | AY29: 3 | AZ29: 3 | BA29: 0 | BB29: 0
A30: 21 | B30: 9 | C30: 9 | D30: 9 | E30: 9 | F30: 8 | G30: 6 | H30: 2 | I30: 0 | J30: 0 | AH30: 21 | AI30: 5 | AJ30: 5 | AK30: 5 | AL30: 5 | AM30: 5 | AN30: 4 | AO30: 4 | AP30: 4 | AQ30: 2 | AS30: 21 | AT30: 5 | AU30: 5 | AV30: 5 | AW30: 5 | AX30: 5 | AY30: 4 | AZ30: 3 | BA30: 0 | BB30: 0
A31: 22 | B31: 9 | C31: 9 | D31: 9 | E31: 9 | F31: 9 | G31: 6 | H31: 3 | I31: 0 | J31: 0 | AH31: 22 | AI31: 5 | AJ31: 5 | AK31: 5 | AL31: 5 | AM31: 5 | AN31: 5 | AO31: 4 | AP31: 4 | AQ31: 3 | AS31: 22 | AT31: 5 | AU31: 5 | AV31: 5 | AW31: 5 | AX31: 5 | AY31: 5 | AZ31: 4 | BA31: 0 | BB31: 0
A32: 23 | B32: 9 | C32: 9 | D32: 9 | E32: 9 | F32: 9 | G32: 7 | H32: 3 | I32: 0 | J32: 0 | AH32: 23 | AI32: 5 | AJ32: 5 | AK32: 5 | AL32: 5 | AM32: 5 | AN32: 5 | AO32: 5 | AP32: 5 | AQ32: 3 | AS32: 23 | AT32: 5 | AU32: 5 | AV32: 5 | AW32: 5 | AX32: 5 | AY32: 5 | AZ32: 5 | BA32: 0 | BB32: 0
A33: 24 | B33: 9 | C33: 9 | D33: 9 | E33: 9 | F33: 9 | G33: 8 | H33: 3 | I33: 0 | J33: 0 | AH33: 24 | AI33: 5 | AJ33: 5 | AK33: 5 | AL33: 5 | AM33: 5 | AN33: 5 | AO33: 5 | AP33: 5 | AQ33: 4 | AS33: 24 | AT33: 6 | AU33: 6 | AV33: 6 | AW33: 6 | AX33: 5 | AY33: 5 | AZ33: 5 | BA33: 0 | BB33: 0
A34: 25 | B34: 9 | C34: 9 | D34: 9 | E34: 9 | F34: 9 | G34: 8 | H34: 4 | I34: 0 | J34: 0 | AH34: 25 | AI34: 5 | AJ34: 5 | AK34: 5 | AL34: 5 | AM34: 5 | AN34: 5 | AO34: 5 | AP34: 5 | AQ34: 5 | AS34: 25 | AT34: 6 | AU34: 6 | AV34: 6 | AW34: 6 | AX34: 6 | AY34: 6 | AZ34: 6 | BA34: 0 | BB34: 0
