Workbook
Name Base_TAC0: 'Saving Throws'!$E$95:$Y$101
Name Base_TAC02: 'Saving Throws'!$M$104
Name Campagne: 'Feuille 1'!$F$206
Name Campaign_money: Autres!$W$2:$X$34
Name Campaign_settings: Autres!$W$3:$W$34
Name CHA: Attributs!$L$3:$O$27
Name Class_mod: Attributs!$D$139:$S$154
Name Classe: 'Feuille 1'!$E$3
Name Classe2: 'Feuille 1'!$E$5
Name Classe3: 'Feuille 1'!$E$6
Name Classes_list: Attributs!$D$141:$D$153
Name classes_qty: Attributs!$G$132
Name Combattant?: Attributs!$I$164
Name Comp_diverses_Full: Compétences!$A$1:$H$102
Name Comp_diverses_list: Compétences!$A$1:$A$102
Name Comp_martiales: Compétences!$AQ$2:$AR$141
Name Comp_martiales_cost: Compétences!$V$2:$W$9
Name Comp_martiales_list: Compétences!$AQ$2:$AQ$141
Name comp_select: 'Feuille 1'!#REF!
Name comp_vers: 'Feuille 1'!$AE$8
Name CON: Attributs!$A$3:$G$27
Name DEX: Attributs!$H$3:$K$27
Name Ethnie: 'Feuille 1'!$Q$2
Name Ethnie_List: OFFSET(Races!$AG1,0,0,35-COUNTBLANK(Races!$AG$2:$AG$36),1)
Name Ethnies_total: Races!$A$1:$AF$36
Name Faction: 'Feuille 1'!$F$210
Name Faction_list_complete: Factions!$A$3:$AF$91
Name Factions_list: OFFSET(Factions!$AG$4,0,0,88-COUNTBLANK(Factions!$AG$4:$AG$91),1)
Name FOR_balance: Attributs!$E$98:$G$101
Name FOR_bonus: Attributs!$A$61:$B$186
Name Force: Attributs!$A$30:$M$59
Name Genre: 'Feuille 1'!$P$6
Name INT: Attributs!$N$30:$S$54
Name La_cellule_vide: Autres!$AK$1
Name level: 'Feuille 1'!$R$3
Name levelc2: 'Feuille 1'!$R$4
Name levelc3: 'Feuille 1'!$R$5
Name list_test: Sorts!$O$641:$P$646,Sorts!$O$653:$P$665
Name liste_armures: Autres!$M$2:$M$17
Name lvl_sr_bar: Attributs!$L$107
Name lvl_sr_mag: Attributs!$L$104
Name lvl_sr_pal: Attributs!$L$95
Name lvl_sr_pr: Attributs!$L$98
Name lvl_sr_rod: Attributs!$L$92
Name Mage: Autres!$D$2:$D$10
Name Money: Autres!$K$74:$O$79
Name multi: Autres!$G$2:$G$12
Name Niv_priere_bonus_sag: Attributs!$D$62:$K$87
Name Niv_prieres: Attributs!$O$62:$V$83
Name Niv_prieres_pal: Attributs!$X$62:$AB$83
Name Niv_prieres_rod: Attributs!$AD$62:$AG$83
Name Niv_sorts: Attributs!$O$90:$X$112
Name Niv_sorts_barde: Attributs!$O$114:$U$136
Name NPC: 'Feuille 1'!$AE$4
Name PFP: Autres!$R$1:$U$28
Name PFP_Psioniste: Autres!$U$3
Name PFP_psioniste_talent: Autres!$U$5
Name PFP_talent_natif: Autres!$U$4
Name profil_list: OFFSET(Autres!$J$2,0,0,30-COUNTBLANK(Autres!$J$2:$J$31),1)
Name profil_list_comp: Autres!$A$1:$H$31

Sheet Feuille 1
A1: Nom: | M1: Alignement:
A2: Race: | M2: Ethnie:
A3: Classe: | M3: Niveau Classe 1 | U3: =IF(Psionique?=TRUE,"PFP:","") | W3: =IF(NPC=TRUE,IF(psio_version="aucune","",IF(AND(OR(Classe="Psioniste",Classe2="Psioniste",Classe3="Psioniste"),AND(Score_CON<>0,Score_INT<>0,Score_SAG<>0)),IF(AH7=TRUE," "&"/"&PFP_psioniste_talent," "&"/"&PFP_Psioniste),IF(AH7=TRUE," "&"/"&PFP_talent_natif,""))),"")
A4: Profil: | M4: Niveau Classe 2 | U4: =IF(AND(Psionique?=TRUE,psio_version<>"2.0"),"TAC0P:","") | AB4: Remplir Automatiquement? | AE4: FALSE
A5: Classe 2: | M5: Niveau Classe 3 | U5: =IF(AND(Psionique?=TRUE,psio_version<>"2.0"),"CAP:","") | AD5: Profils | AE5: MC | AF5: Poids des pièces d'or
A6: Classe 3: | M6: Genre: | S6: =IF(OR(Classe="Rôdeur",Classe2="Rôdeur",Classe3="Rôdeur",NPC=FALSE),"Anti:","") -> Anti: | AC6: Compétences Langes | AE6: Oui | AF6: Système de mesure | AH6: Métrique
A7: Déité: | M7: =IF(Campagne="Ravenloft","Test de puissance:","") | AD7: Psionie | AE7: 2.0 | AF7: Talent Natif? | AH7: FALSE
A8: FOR | H8: END | I8: =IF(Score_FOR=0,"",IF(OR(LEFT(E9,3)=H8,LEFT(E9,3)=H9),VLOOKUP(VLOOKUP(Score_FOR,FOR_bonus,2,FALSE),Force,VLOOKUP(E9,FOR_balance,2,FALSE),FALSE),Score_FOR)) | K8: Toucher | N8: Dégats | Q8: Poids Autorisé | T8: Charge Max. | W8: Enfoncer | Y8: B&H | AC8: Compétences | AE8: jello | AF8: Découverte du talent psionique (niv)
A9: Sous attribut: | H9: PUI | I9: =IF(Score_FOR=0,"",IF(OR(LEFT(E9,3)=H8,LEFT(E9,3)=H9),VLOOKUP(VLOOKUP(Score_FOR,FOR_bonus,2,FALSE),Force,VLOOKUP(E9,FOR_balance,3,FALSE),FALSE),Score_FOR)) | K9: =IF(OR(Score_PUI=0,Score_PUI=""),"",VLOOKUP(VLOOKUP(TEXT(Score_PUI,"@"),FOR_bonus,2,FALSE),Force,2,FALSE)) | N9: =IF(OR(Score_PUI=0,Score_PUI=""),"",VLOOKUP(VLOOKUP(TEXT(Score_PUI,"@"),FOR_bonus,2,FALSE),Force,3,FALSE)) | Q9: =IF(OR(Score_END=0,Score_END=""),"",VLOOKUP(VLOOKUP(TEXT(Score_END,"@"),FOR_bonus,2,FALSE),Force,4,FALSE)) | T9: =IF(OR(Score_PUI=0,Score_PUI=""),"",VLOOKUP(VLOOKUP(TEXT(Score_PUI,"@"),FOR_bonus,2,FALSE),Force,5,FALSE)) | W9: =IF(OR(Score_PUI=0,Score_PUI=""),"",VLOOKUP(VLOOKUP(TEXT(Score_PUI,"@"),FOR_bonus,2,FALSE),Force,6,FALSE)&IF(VLOOKUP(VLOOKUP(TEXT(Score_PUI,"@"),FOR_bonus,2,FALSE),Force,7,FALSE)<>0,"("&VLOOKUP(VLOOKUP(TEXT(Score_PUI,"@"),FOR_bonus,2,FALSE),Force,7,FALSE)&")",)) | Y9: =IF(OR(Score_PUI=0,Score_PUI=""),"",VLOOKUP(VLOOKUP(TEXT(Score_PUI,"@"),FOR_bonus,2,FALSE),Force,8,FALSE)) | AC9: Cadre de campagne
A10: DEX | H10: PRÉ | I10: =IF(Score_DEX=0,"",IF(OR(LEFT(E11,3)=H10,LEFT(E11,3)=H11),IF(LEFT(E11,3)=H10,IF(Score_DEX+1<25,Score_DEX+RIGHT(E11,1),25),IF(Score_DEX-1>1,Score_DEX-RIGHT(E11,1),1)),Score_DEX)) | K10: Ajustement aux Projectiles | Q10: Ajustement au Réflexe | V10: Ajustement Défensif
A11: Sous attribut: | H11: ÉQU | I11: =IF(Score_DEX=0,"",IF(OR(LEFT(E11,3)=H10,LEFT(E11,3)=H11),IF(LEFT(E11,3)=H11,IF(Score_DEX+1<25,Score_DEX+RIGHT(E11,1),25),IF(Score_DEX-1>1,Score_DEX-RIGHT(E11,1),1)),Score_DEX)) | K11: =IF(OR(Score_PRE=0,Score_PRE=""),"",VLOOKUP(Score_PRE,DEX,3,FALSE)) | Q11: =IF(OR(Score_EQU=0,Score_EQU=""),"",VLOOKUP(Score_EQU,DEX,2,FALSE)) | V11: =IF(OR(Score_EQU=0,Score_EQU=""),"",VLOOKUP(Score_EQU,DEX,4,FALSE))
A12: CON | H12: RÉS | I12: =IF(Score_CON=0,"",IF(OR(LEFT(E13,3)=H12,LEFT(E13,3)=H13),IF(LEFT(E13,3)=H12,IF(Score_CON+1<25,Score_CON+RIGHT(E13,1),25),IF(Score_CON-1>1,Score_CON-RIGHT(E13,1),1)),Score_CON)) | K12: Ajustement aux PV | O12: Choc Métabolique | S12: Résurrection | W12: Poison | Y12: Régén. | AD12: =Score_FOR+Score_DEX+Score_CON+Score_INT+Score_SAG+Score_CHA-72 -> -72
A13: Sous attribut: | H13: VIG | I13: =IF(Score_CON=0,"",IF(OR(LEFT(E13,3)=H12,LEFT(E13,3)=H13),IF(LEFT(E13,3)=H13,IF(Score_CON+1<25,Score_CON+RIGHT(E13,1),25),IF(Score_CON-1>1,Score_CON-RIGHT(E13,1),1)),Score_CON)) | K13: =IF(OR(Score_VIG=0,Score_VIG=""),"",IF(Combattant?=TRUE,VLOOKUP(Score_VIG,CON,3,FALSE),VLOOKUP(Score_VIG,CON,2,FALSE))) | O13: =IF(OR(Score_RES=0,Score_RES=""),"",VLOOKUP(Score_RES,CON,4,FALSE)) | S13: =IF(OR(Score_VIG=0,Score_VIG=""),"",VLOOKUP(Score_VIG,CON,5,FALSE)) | W13: =IF(OR(Score_RES=0,Score_RES=""),"",VLOOKUP(Score_RES,CON,6,FALSE)) | Y13: =IF(OR(Score_VIG=0,Score_VIG=""),"",VLOOKUP(Score_VIG,CON,7,FALSE))
A14: INT | H14: INT | I14: =IF(Score_INT=0,"",IF(OR(LEFT(E15,3)=H14,LEFT(E15,3)=H15),IF(LEFT(E15,3)=H14,IF(Score_INT+1<25,Score_INT+RIGHT(E15,1),25),IF(Score_INT-1>1,Score_INT-RIGHT(E15,1),1)),Score_INT)) | K14: Langues | M14: % d'Apprendre | P14: Niveau de Sort | S14: Max. Sort/Niveau | W14: Immunité vs. sorts
A15: Sous attribut: | H15: ÉRU | I15: =IF(Score_INT=0,"",IF(OR(LEFT(E15,3)=H14,LEFT(E15,3)=H15),IF(LEFT(E15,3)=H15,IF(Score_INT+1<25,Score_INT+RIGHT(E15,1),25),IF(Score_INT-1>1,Score_INT-RIGHT(E15,1),1)),Score_INT)) | K15: =IF(OR(Score_ERU=0,Score_ERU=""),"",VLOOKUP(Score_ERU,INT,2,FALSE)) | M15: =IF(OR(Score_ERU=0,Score_ERU=""),"",VLOOKUP(Score_ERU,INT,4,FALSE)) | P15: =IF(OR(Score_INTct=0,Score_INTct=""),"",VLOOKUP(Score_INTct,INT,3,FALSE)) | S15: =IF(OR(Score_INTct=0,Score_INTct=""),"",VLOOKUP(Score_INTct,INT,5,FALSE)) | W15: =IF(OR(Score_INTct=0,Score_INTct=""),"",VLOOKUP(Score_INTct,INT,6,FALSE))
A16: SAG | H16: VOL | I16: =IF(Score_SAG=0,"",IF(OR(LEFT(E17,3)=H16,LEFT(E17,3)=H17),IF(LEFT(E17,3)=H16,IF(Score_SAG+1<25,Score_SAG+RIGHT(E17,1),25),IF(Score_SAG-1>1,Score_SAG-RIGHT(E17,1),1)),Score_SAG)) | K16: Def. Vs Magie | N16: Bonus de Sorts | U16: Échec sort | W16: Immunité aux sorts
A17: Sous attribut: | H17: INT | I17: =IF(Score_SAG=0,"",IF(OR(LEFT(E17,3)=H16,LEFT(E17,3)=H17),IF(LEFT(E17,3)=H17,IF(Score_SAG+1<25,Score_SAG+RIGHT(E17,1),25),IF(Score_SAG-1>1,Score_SAG-RIGHT(E17,1),1)),Score_SAG)) | K17: =IF(OR(Score_VOL=0,Score_VOL=""),"",VLOOKUP(I16,SAG,2,FALSE)) | N17: =IF(OR(Score_INTtion=0,Score_INTtion=""),"",VLOOKUP(I17,SAG,3,FALSE)) | U17: =IF(OR(Score_INTtion=0,Score_INTtion=""),"",VLOOKUP(I17,SAG,4,FALSE)) | W17: =IF(OR(Score_VOL=0,Score_VOL=""),"",VLOOKUP(Score_VOL,SAG,5,FALSE))
A18: CHA | H18: CHA | I18: =IF(Score_CHA=0,"",IF(OR(LEFT(E19,3)=H18,LEFT(E19,3)=H19),IF(LEFT(E19,3)=H18,IF(Score_CHA+1<25,Score_CHA+RIGHT(E19,1),25),IF(Score_CHA-1>1,Score_CHA-RIGHT(E19,1),1)),Score_CHA)) | K18: Ajust. à la réaction | R18: Compagnons | V18: Loyauté
A19: Sous attribut: | H19: MAG | I19: =IF(Score_CHA=0,"",IF(OR(LEFT(E19,3)=H18,LEFT(E19,3)=H19),IF(LEFT(E19,3)=H19,IF(Score_CHA+1<25,Score_CHA+RIGHT(E19,1),25),IF(Score_CHA-1>1,Score_CHA-RIGHT(E19,1),1)),Score_CHA)) | K19: =IF(OR(Score_CHAr=0,Score_CHAr=""),"",VLOOKUP(I18,CHA,4,FALSE)) | R19: =IF(OR(Score_MAG=0,Score_MAG=""),"",VLOOKUP(I19,CHA,2,FALSE)) | V19: =IF(OR(Score_MAG=0,Score_MAG=""),"",VLOOKUP(I19,CHA,3,FALSE))
A20: Calculateur de TAC0
A21: CA Touchée | F21: 10 | G21: 9 | H21: 8 | I21: 7 | J21: 6 | K21: 5 | L21: 4 | M21: 3 | N21: 2 | O21: 1 | P21: 0 | Q21: -1 | R21: -2 | S21: -3 | T21: -4 | U21: -5 | V21: -6 | W21: -7 | X21: -8 | Y21: -9 | Z21: -10
A22: # pour Toucher | F22: =IF(G22="","",G22-1) | G22: =IF(H22="","",H22-1) | H22: =IF(I22="","",I22-1) | I22: =IF(J22="","",J22-1) | J22: =IF(K22="","",K22-1) | K22: =IF(L22="","",L22-1) | L22: =IF(M22="","",M22-1) | M22: =IF(N22="","",N22-1) | ... O22: =IF(P22="","",P22-1) | P22: =IF(NPC=FALSE,"",Base_TAC02) | Q22: =IF(P22="","",P22+1) | R22: =IF(Q22="","",Q22+1) | S22: =IF(R22="","",R22+1) | T22: =IF(S22="","",S22+1) | U22: =IF(T22="","",T22+1) | V22: =IF(U22="","",U22+1) | W22: =IF(V22="","",V22+1) | X22: =IF(W22="","",W22+1) | ... Z22: =IF(Y22="","",Y22+1)
A23: Ajustement au Touché
A24: Non Compétent | K24: =IF(N(Compétences!P10)+N(K9)=0,"",N(Compétences!P10)+N(K9)) | N24: Maîtrise | X24: ="+3" -> +3
A25: Spécialiste | K25: ="+1" -> +1 | N25: Autre
A26: Armes & Armures
A27: Armes | I27: Poid | K27: Taille | M27: Type | O27: Vitesse | Q27: Bonus | S27: Magie | U27: Dégâts (P-M / G)
A32: Armure | K32: =IF(A33="Bracelets","CA","Ajust Magie") -> Ajust Magie | O32: Classe d'Armure | U32: Jets de Sauvergardes
O33: ="CA: "&IF(NPC=FALSE,"",Autres!Q57) -> CA: | U33: Jet | W33: Sauve. | Y33: Bonus
A34: Bouclier | K34: Ajust Magie | O34: ="Sans Bouclier: "&IF(NPC=FALSE,"",Autres!Q58) -> Sans Bouclier: | U34: PPMM: | W34: =IF('Saving Throws'!K1=TRUE,'Saving Throws'!I6,"")
O35: ="CA de Dos: "&IF(NPC=FALSE,"",Autres!Q58) -> CA de Dos: | U35: BBB: | W35: =IF('Saving Throws'!K1=TRUE,'Saving Throws'!I7,"")
A36: Autres | K36: Ajust Magie | O36: ="Suprise: "&IF(NPC=FALSE,"",Autres!Q59) -> Suprise: | U36: PM: | W36: =IF('Saving Throws'!K1=TRUE,'Saving Throws'!I8,"")
O37: ="Base: "&IF(NPC=FALSE,"",Autres!Q60) -> Base: | U37: SF: | W37: =IF('Saving Throws'!K1=TRUE,'Saving Throws'!I9,"")
O38: ="CA Naturelle: "&IF(NPC=FALSE,"",IF(ISTEXT(VLOOKUP(Race,Race_stats,9,FALSE)),10,VLOOKUP(Race,Race_stats,9,FALSE))) -> CA Naturelle: | U38: SR: | W38: =IF('Saving Throws'!K1=TRUE,'Saving Throws'!I10,"")
A39: Dés de Vie | N39: Points de Vie
A40: Niveaux | D40: 1 | E40: 2 | F40: 3 | G40: 4 | H40: 5 | I40: 6 | J40: 7 | K40: 8 | L40: 9 | M40: 10 | N40: PV Actuels/Blessures | U40: PV Totaux
A41: =IF(Classe=0,"",Classe)
A42: =IF(Classe2=0,"",Classe2) | N42: Expérience
A43: =IF(Classe3=0,"",Classe3) | N43: Classe | Q43: Bonus | S43: PX | W43: Prochain niveau
A44: Bonus CON | N44: =IF(Classe=0,"",Classe)
...

Sheet Attributs
A1: Constitution | H1: Dextérité | L1: Charisme
A2: Attribut | B2: Ajustement aux PV | C2: Ajustement aux PV (Guerrier) | D2: Choc Métabolique | E2: Survie à la ressurection | F2: Résistance au poison | G2: Régénération | H2: Attribut | I2: Ajustement à la Réaction | J2: Ajustement aux Projectiles | K2: Ajustement Défensif
A3: 1 | B3: -3 | C3: -3 | D3: 25% | E3: 30% | F3: -2 | G3: N/A | H3: 1 | I3: -6 | J3: -6 | K3: +5 | L3: 1 | M3: 0 | N3: -8 | O3: -7
A4: 2 | B4: -2 | C4: -2 | D4: 30% | E4: 35% | F4: -1 | G4: N/A | H4: 2 | I4: -4 | J4: -4 | K4: +5 | L4: 2 | M4: 1 | N4: -7 | O4: -6
A5: 3 | B5: -2 | C5: -2 | D5: 35% | E5: 40% | F5: 0 | G5: N/A | H5: 3 | I5: -3 | J5: -3 | K5: +4 | L5: 3 | M5: 1 | N5: -6 | O5: -5
A6: 4 | B6: -1 | C6: -1 | D6: 40% | E6: 45% | F6: 0 | G6: N/A | H6: 4 | I6: -2 | J6: -2 | K6: +3 | L6: 4 | M6: 1 | N6: -5 | O6: -4
A7: 5 | B7: -1 | C7: -1 | D7: 45% | E7: 50% | F7: 0 | G7: N/A | H7: 5 | I7: -1 | J7: -1 | K7: +2 | L7: 5 | M7: 2 | N7: -4 | O7: -3
A8: 6 | B8: -1 | C8: -1 | D8: 50% | E8: 55% | F8: 0 | G8: N/A | H8: 6 | I8: 0 | J8: 0 | K8: +1 | L8: 6 | M8: 2 | N8: -3 | O8: -2
A9: 7 | B9: 0 | C9: 0 | D9: 55% | E9: 60% | F9: 0 | G9: N/A | H9: 7 | I9: 0 | J9: 0 | K9: 0 | L9: 7 | M9: 3 | N9: -2 | O9: -1
A10: 8 | B10: 0 | C10: 0 | D10: 60% | E10: 65% | F10: 0 | G10: N/A | H10: 8 | I10: 0 | J10: 0 | K10: 0 | L10: 8 | M10: 3 | N10: -1 | O10: 0
A11: 9 | B11: 0 | C11: 0 | D11: 65% | E11: 70% | F11: 0 | G11: N/A | H11: 9 | I11: 0 | J11: 0 | K11: 0 | L11: 9 | M11: 4 | N11: 0 | O11: 0
A12: 10 | B12: 0 | C12: 0 | D12: 70% | E12: 75% | F12: 0 | G12: N/A | H12: 10 | I12: 0 | J12: 0 | K12: 0 | L12: 10 | M12: 4 | N12: 0 | O12: 0
A13: 11 | B13: 0 | C13: 0 | D13: 75% | E13: 80% | F13: 0 | G13: N/A | H13: 11 | I13: 0 | J13: 0 | K13: 0 | L13: 11 | M13: 4 | N13: 0 | O13: 0
A14: 12 | B14: 0 | C14: 0 | D14: 80% | E14: 85% | F14: 0 | G14: N/A | H14: 12 | I14: 0 | J14: 0 | K14: 0 | L14: 12 | M14: 5 | N14: 0 | O14: 0
A15: 13 | B15: 0 | C15: 0 | D15: 85% | E15: 90% | F15: 0 | G15: N/A | H15: 13 | I15: 0 | J15: 0 | K15: 0 | L15: 13 | M15: 5 | N15: 0 | O15: +1
A16: 14 | B16: 0 | C16: 0 | D16: 88% | E16: 92% | F16: 0 | G16: N/A | H16: 14 | I16: 0 | J16: 0 | K16: 0 | L16: 14 | M16: 6 | N16: +1 | O16: +2
A17: 15 | B17: +1 | C17: +1 | D17: 90% | E17: 94% | F17: 0 | G17: N/A | H17: 15 | I17: 0 | J17: 0 | K17: -1 | L17: 15 | M17: 7 | N17: +3 | O17: +3
A18: 16 | B18: +2 | C18: +2 | D18: 95% | E18: 96% | F18: 0 | G18: N/A | H18: 16 | I18: +1 | J18: +1 | K18: -2 | L18: 16 | M18: 8 | N18: +4 | O18: +5
A19: 17 | B19: +2 | C19: +3 | D19: 97% | E19: 98% | F19: 0 | G19: N/A | H19: 17 | I19: +2 | J19: +2 | K19: -3 | L19: 17 | M19: 10 | N19: +6 | O19: +6
A20: 18 | B20: +2 | C20: +4 | D20: 99% | E20: 100% | F20: 0 | G20: N/A | H20: 18 | I20: +2 | J20: +2 | K20: -4 | L20: 18 | M20: 15 | N20: +8 | O20: +7
A21: 19 | B21: +2 | C21: +5 | D21: 99% | E21: 100% | F21: +1 | G21: N/A | H21: 19 | I21: +3 | J21: +3 | K21: -4 | L21: 19 | M21: 20 | N21: +10 | O21: +8
A22: 20 | B22: +2 | C22: +5 | D22: 99% | E22: 100% | F22: +1 | G22: 1/6 tours | H22: 20 | I22: +3 | J22: +3 | K22: -4 | L22: 20 | M22: 25 | N22: +12 | O22: +9
A23: 21 | B23: +2 | C23: +6 | D23: 99% | E23: 100% | F23: +2 | G23: 1/5 tours | H23: 21 | I23: +4 | J23: +4 | K23: -5 | L23: 21 | M23: 30 | N23: +14 | O23: +10
A24: 22 | B24: +2 | C24: +6 | D24: 99% | E24: 100% | F24: +2 | G24: 1/4 tours | H24: 22 | I24: +4 | J24: +4 | K24: -5 | L24: 22 | M24: 35 | N24: +16 | O24: +11
A25: 23 | B25: +2 | C25: +6 | D25: 99% | E25: 100% | F25: +3 | G25: 1/3 tours | H25: 23 | I25: +4 | J25: +4 | K25: -5 | L25: 23 | M25: 40 | N25: +18 | O25: +12
A26: 24 | B26: +2 | C26: +7 | D26: 99% | E26: 100% | F26: +3 | G26: 1/2 tours | H26: 24 | I26: +5 | J26: +5 | K26: -6 | L26: 24 | M26: 45 | N26: +20 | O26: +13
A27: 25 | B27: +2 | C27: +7 | D27: 100% | E27: 100% | F27: +4 | G27: 1/1 tours | H27: 25 | I27: +5 | J27: +5 | K27: -6 | L27: 25 | M27: 50 | N27: +20 | O27: +14
A28: Force | N28: Intelligence | T28: Sagesse
A29: Attribut | B29: Probabilité de Toucher | C29: Ajustement aux Dégats | D29: Poids Autorisé | E29: Charge Maximale | F29: Enfoncer les portes | G29: Brise sérure Portes Mag. | H29: Tordres des barreaux/ Soulever des Herses | I29: Commentaire | J29: +1 | K29: +2 | L29: -1 | M29: -2
A30: ="1" -> 1 | B30: -5 | C30: -4 | D30: =IF(Syst_Mesure="Métrique","0,5kg","1lbs") -> 0,5kg | E30: =IF(Syst_Mesure="Métrique","1,5kg","3lbs") -> 1,5kg | F30: 1 | G30: 0 | H30: 0 | I30: - | J30: 2 | K30: 3 | L30: 1 | M30: 1 | N30: 1 | O30: 0 | P30: 0 | Q30: 0 | R30: 0 | S30: - | T30: 1 | U30: ="-6" -> -6 | V30: 0 | W30: 80 | X30: -
A31: ="2" -> 2 | B31: -3 | C31: -2 | D31: =IF(Syst_Mesure="Métrique","0,5kg","1lbs") -> 0,5kg | E31: =IF(Syst_Mesure="Métrique","2,5kg","5lbs") -> 2,5kg | F31: 1 | G31: 0 | H31: 0 | I31: - | J31: 3 | K31: 4 | L31: 1 | M31: 1 | N31: 2 | O31: 1 | P31: 0 | Q31: 0 | R31: 0 | S31: - | T31: 2 | U31: ="-4" -> -4 | V31: 0 | W31: 60 | X31: -
A32: ="3" -> 3 | B32: -3 | C32: -1 | D32: =IF(Syst_Mesure="Métrique","2,0kg","4lbs") -> 2,0kg | E32: =IF(Syst_Mesure="Métrique","5,0kg","10lbs") -> 5,0kg | F32: 2 | G32: 0 | H32: 0 | I32: - | J32: 4 | K32: 5 | L32: 2 | M32: 1 | N32: 3 | O32: 1 | P32: 0 | Q32: 0 | R32: 0 | S32: - | T32: 3 | U32: ="-3" -> -3 | V32: 0 | W32: 50 | X32: -
A33: ="4" -> 4 | B33: -2 | C33: -1 | D33: =IF(Syst_Mesure="Métrique","5,0kg","10lbs") -> 5,0kg | E33: =IF(Syst_Mesure="Métrique","12,5kg","25lbs") -> 12,5kg | F33: 3 | G33: 0 | H33: 0 | I33: - | J33: 5 | K33: 6 | L33: 3 | M33: 2 | N33: 4 | O33: 1 | P33: 0 | Q33: 0 | R33: 0 | S33: - | T33: 4 | U33: ="-2" -> -2 | V33: 0 | W33: 45 | X33: -
A34: ="5" -> 5 | B34: -2 | C34: -1 | D34: =IF(Syst_Mesure="Métrique","5,0kg","10lbs") -> 5,0kg | E34: =IF(Syst_Mesure="Métrique","12,5kg","25lbs") -> 12,5kg | F34: 3 | G34: 0 | H34: 0 | I34: - | J34: 6 | K34: 7 | L34: 4 | M34: 3 | N34: 5 | O34: 1 | P34: 0 | Q34: 0 | R34: 0 | S34: - | T34: 5 | U34: ="-1" -> -1 | V34: 0 | W34: 40 | X34: -
A35: ="6" -> 6 | B35: -1 | C35: 0 | D35: =IF(Syst_Mesure="Métrique","10,0kg","20lbs") -> 10,0kg | E35: =IF(Syst_Mesure="Métrique","27,5kg","55lbs") -> 27,5kg | F35: 4 | G35: 0 | H35: 0 | I35: - | J35: 7 | K35: 8 | L35: 5 | M35: 4 | N35: 6 | O35: 1 | P35: 0 | Q35: 0 | R35: 0 | S35: - | T35: 6 | U35: ="-1" -> -1 | V35: 0 | W35: 35 | X35: -
A36: ="7" -> 7 | B36: -1 | C36: 0 | D36: =IF(Syst_Mesure="Métrique","10,0kg","20lbs") -> 10,0kg | E36: =IF(Syst_Mesure="Métrique","27,5kg","55lbs") -> 27,5kg | F36: 4 | G36: 0 | H36: 0 | I36: - | J36: 8 | K36: 9 | L36: 6 | M36: 5 | N36: 7 | O36: 1 | P36: 0 | Q36: 0 | R36: 0 | S36: - | T36: 7 | U36: ="-1" -> -1 | V36: 0 | W36: 30 | X36: -
A37: ="8" -> 8 | B37: 0 | C37: 0 | D37: =IF(Syst_Mesure="Métrique","17,5kg","35lbs") -> 17,5kg | E37: =IF(Syst_Mesure="Métrique","45,0kg","90lbs") -> 45,0kg | F37: 5 | G37: 0 | H37: 0.01 | I37: - | J37: 9 | K37: 10 | L37: 7 | M37: 6 | N37: 8 | O37: 1 | P37: 0 | Q37: 0 | R37: 0 | S37: - | T37: 8 | U37: ="0" -> 0 | V37: 0 | W37: 25 | X37: -
A38: ="9" -> 9 | B38: 0 | C38: 0 | D38: =IF(Syst_Mesure="Métrique","17,5kg","35lbs") -> 17,5kg | E38: =IF(Syst_Mesure="Métrique","45,0kg","90lbs") -> 45,0kg | F38: 5 | G38: 0 | H38: 0.01 | I38: - | J38: 10 | K38: 11 | L38: 8 | M38: 7 | N38: 9 | O38: 2 | P38: 4 | Q38: 35% | R38: 6 | S38: - | T38: 9 | U38: ="0" -> 0 | V38: 0 | W38: 12 | X38: -
A39: ="10" -> 10 | B39: 0 | C39: 0 | D39: =IF(Syst_Mesure="Métrique","20,0kg","40lbs") -> 20,0kg | E39: =IF(Syst_Mesure="Métrique","57,5kg","115lbs") -> 57,5kg | F39: 6 | G39: 0 | H39: 0.02 | I39: - | J39: 11 | K39: 12 | L39: 9 | M39: 8 | N39: 10 | O39: 2 | P39: 5 | Q39: 40% | R39: 7 | S39: - | T39: 10 | U39: ="0" -> 0 | V39: 0 | W39: 10 | X39: -
A40: ="11" -> 11 | B40: 0 | C40: 0 | D40: =IF(Syst_Mesure="Métrique","20,0kg","40lbs") -> 20,0kg | E40: =IF(Syst_Mesure="Métrique","57,5kg","115lbs") -> 57,5kg | F40: 6 | G40: 0 | H40: 0.02 | I40: - | J40: 12 | K40: 13 | L40: 10 | M40: 9 | N40: 11 | O40: 2 | P40: 5 | Q40: 45% | R40: 7 | S40: - | T40: 11 | U40: ="0" -> 0 | V40: 0 | W40: 5 | X40: -
...

Sheet Saving Throws
A1: Prêtres | G1: =IF(Classe="Niveau 0",TRUE,FALSE) -> FALSE | H1: =IF(level>0,TRUE,FALSE) -> FALSE | I1: =IF(level<20,TRUE,FALSE) -> TRUE | J1: =IF(AND(G1=TRUE,H1=TRUE),TRUE,FALSE) -> FALSE | K1: =IF(AND(G1=TRUE,H1=FALSE),TRUE,IF(AND(G1=FALSE,H1=TRUE),TRUE,IF(AND(G1=FALSE,H1=FALSE),FALSE,IF(I1=TRUE,TRUE,FALSE)))) -> FALSE
A2: 1 | B2: 10 | C2: 14 | D2: 13 | E2: 16 | F2: 15
A3: 2 | B3: 10 | C3: 14 | D3: 13 | E3: 16 | F3: 15
A4: 3 | B4: 10 | C4: 14 | D4: 13 | E4: 16 | F4: 15 | H4: Tableau | J4: =IF(Race="Nain",VLOOKUP('Feuille 1'!E12,ST_bon_nains,2,FALSE),0) -> 0
A5: 4 | B5: 9 | C5: 13 | D5: 12 | E5: 15 | F5: 14 | G5: Normal | H5: Jets de Sauvergardes | J5: Nains? | K5: Paladin? | L5: Psioniste | N5: Totaux
A6: 5 | B6: 9 | C6: 13 | D6: 12 | E6: 15 | F6: 14 | H6: PPMM: | I6: =MIN(I15,I21,K15) -> 20 | J6: =J4 -> 0 | K6: =IF(Classe="Paladin",2,0) -> 0 | L6: 0 | N6: =IF(SUM(J6:L6)=0,I6,I6&" "&"("&I6-SUM(J6:L6)&")") -> 20
A7: 6 | B7: 9 | C7: 13 | D7: 12 | E7: 15 | F7: 14 | H7: BBB: | I7: =MIN(I16,I22,K16) -> 20 | J7: =J4 -> 0 | K7: =IF(Classe="Paladin",2,0) -> 0 | L7: 0 | N7: =IF(SUM(J7:L7)=0,I7,I7&" "&"("&I7-SUM(J7:L7)&")") -> 20
A8: 7 | B8: 7 | C8: 11 | D8: 10 | E8: 13 | F8: 12 | H8: PM: | I8: =MIN(I17,I23,K17) -> 20 | J8: 0 | K8: =IF(Classe="Paladin",2,0) -> 0 | L8: 0 | N8: =IF(SUM(J8:L8)=0,I8,I8&" "&"("&I8-SUM(J8:L8)&")") -> 20
A9: 8 | B9: 7 | C9: 11 | D9: 10 | E9: 13 | F9: 12 | H9: SF: | I9: =MIN(I18,I24,K18) -> 20 | J9: 0 | K9: =IF(Classe="Paladin",2,0) -> 0 | L9: 0 | N9: =IF(SUM(J9:L9)=0,I9,I9&" "&"("&I9-SUM(J9:L9)&")") -> 20
A10: 9 | B10: 7 | C10: 11 | D10: 10 | E10: 13 | F10: 12 | H10: SR: | I10: =MIN(I19,I25,K19) -> 20 | J10: =J4 -> 0 | K10: =IF(Classe="Paladin",2,0) -> 0 | L10: =IF(OR(Classe="Psioniste",Classe2="Psioniste",Classe3="Psioniste"),2,0) -> 0 | N10: =IF(SUM(J10:L10)=0,I10,I10&" "&"("&I10-SUM(J10:L10)&")") -> 20 | X10: Score et Niveau
A11: 10 | B11: 6 | C11: 10 | D11: 9 | E11: 12 | F11: 11 | G11: Multi-class | W11: 1 | X11: Niveau
A12: 11 | B12: 6 | C12: 10 | D12: 9 | E12: 12 | F12: 11 | H12: =VLOOKUP(Classe,Class_mod,2,FALSE) -> ST_Rien | I12: =VLOOKUP(Classe2,Class_mod,2,FALSE) -> ST_Rien | J12: =VLOOKUP(Classe3,Class_mod,2,FALSE) -> ST_Rien | W12: 2 | X12: Score+Coût+Niveau
A13: 12 | B13: 6 | C13: 10 | D13: 9 | E13: 12 | F13: 11 | W13: 3 | X13: Score+Coût+Niveau
A14: 13 | B14: 5 | C14: 9 | D14: 8 | E14: 11 | F14: 10 | H14: Jets de Sauvergardes | J14: Jets de Sauvergardes | Q14: Sorts | W14: 4 | X14: Score+Coût+Niveau
A15: 14 | B15: 5 | C15: 9 | D15: 8 | E15: 11 | F15: 10 | H15: PPMM: | I15: =IF(OR(level<=0,level>20),20,VLOOKUP(level,INDIRECT(VLOOKUP(Classe,Class_mod,2,FALSE)),2,FALSE)) -> 20 | J15: PPMM: | K15: =IF(OR(levelc3<=0,levelc3>20),"",VLOOKUP(levelc3,INDIRECT(VLOOKUP(Classe3,Class_mod,2,FALSE)),2,FALSE)) | Q15: Prêtres | R15: =IF(OR(Classe="Clerc",Classe2="Clerc",Classe3="Clerc",Classe="Paladin",Classe2="Paladin",Classe3="Paladin",Classe="Rôdeur",Classe2="Rôdeur",Classe3="Rôdeur",Classe="Druide",Classe2="Druide",Classe3="Druide"),TRUE,FALSE) -> FALSE | T15: =TRIM(CONCATENATE(S16,IF(S18>1,"/",""),S17)) | W15: 5 | X15: Niveau
A16: 15 | B16: 5 | C16: 9 | D16: 8 | E16: 11 | F16: 10 | H16: BBB: | I16: =IF(OR(level<=0,level>20),20,VLOOKUP(level,INDIRECT(VLOOKUP(Classe,Class_mod,2,FALSE)),3,FALSE)) -> 20 | J16: BBB: | K16: =IF(OR(levelc3<=0,levelc3>20),"",VLOOKUP(levelc3,INDIRECT(VLOOKUP(Classe3,Class_mod,2,FALSE)),3,FALSE)) | Q16: Mage | R16: =IF(OR(Classe="Mage",Classe2="Mage",Classe3="Mage",Classe="Barde",Classe2="Barde",Classe3="Barde"),TRUE,FALSE) -> FALSE | S16: =IF(OR(R15=TRUE,R16=TRUE),"Niveau","") | W16: 6 | X16: Niveau
A17: 16 | B17: 4 | C17: 8 | D17: 7 | E17: 10 | F17: 9 | H17: PM: | I17: =IF(OR(level<=0,level>20),20,VLOOKUP(level,INDIRECT(VLOOKUP(Classe,Class_mod,2,FALSE)),4,FALSE)) -> 20 | J17: PM: | K17: =IF(OR(levelc3<=0,levelc3>20),"",VLOOKUP(levelc3,INDIRECT(VLOOKUP(Classe3,Class_mod,2,FALSE)),4,FALSE)) | Q17: Psioniste | R17: =IF(OR(Classe="Psioniste",Classe2="Psioniste",Classe3="Psioniste",),TRUE,FALSE) -> FALSE | S17: =IF(R17=TRUE,"Score+Coût","") | W17: 7 | X17: Score+Coût
A18: 17 | B18: 4 | C18: 8 | D18: 7 | E18: 10 | F18: 9 | H18: SF: | I18: =IF(OR(level<=0,level>20),20,VLOOKUP(level,INDIRECT(VLOOKUP(Classe,Class_mod,2,FALSE)),5,FALSE)) -> 20 | J18: SF: | K18: =IF(OR(levelc3<=0,levelc3>20),"",VLOOKUP(levelc3,INDIRECT(VLOOKUP(Classe3,Class_mod,2,FALSE)),5,FALSE)) | Q18: résultat | R18: =IF(AND(R15=TRUE,R16=TRUE,R17=TRUE),1,IF(AND(R15=TRUE,R16=TRUE),2,IF(AND(R16=TRUE,R17=TRUE),3,IF(AND(R15=TRUE,R17=TRUE),4,IF(R15=TRUE,5,IF(R16=TRUE,6,IF(R17=TRUE,7,0))))))) -> 0 | S18: =2-COUNTBLANK(S16:S17) -> 0 | W18: 8 | X18: Score+Coût+Niveau
A19: 18 | B19: 4 | C19: 8 | D19: 7 | E19: 10 | F19: 9 | H19: SR: | I19: =IF(OR(level<=0,level>20),20,VLOOKUP(level,INDIRECT(VLOOKUP(Classe,Class_mod,2,FALSE)),6,FALSE)) -> 20 | J19: SR: | K19: =IF(OR(levelc3<=0,levelc3>20),"",VLOOKUP(levelc3,INDIRECT(VLOOKUP(Classe3,Class_mod,2,FALSE)),6,FALSE))
A20: 19 | B20: 2 | C20: 6 | D20: 5 | E20: 8 | F20: 7 | H20: Jets de Sauvergardes | Q20: Mage/Prêtre | R20: Prêtre/psi | S20: Mage/Psi | T20: Clerc/Mage/Psi | U20: mage | V20: clerc | W20: psi | X20: aucun
A21: 20 | B21: 2 | C21: 6 | D21: 5 | E21: 8 | F21: 7 | H21: PPMM: | I21: =IF(OR(levelc2<=0,levelc2>20),"",VLOOKUP(levelc2,INDIRECT(VLOOKUP(Classe2,Class_mod,2,FALSE)),2,FALSE)) | Q21: =IF(AND($R15=TRUE,$R16=TRUE,$R17=FALSE),TRUE,FALSE) -> FALSE | R21: =IF(AND($R15=TRUE,$R17=TRUE,$R16=FALSE),TRUE,FALSE) -> FALSE | S21: =IF(AND($R16=TRUE,$R17=TRUE,$R15=FALSE),TRUE,FALSE) -> FALSE | T21: =IF(AND($R16=TRUE,$R17=TRUE,$R15=TRUE),TRUE,FALSE) -> FALSE | U21: =IF(AND($R16=TRUE,$R17=FALSE,$R15=FALSE),TRUE,FALSE) -> FALSE | V21: =IF(AND($R16=FALSE,$R17=FALSE,$R15=TRUE),TRUE,FALSE) -> FALSE | W21: =IF(AND($R16=FALSE,$R17=TRUE,$R15=FALSE),TRUE,FALSE) -> FALSE | X21: =IF(AND($R16=FALSE,$R17=FALSE,$R15=FALSE),TRUE,FALSE) -> TRUE
A22: 21 | B22: 2 | C22: 6 | D22: 5 | E22: 8 | F22: 7 | H22: BBB: | I22: =IF(OR(levelc2<=0,levelc2>20),"",VLOOKUP(levelc2,INDIRECT(VLOOKUP(Classe2,Class_mod,2,FALSE)),3,FALSE)) | Q22: 1 | R22: 2 | S22: 3 | T22: 4 | U22: 5 | V22: 6 | W22: 7 | X22: 8
A23: Roublards | H23: PM: | I23: =IF(OR(levelc2<=0,levelc2>20),"",VLOOKUP(levelc2,INDIRECT(VLOOKUP(Classe2,Class_mod,2,FALSE)),4,FALSE))
A24: 1 | B24: 13 | C24: 14 | D24: 12 | E24: 16 | F24: 15 | H24: SF: | I24: =IF(OR(levelc2<=0,levelc2>20),"",VLOOKUP(levelc2,INDIRECT(VLOOKUP(Classe2,Class_mod,2,FALSE)),5,FALSE))
A25: 2 | B25: 13 | C25: 14 | D25: 12 | E25: 16 | F25: 15 | H25: SR: | I25: =IF(OR(levelc2<=0,levelc2>20),"",VLOOKUP(levelc2,INDIRECT(VLOOKUP(Classe2,Class_mod,2,FALSE)),6,FALSE)) | Q25: Niveau du vade retro
A26: 3 | B26: 13 | C26: 14 | D26: 12 | E26: 16 | F26: 15 | Q26: =IF(Classe="Clerc",level,IF(Classe="Paladin",IF(level<1,0,level-2),0)) -> 0 | R26: =IF(Classe2="Clerc",levelc2,IF(Classe2="Paladin",IF(levelc2<1,0,levelc2-2),0)) -> 0 | S26: =IF(Classe3="Clerc",levelc3,IF(Classe3="Paladin",IF(levelc3<1,0,levelc3-2),0)) -> 0
A27: 4 | B27: 13 | C27: 14 | D27: 12 | E27: 16 | F27: 15 | R27: =IF(MAX(Q26:S26)+3>17,17,MAX(Q26:S26)+3) -> 3
A28: 5 | B28: 12 | C28: 12 | D28: 11 | E28: 15 | F28: 13
A29: 6 | B29: 12 | C29: 12 | D29: 11 | E29: 15 | F29: 13 | H29: Vade Retro
A30: 7 | B30: 12 | C30: 12 | D30: 11 | E30: 15 | F30: 13 | H30: Mort-vivants | J30: 0 | K30: 1 | L30: 2 | M30: 3 | N30: 4 | O30: 5 | P30: 6 | Q30: 7 | R30: 8 | S30: 9 | T30: 10 | U30: 11 | V30: 12 | W30: 13 | X30: 14
A31: 8 | B31: 12 | C31: 12 | D31: 11 | E31: 15 | F31: 13 | H31: Squelette/1 DV | J31: - | K31: =IF(Campagne="Ravenloft",13,10) -> 10 | L31: =IF(Campagne="Ravenloft",10,7) -> 7 | M31: =IF(Campagne="Ravenloft",7,4) -> 4 | N31: =IF(Campagne="Ravenloft",4,"R") -> R | O31: =IF(Campagne="Ravenloft",1,"R") -> R | P31: =IF(Campagne="Ravenloft",1,"D") -> D | Q31: =IF(Campagne="Ravenloft",1,"D") -> D | R31: =IF(Campagne="Ravenloft",1,"D") -> D | S31: =IF(Campagne="Ravenloft",1,"D") -> D | T31: =IF(Campagne="Ravenloft",1,"D") -> D | U31: =IF(Campagne="Ravenloft",1,"D") -> D | V31: =IF(Campagne="Ravenloft",1,"D") -> D | W31: =IF(Campagne="Ravenloft",1,"D") -> D | X31: =IF(Campagne="Ravenloft",1,"D") -> D
A32: 9 | B32: 11 | C32: 10 | D32: 10 | E32: 14 | F32: 11 | H32: Zombi | J32: - | K32: =IF(Campagne="Ravenloft",16,13) -> 13 | L32: =IF(Campagne="Ravenloft",13,10) -> 10 | M32: =IF(Campagne="Ravenloft",10,7) -> 7 | N32: =IF(Campagne="Ravenloft",7,4) -> 4 | O32: =IF(Campagne="Ravenloft",4,"R") -> R | P32: =IF(Campagne="Ravenloft",1,"R") -> R | Q32: =IF(Campagne="Ravenloft",1,"D") -> D | R32: =IF(Campagne="Ravenloft",1,"D") -> D | S32: =IF(Campagne="Ravenloft",1,"D") -> D | T32: =IF(Campagne="Ravenloft",1,"D") -> D | U32: =IF(Campagne="Ravenloft",1,"D") -> D | V32: =IF(Campagne="Ravenloft",1,"D") -> D | W32: =IF(Campagne="Ravenloft",1,"D") -> D | X32: =IF(Campagne="Ravenloft",1,"D") -> D
A33: 10 | B33: 11 | C33: 10 | D33: 10 | E33: 14 | F33: 11 | H33: Goule/2 DV | J33: - | K33: =IF(Campagne="Ravenloft",19,16) -> 16 | L33: =IF(Campagne="Ravenloft",16,13) -> 13 | M33: =IF(Campagne="Ravenloft",13,10) -> 10 | N33: =IF(Campagne="Ravenloft",10,7) -> 7 | O33: =IF(Campagne="Ravenloft",7,4) -> 4 | P33: =IF(Campagne="Ravenloft",4,"R") -> R | Q33: =IF(Campagne="Ravenloft",1,"R") -> R | R33: =IF(Campagne="Ravenloft",1,"D") -> D | S33: =IF(Campagne="Ravenloft",1,"D") -> D | T33: =IF(Campagne="Ravenloft",1,"D") -> D | U33: =IF(Campagne="Ravenloft",1,"D") -> D | V33: =IF(Campagne="Ravenloft",1,"D") -> D | W33: =IF(Campagne="Ravenloft",1,"D") -> D | X33: =IF(Campagne="Ravenloft",1,"D") -> D
A34: 11 | B34: 11 | C34: 10 | D34: 10 | E34: 14 | F34: 11 | H34: Ombre/3-4 DV | J34: - | K34: =IF(Campagne="Ravenloft",20,19) -> 19 | L34: =IF(Campagne="Ravenloft",19,16) -> 16 | M34: =IF(Campagne="Ravenloft",16,13) -> 13 | N34: =IF(Campagne="Ravenloft",13,10) -> 10 | O34: =IF(Campagne="Ravenloft",10,7) -> 7 | P34: =IF(Campagne="Ravenloft",7,4) -> 4 | Q34: =IF(Campagne="Ravenloft",4,"R") -> R | R34: =IF(Campagne="Ravenloft",1,"R") -> R | S34: =IF(Campagne="Ravenloft",1,"D") -> D | T34: =IF(Campagne="Ravenloft",1,"D") -> D | U34: =IF(Campagne="Ravenloft",1,"D") -> D | V34: =IF(Campagne="Ravenloft",1,"D") -> D | W34: =IF(Campagne="Ravenloft",1,"D") -> D | X34: =IF(Campagne="Ravenloft",1,"D") -> D
A35: 12 | B35: 11 | C35: 10 | D35: 10 | E35: 14 | F35: 11 | H35: Nécrophage/5 DV | J35: - | K35: =IF(Campagne="Ravenloft","-",20) -> 20 | L35: =IF(Campagne="Ravenloft",20,19) -> 19 | M35: =IF(Campagne="Ravenloft",19,16) -> 16 | N35: =IF(Campagne="Ravenloft",16,13) -> 13 | O35: =IF(Campagne="Ravenloft",13,10) -> 10 | P35: =IF(Campagne="Ravenloft",10,7) -> 7 | Q35: =IF(Campagne="Ravenloft",7,4) -> 4 | R35: =IF(Campagne="Ravenloft",4,"R") -> R | S35: =IF(Campagne="Ravenloft",1,"R") -> R | T35: =IF(Campagne="Ravenloft",1,"D") -> D | U35: =IF(Campagne="Ravenloft",1,"D") -> D | V35: =IF(Campagne="Ravenloft",1,"D") -> D | W35: =IF(Campagne="Ravenloft",1,"D") -> D | X35: =IF(Campagne="Ravenloft",1,"D") -> D
A36: 13 | B36: 10 | C36: 8 | D36: 9 | E36: 13 | F36: 9 | H36: Blême | J36: - | K36: - | L36: =IF(Campagne="Ravenloft","-",20) -> 20 | M36: =IF(Campagne="Ravenloft",20,19) -> 19 | N36: =IF(Campagne="Ravenloft",19,16) -> 16 | O36: =IF(Campagne="Ravenloft",16,13) -> 13 | P36: =IF(Campagne="Ravenloft",13,10) -> 10 | Q36: =IF(Campagne="Ravenloft",10,7) -> 7 | R36: =IF(Campagne="Ravenloft",7,4) -> 4 | S36: =IF(Campagne="Ravenloft",4,"R") -> R | T36: =IF(Campagne="Ravenloft",1,"R") -> R | U36: =IF(Campagne="Ravenloft",1,"R") -> R | V36: =IF(Campagne="Ravenloft",1,"D") -> D | W36: =IF(Campagne="Ravenloft",1,"D") -> D | X36: =IF(Campagne="Ravenloft",1,"D") -> D
A37: 14 | B37: 10 | C37: 8 | D37: 9 | E37: 13 | F37: 9 | H37: Ame en peine/6 DV | J37: - | K37: - | L37: - | M37: =IF(Campagne="Ravenloft","-",20) -> 20 | N37: =IF(Campagne="Ravenloft",20,19) -> 19 | O37: =IF(Campagne="Ravenloft",19,16) -> 16 | P37: =IF(Campagne="Ravenloft",16,13) -> 13 | Q37: =IF(Campagne="Ravenloft",13,10) -> 10 | R37: =IF(Campagne="Ravenloft",10,7) -> 7 | S37: =IF(Campagne="Ravenloft",7,4) -> 4 | T37: =IF(Campagne="Ravenloft",4,"R") -> R | U37: =IF(Campagne="Ravenloft",4,"R") -> R | V37: =IF(Campagne="Ravenloft",1,"R") -> R | W37: =IF(Campagne="Ravenloft",1,"R") -> R | X37: =IF(Campagne="Ravenloft",1,"D") -> D
A38: 15 | B38: 10 | C38: 8 | D38: 9 | E38: 13 | F38: 9 | H38: Momie/7 DV | J38: - | K38: - | L38: - | M38: - | N38: =IF(Campagne="Ravenloft","-",20) -> 20 | O38: =IF(Campagne="Ravenloft",20,19) -> 19 | P38: =IF(Campagne="Ravenloft",19,16) -> 16 | Q38: =IF(Campagne="Ravenloft",16,13) -> 13 | R38: =IF(Campagne="Ravenloft",13,10) -> 10 | S38: =IF(Campagne="Ravenloft",10,7) -> 7 | T38: =IF(Campagne="Ravenloft",7,4) -> 4 | U38: =IF(Campagne="Ravenloft",7,4) -> 4 | V38: =IF(Campagne="Ravenloft",4,"R") -> R | W38: =IF(Campagne="Ravenloft",4,"R") -> R | X38: =IF(Campagne="Ravenloft",1,"R") -> R
A39: 16 | B39: 10 | C39: 8 | D39: 9 | E39: 13 | F39: 9 | H39: Spectre/8 DV | J39: - | K39: - | L39: - | M39: - | N39: - | O39: =IF(Campagne="Ravenloft","-",20) -> 20 | P39: =IF(Campagne="Ravenloft",20,19) -> 19 | Q39: =IF(Campagne="Ravenloft",19,16) -> 16 | R39: =IF(Campagne="Ravenloft",16,13) -> 13 | S39: =IF(Campagne="Ravenloft",13,10) -> 10 | T39: =IF(Campagne="Ravenloft",10,7) -> 7 | U39: =IF(Campagne="Ravenloft",10,7) -> 7 | V39: =IF(Campagne="Ravenloft",7,4) -> 4 | W39: =IF(Campagne="Ravenloft",7,4) -> 4 | X39: =IF(Campagne="Ravenloft",4,"R") -> R
A40: 17 | B40: 9 | C40: 6 | D40: 7 | E40: 12 | F40: 7 | H40: Vampire/9 DV | J40: - | K40: - | L40: - | M40: - | N40: - | O40: - | P40: =IF(Campagne="Ravenloft","-",20) -> 20 | Q40: =IF(Campagne="Ravenloft",20,19) -> 19 | R40: =IF(Campagne="Ravenloft",19,16) -> 16 | S40: =IF(Campagne="Ravenloft",16,13) -> 13 | T40: =IF(Campagne="Ravenloft",13,10) -> 10 | U40: =IF(Campagne="Ravenloft",13,10) -> 10 | V40: =IF(Campagne="Ravenloft",10,7) -> 7 | W40: =IF(Campagne="Ravenloft",10,7) -> 7 | X40: =IF(Campagne="Ravenloft",7,4) -> 4
...

Sheet Compétences
A1: GÉNÉRAL | B1: Original | C1: Caract. | D1: Mod ori. | F1: coût 2.5 | G1: valeur 2.5 | H1: Caract. 2.5 | M1: Tableau des compétences | AE1: tableau 45 T&P | AJ1: Ajustement Compétence selon Caractéristiques | AQ1: Compétences Martiales
A2: Agriculture | B2: 1 | C2: INT | D2: 0 | E2: Général | F2: 3 | G2: 7 | H2: Int/Éru | N2: Martiales | Q2: Diverses | V2: Compétence martiale coût | Z2: Compétences | AA2: Niveau | AB2: coût | AE2: 0 | AF2: -5 | AJ2: For/End | AK2: =VLOOKUP(Score_END,Tab_comp_mod_score,2,FALSE) -> -5 | AL2: Score_END | AQ2: Armes | AR2: Groupe
A3: Allumage de Feu | B3: 1 | C3: SAG | D3: -1 | E3: Général | F3: 2 | G3: 8 | H3: =IF(VLOOKUP("Sag/Int",Tab_comp_ajust_2.5,2,FALSE)>VLOOKUP("Int/Int",Tab_comp_ajust_2.5,2,FALSE),"Sag/Int","Int/Int") -> Int/Int | N3: Initiales | O3: # Niveau | P3: Pénalités | Q3: Initiales | R3: # Niveau | V3: 0 | W3: 0 | Z3: ='Feuille 1'!A83 -> 0 | AA3: ='Feuille 1'!L83 -> 0 | AB3: =VLOOKUP(AA3,Comp_martiales_cost,2,FALSE) -> 0 | AE3: 1 | AF3: -5 | AJ3: For/Pui | AK3: =VLOOKUP(Score_PUI,Tab_comp_mod_score,2,FALSE) -> -5 | AL3: Score_PUI | AQ3: Arbalète de poing | AR3: compétence
A4: Brassage | B4: 1 | C4: INT | D4: 0 | E4: Général | F4: 3 | G4: NA | H4: Sag/Vol | M4: Guerrier | N4: 4 | O4: 3 | P4: -2 | Q4: 3 | R4: 3 | V4: Familier | W4: 1 | Z4: ='Feuille 1'!A84 -> 0 | AA4: ='Feuille 1'!L84 -> 0 | AB4: =VLOOKUP(AA4,Comp_martiales_cost,2,FALSE) -> 0 | AE4: 2 | AF4: -5 | AJ4: Dex/Pré | AK4: =VLOOKUP(Score_PRE,Tab_comp_mod_score,2,FALSE) -> -5 | AL4: Score_PRE | AQ4: Arbalète Lègere | AR4: compétence
A5: Chant | B5: 1 | C5: CHA | D5: 0 | E5: Général | F5: 2 | G5: 5 | H5: Cha/Mag | M5: Mage | N5: 1 | O5: 6 | P5: -5 | Q5: 4 | R5: 3 | V5: Compétent | W5: 1 | Z5: ='Feuille 1'!A85 -> 0 | AA5: ='Feuille 1'!L85 -> 0 | AB5: =VLOOKUP(AA5,Comp_martiales_cost,2,FALSE) -> 0 | AE5: 3 | AF5: -5 | AJ5: Dex/Équ | AK5: =VLOOKUP(Score_EQU,Tab_comp_mod_score,2,FALSE) -> -5 | AL5: Score_EQU | AQ5: Arbalète Lourde | AR5: compétence
A6: Charpenterie | B6: 1 | C6: FOR | D6: 0 | E6: Général | F6: 3 | G6: 7 | H6: =IF(VLOOKUP("For/End",Tab_comp_ajust_2.5,2,FALSE)>VLOOKUP("Int/Éru",Tab_comp_ajust_2.5,2,FALSE),"For/End","Int/Éru") -> Int/Éru | M6: Prêtre | N6: 2 | O6: 4 | P6: -3 | Q6: 4 | R6: 3 | V6: Expert | W6: 2 | Z6: ='Feuille 1'!A86 -> 0 | AA6: ='Feuille 1'!L86 -> 0 | AB6: =VLOOKUP(AA6,Comp_martiales_cost,2,FALSE) -> 0 | AE6: 4 | AF6: -4 | AJ6: Con/Rés | AK6: =VLOOKUP(Score_RES,Tab_comp_mod_score,2,FALSE) -> -5 | AL6: Score_RES | AQ6: Arc Court | AR6: compétence
A7: Cordonnerie | B7: 1 | C7: DEX | D7: 0 | E7: Général | F7: 3 | G7: 7 | H7: =IF(VLOOKUP("Dex/Pré",Tab_comp_ajust_2.5,2,FALSE)>VLOOKUP("Int/Éru",Tab_comp_ajust_2.5,2,FALSE),"Dex/Pré","Int/Éru") -> Int/Éru | M7: Roublard | N7: 2 | O7: 4 | P7: -3 | Q7: 3 | R7: 4 | V7: Spécialiste | W7: 2 | Z7: ='Feuille 1'!N83 -> 0 | AA7: ='Feuille 1'!Y83 -> 0 | AB7: =VLOOKUP(AA7,Comp_martiales_cost,2,FALSE) -> 0 | AE7: 5 | AF7: -3 | AJ7: Con/Vig | AK7: =VLOOKUP(Score_VIG,Tab_comp_mod_score,2,FALSE) -> -5 | AL7: Score_VIG | AQ7: Arc Court composé | AR7: compétence
A8: Couture/Confection | B8: 1 | C8: DEX | D8: -1 | E8: Général | F8: 3 | G8: 7 | H8: =IF(VLOOKUP("Dex/Pré",Tab_comp_ajust_2.5,2,FALSE)>VLOOKUP("Int/Int",Tab_comp_ajust_2.5,2,FALSE),"Dex/Pré","Int/Int") -> Int/Int | M8: Psioniste | N8: 2 | O8: 5 | P8: -4 | Q8: 3 | R8: 3 | V8: Maître | W8: 3 | Z8: ='Feuille 1'!N84 -> 0 | AA8: ='Feuille 1'!Y84 -> 0 | AB8: =VLOOKUP(AA8,Comp_martiales_cost,2,FALSE) -> 0 | AE8: 6 | AF8: -2 | AJ8: Int/Int | AK8: =VLOOKUP(Score_INTct,Tab_comp_mod_score,2,FALSE) -> -5 | AL8: Score_INTct | AQ8: Arc Long | AR8: compétence
A9: Cuisine | B9: 1 | C9: INT | D9: 0 | E9: Général | F9: 3 | G9: 7 | H9: Int/Int | M9: 0 | N9: 0 | O9: 50 | P9: -6 | Q9: 0 | R9: 50 | V9: Grand Maître | W9: 4 | Z9: ='Feuille 1'!N85 -> 0 | AA9: ='Feuille 1'!Y85 -> 0 | AB9: =VLOOKUP(AA9,Comp_martiales_cost,2,FALSE) -> 0 | AE9: 7 | AF9: -1 | AJ9: Int/Éru | AK9: =VLOOKUP(Score_ERU,Tab_comp_mod_score,2,FALSE) -> -5 | AL9: Score_ERU | AQ9: Arc Long composé | AR9: compétence
A10: Danse | B10: 1 | C10: DEX | D10: 0 | E10: Général | F10: 2 | G10: 6 | H10: =IF(VLOOKUP("Dex/Équ",Tab_comp_ajust_2.5,2,FALSE)>VLOOKUP("Cha/Cha",Tab_comp_ajust_2.5,2,FALSE),"Dex/Équ","Cha/Cha") -> Cha/Cha | N10: =MAX(VLOOKUP(N11,Tab_compétences,2,FALSE),VLOOKUP(O11,Tab_compétences,2,FALSE),VLOOKUP(P11,Tab_compétences,2,FALSE)) -> 0 | O10: =MIN(VLOOKUP(N11,Tab_compétences,3,FALSE),VLOOKUP(O11,Tab_compétences,3,FALSE),VLOOKUP(P11,Tab_compétences,3,FALSE)) -> 50 | P10: =IF(MAX(VLOOKUP(N11,Tab_compétences,4,FALSE),VLOOKUP(O11,Tab_compétences,4,FALSE),VLOOKUP(P11,Tab_compétences,4,FALSE))=-6,"",MAX(VLOOKUP(N11,Tab_compétences,4,FALSE),VLOOKUP(O11,Tab_compétences,4,FALSE),VLOOKUP(P11,Tab_compétences,4,FALSE))) | Q10: =MAX(VLOOKUP(N11,Tab_compétences,5,FALSE),VLOOKUP(O11,Tab_compétences,5,FALSE),VLOOKUP(P11,Tab_compétences,5,FALSE)) -> 0 | R10: =MIN(VLOOKUP(N11,Tab_compétences,6,FALSE),VLOOKUP(O11,Tab_compétences,6,FALSE),VLOOKUP(P11,Tab_compétences,6,FALSE)) -> 50 | Z10: ='Feuille 1'!N86 -> 0 | AA10: ='Feuille 1'!Y86 -> 0 | AB10: =VLOOKUP(AA10,Comp_martiales_cost,2,FALSE) -> 0 | AE10: 8 | AF10: 0 | AJ10: Sag/Vol | AK10: =VLOOKUP(Score_VOL,Tab_comp_mod_score,2,FALSE) -> -5 | AL10: Score_VOL | AQ10: Arc Long de semi-géant | AR10: compétence
A11: Don Artistique | B11: 1 | C11: SAG | D11: 0 | E11: Général | N11: =IF('Saving Throws'!H12="ST_Mages","Mage",IF('Saving Throws'!H12="ST_Roub","Roublard",IF('Saving Throws'!H12="ST_Pretres","Prêtre",IF('Saving Throws'!H12="ST_Psi","Psioniste",IF('Saving Throws'!H12="ST_War","Guerrier",0))))) -> 0 | O11: =IF('Saving Throws'!I12="ST_Mages","Mage",IF('Saving Throws'!I12="ST_Roub","Roublard",IF('Saving Throws'!I12="ST_Pretres","Prêtre",IF('Saving Throws'!I12="ST_Psi","Psioniste",IF('Saving Throws'!I12="ST_War","Guerrier",0))))) -> 0 | P11: =IF('Saving Throws'!J12="ST_Mages","Mage",IF('Saving Throws'!J12="ST_Roub","Roublard",IF('Saving Throws'!J12="ST_Pretres","Prêtre",IF('Saving Throws'!J12="ST_Psi","Psioniste",IF('Saving Throws'!J12="ST_War","Guerrier",0))))) -> 0 | AB11: =SUM(AB3:AB10) -> 0 | AE11: 9 | AF11: 0 | AJ11: Sag/Int | AK11: =VLOOKUP(Score_INTtion,Tab_comp_mod_score,2,FALSE) -> -5 | AL11: Score_INTtion | AQ11: Arc Pixie | AR11: compétence
A12: Dressage d'Animaux | B12: 1 | C12: SAG | D12: -1 | E12: Général | F12: 4 | G12: 5 | H12: =IF(VLOOKUP("Sag/Vol",Tab_comp_ajust_2.5,2,FALSE)>VLOOKUP("Cha/Mag",Tab_comp_ajust_2.5,2,FALSE),"Sag/Vol","Cha/Mag") -> Cha/Mag | AE12: 10 | AF12: 0 | AJ12: Cha/Cha | AK12: =VLOOKUP(Score_CHAr,Tab_comp_mod_score,2,FALSE) -> -5 | AL12: Score_CHAr | AQ12: Attrape-Homme | AR12: compétence
A13: Équitation, à Terre | B13: 1 | C13: SAG | D13: 3 | E13: Général | F13: 2 | G13: 8 | H13: =IF(VLOOKUP("Sag/Vol",Tab_comp_ajust_2.5,2,FALSE)>VLOOKUP("Dex/Équ",Tab_comp_ajust_2.5,2,FALSE),"Sag/Vol","Dex/Équ") -> Dex/Équ | AE13: 11 | AF13: 0 | AJ13: Cha/Mag | AK13: =VLOOKUP(Score_MAG,Tab_comp_mod_score,2,FALSE) -> -5 | AL13: Score_MAG | AQ13: Bardiche | AR13: compétence
A14: Équitation, en vol | B14: 2 | C14: SAG | D14: -2 | E14: Général | F14: 4 | G14: 5 | H14: =IF(VLOOKUP("Sag/Vol",Tab_comp_ajust_2.5,2,FALSE)>VLOOKUP("Dex/Équ",Tab_comp_ajust_2.5,2,FALSE),"Sag/Vol","Dex/Équ") -> Dex/Équ | AE14: 12 | AF14: 0 | AQ14: Barre flind | AR14: compétence
A15: Étiquette | B15: 1 | C15: CHA | D15: 0 | E15: Général | F15: 2 | G15: 8 | H15: =IF(VLOOKUP("Sag/Int",Tab_comp_ajust_2.5,2,FALSE)>VLOOKUP("Cha/Cha",Tab_comp_ajust_2.5,2,FALSE),"Sag/Int","Cha/Cha") -> Cha/Cha | R15: Général | S15: Guerrier | T15: Roublard | U15: Magicien | V15: Clerical | W15: Psionique | X15: Rien | AE15: 13 | AF15: 0 | AQ15: Bâton | AR15: compétence
A16: Expertise Maritime | B16: 1 | C16: DEX | D16: 1 | E16: Général | F16: 3 | G16: 8 | H16: =IF(VLOOKUP("Dex/Équ",Tab_comp_ajust_2.5,2,FALSE)>VLOOKUP("Sag/Int",Tab_comp_ajust_2.5,2,FALSE),"Dex/Équ","Sag/Int") -> Sag/Int | Q16: Classe 1: | R16: TRUE | S16: =IF(OR(Classe="Guerrier",Classe="Paladin",Classe="Rôdeur",Classe="Druide",Classe="Barde"),TRUE,FALSE) -> FALSE | T16: =IF(OR(Classe="Voleur",Classe="Barde"),TRUE,FALSE) -> FALSE | U16: =IF(OR(Classe="Rôdeur",Classe="Mage",Classe="Barde"),TRUE,FALSE) -> FALSE | V16: =IF(OR(Classe="Paladin",Classe="Clerc",Classe="Druide"),TRUE,FALSE) -> FALSE | W16: =IF(OR(Classe="Psioniste"),TRUE,FALSE) -> FALSE | X16: FALSE | AE16: 14 | AF16: 1 | AQ16: Bâton de Cornu (Sauriale) | AR16: compétence
A17: Ferronnerie | B17: 1 | C17: FOR | D17: 0 | E17: Général | F17: 4 | G17: 6 | H17: =IF(VLOOKUP("For/Pui",Tab_comp_ajust_2.5,2,FALSE)>VLOOKUP("Int/Éru",Tab_comp_ajust_2.5,2,FALSE),"For/Pui","Int/Éru") -> Int/Éru | Q17: Classe 2: | R17: TRUE | S17: =IF(OR(Classe2="Guerrier",Classe2="Paladin",Classe2="Rôdeur",Classe2="Druide",Classe2="Barde"),TRUE,FALSE) -> FALSE | T17: =IF(OR(Classe2="Voleur",Classe2="Barde"),TRUE,FALSE) -> FALSE | U17: =IF(OR(Classe2="Rôdeur",Classe2="Mage",Classe2="Barde"),TRUE,FALSE) -> FALSE | V17: =IF(OR(Classe2="Paladin",Classe2="Clerc",Classe2="Druide"),TRUE,FALSE) -> FALSE | W17: =IF(OR(Classe2="Psioniste"),TRUE,FALSE) -> FALSE | X17: FALSE | AE17: 15 | AF17: 2 | AQ17: Bec de corbin | AR17: compétence
A18: Héraldique | B18: 1 | C18: INT | D18: 0 | E18: Général | F18: 2 | G18: 8 | H18: Int/Éru | Q18: Classe 3: | R18: TRUE | S18: =IF(OR(Classe3="Guerrier",Classe3="Paladin",Classe3="Rôdeur",Classe3="Druide",Classe3="Barde"),TRUE,FALSE) -> FALSE | T18: =IF(OR(Classe3="Voleur",Classe3="Barde"),TRUE,FALSE) -> FALSE | U18: =IF(OR(Classe3="Rôdeur",Classe3="Mage",Classe3="Barde"),TRUE,FALSE) -> FALSE | V18: =IF(OR(Classe3="Paladin",Classe3="Clerc",Classe3="Druide"),TRUE,FALSE) -> FALSE | W18: =IF(OR(Classe3="Psioniste"),TRUE,FALSE) -> FALSE | X18: FALSE | AE18: 16 | AF18: 3 | AQ18: Bo | AR18: compétence
A19: Langues,Vivantes | B19: 1 | C19: INT | D19: 0 | E19: Général | F19: 2 | G19: 9 | H19: Int/Éru | AE19: 17 | AF19: 4 | AQ19: Bolas | AR19: compétence
A20: Maçonnerie | B20: 1 | C20: FOR | D20: -2 | E20: Général | F20: 4 | G20: 5 | H20: =IF(VLOOKUP("For/End",Tab_comp_ajust_2.5,2,FALSE)>VLOOKUP("Sag/Int",Tab_comp_ajust_2.5,2,FALSE),"For/End","Sag/Int") -> Sag/Int | AE20: 18 | AF20: 5 | AQ20: Cabillot | AR20: compétence
A21: Maîtrise des animaux | B21: 1 | C21: SAG | D21: -1 | E21: Général | F21: 3 | G21: 7 | H21: Sag/Vol | M21: Compétence | P21: Groupe | Q21: De classe | R21: Coût | S21: Amél. | T21: Compétence | W21: Groupe | X21: De classe | Y21: Coût | Z21: Amél. | AE21: 19 | AF21: 5 | AQ21: Ceste | AR21: compétence
A22: Maroquineries | B22: 1 | C22: INT | D22: 0 | E22: Général | F22: 3 | G22: 7 | H22: =IF(VLOOKUP("Dex/Pré",Tab_comp_ajust_2.5,2,FALSE)>VLOOKUP("Int/Éru",Tab_comp_ajust_2.5,2,FALSE),"Dex/Pré","Int/Éru") -> Int/Éru | M22: ='Feuille 1'!A68 -> 0 | P22: =IF(ISNA(VLOOKUP(M22,Comp_diverses_Full,5,FALSE)),"Rien",VLOOKUP(M22,Comp_diverses_Full,5,FALSE)) -> Rien | Q22: =IF(OR(HLOOKUP(P22,Tab_comp_groupe,2,FALSE)=TRUE,HLOOKUP(P22,Tab_comp_groupe,3,FALSE)=TRUE,HLOOKUP(P22,Tab_comp_groupe,4,FALSE)=TRUE),TRUE,FALSE) -> FALSE | R22: =IF(ISNA(VLOOKUP(M22,Comp_diverses_Full,2,FALSE)),0,IF(comp_vers="2.5",IF(Q22=TRUE,VLOOKUP(M22,Comp_diverses_Full,6,FALSE),VLOOKUP(M22,Comp_diverses_Full,6,FALSE)+2)+IF(INDIRECT(VLOOKUP(VLOOKUP(M22,Comp_diverses_Full,8,FALSE),Tab_comp_ajust_2.5,3,FALSE))<9,1,0),IF(Q22=TRUE,VLOOKUP(M22,Comp_diverses_Full,2,FALSE),VLOOKUP(M22,Comp_diverses_Full,2,FALSE)+1))) -> 0 | S22: ='Feuille 1'!L68 -> 0 | T22: ='Feuille 1'!N68 -> 0 | W22: =IF(ISNA(VLOOKUP(T22,Comp_diverses_Full,5,FALSE)),"Rien",VLOOKUP(T22,Comp_diverses_Full,5,FALSE)) -> Rien | X22: =IF(OR(HLOOKUP(W22,Tab_comp_groupe,2,FALSE)=TRUE,HLOOKUP(W22,Tab_comp_groupe,3,FALSE)=TRUE,HLOOKUP(W22,Tab_comp_groupe,4,FALSE)=TRUE),TRUE,FALSE) -> FALSE | Y22: =IF(ISNA(VLOOKUP(T22,Comp_diverses_Full,2,FALSE)),0,IF(comp_vers="2.5",IF(X22=TRUE,VLOOKUP(T22,Comp_diverses_Full,6,FALSE),VLOOKUP(T22,Comp_diverses_Full,6,FALSE)+2)+IF(INDIRECT(VLOOKUP(VLOOKUP(T22,Comp_diverses_Full,8,FALSE),Tab_comp_ajust_2.5,3,FALSE))<9,1,0),IF(X22=TRUE,VLOOKUP(T22,Comp_diverses_Full,2,FALSE),VLOOKUP(T22,Comp_diverses_Full,2,FALSE)+1))) -> 0 | Z22: ='Feuille 1'!Y68 -> 0 | AE22: 20 | AF22: 5 | AQ22: Cimeterre/Sabre | AR22: compétence
A23: Météorologie | B23: 1 | C23: SAG | D23: -1 | E23: Général | F23: 2 | G23: 7 | H23: Sag/Int | M23: ='Feuille 1'!A69 -> 0 | P23: =IF(ISNA(VLOOKUP(M23,Comp_diverses_Full,5,FALSE)),"Rien",VLOOKUP(M23,Comp_diverses_Full,5,FALSE)) -> Rien | Q23: =IF(OR(HLOOKUP(P23,Tab_comp_groupe,2,FALSE)=TRUE,HLOOKUP(P23,Tab_comp_groupe,3,FALSE)=TRUE,HLOOKUP(P23,Tab_comp_groupe,4,FALSE)=TRUE),TRUE,FALSE) -> FALSE | R23: =IF(ISNA(VLOOKUP(M23,Comp_diverses_Full,2,FALSE)),0,IF(comp_vers="2.5",IF(Q23=TRUE,VLOOKUP(M23,Comp_diverses_Full,6,FALSE),VLOOKUP(M23,Comp_diverses_Full,6,FALSE)+2)+IF(INDIRECT(VLOOKUP(VLOOKUP(M23,Comp_diverses_Full,8,FALSE),Tab_comp_ajust_2.5,3,FALSE))<9,1,0),IF(Q23=TRUE,VLOOKUP(M23,Comp_diverses_Full,2,FALSE),VLOOKUP(M23,Comp_diverses_Full,2,FALSE)+1))) -> 0 | S23: ='Feuille 1'!L69 -> 0 | T23: ='Feuille 1'!N69 -> 0 | W23: =IF(ISNA(VLOOKUP(T23,Comp_diverses_Full,5,FALSE)),"Rien",VLOOKUP(T23,Comp_diverses_Full,5,FALSE)) -> Rien | X23: =IF(OR(HLOOKUP(W23,Tab_comp_groupe,2,FALSE)=TRUE,HLOOKUP(W23,Tab_comp_groupe,3,FALSE)=TRUE,HLOOKUP(W23,Tab_comp_groupe,4,FALSE)=TRUE),TRUE,FALSE) -> FALSE | Y23: =IF(ISNA(VLOOKUP(T23,Comp_diverses_Full,2,FALSE)),0,IF(comp_vers="2.5",IF(X23=TRUE,VLOOKUP(T23,Comp_diverses_Full,6,FALSE),VLOOKUP(T23,Comp_diverses_Full,6,FALSE)+2)+IF(INDIRECT(VLOOKUP(VLOOKUP(T23,Comp_diverses_Full,8,FALSE),Tab_comp_ajust_2.5,3,FALSE))<9,1,0),IF(X23=TRUE,VLOOKUP(T23,Comp_diverses_Full,2,FALSE),VLOOKUP(T23,Comp_diverses_Full,2,FALSE)+1))) -> 0 | Z23: ='Feuille 1'!Y69 -> 0 | AE23: 21 | AF23: 5 | AQ23: Coupe-coup | AR23: compétence
A24: Mines | B24: 2 | C24: SAG | D24: -3 | E24: Général | F24: 5 | G24: 5 | H24: =IF(VLOOKUP("For/End",Tab_comp_ajust_2.5,2,FALSE)>VLOOKUP("Sag/Int",Tab_comp_ajust_2.5,2,FALSE),"For/End","Sag/Int") -> Sag/Int | M24: ='Feuille 1'!A70 -> 0 | P24: =IF(ISNA(VLOOKUP(M24,Comp_diverses_Full,5,FALSE)),"Rien",VLOOKUP(M24,Comp_diverses_Full,5,FALSE)) -> Rien | Q24: =IF(OR(HLOOKUP(P24,Tab_comp_groupe,2,FALSE)=TRUE,HLOOKUP(P24,Tab_comp_groupe,3,FALSE)=TRUE,HLOOKUP(P24,Tab_comp_groupe,4,FALSE)=TRUE),TRUE,FALSE) -> FALSE | R24: =IF(ISNA(VLOOKUP(M24,Comp_diverses_Full,2,FALSE)),0,IF(comp_vers="2.5",IF(Q24=TRUE,VLOOKUP(M24,Comp_diverses_Full,6,FALSE),VLOOKUP(M24,Comp_diverses_Full,6,FALSE)+2)+IF(INDIRECT(VLOOKUP(VLOOKUP(M24,Comp_diverses_Full,8,FALSE),Tab_comp_ajust_2.5,3,FALSE))<9,1,0),IF(Q24=TRUE,VLOOKUP(M24,Comp_diverses_Full,2,FALSE),VLOOKUP(M24,Comp_diverses_Full,2,FALSE)+1))) -> 0 | S24: ='Feuille 1'!L70 -> 0 | T24: ='Feuille 1'!N70 -> 0 | W24: =IF(ISNA(VLOOKUP(T24,Comp_diverses_Full,5,FALSE)),"Rien",VLOOKUP(T24,Comp_diverses_Full,5,FALSE)) -> Rien | X24: =IF(OR(HLOOKUP(W24,Tab_comp_groupe,2,FALSE)=TRUE,HLOOKUP(W24,Tab_comp_groupe,3,FALSE)=TRUE,HLOOKUP(W24,Tab_comp_groupe,4,FALSE)=TRUE),TRUE,FALSE) -> FALSE | Y24: =IF(ISNA(VLOOKUP(T24,Comp_diverses_Full,2,FALSE)),0,IF(comp_vers="2.5",IF(X24=TRUE,VLOOKUP(T24,Comp_diverses_Full,6,FALSE),VLOOKUP(T24,Comp_diverses_Full,6,FALSE)+2)+IF(INDIRECT(VLOOKUP(VLOOKUP(T24,Comp_diverses_Full,8,FALSE),Tab_comp_ajust_2.5,3,FALSE))<9,1,0),IF(X24=TRUE,VLOOKUP(T24,Comp_diverses_Full,2,FALSE),VLOOKUP(T24,Comp_diverses_Full,2,FALSE)+1))) -> 0 | Z24: ='Feuille 1'!Y70 -> 0 | AE24: 22 | AF24: 5 | AQ24: Couteau | AR24: compétence
A25: Natation | B25: 1 | C25: FOR | D25: 0 | E25: Général | F25: 2 | G25: 9 | H25: For/End | M25: ='Feuille 1'!A71 -> 0 | P25: =IF(ISNA(VLOOKUP(M25,Comp_diverses_Full,5,FALSE)),"Rien",VLOOKUP(M25,Comp_diverses_Full,5,FALSE)) -> Rien | Q25: =IF(OR(HLOOKUP(P25,Tab_comp_groupe,2,FALSE)=TRUE,HLOOKUP(P25,Tab_comp_groupe,3,FALSE)=TRUE,HLOOKUP(P25,Tab_comp_groupe,4,FALSE)=TRUE),TRUE,FALSE) -> FALSE | R25: =IF(ISNA(VLOOKUP(M25,Comp_diverses_Full,2,FALSE)),0,IF(comp_vers="2.5",IF(Q25=TRUE,VLOOKUP(M25,Comp_diverses_Full,6,FALSE),VLOOKUP(M25,Comp_diverses_Full,6,FALSE)+2)+IF(INDIRECT(VLOOKUP(VLOOKUP(M25,Comp_diverses_Full,8,FALSE),Tab_comp_ajust_2.5,3,FALSE))<9,1,0),IF(Q25=TRUE,VLOOKUP(M25,Comp_diverses_Full,2,FALSE),VLOOKUP(M25,Comp_diverses_Full,2,FALSE)+1))) -> 0 | S25: ='Feuille 1'!L71 -> 0 | T25: ='Feuille 1'!N71 -> 0 | W25: =IF(ISNA(VLOOKUP(T25,Comp_diverses_Full,5,FALSE)),"Rien",VLOOKUP(T25,Comp_diverses_Full,5,FALSE)) -> Rien | X25: =IF(OR(HLOOKUP(W25,Tab_comp_groupe,2,FALSE)=TRUE,HLOOKUP(W25,Tab_comp_groupe,3,FALSE)=TRUE,HLOOKUP(W25,Tab_comp_groupe,4,FALSE)=TRUE),TRUE,FALSE) -> FALSE | Y25: =IF(ISNA(VLOOKUP(T25,Comp_diverses_Full,2,FALSE)),0,IF(comp_vers="2.5",IF(X25=TRUE,VLOOKUP(T25,Comp_diverses_Full,6,FALSE),VLOOKUP(T25,Comp_diverses_Full,6,FALSE)+2)+IF(INDIRECT(VLOOKUP(VLOOKUP(T25,Comp_diverses_Full,8,FALSE),Tab_comp_ajust_2.5,3,FALSE))<9,1,0),IF(X25=TRUE,VLOOKUP(T25,Comp_diverses_Full,2,FALSE),VLOOKUP(T25,Comp_diverses_Full,2,FALSE)+1))) -> 0 | Z25: ='Feuille 1'!Y71 -> 0 | AE25: 23 | AF25: 5 | AQ25: Couteau (en os) | AR25: compétence
A26: Pêche | B26: 1 | C26: SAG | D26: -1 | E26: Général | F26: 3 | G26: 6 | H26: =IF(VLOOKUP("Sag/Int",Tab_comp_ajust_2.5,2,FALSE)>VLOOKUP("Int/Éru",Tab_comp_ajust_2.5,2,FALSE),"Sag/Int","Int/Éru") -> Int/Éru | M26: ='Feuille 1'!A72 -> 0 | P26: =IF(ISNA(VLOOKUP(M26,Comp_diverses_Full,5,FALSE)),"Rien",VLOOKUP(M26,Comp_diverses_Full,5,FALSE)) -> Rien | Q26: =IF(OR(HLOOKUP(P26,Tab_comp_groupe,2,FALSE)=TRUE,HLOOKUP(P26,Tab_comp_groupe,3,FALSE)=TRUE,HLOOKUP(P26,Tab_comp_groupe,4,FALSE)=TRUE),TRUE,FALSE) -> FALSE | R26: =IF(ISNA(VLOOKUP(M26,Comp_diverses_Full,2,FALSE)),0,IF(comp_vers="2.5",IF(Q26=TRUE,VLOOKUP(M26,Comp_diverses_Full,6,FALSE),VLOOKUP(M26,Comp_diverses_Full,6,FALSE)+2)+IF(INDIRECT(VLOOKUP(VLOOKUP(M26,Comp_diverses_Full,8,FALSE),Tab_comp_ajust_2.5,3,FALSE))<9,1,0),IF(Q26=TRUE,VLOOKUP(M26,Comp_diverses_Full,2,FALSE),VLOOKUP(M26,Comp_diverses_Full,2,FALSE)+1))) -> 0 | S26: ='Feuille 1'!L72 -> 0 | T26: ='Feuille 1'!N72 -> 0 | W26: =IF(ISNA(VLOOKUP(T26,Comp_diverses_Full,5,FALSE)),"Rien",VLOOKUP(T26,Comp_diverses_Full,5,FALSE)) -> Rien | X26: =IF(OR(HLOOKUP(W26,Tab_comp_groupe,2,FALSE)=TRUE,HLOOKUP(W26,Tab_comp_groupe,3,FALSE)=TRUE,HLOOKUP(W26,Tab_comp_groupe,4,FALSE)=TRUE),TRUE,FALSE) -> FALSE | Y26: =IF(ISNA(VLOOKUP(T26,Comp_diverses_Full,2,FALSE)),0,IF(comp_vers="2.5",IF(X26=TRUE,VLOOKUP(T26,Comp_diverses_Full,6,FALSE),VLOOKUP(T26,Comp_diverses_Full,6,FALSE)+2)+IF(INDIRECT(VLOOKUP(VLOOKUP(T26,Comp_diverses_Full,8,FALSE),Tab_comp_ajust_2.5,3,FALSE))<9,1,0),IF(X26=TRUE,VLOOKUP(T26,Comp_diverses_Full,2,FALSE),VLOOKUP(T26,Comp_diverses_Full,2,FALSE)+1))) -> 0 | Z26: ='Feuille 1'!Y72 -> 0 | AE26: 24 | AF26: 5 | AQ26: Couteau (en pierre) | AR26: compétence
A27: Poterie | B27: 1 | C27: DEX | D27: -2 | E27: Général | F27: 3 | G27: 7 | H27: Dex/Pré | M27: ='Feuille 1'!A73 -> 0 | P27: =IF(ISNA(VLOOKUP(M27,Comp_diverses_Full,5,FALSE)),"Rien",VLOOKUP(M27,Comp_diverses_Full,5,FALSE)) -> Rien | Q27: =IF(OR(HLOOKUP(P27,Tab_comp_groupe,2,FALSE)=TRUE,HLOOKUP(P27,Tab_comp_groupe,3,FALSE)=TRUE,HLOOKUP(P27,Tab_comp_groupe,4,FALSE)=TRUE),TRUE,FALSE) -> FALSE | R27: =IF(ISNA(VLOOKUP(M27,Comp_diverses_Full,2,FALSE)),0,IF(comp_vers="2.5",IF(Q27=TRUE,VLOOKUP(M27,Comp_diverses_Full,6,FALSE),VLOOKUP(M27,Comp_diverses_Full,6,FALSE)+2)+IF(INDIRECT(VLOOKUP(VLOOKUP(M27,Comp_diverses_Full,8,FALSE),Tab_comp_ajust_2.5,3,FALSE))<9,1,0),IF(Q27=TRUE,VLOOKUP(M27,Comp_diverses_Full,2,FALSE),VLOOKUP(M27,Comp_diverses_Full,2,FALSE)+1))) -> 0 | S27: ='Feuille 1'!L73 -> 0 | T27: ='Feuille 1'!N73 -> 0 | W27: =IF(ISNA(VLOOKUP(T27,Comp_diverses_Full,5,FALSE)),"Rien",VLOOKUP(T27,Comp_diverses_Full,5,FALSE)) -> Rien | X27: =IF(OR(HLOOKUP(W27,Tab_comp_groupe,2,FALSE)=TRUE,HLOOKUP(W27,Tab_comp_groupe,3,FALSE)=TRUE,HLOOKUP(W27,Tab_comp_groupe,4,FALSE)=TRUE),TRUE,FALSE) -> FALSE | Y27: =IF(ISNA(VLOOKUP(T27,Comp_diverses_Full,2,FALSE)),0,IF(comp_vers="2.5",IF(X27=TRUE,VLOOKUP(T27,Comp_diverses_Full,6,FALSE),VLOOKUP(T27,Comp_diverses_Full,6,FALSE)+2)+IF(INDIRECT(VLOOKUP(VLOOKUP(T27,Comp_diverses_Full,8,FALSE),Tab_comp_ajust_2.5,3,FALSE))<9,1,0),IF(X27=TRUE,VLOOKUP(T27,Comp_diverses_Full,2,FALSE),VLOOKUP(T27,Comp_diverses_Full,2,FALSE)+1))) -> 0 | Z27: ='Feuille 1'!Y73 -> 0 | AE27: 25 | AF27: 5 | AQ27: Crochet (attaché) | AR27: compétence
A28: Sens de l'orientation | B28: 1 | C28: SAG | D28: =1 -> 1 | E28: Général | F28: 3 | G28: 7 | H28: =IF(VLOOKUP("Sag/Int",Tab_comp_ajust_2.5,2,FALSE)>VLOOKUP("Int/Éru",Tab_comp_ajust_2.5,2,FALSE),"Sag/Int","Int/Éru") -> Int/Éru | M28: ='Feuille 1'!A74 -> 0 | P28: =IF(ISNA(VLOOKUP(M28,Comp_diverses_Full,5,FALSE)),"Rien",VLOOKUP(M28,Comp_diverses_Full,5,FALSE)) -> Rien | Q28: =IF(OR(HLOOKUP(P28,Tab_comp_groupe,2,FALSE)=TRUE,HLOOKUP(P28,Tab_comp_groupe,3,FALSE)=TRUE,HLOOKUP(P28,Tab_comp_groupe,4,FALSE)=TRUE),TRUE,FALSE) -> FALSE | R28: =IF(ISNA(VLOOKUP(M28,Comp_diverses_Full,2,FALSE)),0,IF(comp_vers="2.5",IF(Q28=TRUE,VLOOKUP(M28,Comp_diverses_Full,6,FALSE),VLOOKUP(M28,Comp_diverses_Full,6,FALSE)+2)+IF(INDIRECT(VLOOKUP(VLOOKUP(M28,Comp_diverses_Full,8,FALSE),Tab_comp_ajust_2.5,3,FALSE))<9,1,0),IF(Q28=TRUE,VLOOKUP(M28,Comp_diverses_Full,2,FALSE),VLOOKUP(M28,Comp_diverses_Full,2,FALSE)+1))) -> 0 | S28: ='Feuille 1'!L74 -> 0 | T28: ='Feuille 1'!N74 -> 0 | W28: =IF(ISNA(VLOOKUP(T28,Comp_diverses_Full,5,FALSE)),"Rien",VLOOKUP(T28,Comp_diverses_Full,5,FALSE)) -> Rien | X28: =IF(OR(HLOOKUP(W28,Tab_comp_groupe,2,FALSE)=TRUE,HLOOKUP(W28,Tab_comp_groupe,3,FALSE)=TRUE,HLOOKUP(W28,Tab_comp_groupe,4,FALSE)=TRUE),TRUE,FALSE) -> FALSE | Y28: =IF(ISNA(VLOOKUP(T28,Comp_diverses_Full,2,FALSE)),0,IF(comp_vers="2.5",IF(X28=TRUE,VLOOKUP(T28,Comp_diverses_Full,6,FALSE),VLOOKUP(T28,Comp_diverses_Full,6,FALSE)+2)+IF(INDIRECT(VLOOKUP(VLOOKUP(T28,Comp_diverses_Full,8,FALSE),Tab_comp_ajust_2.5,3,FALSE))<9,1,0),IF(X28=TRUE,VLOOKUP(T28,Comp_diverses_Full,2,FALSE),VLOOKUP(T28,Comp_diverses_Full,2,FALSE)+1))) -> 0 | Z28: ='Feuille 1'!Y74 -> 0 | AE28: ="" | AF28: -5 | AQ28: Crochet (tenu) | AR28: compétence
A29: Tissage | B29: 1 | C29: INT | D29: -1 | E29: Général | F29: 3 | G29: 6 | H29: =IF(VLOOKUP("Dex/Pré",Tab_comp_ajust_2.5,2,FALSE)>VLOOKUP("Int/Int",Tab_comp_ajust_2.5,2,FALSE),"Dex/Pré","Int/Int") -> Int/Int | M29: ='Feuille 1'!A75 -> 0 | P29: =IF(ISNA(VLOOKUP(M29,Comp_diverses_Full,5,FALSE)),"Rien",VLOOKUP(M29,Comp_diverses_Full,5,FALSE)) -> Rien | Q29: =IF(OR(HLOOKUP(P29,Tab_comp_groupe,2,FALSE)=TRUE,HLOOKUP(P29,Tab_comp_groupe,3,FALSE)=TRUE,HLOOKUP(P29,Tab_comp_groupe,4,FALSE)=TRUE),TRUE,FALSE) -> FALSE | R29: =IF(ISNA(VLOOKUP(M29,Comp_diverses_Full,2,FALSE)),0,IF(comp_vers="2.5",IF(Q29=TRUE,VLOOKUP(M29,Comp_diverses_Full,6,FALSE),VLOOKUP(M29,Comp_diverses_Full,6,FALSE)+2)+IF(INDIRECT(VLOOKUP(VLOOKUP(M29,Comp_diverses_Full,8,FALSE),Tab_comp_ajust_2.5,3,FALSE))<9,1,0),IF(Q29=TRUE,VLOOKUP(M29,Comp_diverses_Full,2,FALSE),VLOOKUP(M29,Comp_diverses_Full,2,FALSE)+1))) -> 0 | S29: ='Feuille 1'!L75 -> 0 | T29: ='Feuille 1'!N75 -> 0 | W29: =IF(ISNA(VLOOKUP(T29,Comp_diverses_Full,5,FALSE)),"Rien",VLOOKUP(T29,Comp_diverses_Full,5,FALSE)) -> Rien | X29: =IF(OR(HLOOKUP(W29,Tab_comp_groupe,2,FALSE)=TRUE,HLOOKUP(W29,Tab_comp_groupe,3,FALSE)=TRUE,HLOOKUP(W29,Tab_comp_groupe,4,FALSE)=TRUE),TRUE,FALSE) -> FALSE | Y29: =IF(ISNA(VLOOKUP(T29,Comp_diverses_Full,2,FALSE)),0,IF(comp_vers="2.5",IF(X29=TRUE,VLOOKUP(T29,Comp_diverses_Full,6,FALSE),VLOOKUP(T29,Comp_diverses_Full,6,FALSE)+2)+IF(INDIRECT(VLOOKUP(VLOOKUP(T29,Comp_diverses_Full,8,FALSE),Tab_comp_ajust_2.5,3,FALSE))<9,1,0),IF(X29=TRUE,VLOOKUP(T29,Comp_diverses_Full,2,FALSE),VLOOKUP(T29,Comp_diverses_Full,2,FALSE)+1))) -> 0 | Z29: ='Feuille 1'!Y75 -> 0 | AE29: ="1" -> 1 | AF29: -5 | AQ29: Dague - Main-gauche | AR29: compétence
A30: Utilisation des cordes | B30: 1 | C30: DEX | D30: 0 | E30: Général | F30: 2 | G30: 8 | H30: =IF(VLOOKUP("Dex/Pré",Tab_comp_ajust_2.5,2,FALSE)>VLOOKUP("Sag/Int",Tab_comp_ajust_2.5,2,FALSE),"Dex/Pré","Sag/Int") -> Sag/Int | M30: ='Feuille 1'!A76 -> 0 | P30: =IF(ISNA(VLOOKUP(M30,Comp_diverses_Full,5,FALSE)),"Rien",VLOOKUP(M30,Comp_diverses_Full,5,FALSE)) -> Rien | Q30: =IF(OR(HLOOKUP(P30,Tab_comp_groupe,2,FALSE)=TRUE,HLOOKUP(P30,Tab_comp_groupe,3,FALSE)=TRUE,HLOOKUP(P30,Tab_comp_groupe,4,FALSE)=TRUE),TRUE,FALSE) -> FALSE | R30: =IF(ISNA(VLOOKUP(M30,Comp_diverses_Full,2,FALSE)),0,IF(comp_vers="2.5",IF(Q30=TRUE,VLOOKUP(M30,Comp_diverses_Full,6,FALSE),VLOOKUP(M30,Comp_diverses_Full,6,FALSE)+2)+IF(INDIRECT(VLOOKUP(VLOOKUP(M30,Comp_diverses_Full,8,FALSE),Tab_comp_ajust_2.5,3,FALSE))<9,1,0),IF(Q30=TRUE,VLOOKUP(M30,Comp_diverses_Full,2,FALSE),VLOOKUP(M30,Comp_diverses_Full,2,FALSE)+1))) -> 0 | S30: ='Feuille 1'!L76 -> 0 | T30: ='Feuille 1'!N76 -> 0 | W30: =IF(ISNA(VLOOKUP(T30,Comp_diverses_Full,5,FALSE)),"Rien",VLOOKUP(T30,Comp_diverses_Full,5,FALSE)) -> Rien | X30: =IF(OR(HLOOKUP(W30,Tab_comp_groupe,2,FALSE)=TRUE,HLOOKUP(W30,Tab_comp_groupe,3,FALSE)=TRUE,HLOOKUP(W30,Tab_comp_groupe,4,FALSE)=TRUE),TRUE,FALSE) -> FALSE | Y30: =IF(ISNA(VLOOKUP(T30,Comp_diverses_Full,2,FALSE)),0,IF(comp_vers="2.5",IF(X30=TRUE,VLOOKUP(T30,Comp_diverses_Full,6,FALSE),VLOOKUP(T30,Comp_diverses_Full,6,FALSE)+2)+IF(INDIRECT(VLOOKUP(VLOOKUP(T30,Comp_diverses_Full,8,FALSE),Tab_comp_ajust_2.5,3,FALSE))<9,1,0),IF(X30=TRUE,VLOOKUP(T30,Comp_diverses_Full,2,FALSE),VLOOKUP(T30,Comp_diverses_Full,2,FALSE)+1))) -> 0 | Z30: ='Feuille 1'!Y76 -> 0 | AE30: ="2" -> 2 | AF30: -5 | AQ30: Dague (en os) | AR30: compétence
