Workbook
Name CB: #REF!
Name CHA: 'Joueur 1'!$B$21
Name Classe1: 'Joueur 1'!$AF$12
Name Classe2: 'Joueur 1'!$AF$16
Name Classe3: 'Joueur 1'!$AF$20
Name CM: #REF!
Name CN: #REF!
Name Code_Classe: 'Joueur 1'!$AO$11
Name CON: 'Joueur 1'!$B$19
Name DEX: 'Joueur 1'!$B$17
Name FOR: 'Joueur 1'!$B$11
Name INT: 'Joueur 1'!$B$13
Name LB: #REF!
Name liste_CB: #REF!
Name liste_CM: #REF!
Name liste_CN: #REF!
Name liste_LB: #REF!
Name liste_LM: #REF!
Name liste_LN: #REF!
Name liste_N: #REF!
Name liste_NB: #REF!
Name liste_NM: #REF!
Name LM: #REF!
Name LN: #REF!
Name maggo1: #REF!
Name maggo1: #REF!
Name maggo1: #REF!
Name maggo2: #REF!
Name maggo2: #REF!
Name maggo2: #REF!
Name N: #REF!
Name NB: #REF!
Name NivC1: 'Joueur 1'!$AN$14
Name NivC2: 'Joueur 1'!$AN$18
Name NivC3: 'Joueur 1'!$AN$22
Name NM: #REF!
Name RACE: 'Joueur 1'!$D$6
Name SAG: 'Joueur 1'!$B$15
Name Spec1: 'Joueur 1'!$AL$44
Name Spec2: 'Joueur 1'!$AL$45

Sheet EXPLICATIONS
A1: EXPLICATION SUR L'UTILISATION DE LA FEUILLE DE PERSONNAGE V6
A2: Cette feuille reprend quasiment toutes les informations présentes dans la feuille originale de AD&D.
A3: la feuille d'origine proposée sur le forum DDD m'a insité à pousser la réflexion et la diversité ; elle reste une feuille de calculs uniquement sans aucune macro
B4: Je conseille aussi de faire une sauvegarde de la feuille avant toute utilisation (on ne sait jamais lol),
B5: Je conseille de protéger la feuille pour éviter de dézinguer les calculs auto
A6: GAYAL
B8: NOUVEAUTES :
C9: * Information sur tous les sorts : Portée, Durée, Composantes
C10: * Gestion de toutes les races et classes AD&D : version DDD du Manuel Complet du Joueur 1-5 révision octobre 2020 -> | N10: Revue calcul de CA
C11: * Gestion multi-classes -> Apparition des niveaux et XP en fonction | N11: Revue des caractéristiques Moines
C12: * Liste déroulante des classes autorisées uniquement par la Race
C13: * Talents de voleur et Vadre-Retro affichés que si la classe le permet
C14: * Bonus d'attaque de "Prédilection Cavalier/Paladin" OK
C15: * Bonus "Spécialisation Guerrier" OK en simple Spéc
C16: * Traitement des Jets de Protection selon la meilleure classe, bonus Race intégrés MAIS bonus SAG vs. attaques mentales et DEX vs. Évitements non intégrés
B18: LISTE DES SAISIES MANUELLES :
C19: Toutes les Cellules en :
B21: LISTES DE CHOIX :
C22: Toutes les Cellules en :
B24: CALCULS :
C25: Toutes les Cellules en :
B27: BONUS CALCULES MAIS PAS SYSTEMATIQUES | G27: Bonus à appliquer selon le JP
C28: Toutes les Cellules en : | F28: 2 cases
B30: IMPRESSION : non vérifié … mais bon
C31: La feuille est paramétrée pour une impression pleine page en Recto/Verrso
B33: EN PROJET :
C34: * Gestion des compétences du Voleur Acrobate
C35: * Limitation en niveau de classes selon la Race races
C36: * Bonus Toucher des races dans la table de combat
C37: * Contrôle des caractériqtiques mini MAXI des Races

Sheet Joueur 1
AQ1: Sortilèges | CS1: Sortilèges | EU1: Sortilèges | GW1: Sortilèges | IY1: Sortilèges
B2: BOB | N2: Age | S2: Peau | Y2: Description / Apparence | AQ2: Nombre maximum de sorts autorisés | CS2: Sortilèges de Niveau 2 | EU2: Sortilèges de Niveau 4 | GW2: Sortilèges de Niveau 6 | IY2: Sortilèges de Niveau 8
N3: Taille | S3: Yeux | CS3: # | CT3: Nom du sortilège Clerc / Druide | DG3: =SUM(DG4:DG39) -> 0 | DH3: M | DI3: Portée | DL3: Durée | DO3: V | DP3: S | DQ3: M | DS3: =COUNTIF(DS4:DT39,"C") -> 0 | DT3: C | DU3: # | DV3: Nom du sortilège Magicien / Illusionniste | EI3: =SUM(EI4:EI43) -> 0 | EJ3: M | EK3: Portée | EN3: Durée | EP3: V | EQ3: S | ER3: M | EU3: # | EV3: Nom du sortilège Clerc / Druide | FI3: =SUM(FI4:FI39) -> 0 | FJ3: M | FK3: Portée | FN3: Durée | FQ3: V | FR3: S | FS3: M | FU3: =COUNTIF(FU4:FV35,"C") -> 0 | FV3: C | FW3: # | FX3: Nom du sortilège Magicien / Illusionniste | GK3: =SUM(GK4:GK39) -> 0 | GL3: M | GM3: Portée | GP3: Durée | GR3: V | GS3: S | GT3: M | GW3: # | GX3: Nom du sortilège Clerc / Druide | HK3: =SUM(HK4:HK37) -> 0 | HL3: M | HM3: Portée | HP3: Durée | HS3: V | HT3: S | HU3: M | HW3: =COUNTIF(HW4:HX33,"C") -> 0 | HX3: C | HY3: # | HZ3: Nom du sortilège Magicien / Illusionniste | IM3: =SUM(IM4:IM37) -> 0 | IN3: M | IO3: Portée | IR3: Durée | IT3: V | IU3: S | IV3: M | JY3: =COUNTIF(JY4:JZ23,"C") -> 0 | JZ3: C | KA3: # | KB3: Nom du sortilège Magicien | KO3: =SUM(KO4:KO37) -> 0 | KP3: M | KQ3: Portée | KT3: Durée | KV3: V | KW3: S | KX3: M
N4: Poids | S4: Cheveux | AR4: Clerc | AV4: =IF(OR(Code_Classe=Classe!C4,Code_Classe=Classe!C8,Code_Classe=Classe!C18,Code_Classe=Classe!C19,Code_Classe=Classe!C20,Code_Classe=Classe!C21,Code_Classe=Classe!C22,Code_Classe=Classe!C23,Code_Classe=Classe!C37,Code_Classe=Classe!C38,Code_Classe=Classe!C39),"O","N") -> N | AX4: Druide | BB4: =IF(OR(Code_Classe=Classe!C5,Code_Classe=Classe!C7,Code_Classe=Classe!C13,Code_Classe=Classe!C16,Code_Classe=Classe!C24,Code_Classe=Classe!C25,Code_Classe=Classe!C26,Code_Classe=Classe!C27,Code_Classe=Classe!C32),"O","N") -> N | CS4: 1 | CT4: =IF($AV$4="O",Sorts!K4,IF($BB$4="O",Sorts!K28,"")) | DG4: 0 | DI4: =IF($AV$4="O",Sorts!L4,IF($BB$4="O",Sorts!L28,"")) | DL4: =IF($AV$4="O",Sorts!M4,IF($BB$4="O",Sorts!M28,"")) | DO4: =IF($AV$4="O",Sorts!N4,IF($BB$4="O",Sorts!N28,"")) | DP4: =IF($AV$4="O",Sorts!O4,IF($BB$4="O",Sorts!O28,"")) | DQ4: =IF($AV$4="O",Sorts!P4,IF($BB$4="O",Sorts!P28,"")) | DS4: NC | DU4: 1 | DV4: =IF(OR($AV$6="O1",$AV$6="O2",$AV$6="O3"),Sorts!K75,IF(OR($BB$6="O1",$BB$6="O2"),Sorts!K137,"")) -> Bouche Magique | EI4: 0 | EK4: =IF(OR($AV$6="O1",$AV$6="O2",$AV$6="O3"),Sorts!L75,IF(OR($BB$6="O1",$BB$6="O2"),Sorts!L137,"")) -> S | EM4: =IF(OR($AV$6="O1",$AV$6="O2",$AV$6="O3"),Sorts!M75,IF(OR($BB$6="O1",$BB$6="O2"),Sorts!M137,"")) -> S | EP4: =IF(OR($AV$6="O1",$AV$6="O2",$AV$6="O3"),Sorts!N75,IF(OR($BB$6="O1",$BB$6="O2"),Sorts!N137,"")) -> X | EQ4: =IF(OR($AV$6="O1",$AV$6="O2",$AV$6="O3"),Sorts!O75,IF(OR($BB$6="O1",$BB$6="O2"),Sorts!O137,"")) -> X | ER4: =IF(OR($AV$6="O1",$AV$6="O2",$AV$6="O3"),Sorts!P75,IF(OR($BB$6="O1",$BB$6="O2"),Sorts!P137,"")) -> X | EU4: 1 | EV4: =IF($AV$4="O",Sorts!W4,IF($BB$4="O",Sorts!W28,"")) | FI4: 0 | FK4: =IF($AV$4="O",Sorts!X4,IF($BB$4="O",Sorts!X28,"")) | FN4: =IF($AV$4="O",Sorts!Y4,IF($BB$4="O",Sorts!Y28,"")) | FQ4: =IF($AV$4="O",Sorts!Z4,IF($BB$4="O",Sorts!Z28,"")) | FR4: =IF($AV$4="O",Sorts!AA4,IF($BB$4="O",Sorts!AA28,"")) | FS4: =IF($AV$4="O",Sorts!AB4,IF($BB$4="O",Sorts!AB28,"")) | FU4: NC | FW4: 1 | FX4: =IF(OR($AV$6="O1",$AV$6="O2",$AV$6="O3"),Sorts!W75,IF(OR($BB$6="O1",$BB$6="O2"),Sorts!W137,"")) -> Abri Sûr de Léomund | GK4: 0 | GM4: =IF(OR($AV$6="O1",$AV$6="O2",$AV$6="O3"),Sorts!X75,IF(OR($BB$6="O1",$BB$6="O2"),Sorts!X137,"")) -> 2'' | GO4: =IF(OR($AV$6="O1",$AV$6="O2",$AV$6="O3"),Sorts!Y75,IF(OR($BB$6="O1",$BB$6="O2"),Sorts!Y137,"")) -> 3t/n | GR4: =IF(OR($AV$6="O1",$AV$6="O2",$AV$6="O3"),Sorts!Z75,IF(OR($BB$6="O1",$BB$6="O2"),Sorts!Z137,"")) -> X | GS4: =IF(OR($AV$6="O1",$AV$6="O2",$AV$6="O3"),Sorts!AA75,IF(OR($BB$6="O1",$BB$6="O2"),Sorts!AA137,"")) -> X | GT4: =IF(OR($AV$6="O1",$AV$6="O2",$AV$6="O3"),Sorts!AB75,IF(OR($BB$6="O1",$BB$6="O2"),Sorts!AB137,"")) -> X | GW4: 1 | GX4: =IF($AV$4="O",Sorts!AI4,IF($BB$4="O",Sorts!AI28,"")) | HK4: 0 | HM4: =IF($AV$4="O",Sorts!AJ4,IF($BB$4="O",Sorts!AJ28,"")) | HP4: =IF($AV$4="O",Sorts!AK4,IF($BB$4="O",Sorts!AK28,"")) | HS4: =IF($AV$4="O",Sorts!AL4,IF($BB$4="O",Sorts!AL28,"")) | HT4: =IF($AV$4="O",Sorts!AM4,IF($BB$4="O",Sorts!AM28,"")) | HU4: =IF($AV$4="O",Sorts!AN4,IF($BB$4="O",Sorts!AN28,"")) | HW4: NC | HY4: 1 | HZ4: =IF(OR($AV$6="O1",$AV$6="O2",$AV$6="O3"),Sorts!AI75,IF(OR($BB$6="O1",$BB$6="O2"),Sorts!AI137,"")) -> Abaissement des Eaux | IM4: 0 | IO4: =IF(OR($AV$6="O1",$AV$6="O2",$AV$6="O3"),Sorts!AJ75,IF(OR($BB$6="O1",$BB$6="O2"),Sorts!AJ137,"")) -> 8'' | IQ4: =IF(OR($AV$6="O1",$AV$6="O2",$AV$6="O3"),Sorts!AK75,IF(OR($BB$6="O1",$BB$6="O2"),Sorts!AK137,"")) -> 5r/n | IT4: =IF(OR($AV$6="O1",$AV$6="O2",$AV$6="O3"),Sorts!AL75,IF(OR($BB$6="O1",$BB$6="O2"),Sorts!AL137,"")) -> X | IU4: =IF(OR($AV$6="O1",$AV$6="O2",$AV$6="O3"),Sorts!AM75,IF(OR($BB$6="O1",$BB$6="O2"),Sorts!AM137,"")) -> X | IV4: =IF(OR($AV$6="O1",$AV$6="O2",$AV$6="O3"),Sorts!AN75,IF(OR($BB$6="O1",$BB$6="O2"),Sorts!AN137,"")) -> X | JY4: NC | KA4: 1 | KB4: =IF(OR($AV$6="O1",$AV$6="O2",$AV$6="O3"),Sorts!AU75,IF(OR($BB$6="O1",$BB$6="O2"),Sorts!AU137,"")) -> Antipathie/Sympathie | KO4: 0 | KQ4: =IF(OR($AV$6="O1",$AV$6="O2",$AV$6="O3"),Sorts!AV75,IF(OR($BB$6="O1",$BB$6="O2"),Sorts!AV137,"")) -> 3'' | KS4: =IF(OR($AV$6="O1",$AV$6="O2",$AV$6="O3"),Sorts!AW75,IF(OR($BB$6="O1",$BB$6="O2"),Sorts!AW137,"")) -> 12t/n | KV4: =IF(OR($AV$6="O1",$AV$6="O2",$AV$6="O3"),Sorts!AX75,IF(OR($BB$6="O1",$BB$6="O2"),Sorts!AX137,"")) -> X | KW4: =IF(OR($AV$6="O1",$AV$6="O2",$AV$6="O3"),Sorts!AY75,IF(OR($BB$6="O1",$BB$6="O2"),Sorts!AY137,"")) -> X | KX4: =IF(OR($AV$6="O1",$AV$6="O2",$AV$6="O3"),Sorts!AZ75,IF(OR($BB$6="O1",$BB$6="O2"),Sorts!AZ137,"")) -> X
AR5: Niv 1 | AU5: {=+IF(AND($AV$4="N",$BB$4="N"),0,IF(AND($AV$4="O",$BB$4="N"),INDEX(Niveau!$B$550:$N$586,NivC1+1,MATCH(Classe1,Niveau!$C$550:$N$550,0)+1)+$U$16,IF(AND($AV$4="N",$BB$4="O"),INDEX(Niveau!$B$550:$N$586,NivC1+1,MATCH(Classe1,Niveau!$C$550:$N$550,0)+1)+$U$16)))} -> 0 | AW5: Niv 2 | AZ5: {=+IF(AND($AV$4="N",$BB$4="N"),0,IF(AND($AV$4="O",$BB$4="N"),INDEX(Niveau!$B$588:$N$624,NivC1+1,MATCH(Classe1,Niveau!$C$588:$N$588,0)+1)+$V$16,IF(AND($AV$4="N",$BB$4="O"),INDEX(Niveau!$B$588:$N$624,NivC1+1,MATCH(Classe1,Niveau!$C$588:$N$588,0)+1)+$V$16)))} -> 0 | BB5: Niv 3 | BE5: {=+IF(AND($AV$4="N",$BB$4="N"),0,IF(AND($AV$4="O",$BB$4="N"),INDEX(Niveau!$B$626:$N$662,NivC1+1,MATCH(Classe1,Niveau!$C$626:$N$626,0)+1)+$W$16,IF(AND($AV$4="N",$BB$4="O"),INDEX(Niveau!$B$626:$N$662,NivC1+1,MATCH(Classe1,Niveau!$C$626:$N$626,0)+1)+$W$16)))} -> 0 | BG5: Niv 4 | BJ5: {=+IF(AND($AV$4="N",$BB$4="N"),0,IF(AND($AV$4="O",$BB$4="N"),INDEX(Niveau!$B$664:$N$700,NivC1+1,MATCH(Classe1,Niveau!$C$664:$N$664,0)+1)+$X$16,IF(AND($AV$4="N",$BB$4="O"),INDEX(Niveau!$B$664:$N$700,NivC1+1,MATCH(Classe1,Niveau!$C$664:$N$664,0)+1)+$X$16)))} -> 0 | BL5: Niv 5 | BO5: {=+IF(AND($AV$4="N",$BB$4="N"),0,IF(AND($AV$4="O",$BB$4="N"),INDEX(Niveau!$B$702:$N$738,NivC1+1,MATCH(Classe1,Niveau!$C$702:$N$702,0)+1),IF(AND($AV$4="N",$BB$4="O"),INDEX(Niveau!$B$702:$N$738,NivC1+1,MATCH(Classe1,Niveau!$C$702:$N$702,0)+1))))} -> 0 | BQ5: Niv 6 | BT5: {=+IF(AND($AV$4="N",$BB$4="N"),0,IF(AND($AV$4="O",$BB$4="N"),INDEX(Niveau!$B$740:$N$776,NivC1+1,MATCH(Classe1,Niveau!$C$740:$N$740,0)+1),IF(AND($AV$4="N",$BB$4="O"),INDEX(Niveau!$B$740:$N$776,NivC1+1,MATCH(Classe1,Niveau!$C$740:$N$740,0)+1))))} -> 0 | BV5: Niv 7 | BY5: {=+IF(AND($AV$4="N",$BB$4="N"),0,IF(AND($AV$4="O",$BB$4="N"),INDEX(Niveau!$B$778:$N$814,NivC1+1,MATCH(Classe1,Niveau!$C$778:$N$778,0)+1),IF(AND($AV$4="N",$BB$4="O"),INDEX(Niveau!$B$778:$N$814,NivC1+1,MATCH(Classe1,Niveau!$C$778:$N$778,0)+1))))} -> 0 | CS5: 2 | CT5: =IF($AV$4="O",Sorts!K5,IF($BB$4="O",Sorts!K29,"")) | DG5: 0 | DI5: =IF($AV$4="O",Sorts!L5,IF($BB$4="O",Sorts!L29,"")) | DL5: =IF($AV$4="O",Sorts!M5,IF($BB$4="O",Sorts!M29,"")) | DO5: =IF($AV$4="O",Sorts!N5,IF($BB$4="O",Sorts!N29,"")) | DP5: =IF($AV$4="O",Sorts!O5,IF($BB$4="O",Sorts!O29,"")) | DQ5: =IF($AV$4="O",Sorts!P5,IF($BB$4="O",Sorts!P29,"")) | DS5: NC | DU5: 2 | DV5: =IF(OR($AV$6="O1",$AV$6="O2",$AV$6="O3"),Sorts!K76,IF(OR($BB$6="O1",$BB$6="O2"),Sorts!K138,"")) -> Bruitage | EI5: 0 | EK5: =IF(OR($AV$6="O1",$AV$6="O2",$AV$6="O3"),Sorts!L76,IF(OR($BB$6="O1",$BB$6="O2"),Sorts!L138,"")) -> 6''+1/n | EM5: =IF(OR($AV$6="O1",$AV$6="O2",$AV$6="O3"),Sorts!M76,IF(OR($BB$6="O1",$BB$6="O2"),Sorts!M138,"")) -> 2r/n | EP5: =IF(OR($AV$6="O1",$AV$6="O2",$AV$6="O3"),Sorts!N76,IF(OR($BB$6="O1",$BB$6="O2"),Sorts!N138,"")) -> X | EQ5: =IF(OR($AV$6="O1",$AV$6="O2",$AV$6="O3"),Sorts!O76,IF(OR($BB$6="O1",$BB$6="O2"),Sorts!O138,"")) -> / | ER5: =IF(OR($AV$6="O1",$AV$6="O2",$AV$6="O3"),Sorts!P76,IF(OR($BB$6="O1",$BB$6="O2"),Sorts!P138,"")) -> X | EU5: 2 | EV5: =IF($AV$4="O",Sorts!W5,IF($BB$4="O",Sorts!W29,"")) | FI5: 0 | FK5: =IF($AV$4="O",Sorts!X5,IF($BB$4="O",Sorts!X29,"")) | FN5: =IF($AV$4="O",Sorts!Y5,IF($BB$4="O",Sorts!Y29,"")) | FQ5: =IF($AV$4="O",Sorts!Z5,IF($BB$4="O",Sorts!Z29,"")) | FR5: =IF($AV$4="O",Sorts!AA5,IF($BB$4="O",Sorts!AA29,"")) | FS5: =IF($AV$4="O",Sorts!AB5,IF($BB$4="O",Sorts!AB29,"")) | FU5: NC | FW5: 2 | FX5: =IF(OR($AV$6="O1",$AV$6="O2",$AV$6="O3"),Sorts!W76,IF(OR($BB$6="O1",$BB$6="O2"),Sorts!W138,"")) -> Allométamorphose | GK5: 0 | GM5: =IF(OR($AV$6="O1",$AV$6="O2",$AV$6="O3"),Sorts!X76,IF(OR($BB$6="O1",$BB$6="O2"),Sorts!X138,"")) -> 0,5''/n | GO5: =IF(OR($AV$6="O1",$AV$6="O2",$AV$6="O3"),Sorts!Y76,IF(OR($BB$6="O1",$BB$6="O2"),Sorts!Y138,"")) -> P | GR5: =IF(OR($AV$6="O1",$AV$6="O2",$AV$6="O3"),Sorts!Z76,IF(OR($BB$6="O1",$BB$6="O2"),Sorts!Z138,"")) -> X | GS5: =IF(OR($AV$6="O1",$AV$6="O2",$AV$6="O3"),Sorts!AA76,IF(OR($BB$6="O1",$BB$6="O2"),Sorts!AA138,"")) -> X | GT5: =IF(OR($AV$6="O1",$AV$6="O2",$AV$6="O3"),Sorts!AB76,IF(OR($BB$6="O1",$BB$6="O2"),Sorts!AB138,"")) -> X | GW5: 2 | GX5: =IF($AV$4="O",Sorts!AI5,IF($BB$4="O",Sorts!AI29,"")) | HK5: 0 | HM5: =IF($AV$4="O",Sorts!AJ5,IF($BB$4="O",Sorts!AJ29,"")) | HP5: =IF($AV$4="O",Sorts!AK5,IF($BB$4="O",Sorts!AK29,"")) | HS5: =IF($AV$4="O",Sorts!AL5,IF($BB$4="O",Sorts!AL29,"")) | HT5: =IF($AV$4="O",Sorts!AM5,IF($BB$4="O",Sorts!AM29,"")) | HU5: =IF($AV$4="O",Sorts!AN5,IF($BB$4="O",Sorts!AN29,"")) | HW5: NC | HY5: 2 | HZ5: =IF(OR($AV$6="O1",$AV$6="O2",$AV$6="O3"),Sorts!AI76,IF(OR($BB$6="O1",$BB$6="O2"),Sorts!AI138,"")) -> Bulle Anti-Magique | IM5: 0 | IO5: =IF(OR($AV$6="O1",$AV$6="O2",$AV$6="O3"),Sorts!AJ76,IF(OR($BB$6="O1",$BB$6="O2"),Sorts!AJ138,"")) -> 0 | IQ5: =IF(OR($AV$6="O1",$AV$6="O2",$AV$6="O3"),Sorts!AK76,IF(OR($BB$6="O1",$BB$6="O2"),Sorts!AK138,"")) -> 1t/n | IT5: =IF(OR($AV$6="O1",$AV$6="O2",$AV$6="O3"),Sorts!AL76,IF(OR($BB$6="O1",$BB$6="O2"),Sorts!AL138,"")) -> X | IU5: =IF(OR($AV$6="O1",$AV$6="O2",$AV$6="O3"),Sorts!AM76,IF(OR($BB$6="O1",$BB$6="O2"),Sorts!AM138,"")) -> X | IV5: =IF(OR($AV$6="O1",$AV$6="O2",$AV$6="O3"),Sorts!AN76,IF(OR($BB$6="O1",$BB$6="O2"),Sorts!AN138,"")) -> / | JY5: NC | KA5: 2 | KB5: =IF(OR($AV$6="O1",$AV$6="O2",$AV$6="O3"),Sorts!AU76,IF(OR($BB$6="O1",$BB$6="O2"),Sorts!AU138,"")) -> Attache | KO5: 0 | KQ5: =IF(OR($AV$6="O1",$AV$6="O2",$AV$6="O3"),Sorts!AV76,IF(OR($BB$6="O1",$BB$6="O2"),Sorts!AV138,"")) -> 1'' | KS5: =IF(OR($AV$6="O1",$AV$6="O2",$AV$6="O3"),Sorts!AW76,IF(OR($BB$6="O1",$BB$6="O2"),Sorts!AW138,"")) -> S | KV5: =IF(OR($AV$6="O1",$AV$6="O2",$AV$6="O3"),Sorts!AX76,IF(OR($BB$6="O1",$BB$6="O2"),Sorts!AX138,"")) -> X | KW5: =IF(OR($AV$6="O1",$AV$6="O2",$AV$6="O3"),Sorts!AY76,IF(OR($BB$6="O1",$BB$6="O2"),Sorts!AY138,"")) -> X | KX5: =IF(OR($AV$6="O1",$AV$6="O2",$AV$6="O3"),Sorts!AZ76,IF(OR($BB$6="O1",$BB$6="O2"),Sorts!AZ138,"")) -> X
B6: Race | D6: Demi-elfe | N6: Origine | AR6: Magicien | AV6: =IF(OR(Code_Classe=Classe!C7,Code_Classe=Classe!C11,Code_Classe=Classe!C33,Code_Classe=Classe!C34),"O1",IF(OR(Code_Classe=Classe!C19,Code_Classe=Classe!C20,Code_Classe=Classe!C25,Code_Classe=Classe!C26,Code_Classe=Classe!C28,Code_Classe=Classe!C32,Code_Classe=Classe!C39,Code_Classe=Classe!C40),"O2",IF(Code_Classe=Classe!C37,"O3","N"))) -> O2 | AX6: Illusionniste | BB6: =IF(OR(Code_Classe=Classe!C12,Code_Classe=Classe!C35,Code_Classe=Classe!C36),"O1",IF(OR(Code_Classe=Classe!C21,Code_Classe=Classe!C29),"O2","N")) -> N | BD6: =IF(OR($D$7="MAGICIEN",$D$7="ILLUSIONISTE",$D$7="RANGER"),1,0) -> 0 | BJ6: C | BK6: : Ecrit & Connu ! | BQ6: E | BR6: : Ecrit | CB6: NC | CC6: : Non Connu | CS6: 3 | CT6: =IF($AV$4="O",Sorts!K6,IF($BB$4="O",Sorts!K30,"")) | DG6: 0 | DI6: =IF($AV$4="O",Sorts!L6,IF($BB$4="O",Sorts!L30,"")) | DL6: =IF($AV$4="O",Sorts!M6,IF($BB$4="O",Sorts!M30,"")) | DO6: =IF($AV$4="O",Sorts!N6,IF($BB$4="O",Sorts!N30,"")) | DP6: =IF($AV$4="O",Sorts!O6,IF($BB$4="O",Sorts!O30,"")) | DQ6: =IF($AV$4="O",Sorts!P6,IF($BB$4="O",Sorts!P30,"")) | DS6: NC | DU6: 3 | DV6: =IF(OR($AV$6="O1",$AV$6="O2",$AV$6="O3"),Sorts!K77,IF(OR($BB$6="O1",$BB$6="O2"),Sorts!K139,"")) -> Corde Enchantée | EI6: 0 | EK6: =IF(OR($AV$6="O1",$AV$6="O2",$AV$6="O3"),Sorts!L77,IF(OR($BB$6="O1",$BB$6="O2"),Sorts!L139,"")) -> T | EM6: =IF(OR($AV$6="O1",$AV$6="O2",$AV$6="O3"),Sorts!M77,IF(OR($BB$6="O1",$BB$6="O2"),Sorts!M139,"")) -> 2t/n | EP6: =IF(OR($AV$6="O1",$AV$6="O2",$AV$6="O3"),Sorts!N77,IF(OR($BB$6="O1",$BB$6="O2"),Sorts!N139,"")) -> X | EQ6: =IF(OR($AV$6="O1",$AV$6="O2",$AV$6="O3"),Sorts!O77,IF(OR($BB$6="O1",$BB$6="O2"),Sorts!O139,"")) -> X | ER6: =IF(OR($AV$6="O1",$AV$6="O2",$AV$6="O3"),Sorts!P77,IF(OR($BB$6="O1",$BB$6="O2"),Sorts!P139,"")) -> X | EU6: 3 | EV6: =IF($AV$4="O",Sorts!W6,IF($BB$4="O",Sorts!W30,"")) | FI6: 0 | FK6: =IF($AV$4="O",Sorts!X6,IF($BB$4="O",Sorts!X30,"")) | FN6: =IF($AV$4="O",Sorts!Y6,IF($BB$4="O",Sorts!Y30,"")) | FQ6: =IF($AV$4="O",Sorts!Z6,IF($BB$4="O",Sorts!Z30,"")) | FR6: =IF($AV$4="O",Sorts!AA6,IF($BB$4="O",Sorts!AA30,"")) | FS6: =IF($AV$4="O",Sorts!AB6,IF($BB$4="O",Sorts!AB30,"")) | FU6: NC | FW6: 3 | FX6: =IF(OR($AV$6="O1",$AV$6="O2",$AV$6="O3"),Sorts!W77,IF(OR($BB$6="O1",$BB$6="O2"),Sorts!W139,"")) -> Arme Enchantée | GK6: 0 | GM6: =IF(OR($AV$6="O1",$AV$6="O2",$AV$6="O3"),Sorts!X77,IF(OR($BB$6="O1",$BB$6="O2"),Sorts!X139,"")) -> T | GO6: =IF(OR($AV$6="O1",$AV$6="O2",$AV$6="O3"),Sorts!Y77,IF(OR($BB$6="O1",$BB$6="O2"),Sorts!Y139,"")) -> 5r/n | GR6: =IF(OR($AV$6="O1",$AV$6="O2",$AV$6="O3"),Sorts!Z77,IF(OR($BB$6="O1",$BB$6="O2"),Sorts!Z139,"")) -> X | GS6: =IF(OR($AV$6="O1",$AV$6="O2",$AV$6="O3"),Sorts!AA77,IF(OR($BB$6="O1",$BB$6="O2"),Sorts!AA139,"")) -> X | GT6: =IF(OR($AV$6="O1",$AV$6="O2",$AV$6="O3"),Sorts!AB77,IF(OR($BB$6="O1",$BB$6="O2"),Sorts!AB139,"")) -> X | GW6: 3 | GX6: =IF($AV$4="O",Sorts!AI6,IF($BB$4="O",Sorts!AI30,"")) | HK6: 0 | HM6: =IF($AV$4="O",Sorts!AJ6,IF($BB$4="O",Sorts!AJ30,"")) | HP6: =IF($AV$4="O",Sorts!AK6,IF($BB$4="O",Sorts!AK30,"")) | HS6: =IF($AV$4="O",Sorts!AL6,IF($BB$4="O",Sorts!AL30,"")) | HT6: =IF($AV$4="O",Sorts!AM6,IF($BB$4="O",Sorts!AM30,"")) | HU6: =IF($AV$4="O",Sorts!AN6,IF($BB$4="O",Sorts!AN30,"")) | HW6: NC | HY6: 3 | HZ6: =IF(OR($AV$6="O1",$AV$6="O2",$AV$6="O3"),Sorts!AI77,IF(OR($BB$6="O1",$BB$6="O2"),Sorts!AI139,"")) -> Chasseur Invisible | IM6: 0 | IO6: =IF(OR($AV$6="O1",$AV$6="O2",$AV$6="O3"),Sorts!AJ77,IF(OR($BB$6="O1",$BB$6="O2"),Sorts!AJ139,"")) -> 1'' | IQ6: =IF(OR($AV$6="O1",$AV$6="O2",$AV$6="O3"),Sorts!AK77,IF(OR($BB$6="O1",$BB$6="O2"),Sorts!AK139,"")) -> S | IT6: =IF(OR($AV$6="O1",$AV$6="O2",$AV$6="O3"),Sorts!AL77,IF(OR($BB$6="O1",$BB$6="O2"),Sorts!AL139,"")) -> X | IU6: =IF(OR($AV$6="O1",$AV$6="O2",$AV$6="O3"),Sorts!AM77,IF(OR($BB$6="O1",$BB$6="O2"),Sorts!AM139,"")) -> X | IV6: =IF(OR($AV$6="O1",$AV$6="O2",$AV$6="O3"),Sorts!AN77,IF(OR($BB$6="O1",$BB$6="O2"),Sorts!AN139,"")) -> X | JY6: NC | KA6: 3 | KB6: =IF(OR($AV$6="O1",$AV$6="O2",$AV$6="O3"),Sorts!AU77,IF(OR($BB$6="O1",$BB$6="O2"),Sorts!AU139,"")) -> Charme-Masse | KO6: 0 | KQ6: =IF(OR($AV$6="O1",$AV$6="O2",$AV$6="O3"),Sorts!AV77,IF(OR($BB$6="O1",$BB$6="O2"),Sorts!AV139,"")) -> 0,5''/n | KS6: =IF(OR($AV$6="O1",$AV$6="O2",$AV$6="O3"),Sorts!AW77,IF(OR($BB$6="O1",$BB$6="O2"),Sorts!AW139,"")) -> S | KV6: =IF(OR($AV$6="O1",$AV$6="O2",$AV$6="O3"),Sorts!AX77,IF(OR($BB$6="O1",$BB$6="O2"),Sorts!AX139,"")) -> X | KW6: =IF(OR($AV$6="O1",$AV$6="O2",$AV$6="O3"),Sorts!AY77,IF(OR($BB$6="O1",$BB$6="O2"),Sorts!AY139,"")) -> / | KX6: =IF(OR($AV$6="O1",$AV$6="O2",$AV$6="O3"),Sorts!AZ77,IF(OR($BB$6="O1",$BB$6="O2"),Sorts!AZ139,"")) -> /
B7: Classe | D7: Guerrier Magicien | N7: Titre | AR7: Niv 1 | AU7: {=+IF(AND($AV$6="N",$BB$6="N"),0,IF(AND($AV$6="O1",$BB$6="N"),INDEX(Niveau!$B$550:$N$586,NivC1+1,MATCH(Classe1,Niveau!$C$550:$N$550,0)+1),IF(AND($AV$6="O2",$BB$6="N"),INDEX(Niveau!$B$550:$N$586,NivC2+1,MATCH(Classe2,Niveau!$C$550:$N$550,0)+1),IF(AND($AV$6="O3",$BB$6="N"),INDEX(Niveau!$B$550:$N$586,NivC3+1,MATCH(Classe3,Niveau!$C$550:$N$550,0)+1),IF(AND($AV$6="N",$BB$6="O1"),INDEX(Niveau!$B$550:$N$586,NivC1+1,MATCH(Classe1,Niveau!$C$550:$N$550,0)+1),IF(AND($AV$6="N",$BB$6="O2"),INDEX(Niveau!$B$550:$N$586,NivC2+1,MATCH(Classe2,Niveau!$C$550:$N$550,0)+1)))))))} -> 2 | AW7: Niv 2 | AZ7: {=+IF(AND($AV$6="N",$BB$6="N"),0,IF(AND($AV$6="O1",$BB$6="N"),INDEX(Niveau!$B$588:$N$624,NivC1+1,MATCH(Classe1,Niveau!$C$588:$N$588,0)+1),IF(AND($AV$6="O2",$BB$6="N"),INDEX(Niveau!$B$588:$N$624,NivC2+1,MATCH(Classe2,Niveau!$C$588:$N$588,0)+1),IF(AND($AV$6="O3",$BB$6="N"),INDEX(Niveau!$B$588:$N$624,NivC3+1,MATCH(Classe3,Niveau!$C$588:$N$588,0)+1),IF(AND($AV$6="N",$BB$6="O1"),INDEX(Niveau!$B$588:$N$624,NivC1+1,MATCH(Classe1,Niveau!$C$588:$N$588,0)+1),IF(AND($AV$6="N",$BB$6="O2"),INDEX(Niveau!$B$588:$N$624,NivC2+1,MATCH(Classe2,Niveau!$C$588:$N$588,0)+1)))))))} -> 0 | BB7: Niv 3 | BE7: {=+IF(AND($AV$6="N",$BB$6="N"),0,IF(AND($AV$6="O1",$BB$6="N"),INDEX(Niveau!$B$626:$N$662,NivC1+1,MATCH(Classe1,Niveau!$C$626:$N$626,0)+1),IF(AND($AV$6="O2",$BB$6="N"),INDEX(Niveau!$B$626:$N$662,NivC2+1,MATCH(Classe2,Niveau!$C$626:$N$626,0)+1),IF(AND($AV$6="O3",$BB$6="N"),INDEX(Niveau!$B$626:$N$662,NivC3+1,MATCH(Classe3,Niveau!$C$626:$N$626,0)+1),IF(AND($AV$6="N",$BB$6="O1"),INDEX(Niveau!$B$626:$N$662,NivC1+1,MATCH(Classe1,Niveau!$C$626:$N$626,0)+1),IF(AND($AV$6="N",$BB$6="O2"),INDEX(Niveau!$B$626:$N$662,NivC2+1,MATCH(Classe2,Niveau!$C$626:$N$626,0)+1)))))))} -> 0 | BG7: Niv 4 | BJ7: {=+IF(AND($AV$6="N",$BB$6="N"),0,IF(AND($AV$6="O1",$BB$6="N"),INDEX(Niveau!$B$664:$N$700,NivC1+1,MATCH(Classe1,Niveau!$C$664:$N$664,0)+1),IF(AND($AV$6="O2",$BB$6="N"),INDEX(Niveau!$B$664:$N$700,NivC2+1,MATCH(Classe2,Niveau!$C$664:$N$664,0)+1),IF(AND($AV$6="O3",$BB$6="N"),INDEX(Niveau!$B$664:$N$700,NivC3+1,MATCH(Classe3,Niveau!$C$664:$N$664,0)+1),IF(AND($AV$6="N",$BB$6="O1"),INDEX(Niveau!$B$664:$N$700,NivC1+1,MATCH(Classe1,Niveau!$C$664:$N$664,0)+1),IF(AND($AV$6="N",$BB$6="O2"),INDEX(Niveau!$B$664:$N$700,NivC2+1,MATCH(Classe2,Niveau!$C$664:$N$664,0)+1)))))))} -> 0 | BL7: Niv 5 | BO7: {=+IF(AND($AV$6="N",$BB$6="N"),0,IF(AND($AV$6="O1",$BB$6="N"),INDEX(Niveau!$B$702:$N$738,NivC1+1,MATCH(Classe1,Niveau!$C$702:$N$702,0)+1),IF(AND($AV$6="O2",$BB$6="N"),INDEX(Niveau!$B$702:$N$738,NivC2+1,MATCH(Classe2,Niveau!$C$702:$N$702,0)+1),IF(AND($AV$6="O3",$BB$6="N"),INDEX(Niveau!$B$702:$N$738,NivC3+1,MATCH(Classe3,Niveau!$C$702:$N$702,0)+1),IF(AND($AV$6="N",$BB$6="O1"),INDEX(Niveau!$B$702:$N$738,NivC1+1,MATCH(Classe1,Niveau!$C$702:$N$702,0)+1),IF(AND($AV$6="N",$BB$6="O2"),INDEX(Niveau!$B$702:$N$738,NivC2+1,MATCH(Classe2,Niveau!$C$702:$N$702,0)+1)))))))} -> 0 | BQ7: Niv 6 | BT7: {=+IF(AND($AV$6="N",$BB$6="N"),0,IF(AND($AV$6="O1",$BB$6="N"),INDEX(Niveau!$B$740:$N$776,NivC1+1,MATCH(Classe1,Niveau!$C$740:$N$740,0)+1),IF(AND($AV$6="O2",$BB$6="N"),INDEX(Niveau!$B$740:$N$776,NivC2+1,MATCH(Classe2,Niveau!$C$740:$N$740,0)+1),IF(AND($AV$6="O3",$BB$6="N"),INDEX(Niveau!$B$740:$N$776,NivC3+1,MATCH(Classe3,Niveau!$C$740:$N$740,0)+1),IF(AND($AV$6="N",$BB$6="O1"),INDEX(Niveau!$B$740:$N$776,NivC1+1,MATCH(Classe1,Niveau!$C$740:$N$740,0)+1),IF(AND($AV$6="N",$BB$6="O2"),INDEX(Niveau!$B$740:$N$776,NivC2+1,MATCH(Classe2,Niveau!$C$740:$N$740,0)+1)))))))} -> 0 | BV7: Niv 7 | BY7: {=+IF(AND($AV$6="N",$BB$6="N"),0,IF(AND($AV$6="O1",$BB$6="N"),INDEX(Niveau!$B$778:$N$814,NivC1+1,MATCH(Classe1,Niveau!$C$778:$N$778,0)+1),IF(AND($AV$6="O2",$BB$6="N"),INDEX(Niveau!$B$778:$N$814:$N$776,NivC2+1,MATCH(Classe2,Niveau!$C$778:$N$778,0)+1),IF(AND($AV$6="O3",$BB$6="N"),INDEX(Niveau!$B$778:$N$814,NivC3+1,MATCH(Classe3,Niveau!$C$778:$N$778,0)+1),IF(AND($AV$6="N",$BB$6="O1"),INDEX(Niveau!$B$778:$N$814,NivC1+1,MATCH(Classe1,Niveau!$C$778:$N$778,0)+1),IF(AND($AV$6="N",$BB$6="O2"),INDEX(Niveau!$B$778:$N$814,NivC2+1,MATCH(Classe2,Niveau!$C$778:$N$778,0)+1)))))))} -> #VALUE! | CA7: Niv 8 | CD7: {=+IF(AND($AV$6="N",$BB$6="N"),0,IF(AND($AV$6="O1",$BB$6="N"),INDEX(Niveau!$B$816:$N$852,NivC1+1,MATCH(Classe1,Niveau!$C$816:$N$816,0)+1),IF(AND($AV$6="O2",$BB$6="N"),INDEX(Niveau!$B$816:$N$852,NivC2+1,MATCH(Classe2,Niveau!$C$816:$N$816,0)+1),IF(AND($AV$6="O3",$BB$6="N"),INDEX(Niveau!$B$816:$N$852,NivC3+1,MATCH(Classe3,Niveau!$C$816:$N$816,0)+1),IF(AND($AV$6="N",$BB$6="O1"),INDEX(Niveau!$B$816:$N$852,NivC1+1,MATCH(Classe1,Niveau!$C$816:$N$816,0)+1),IF(AND($AV$6="N",$BB$6="O2"),INDEX(Niveau!$B$816:$N$852,NivC2+1,MATCH(Classe2,Niveau!$C$816:$N$816,0)+1)))))))} -> 0 | CF7: Niv 9 | CI7: {=+IF(AND($AV$6="N",$BB$6="N"),0,IF(AND($AV$6="O1",$BB$6="N"),INDEX(Niveau!$B$854:$N$890,NivC1+1,MATCH(Classe1,Niveau!$C$854:$N$854,0)+1),IF(AND($AV$6="O2",$BB$6="N"),INDEX(Niveau!$B$854:$N$890,NivC2+1,MATCH(Classe2,Niveau!$C$854:$N$854,0)+1),IF(AND($AV$6="O3",$BB$6="N"),INDEX(Niveau!$B$854:$N$890,NivC3+1,MATCH(Classe3,Niveau!$C$854:$N$854,0)+1),IF(AND($AV$6="N",$BB$6="O1"),INDEX(Niveau!$B$854:$N$890,NivC1+1,MATCH(Classe1,Niveau!$C$854:$N$854,0)+1),IF(AND($AV$6="N",$BB$6="O2"),INDEX(Niveau!$B$854:$N$890,NivC2+1,MATCH(Classe2,Niveau!$C$854:$N$854,0)+1)))))))} -> 0 | CS7: 4 | CT7: =IF($AV$4="O",Sorts!K7,IF($BB$4="O",Sorts!K31,"")) | DG7: 0 | DI7: =IF($AV$4="O",Sorts!L7,IF($BB$4="O",Sorts!L31,"")) | DL7: =IF($AV$4="O",Sorts!M7,IF($BB$4="O",Sorts!M31,"")) | DO7: =IF($AV$4="O",Sorts!N7,IF($BB$4="O",Sorts!N31,"")) | DP7: =IF($AV$4="O",Sorts!O7,IF($BB$4="O",Sorts!O31,"")) | DQ7: =IF($AV$4="O",Sorts!P7,IF($BB$4="O",Sorts!P31,"")) | DS7: NC | DU7: 4 | DV7: =IF(OR($AV$6="O1",$AV$6="O2",$AV$6="O3"),Sorts!K78,IF(OR($BB$6="O1",$BB$6="O2"),Sorts!K140,"")) -> Détection de l’Invisibilité | EI7: 0 | EK7: =IF(OR($AV$6="O1",$AV$6="O2",$AV$6="O3"),Sorts!L78,IF(OR($BB$6="O1",$BB$6="O2"),Sorts!L140,"")) -> 1''/n | EM7: =IF(OR($AV$6="O1",$AV$6="O2",$AV$6="O3"),Sorts!M78,IF(OR($BB$6="O1",$BB$6="O2"),Sorts!M140,"")) -> 5r/n | EP7: =IF(OR($AV$6="O1",$AV$6="O2",$AV$6="O3"),Sorts!N78,IF(OR($BB$6="O1",$BB$6="O2"),Sorts!N140,"")) -> X | EQ7: =IF(OR($AV$6="O1",$AV$6="O2",$AV$6="O3"),Sorts!O78,IF(OR($BB$6="O1",$BB$6="O2"),Sorts!O140,"")) -> X | ER7: =IF(OR($AV$6="O1",$AV$6="O2",$AV$6="O3"),Sorts!P78,IF(OR($BB$6="O1",$BB$6="O2"),Sorts!P140,"")) -> X | EU7: 4 | EV7: =IF($AV$4="O",Sorts!W7,IF($BB$4="O",Sorts!W31,"")) | FI7: 0 | FK7: =IF($AV$4="O",Sorts!X7,IF($BB$4="O",Sorts!X31,"")) | FN7: =IF($AV$4="O",Sorts!Y7,IF($BB$4="O",Sorts!Y31,"")) | FQ7: =IF($AV$4="O",Sorts!Z7,IF($BB$4="O",Sorts!Z31,"")) | FR7: =IF($AV$4="O",Sorts!AA7,IF($BB$4="O",Sorts!AA31,"")) | FS7: =IF($AV$4="O",Sorts!AB7,IF($BB$4="O",Sorts!AB31,"")) | FU7: NC | FW7: 4 | FX7: =IF(OR($AV$6="O1",$AV$6="O2",$AV$6="O3"),Sorts!W78,IF(OR($BB$6="O1",$BB$6="O2"),Sorts!W140,"")) -> Autométamorphose | GK7: 0 | GM7: =IF(OR($AV$6="O1",$AV$6="O2",$AV$6="O3"),Sorts!X78,IF(OR($BB$6="O1",$BB$6="O2"),Sorts!X140,"")) -> 0 | GO7: =IF(OR($AV$6="O1",$AV$6="O2",$AV$6="O3"),Sorts!Y78,IF(OR($BB$6="O1",$BB$6="O2"),Sorts!Y140,"")) -> 2t/n | GR7: =IF(OR($AV$6="O1",$AV$6="O2",$AV$6="O3"),Sorts!Z78,IF(OR($BB$6="O1",$BB$6="O2"),Sorts!Z140,"")) -> X | GS7: =IF(OR($AV$6="O1",$AV$6="O2",$AV$6="O3"),Sorts!AA78,IF(OR($BB$6="O1",$BB$6="O2"),Sorts!AA140,"")) -> / | GT7: =IF(OR($AV$6="O1",$AV$6="O2",$AV$6="O3"),Sorts!AB78,IF(OR($BB$6="O1",$BB$6="O2"),Sorts!AB140,"")) -> / | GW7: 4 | GX7: =IF($AV$4="O",Sorts!AI7,IF($BB$4="O",Sorts!AI31,"")) | HK7: 0 | HM7: =IF($AV$4="O",Sorts!AJ7,IF($BB$4="O",Sorts!AJ31,"")) | HP7: =IF($AV$4="O",Sorts!AK7,IF($BB$4="O",Sorts!AK31,"")) | HS7: =IF($AV$4="O",Sorts!AL7,IF($BB$4="O",Sorts!AL31,"")) | HT7: =IF($AV$4="O",Sorts!AM7,IF($BB$4="O",Sorts!AM31,"")) | HU7: =IF($AV$4="O",Sorts!AN7,IF($BB$4="O",Sorts!AN31,"")) | HW7: NC | HY7: 4 | HZ7: =IF(OR($AV$6="O1",$AV$6="O2",$AV$6="O3"),Sorts!AI78,IF(OR($BB$6="O1",$BB$6="O2"),Sorts!AI140,"")) -> Contingence | IM7: 0 | IO7: =IF(OR($AV$6="O1",$AV$6="O2",$AV$6="O3"),Sorts!AJ78,IF(OR($BB$6="O1",$BB$6="O2"),Sorts!AJ140,"")) -> 0 | IQ7: =IF(OR($AV$6="O1",$AV$6="O2",$AV$6="O3"),Sorts!AK78,IF(OR($BB$6="O1",$BB$6="O2"),Sorts!AK140,"")) -> 1j/n | IT7: =IF(OR($AV$6="O1",$AV$6="O2",$AV$6="O3"),Sorts!AL78,IF(OR($BB$6="O1",$BB$6="O2"),Sorts!AL140,"")) -> X | IU7: =IF(OR($AV$6="O1",$AV$6="O2",$AV$6="O3"),Sorts!AM78,IF(OR($BB$6="O1",$BB$6="O2"),Sorts!AM140,"")) -> X | IV7: =IF(OR($AV$6="O1",$AV$6="O2",$AV$6="O3"),Sorts!AN78,IF(OR($BB$6="O1",$BB$6="O2"),Sorts!AN140,"")) -> X | JY7: NC | KA7: 4 | KB7: =IF(OR($AV$6="O1",$AV$6="O2",$AV$6="O3"),Sorts!AU78,IF(OR($BB$6="O1",$BB$6="O2"),Sorts!AU140,"")) -> Clone | KO7: 0 | KQ7: =IF(OR($AV$6="O1",$AV$6="O2",$AV$6="O3"),Sorts!AV78,IF(OR($BB$6="O1",$BB$6="O2"),Sorts!AV140,"")) -> T | KS7: =IF(OR($AV$6="O1",$AV$6="O2",$AV$6="O3"),Sorts!AW78,IF(OR($BB$6="O1",$BB$6="O2"),Sorts!AW140,"")) -> P | KV7: =IF(OR($AV$6="O1",$AV$6="O2",$AV$6="O3"),Sorts!AX78,IF(OR($BB$6="O1",$BB$6="O2"),Sorts!AX140,"")) -> X | KW7: =IF(OR($AV$6="O1",$AV$6="O2",$AV$6="O3"),Sorts!AY78,IF(OR($BB$6="O1",$BB$6="O2"),Sorts!AY140,"")) -> X | KX7: =IF(OR($AV$6="O1",$AV$6="O2",$AV$6="O3"),Sorts!AZ78,IF(OR($BB$6="O1",$BB$6="O2"),Sorts!AZ140,"")) -> X
B8: Talent | D8: Maçon/Charpentier | J8: Sexe | L8: F | N8: Dieu | AQ8: Sortilèges de Niveau 1 | CS8: 5 | CT8: =IF($AV$4="O",Sorts!K8,IF($BB$4="O",Sorts!K32,"")) | DG8: 0 | DI8: =IF($AV$4="O",Sorts!L8,IF($BB$4="O",Sorts!L32,"")) | DL8: =IF($AV$4="O",Sorts!M8,IF($BB$4="O",Sorts!M32,"")) | DO8: =IF($AV$4="O",Sorts!N8,IF($BB$4="O",Sorts!N32,"")) | DP8: =IF($AV$4="O",Sorts!O8,IF($BB$4="O",Sorts!O32,"")) | DQ8: =IF($AV$4="O",Sorts!P8,IF($BB$4="O",Sorts!P32,"")) | DS8: NC | DU8: 5 | DV8: =IF(OR($AV$6="O1",$AV$6="O2",$AV$6="O3"),Sorts!K79,IF(OR($BB$6="O1",$BB$6="O2"),Sorts!K141,"")) -> Détection du Mal | EI8: 0 | EK8: =IF(OR($AV$6="O1",$AV$6="O2",$AV$6="O3"),Sorts!L79,IF(OR($BB$6="O1",$BB$6="O2"),Sorts!L141,"")) -> 6'' | EM8: =IF(OR($AV$6="O1",$AV$6="O2",$AV$6="O3"),Sorts!M79,IF(OR($BB$6="O1",$BB$6="O2"),Sorts!M141,"")) -> 5r/n | EP8: =IF(OR($AV$6="O1",$AV$6="O2",$AV$6="O3"),Sorts!N79,IF(OR($BB$6="O1",$BB$6="O2"),Sorts!N141,"")) -> X | EQ8: =IF(OR($AV$6="O1",$AV$6="O2",$AV$6="O3"),Sorts!O79,IF(OR($BB$6="O1",$BB$6="O2"),Sorts!O141,"")) -> X | ER8: =IF(OR($AV$6="O1",$AV$6="O2",$AV$6="O3"),Sorts!P79,IF(OR($BB$6="O1",$BB$6="O2"),Sorts!P141,"")) -> / | EU8: 5 | EV8: =IF($AV$4="O",Sorts!W8,IF($BB$4="O",Sorts!W32,"")) | FI8: 0 | FK8: =IF($AV$4="O",Sorts!X8,IF($BB$4="O",Sorts!X32,"")) | FN8: =IF($AV$4="O",Sorts!Y8,IF($BB$4="O",Sorts!Y32,"")) | FQ8: =IF($AV$4="O",Sorts!Z8,IF($BB$4="O",Sorts!Z32,"")) | FR8: =IF($AV$4="O",Sorts!AA8,IF($BB$4="O",Sorts!AA32,"")) | FS8: =IF($AV$4="O",Sorts!AB8,IF($BB$4="O",Sorts!AB32,"")) | FU8: NC | FW8: 5 | FX8: =IF(OR($AV$6="O1",$AV$6="O2",$AV$6="O3"),Sorts!W79,IF(OR($BB$6="O1",$BB$6="O2"),Sorts!W141,"")) -> Bouclier de Feu | GK8: 0 | GM8: =IF(OR($AV$6="O1",$AV$6="O2",$AV$6="O3"),Sorts!X79,IF(OR($BB$6="O1",$BB$6="O2"),Sorts!X141,"")) -> 0 | GO8: =IF(OR($AV$6="O1",$AV$6="O2",$AV$6="O3"),Sorts!Y79,IF(OR($BB$6="O1",$BB$6="O2"),Sorts!Y141,"")) -> 2r+1/n | GR8: =IF(OR($AV$6="O1",$AV$6="O2",$AV$6="O3"),Sorts!Z79,IF(OR($BB$6="O1",$BB$6="O2"),Sorts!Z141,"")) -> X | GS8: =IF(OR($AV$6="O1",$AV$6="O2",$AV$6="O3"),Sorts!AA79,IF(OR($BB$6="O1",$BB$6="O2"),Sorts!AA141,"")) -> X | GT8: =IF(OR($AV$6="O1",$AV$6="O2",$AV$6="O3"),Sorts!AB79,IF(OR($BB$6="O1",$BB$6="O2"),Sorts!AB141,"")) -> X | GW8: 5 | GX8: =IF($AV$4="O",Sorts!AI8,IF($BB$4="O",Sorts!AI32,"")) | HK8: 0 | HM8: =IF($AV$4="O",Sorts!AJ8,IF($BB$4="O",Sorts!AJ32,"")) | HP8: =IF($AV$4="O",Sorts!AK8,IF($BB$4="O",Sorts!AK32,"")) | HS8: =IF($AV$4="O",Sorts!AL8,IF($BB$4="O",Sorts!AL32,"")) | HT8: =IF($AV$4="O",Sorts!AM8,IF($BB$4="O",Sorts!AM32,"")) | HU8: =IF($AV$4="O",Sorts!AN8,IF($BB$4="O",Sorts!AN32,"")) | HW8: NC | HY8: 5 | HZ8: =IF(OR($AV$6="O1",$AV$6="O2",$AV$6="O3"),Sorts!AI79,IF(OR($BB$6="O1",$BB$6="O2"),Sorts!AI141,"")) -> Contrôle du Climat | IM8: 0 | IO8: =IF(OR($AV$6="O1",$AV$6="O2",$AV$6="O3"),Sorts!AJ79,IF(OR($BB$6="O1",$BB$6="O2"),Sorts!AJ141,"")) -> 0 | IQ8: =IF(OR($AV$6="O1",$AV$6="O2",$AV$6="O3"),Sorts!AK79,IF(OR($BB$6="O1",$BB$6="O2"),Sorts!AK141,"")) -> 4-24h | IT8: =IF(OR($AV$6="O1",$AV$6="O2",$AV$6="O3"),Sorts!AL79,IF(OR($BB$6="O1",$BB$6="O2"),Sorts!AL141,"")) -> X | IU8: =IF(OR($AV$6="O1",$AV$6="O2",$AV$6="O3"),Sorts!AM79,IF(OR($BB$6="O1",$BB$6="O2"),Sorts!AM141,"")) -> X | IV8: =IF(OR($AV$6="O1",$AV$6="O2",$AV$6="O3"),Sorts!AN79,IF(OR($BB$6="O1",$BB$6="O2"),Sorts!AN141,"")) -> X | JY8: NC | KA8: 5 | KB8: =IF(OR($AV$6="O1",$AV$6="O2",$AV$6="O3"),Sorts!AU79,IF(OR($BB$6="O1",$BB$6="O2"),Sorts!AU141,"")) -> Cristairin | KO8: 0 | KQ8: =IF(OR($AV$6="O1",$AV$6="O2",$AV$6="O3"),Sorts!AV79,IF(OR($BB$6="O1",$BB$6="O2"),Sorts!AV141,"")) -> T | KS8: =IF(OR($AV$6="O1",$AV$6="O2",$AV$6="O3"),Sorts!AW79,IF(OR($BB$6="O1",$BB$6="O2"),Sorts!AW141,"")) -> P | KV8: =IF(OR($AV$6="O1",$AV$6="O2",$AV$6="O3"),Sorts!AX79,IF(OR($BB$6="O1",$BB$6="O2"),Sorts!AX141,"")) -> X | KW8: =IF(OR($AV$6="O1",$AV$6="O2",$AV$6="O3"),Sorts!AY79,IF(OR($BB$6="O1",$BB$6="O2"),Sorts!AY141,"")) -> X | KX8: =IF(OR($AV$6="O1",$AV$6="O2",$AV$6="O3"),Sorts!AZ79,IF(OR($BB$6="O1",$BB$6="O2"),Sorts!AZ141,"")) -> X
B9: Nom du joueur : | G9: Date de création : | AQ9: # | AR9: Nom du sortilège Clerc / Druide | BE9: =SUM(BE10:BE49) -> 0 | BF9: M | BG9: Portée | BJ9: Durée | BM9: V | BN9: S | BO9: M | BQ9: =COUNTIF(BQ10:BR49,"C") -> 0 | BR9: C | BS9: # | BT9: Nom du sortilège Magicien / Illusioniste | CG9: =SUM(CG10:CG49) -> 0 | CH9: M | CI9: Portée | CL9: Durée | CN9: V | CO9: S | CP9: M | CS9: 6 | CT9: =IF($AV$4="O",Sorts!K9,IF($BB$4="O",Sorts!K33,"")) | DG9: 0 | DI9: =IF($AV$4="O",Sorts!L9,IF($BB$4="O",Sorts!L33,"")) | DL9: =IF($AV$4="O",Sorts!M9,IF($BB$4="O",Sorts!M33,"")) | DO9: =IF($AV$4="O",Sorts!N9,IF($BB$4="O",Sorts!N33,"")) | DP9: =IF($AV$4="O",Sorts!O9,IF($BB$4="O",Sorts!O33,"")) | DQ9: =IF($AV$4="O",Sorts!P9,IF($BB$4="O",Sorts!P33,"")) | DS9: NC | DU9: 6 | DV9: =IF(OR($AV$6="O1",$AV$6="O2",$AV$6="O3"),Sorts!K80,IF(OR($BB$6="O1",$BB$6="O2"),Sorts!K142,"")) -> ESP | EI9: 0 | EK9: =IF(OR($AV$6="O1",$AV$6="O2",$AV$6="O3"),Sorts!L80,IF(OR($BB$6="O1",$BB$6="O2"),Sorts!L142,"")) -> 0,5''/n | EM9: =IF(OR($AV$6="O1",$AV$6="O2",$AV$6="O3"),Sorts!M80,IF(OR($BB$6="O1",$BB$6="O2"),Sorts!M142,"")) -> 1r/n | EP9: =IF(OR($AV$6="O1",$AV$6="O2",$AV$6="O3"),Sorts!N80,IF(OR($BB$6="O1",$BB$6="O2"),Sorts!N142,"")) -> X | EQ9: =IF(OR($AV$6="O1",$AV$6="O2",$AV$6="O3"),Sorts!O80,IF(OR($BB$6="O1",$BB$6="O2"),Sorts!O142,"")) -> X | ER9: =IF(OR($AV$6="O1",$AV$6="O2",$AV$6="O3"),Sorts!P80,IF(OR($BB$6="O1",$BB$6="O2"),Sorts!P142,"")) -> X | EU9: 6 | EV9: =IF($AV$4="O",Sorts!W9,IF($BB$4="O",Sorts!W33,"")) | FI9: 0 | FK9: =IF($AV$4="O",Sorts!X9,IF($BB$4="O",Sorts!X33,"")) | FN9: =IF($AV$4="O",Sorts!Y9,IF($BB$4="O",Sorts!Y33,"")) | FQ9: =IF($AV$4="O",Sorts!Z9,IF($BB$4="O",Sorts!Z33,"")) | FR9: =IF($AV$4="O",Sorts!AA9,IF($BB$4="O",Sorts!AA33,"")) | FS9: =IF($AV$4="O",Sorts!AB9,IF($BB$4="O",Sorts!AB33,"")) | FU9: NC | FW9: 6 | FX9: =IF(OR($AV$6="O1",$AV$6="O2",$AV$6="O3"),Sorts!W80,IF(OR($BB$6="O1",$BB$6="O2"),Sorts!W142,"")) -> Charme-Monstres | GK9: 0 | GM9: =IF(OR($AV$6="O1",$AV$6="O2",$AV$6="O3"),Sorts!X80,IF(OR($BB$6="O1",$BB$6="O2"),Sorts!X142,"")) -> 6'' | GO9: =IF(OR($AV$6="O1",$AV$6="O2",$AV$6="O3"),Sorts!Y80,IF(OR($BB$6="O1",$BB$6="O2"),Sorts!Y142,"")) -> S | GR9: =IF(OR($AV$6="O1",$AV$6="O2",$AV$6="O3"),Sorts!Z80,IF(OR($BB$6="O1",$BB$6="O2"),Sorts!Z142,"")) -> X | GS9: =IF(OR($AV$6="O1",$AV$6="O2",$AV$6="O3"),Sorts!AA80,IF(OR($BB$6="O1",$BB$6="O2"),Sorts!AA142,"")) -> X | GT9: =IF(OR($AV$6="O1",$AV$6="O2",$AV$6="O3"),Sorts!AB80,IF(OR($BB$6="O1",$BB$6="O2"),Sorts!AB142,"")) -> / | GW9: 6 | GX9: =IF($AV$4="O",Sorts!AI9,IF($BB$4="O",Sorts!AI33,"")) | HK9: 0 | HM9: =IF($AV$4="O",Sorts!AJ9,IF($BB$4="O",Sorts!AJ33,"")) | HP9: =IF($AV$4="O",Sorts!AK9,IF($BB$4="O",Sorts!AK33,"")) | HS9: =IF($AV$4="O",Sorts!AL9,IF($BB$4="O",Sorts!AL33,"")) | HT9: =IF($AV$4="O",Sorts!AM9,IF($BB$4="O",Sorts!AM33,"")) | HU9: =IF($AV$4="O",Sorts!AN9,IF($BB$4="O",Sorts!AN33,"")) | HW9: NC | HY9: 6 | HZ9: =IF(OR($AV$6="O1",$AV$6="O2",$AV$6="O3"),Sorts!AI80,IF(OR($BB$6="O1",$BB$6="O2"),Sorts!AI142,"")) -> Désintégration | IM9: 0 | IO9: =IF(OR($AV$6="O1",$AV$6="O2",$AV$6="O3"),Sorts!AJ80,IF(OR($BB$6="O1",$BB$6="O2"),Sorts!AJ142,"")) -> 0,5''/n | IQ9: =IF(OR($AV$6="O1",$AV$6="O2",$AV$6="O3"),Sorts!AK80,IF(OR($BB$6="O1",$BB$6="O2"),Sorts!AK142,"")) -> P | IT9: =IF(OR($AV$6="O1",$AV$6="O2",$AV$6="O3"),Sorts!AL80,IF(OR($BB$6="O1",$BB$6="O2"),Sorts!AL142,"")) -> X | IU9: =IF(OR($AV$6="O1",$AV$6="O2",$AV$6="O3"),Sorts!AM80,IF(OR($BB$6="O1",$BB$6="O2"),Sorts!AM142,"")) -> X | IV9: =IF(OR($AV$6="O1",$AV$6="O2",$AV$6="O3"),Sorts!AN80,IF(OR($BB$6="O1",$BB$6="O2"),Sorts!AN142,"")) -> X | JY9: NC | KA9: 6 | KB9: =IF(OR($AV$6="O1",$AV$6="O2",$AV$6="O3"),Sorts!AU80,IF(OR($BB$6="O1",$BB$6="O2"),Sorts!AU142,"")) -> Danse Irrésistible d’Otto | KO9: 0 | KQ9: =IF(OR($AV$6="O1",$AV$6="O2",$AV$6="O3"),Sorts!AV80,IF(OR($BB$6="O1",$BB$6="O2"),Sorts!AV142,"")) -> T | KS9: =IF(OR($AV$6="O1",$AV$6="O2",$AV$6="O3"),Sorts!AW80,IF(OR($BB$6="O1",$BB$6="O2"),Sorts!AW142,"")) -> 1d4+1r | KV9: =IF(OR($AV$6="O1",$AV$6="O2",$AV$6="O3"),Sorts!AX80,IF(OR($BB$6="O1",$BB$6="O2"),Sorts!AX142,"")) -> X | KW9: =IF(OR($AV$6="O1",$AV$6="O2",$AV$6="O3"),Sorts!AY80,IF(OR($BB$6="O1",$BB$6="O2"),Sorts!AY142,"")) -> / | KX9: =IF(OR($AV$6="O1",$AV$6="O2",$AV$6="O3"),Sorts!AZ80,IF(OR($BB$6="O1",$BB$6="O2"),Sorts!AZ142,"")) -> /
AQ10: 1 | AR10: =IF($AV$4="O",Sorts!E4,IF($BB$4="O",Sorts!E28,"")) | BE10: 0 | BG10: =IF($AV$4="O",Sorts!F4,IF($BB$4="O",Sorts!F28,"")) | BJ10: =IF($AV$4="O",Sorts!G4,IF($BB$4="O",Sorts!G28,"")) | BM10: =IF($AV$4="O",Sorts!H4,IF($BB$4="O",Sorts!H28,"")) | BN10: =IF($AV$4="O",Sorts!I4,IF($BB$4="O",Sorts!I28,"")) | BO10: =IF($AV$4="O",Sorts!J4,IF($BB$4="O",Sorts!J28,"")) | BQ10: NC | BS10: 1 | BT10: =IF(OR($AV$6="O1",$AV$6="O2",$AV$6="O3"),Sorts!E75,IF(OR($BB$6="O1",$BB$6="O2"),Sorts!E137,"")) -> Agrandissement | CG10: 0 | CI10: =IF(OR($AV$6="O1",$AV$6="O2",$AV$6="O3"),Sorts!F75,IF(OR($BB$6="O1",$BB$6="O2"),Sorts!F137,"")) -> 0 | CK10: =IF(OR($AV$6="O1",$AV$6="O2",$AV$6="O3"),Sorts!G75,IF(OR($BB$6="O1",$BB$6="O2"),Sorts!G137,"")) -> 1t/n | CN10: =IF(OR($AV$6="O1",$AV$6="O2",$AV$6="O3"),Sorts!H75,IF(OR($BB$6="O1",$BB$6="O2"),Sorts!H137,"")) -> X | CO10: =IF(OR($AV$6="O1",$AV$6="O2",$AV$6="O3"),Sorts!I75,IF(OR($BB$6="O1",$BB$6="O2"),Sorts!I137,"")) -> X | CP10: =IF(OR($AV$6="O1",$AV$6="O2",$AV$6="O3"),Sorts!J75,IF(OR($BB$6="O1",$BB$6="O2"),Sorts!J137,"")) -> X | CS10: 7 | CT10: =IF($AV$4="O",Sorts!K10,IF($BB$4="O",Sorts!K34,"")) | DG10: 0 | DI10: =IF($AV$4="O",Sorts!L10,IF($BB$4="O",Sorts!L34,"")) | DL10: =IF($AV$4="O",Sorts!M10,IF($BB$4="O",Sorts!M34,"")) | DO10: =IF($AV$4="O",Sorts!N10,IF($BB$4="O",Sorts!N34,"")) | DP10: =IF($AV$4="O",Sorts!O10,IF($BB$4="O",Sorts!O34,"")) | DQ10: =IF($AV$4="O",Sorts!P10,IF($BB$4="O",Sorts!P34,"")) | DS10: NC | DU10: 7 | DV10: =IF(OR($AV$6="O1",$AV$6="O2",$AV$6="O3"),Sorts!K81,IF(OR($BB$6="O1",$BB$6="O2"),Sorts!K143,"")) -> Flèche Acide de Melf | EI10: 0 | EK10: =IF(OR($AV$6="O1",$AV$6="O2",$AV$6="O3"),Sorts!L81,IF(OR($BB$6="O1",$BB$6="O2"),Sorts!L143,"")) -> 3'' | EM10: =IF(OR($AV$6="O1",$AV$6="O2",$AV$6="O3"),Sorts!M81,IF(OR($BB$6="O1",$BB$6="O2"),Sorts!M143,"")) -> S | EP10: =IF(OR($AV$6="O1",$AV$6="O2",$AV$6="O3"),Sorts!N81,IF(OR($BB$6="O1",$BB$6="O2"),Sorts!N143,"")) -> X | EQ10: =IF(OR($AV$6="O1",$AV$6="O2",$AV$6="O3"),Sorts!O81,IF(OR($BB$6="O1",$BB$6="O2"),Sorts!O143,"")) -> X | ER10: =IF(OR($AV$6="O1",$AV$6="O2",$AV$6="O3"),Sorts!P81,IF(OR($BB$6="O1",$BB$6="O2"),Sorts!P143,"")) -> X | EU10: 7 | EV10: =IF($AV$4="O",Sorts!W10,IF($BB$4="O",Sorts!W34,"")) | FI10: 0 | FK10: =IF($AV$4="O",Sorts!X10,IF($BB$4="O",Sorts!X34,"")) | FN10: =IF($AV$4="O",Sorts!Y10,IF($BB$4="O",Sorts!Y34,"")) | FQ10: =IF($AV$4="O",Sorts!Z10,IF($BB$4="O",Sorts!Z34,"")) | FR10: =IF($AV$4="O",Sorts!AA10,IF($BB$4="O",Sorts!AA34,"")) | FS10: =IF($AV$4="O",Sorts!AB10,IF($BB$4="O",Sorts!AB34,"")) | FU10: NC | FW10: 7 | FX10: =IF(OR($AV$6="O1",$AV$6="O2",$AV$6="O3"),Sorts!W81,IF(OR($BB$6="O1",$BB$6="O2"),Sorts!W143,"")) -> Confusion | GK10: 0 | GM10: =IF(OR($AV$6="O1",$AV$6="O2",$AV$6="O3"),Sorts!X81,IF(OR($BB$6="O1",$BB$6="O2"),Sorts!X143,"")) -> 12'' | GO10: =IF(OR($AV$6="O1",$AV$6="O2",$AV$6="O3"),Sorts!Y81,IF(OR($BB$6="O1",$BB$6="O2"),Sorts!Y143,"")) -> 2r+1/n | GR10: =IF(OR($AV$6="O1",$AV$6="O2",$AV$6="O3"),Sorts!Z81,IF(OR($BB$6="O1",$BB$6="O2"),Sorts!Z143,"")) -> X | GS10: =IF(OR($AV$6="O1",$AV$6="O2",$AV$6="O3"),Sorts!AA81,IF(OR($BB$6="O1",$BB$6="O2"),Sorts!AA143,"")) -> / | GT10: =IF(OR($AV$6="O1",$AV$6="O2",$AV$6="O3"),Sorts!AB81,IF(OR($BB$6="O1",$BB$6="O2"),Sorts!AB143,"")) -> / | GW10: 7 | GX10: =IF($AV$4="O",Sorts!AI10,IF($BB$4="O",Sorts!AI34,"")) | HK10: 0 | HM10: =IF($AV$4="O",Sorts!AJ10,IF($BB$4="O",Sorts!AJ34,"")) | HP10: =IF($AV$4="O",Sorts!AK10,IF($BB$4="O",Sorts!AK34,"")) | HS10: =IF($AV$4="O",Sorts!AL10,IF($BB$4="O",Sorts!AL34,"")) | HT10: =IF($AV$4="O",Sorts!AM10,IF($BB$4="O",Sorts!AM34,"")) | HU10: =IF($AV$4="O",Sorts!AN10,IF($BB$4="O",Sorts!AN34,"")) | HW10: NC | HY10: 7 | HZ10: =IF(OR($AV$6="O1",$AV$6="O2",$AV$6="O3"),Sorts!AI81,IF(OR($BB$6="O1",$BB$6="O2"),Sorts!AI143,"")) -> Élucubration de Mordenkainen | IM10: 0 | IO10: =IF(OR($AV$6="O1",$AV$6="O2",$AV$6="O3"),Sorts!AJ81,IF(OR($BB$6="O1",$BB$6="O2"),Sorts!AJ143,"")) -> 0 | IQ10: =IF(OR($AV$6="O1",$AV$6="O2",$AV$6="O3"),Sorts!AK81,IF(OR($BB$6="O1",$BB$6="O2"),Sorts!AK143,"")) -> I | IT10: =IF(OR($AV$6="O1",$AV$6="O2",$AV$6="O3"),Sorts!AL81,IF(OR($BB$6="O1",$BB$6="O2"),Sorts!AL143,"")) -> X | IU10: =IF(OR($AV$6="O1",$AV$6="O2",$AV$6="O3"),Sorts!AM81,IF(OR($BB$6="O1",$BB$6="O2"),Sorts!AM143,"")) -> X | IV10: =IF(OR($AV$6="O1",$AV$6="O2",$AV$6="O3"),Sorts!AN81,IF(OR($BB$6="O1",$BB$6="O2"),Sorts!AN143,"")) -> / | JY10: NC | KA10: 7 | KB10: =IF(OR($AV$6="O1",$AV$6="O2",$AV$6="O3"),Sorts!AU81,IF(OR($BB$6="O1",$BB$6="O2"),Sorts!AU143,"")) -> Emprisonnement de l’Âme | KO10: 0 | KQ10: =IF(OR($AV$6="O1",$AV$6="O2",$AV$6="O3"),Sorts!AV81,IF(OR($BB$6="O1",$BB$6="O2"),Sorts!AV143,"")) -> 1'' | KS10: =IF(OR($AV$6="O1",$AV$6="O2",$AV$6="O3"),Sorts!AW81,IF(OR($BB$6="O1",$BB$6="O2"),Sorts!AW143,"")) -> P | KV10: =IF(OR($AV$6="O1",$AV$6="O2",$AV$6="O3"),Sorts!AX81,IF(OR($BB$6="O1",$BB$6="O2"),Sorts!AX143,"")) -> X | KW10: =IF(OR($AV$6="O1",$AV$6="O2",$AV$6="O3"),Sorts!AY81,IF(OR($BB$6="O1",$BB$6="O2"),Sorts!AY143,"")) -> X | KX10: =IF(OR($AV$6="O1",$AV$6="O2",$AV$6="O3"),Sorts!AZ81,IF(OR($BB$6="O1",$BB$6="O2"),Sorts!AZ143,"")) -> X
B11: 12 | E11: FOR | G11: Toucher | I11: =IF($D$12=0,VLOOKUP(FOR,Caractéristiques!$B$2:$H$27,2,FALSE),VLOOKUP('Joueur 1'!$D$11,Caractéristiques!$B$29:$H$130,2,FALSE)) -> 0 | K11: Dégats | M11: =IF($D$12=0,VLOOKUP(FOR,Caractéristiques!$B$2:$H$27,3,FALSE),VLOOKUP('Joueur 1'!$D$11,Caractéristiques!$B$29:$H$130,3,FALSE)) -> 0 | O11: Ajust | Q11: =IF($D$12=0,VLOOKUP(FOR,Caractéristiques!$B$2:$H$27,4,FALSE),VLOOKUP('Joueur 1'!$D$11,Caractéristiques!$B$29:$H$130,4,FALSE)) -> 100 | S11: Ouvert | U11: =IF($D$12=0,VLOOKUP(FOR,Caractéristiques!$B$2:$H$27,5,FALSE),VLOOKUP('Joueur 1'!$D$11,Caractéristiques!$B$29:$H$130,5,FALSE)) -> 1 - 2 | W11: Torsion | Y11: =IF($D$12=0,VLOOKUP(FOR,Caractéristiques!$B$2:$H$27,7,FALSE),VLOOKUP('Joueur 1'!$D$11,Caractéristiques!$B$29:$H$130,7,FALSE)) -> 0.04 | AB11: VITESSE | AF11: EXPERIENCE | AN11: Code classe | AO11: =VLOOKUP(D7,Classe!B4:C40,2,FALSE) -> 25 | AQ11: 2 | AR11: =IF($AV$4="O",Sorts!E5,IF($BB$4="O",Sorts!E29,"")) | BE11: 0 | BG11: =IF($AV$4="O",Sorts!F5,IF($BB$4="O",Sorts!F29,"")) | BJ11: =IF($AV$4="O",Sorts!G5,IF($BB$4="O",Sorts!G29,"")) | BM11: =IF($AV$4="O",Sorts!H5,IF($BB$4="O",Sorts!H29,"")) | BN11: =IF($AV$4="O",Sorts!I5,IF($BB$4="O",Sorts!I29,"")) | BO11: =IF($AV$4="O",Sorts!J5,IF($BB$4="O",Sorts!J29,"")) | BQ11: NC | BS11: 2 | BT11: =IF(OR($AV$6="O1",$AV$6="O2",$AV$6="O3"),Sorts!E76,IF(OR($BB$6="O1",$BB$6="O2"),Sorts!E138,"")) -> Alarme | CG11: 0 | CI11: =IF(OR($AV$6="O1",$AV$6="O2",$AV$6="O3"),Sorts!F76,IF(OR($BB$6="O1",$BB$6="O2"),Sorts!F138,"")) -> 1’’ | CK11: =IF(OR($AV$6="O1",$AV$6="O2",$AV$6="O3"),Sorts!G76,IF(OR($BB$6="O1",$BB$6="O2"),Sorts!G138,"")) -> 2-8t+1t/n | CN11: =IF(OR($AV$6="O1",$AV$6="O2",$AV$6="O3"),Sorts!H76,IF(OR($BB$6="O1",$BB$6="O2"),Sorts!H138,"")) -> X | CO11: =IF(OR($AV$6="O1",$AV$6="O2",$AV$6="O3"),Sorts!I76,IF(OR($BB$6="O1",$BB$6="O2"),Sorts!I138,"")) -> X | CP11: =IF(OR($AV$6="O1",$AV$6="O2",$AV$6="O3"),Sorts!J76,IF(OR($BB$6="O1",$BB$6="O2"),Sorts!J138,"")) -> X | CS11: 8 | CT11: =IF($AV$4="O",Sorts!K11,IF($BB$4="O",Sorts!K35,"")) | DG11: 0 | DI11: =IF($AV$4="O",Sorts!L11,IF($BB$4="O",Sorts!L35,"")) | DL11: =IF($AV$4="O",Sorts!M11,IF($BB$4="O",Sorts!M35,"")) | DO11: =IF($AV$4="O",Sorts!N11,IF($BB$4="O",Sorts!N35,"")) | DP11: =IF($AV$4="O",Sorts!O11,IF($BB$4="O",Sorts!O35,"")) | DQ11: =IF($AV$4="O",Sorts!P11,IF($BB$4="O",Sorts!P35,"")) | DS11: NC | DU11: 8 | DV11: =IF(OR($AV$6="O1",$AV$6="O2",$AV$6="O3"),Sorts!K82,IF(OR($BB$6="O1",$BB$6="O2"),Sorts!K144,"")) -> Force | EI11: 0 | EK11: =IF(OR($AV$6="O1",$AV$6="O2",$AV$6="O3"),Sorts!L82,IF(OR($BB$6="O1",$BB$6="O2"),Sorts!L144,"")) -> T | EM11: =IF(OR($AV$6="O1",$AV$6="O2",$AV$6="O3"),Sorts!M82,IF(OR($BB$6="O1",$BB$6="O2"),Sorts!M144,"")) -> 6t/n | EP11: =IF(OR($AV$6="O1",$AV$6="O2",$AV$6="O3"),Sorts!N82,IF(OR($BB$6="O1",$BB$6="O2"),Sorts!N144,"")) -> X | EQ11: =IF(OR($AV$6="O1",$AV$6="O2",$AV$6="O3"),Sorts!O82,IF(OR($BB$6="O1",$BB$6="O2"),Sorts!O144,"")) -> X | ER11: =IF(OR($AV$6="O1",$AV$6="O2",$AV$6="O3"),Sorts!P82,IF(OR($BB$6="O1",$BB$6="O2"),Sorts!P144,"")) -> X | EU11: 8 | EV11: =IF($AV$4="O",Sorts!W11,IF($BB$4="O",Sorts!W35,"")) | FI11: 0 | FK11: =IF($AV$4="O",Sorts!X11,IF($BB$4="O",Sorts!X35,"")) | FN11: =IF($AV$4="O",Sorts!Y11,IF($BB$4="O",Sorts!Y35,"")) | FQ11: =IF($AV$4="O",Sorts!Z11,IF($BB$4="O",Sorts!Z35,"")) | FR11: =IF($AV$4="O",Sorts!AA11,IF($BB$4="O",Sorts!AA35,"")) | FS11: =IF($AV$4="O",Sorts!AB11,IF($BB$4="O",Sorts!AB35,"")) | FU11: NC | FW11: 8 | FX11: =IF(OR($AV$6="O1",$AV$6="O2",$AV$6="O3"),Sorts!W82,IF(OR($BB$6="O1",$BB$6="O2"),Sorts!W144,"")) -> Cri | GK11: 0 | GM11: =IF(OR($AV$6="O1",$AV$6="O2",$AV$6="O3"),Sorts!X82,IF(OR($BB$6="O1",$BB$6="O2"),Sorts!X144,"")) -> 0 | GO11: =IF(OR($AV$6="O1",$AV$6="O2",$AV$6="O3"),Sorts!Y82,IF(OR($BB$6="O1",$BB$6="O2"),Sorts!Y144,"")) -> I | GR11: =IF(OR($AV$6="O1",$AV$6="O2",$AV$6="O3"),Sorts!Z82,IF(OR($BB$6="O1",$BB$6="O2"),Sorts!Z144,"")) -> X | GS11: =IF(OR($AV$6="O1",$AV$6="O2",$AV$6="O3"),Sorts!AA82,IF(OR($BB$6="O1",$BB$6="O2"),Sorts!AA144,"")) -> / | GT11: =IF(OR($AV$6="O1",$AV$6="O2",$AV$6="O3"),Sorts!AB82,IF(OR($BB$6="O1",$BB$6="O2"),Sorts!AB144,"")) -> X | GW11: 8 | GX11: =IF($AV$4="O",Sorts!AI11,IF($BB$4="O",Sorts!AI35,"")) | HK11: 0 | HM11: =IF($AV$4="O",Sorts!AJ11,IF($BB$4="O",Sorts!AJ35,"")) | HP11: =IF($AV$4="O",Sorts!AK11,IF($BB$4="O",Sorts!AK35,"")) | HS11: =IF($AV$4="O",Sorts!AL11,IF($BB$4="O",Sorts!AL35,"")) | HT11: =IF($AV$4="O",Sorts!AM11,IF($BB$4="O",Sorts!AM35,"")) | HU11: =IF($AV$4="O",Sorts!AN11,IF($BB$4="O",Sorts!AN35,"")) | HW11: NC | HY11: 8 | HZ11: =IF(OR($AV$6="O1",$AV$6="O2",$AV$6="O3"),Sorts!AI82,IF(OR($BB$6="O1",$BB$6="O2"),Sorts!AI144,"")) -> Enchaînement d’Éclairs | IM11: 0 | IO11: =IF(OR($AV$6="O1",$AV$6="O2",$AV$6="O3"),Sorts!AJ82,IF(OR($BB$6="O1",$BB$6="O2"),Sorts!AJ144,"")) -> 4''+0,5/n | IQ11: =IF(OR($AV$6="O1",$AV$6="O2",$AV$6="O3"),Sorts!AK82,IF(OR($BB$6="O1",$BB$6="O2"),Sorts!AK144,"")) -> I | IT11: =IF(OR($AV$6="O1",$AV$6="O2",$AV$6="O3"),Sorts!AL82,IF(OR($BB$6="O1",$BB$6="O2"),Sorts!AL144,"")) -> X | IU11: =IF(OR($AV$6="O1",$AV$6="O2",$AV$6="O3"),Sorts!AM82,IF(OR($BB$6="O1",$BB$6="O2"),Sorts!AM144,"")) -> X | IV11: =IF(OR($AV$6="O1",$AV$6="O2",$AV$6="O3"),Sorts!AN82,IF(OR($BB$6="O1",$BB$6="O2"),Sorts!AN144,"")) -> X | JY11: NC | KA11: 8 | KB11: =IF(OR($AV$6="O1",$AV$6="O2",$AV$6="O3"),Sorts!AU82,IF(OR($BB$6="O1",$BB$6="O2"),Sorts!AU144,"")) -> Ensevelissement | KO11: 0 | KQ11: =IF(OR($AV$6="O1",$AV$6="O2",$AV$6="O3"),Sorts!AV82,IF(OR($BB$6="O1",$BB$6="O2"),Sorts!AV144,"")) -> 1''/n | KS11: =IF(OR($AV$6="O1",$AV$6="O2",$AV$6="O3"),Sorts!AW82,IF(OR($BB$6="O1",$BB$6="O2"),Sorts!AW144,"")) -> S | KV11: =IF(OR($AV$6="O1",$AV$6="O2",$AV$6="O3"),Sorts!AX82,IF(OR($BB$6="O1",$BB$6="O2"),Sorts!AX144,"")) -> X | KW11: =IF(OR($AV$6="O1",$AV$6="O2",$AV$6="O3"),Sorts!AY82,IF(OR($BB$6="O1",$BB$6="O2"),Sorts!AY144,"")) -> X | KX11: =IF(OR($AV$6="O1",$AV$6="O2",$AV$6="O3"),Sorts!AZ82,IF(OR($BB$6="O1",$BB$6="O2"),Sorts!AZ144,"")) -> X
D12: =IF(OR(Classe1="Guerrier",Classe1="Ranger",Classe1="Paladin",Classe1="Barbare",Classe1="Cavalier",Classe2="Guerrier",Classe2="Ranger")*AND($B$11=18),1,0) -> 0 | O12: Poids | S12: portes | W12: Barreaux | AB12: =IF(Code_Classe=14,VLOOKUP(NivC1,Classe!B43:D60,3),MIN(36,(VLOOKUP($D$26,'Armures-Armes'!B3:D14,3,FALSE))-N26))&" m" -> 12 m | AF12: =VLOOKUP(Code_Classe,Classe!C4:F40,2,FALSE) -> Guerrier | AK12: Bonus 10% si : | AL12: {=INDEX(Classe!$C$3:$S$40,Code_Classe+1,17)} -> Aucun | AQ12: 3 | AR12: =IF($AV$4="O",Sorts!E6,IF($BB$4="O",Sorts!E30,"")) | BE12: 0 | BG12: =IF($AV$4="O",Sorts!F6,IF($BB$4="O",Sorts!F30,"")) | BJ12: =IF($AV$4="O",Sorts!G6,IF($BB$4="O",Sorts!G30,"")) | BM12: =IF($AV$4="O",Sorts!H6,IF($BB$4="O",Sorts!H30,"")) | BN12: =IF($AV$4="O",Sorts!I6,IF($BB$4="O",Sorts!I30,"")) | BO12: =IF($AV$4="O",Sorts!J6,IF($BB$4="O",Sorts!J30,"")) | BQ12: NC | BS12: 3 | BT12: =IF(OR($AV$6="O1",$AV$6="O2",$AV$6="O3"),Sorts!E77,IF(OR($BB$6="O1",$BB$6="O2"),Sorts!E139,"")) -> Altération des Feux Normaux | CG12: 0 | CI12: =IF(OR($AV$6="O1",$AV$6="O2",$AV$6="O3"),Sorts!F77,IF(OR($BB$6="O1",$BB$6="O2"),Sorts!F139,"")) -> 0,5’’/n | CK12: =IF(OR($AV$6="O1",$AV$6="O2",$AV$6="O3"),Sorts!G77,IF(OR($BB$6="O1",$BB$6="O2"),Sorts!G139,"")) -> 1r/n | CN12: =IF(OR($AV$6="O1",$AV$6="O2",$AV$6="O3"),Sorts!H77,IF(OR($BB$6="O1",$BB$6="O2"),Sorts!H139,"")) -> X | CO12: =IF(OR($AV$6="O1",$AV$6="O2",$AV$6="O3"),Sorts!I77,IF(OR($BB$6="O1",$BB$6="O2"),Sorts!I139,"")) -> X | CP12: =IF(OR($AV$6="O1",$AV$6="O2",$AV$6="O3"),Sorts!J77,IF(OR($BB$6="O1",$BB$6="O2"),Sorts!J139,"")) -> / | CS12: 9 | CT12: =IF($AV$4="O",Sorts!K12,IF($BB$4="O",Sorts!K36,"")) | DG12: 0 | DI12: =IF($AV$4="O",Sorts!L12,IF($BB$4="O",Sorts!L36,"")) | DL12: =IF($AV$4="O",Sorts!M12,IF($BB$4="O",Sorts!M36,"")) | DO12: =IF($AV$4="O",Sorts!N12,IF($BB$4="O",Sorts!N36,"")) | DP12: =IF($AV$4="O",Sorts!O12,IF($BB$4="O",Sorts!O36,"")) | DQ12: =IF($AV$4="O",Sorts!P12,IF($BB$4="O",Sorts!P36,"")) | DS12: NC | DU12: 9 | DV12: =IF(OR($AV$6="O1",$AV$6="O2",$AV$6="O3"),Sorts!K83,IF(OR($BB$6="O1",$BB$6="O2"),Sorts!K145,"")) -> Fouet | EI12: 0 | EK12: =IF(OR($AV$6="O1",$AV$6="O2",$AV$6="O3"),Sorts!L83,IF(OR($BB$6="O1",$BB$6="O2"),Sorts!L145,"")) -> 1'' | EM12: =IF(OR($AV$6="O1",$AV$6="O2",$AV$6="O3"),Sorts!M83,IF(OR($BB$6="O1",$BB$6="O2"),Sorts!M145,"")) -> 1r/n | EP12: =IF(OR($AV$6="O1",$AV$6="O2",$AV$6="O3"),Sorts!N83,IF(OR($BB$6="O1",$BB$6="O2"),Sorts!N145,"")) -> X | EQ12: =IF(OR($AV$6="O1",$AV$6="O2",$AV$6="O3"),Sorts!O83,IF(OR($BB$6="O1",$BB$6="O2"),Sorts!O145,"")) -> X | ER12: =IF(OR($AV$6="O1",$AV$6="O2",$AV$6="O3"),Sorts!P83,IF(OR($BB$6="O1",$BB$6="O2"),Sorts!P145,"")) -> X | EU12: 9 | EV12: =IF($AV$4="O",Sorts!W12,IF($BB$4="O",Sorts!W36,"")) | FI12: 0 | FK12: =IF($AV$4="O",Sorts!X12,IF($BB$4="O",Sorts!X36,"")) | FN12: =IF($AV$4="O",Sorts!Y12,IF($BB$4="O",Sorts!Y36,"")) | FQ12: =IF($AV$4="O",Sorts!Z12,IF($BB$4="O",Sorts!Z36,"")) | FR12: =IF($AV$4="O",Sorts!AA12,IF($BB$4="O",Sorts!AA36,"")) | FS12: =IF($AV$4="O",Sorts!AB12,IF($BB$4="O",Sorts!AB36,"")) | FU12: NC | FW12: 9 | FX12: =IF(OR($AV$6="O1",$AV$6="O2",$AV$6="O3"),Sorts!W83,IF(OR($BB$6="O1",$BB$6="O2"),Sorts!W145,"")) -> Désenvoûtement | GK12: 0 | GM12: =IF(OR($AV$6="O1",$AV$6="O2",$AV$6="O3"),Sorts!X83,IF(OR($BB$6="O1",$BB$6="O2"),Sorts!X145,"")) -> T | GO12: =IF(OR($AV$6="O1",$AV$6="O2",$AV$6="O3"),Sorts!Y83,IF(OR($BB$6="O1",$BB$6="O2"),Sorts!Y145,"")) -> P | GR12: =IF(OR($AV$6="O1",$AV$6="O2",$AV$6="O3"),Sorts!Z83,IF(OR($BB$6="O1",$BB$6="O2"),Sorts!Z145,"")) -> X | GS12: =IF(OR($AV$6="O1",$AV$6="O2",$AV$6="O3"),Sorts!AA83,IF(OR($BB$6="O1",$BB$6="O2"),Sorts!AA145,"")) -> / | GT12: =IF(OR($AV$6="O1",$AV$6="O2",$AV$6="O3"),Sorts!AB83,IF(OR($BB$6="O1",$BB$6="O2"),Sorts!AB145,"")) -> / | GW12: 9 | GX12: =IF($AV$4="O",Sorts!AI12,IF($BB$4="O",Sorts!AI36,"")) | HK12: 0 | HM12: =IF($AV$4="O",Sorts!AJ12,IF($BB$4="O",Sorts!AJ36,"")) | HP12: =IF($AV$4="O",Sorts!AK12,IF($BB$4="O",Sorts!AK36,"")) | HS12: =IF($AV$4="O",Sorts!AL12,IF($BB$4="O",Sorts!AL36,"")) | HT12: =IF($AV$4="O",Sorts!AM12,IF($BB$4="O",Sorts!AM36,"")) | HU12: =IF($AV$4="O",Sorts!AN12,IF($BB$4="O",Sorts!AN36,"")) | HW12: NC | HY12: 9 | HZ12: =IF(OR($AV$6="O1",$AV$6="O2",$AV$6="O3"),Sorts!AI83,IF(OR($BB$6="O1",$BB$6="O2"),Sorts!AI145,"")) -> Enchantement | IM12: 0 | IO12: =IF(OR($AV$6="O1",$AV$6="O2",$AV$6="O3"),Sorts!AJ83,IF(OR($BB$6="O1",$BB$6="O2"),Sorts!AJ145,"")) -> T | IQ12: =IF(OR($AV$6="O1",$AV$6="O2",$AV$6="O3"),Sorts!AK83,IF(OR($BB$6="O1",$BB$6="O2"),Sorts!AK145,"")) -> S | IT12: =IF(OR($AV$6="O1",$AV$6="O2",$AV$6="O3"),Sorts!AL83,IF(OR($BB$6="O1",$BB$6="O2"),Sorts!AL145,"")) -> X | IU12: =IF(OR($AV$6="O1",$AV$6="O2",$AV$6="O3"),Sorts!AM83,IF(OR($BB$6="O1",$BB$6="O2"),Sorts!AM145,"")) -> X | IV12: =IF(OR($AV$6="O1",$AV$6="O2",$AV$6="O3"),Sorts!AN83,IF(OR($BB$6="O1",$BB$6="O2"),Sorts!AN145,"")) -> X | JY12: NC | KA12: 9 | KB12: =IF(OR($AV$6="O1",$AV$6="O2",$AV$6="O3"),Sorts!AU83,IF(OR($BB$6="O1",$BB$6="O2"),Sorts!AU145,"")) -> Immunité Magique de Serten | KO12: 0 | KQ12: =IF(OR($AV$6="O1",$AV$6="O2",$AV$6="O3"),Sorts!AV83,IF(OR($BB$6="O1",$BB$6="O2"),Sorts!AV145,"")) -> T | KS12: =IF(OR($AV$6="O1",$AV$6="O2",$AV$6="O3"),Sorts!AW83,IF(OR($BB$6="O1",$BB$6="O2"),Sorts!AW145,"")) -> 1t/n | KV12: =IF(OR($AV$6="O1",$AV$6="O2",$AV$6="O3"),Sorts!AX83,IF(OR($BB$6="O1",$BB$6="O2"),Sorts!AX145,"")) -> X | KW12: =IF(OR($AV$6="O1",$AV$6="O2",$AV$6="O3"),Sorts!AY83,IF(OR($BB$6="O1",$BB$6="O2"),Sorts!AY145,"")) -> X | KX12: =IF(OR($AV$6="O1",$AV$6="O2",$AV$6="O3"),Sorts!AZ83,IF(OR($BB$6="O1",$BB$6="O2"),Sorts!AZ145,"")) -> X
B13: 12 | E13: INT | G13: Lang | I13: =VLOOKUP(INT,Caractéristiques!$B$133:$F$160,2,FALSE) -> 3 | K13: Know | M13: =VLOOKUP(INT,Caractéristiques!$B$133:$F$160,3,FALSE) -> 0.45 | O13: Sorts | Q13: =VLOOKUP(INT,Caractéristiques!$B$133:$F$160,4,FALSE) -> 5 | S13: Sorts | U13: =VLOOKUP(INT,Caractéristiques!$B$133:$F$160,5,FALSE) -> 7 | AF13: XP MIN | AH13: =INDEX(Niveau!$A$511:$Q$547,NivC1+1,MATCH(Classe1,Niveau!$B$511:$Q$511,0)+1) -> 4001 | AK13: Pts Exp | AN13: Niveau | AQ13: 4 | AR13: =IF($AV$4="O",Sorts!E7,IF($BB$4="O",Sorts!E31,"")) | BE13: 0 | BG13: =IF($AV$4="O",Sorts!F7,IF($BB$4="O",Sorts!F31,"")) | BJ13: =IF($AV$4="O",Sorts!G7,IF($BB$4="O",Sorts!G31,"")) | BM13: =IF($AV$4="O",Sorts!H7,IF($BB$4="O",Sorts!H31,"")) | BN13: =IF($AV$4="O",Sorts!I7,IF($BB$4="O",Sorts!I31,"")) | BO13: =IF($AV$4="O",Sorts!J7,IF($BB$4="O",Sorts!J31,"")) | BQ13: NC | BS13: 4 | BT13: =IF(OR($AV$6="O1",$AV$6="O2",$AV$6="O3"),Sorts!E78,IF(OR($BB$6="O1",$BB$6="O2"),Sorts!E140,"")) -> Amitié | CG13: 0 | CI13: =IF(OR($AV$6="O1",$AV$6="O2",$AV$6="O3"),Sorts!F78,IF(OR($BB$6="O1",$BB$6="O2"),Sorts!F140,"")) -> 0 | CK13: =IF(OR($AV$6="O1",$AV$6="O2",$AV$6="O3"),Sorts!G78,IF(OR($BB$6="O1",$BB$6="O2"),Sorts!G140,"")) -> 1r/n | CN13: =IF(OR($AV$6="O1",$AV$6="O2",$AV$6="O3"),Sorts!H78,IF(OR($BB$6="O1",$BB$6="O2"),Sorts!H140,"")) -> X | CO13: =IF(OR($AV$6="O1",$AV$6="O2",$AV$6="O3"),Sorts!I78,IF(OR($BB$6="O1",$BB$6="O2"),Sorts!I140,"")) -> X | CP13: =IF(OR($AV$6="O1",$AV$6="O2",$AV$6="O3"),Sorts!J78,IF(OR($BB$6="O1",$BB$6="O2"),Sorts!J140,"")) -> X | CS13: 10 | CT13: =IF($AV$4="O",Sorts!K13,IF($BB$4="O",Sorts!K37,"")) | DG13: 0 | DI13: =IF($AV$4="O",Sorts!L13,IF($BB$4="O",Sorts!L37,"")) | DL13: =IF($AV$4="O",Sorts!M13,IF($BB$4="O",Sorts!M37,"")) | DO13: =IF($AV$4="O",Sorts!N13,IF($BB$4="O",Sorts!N37,"")) | DP13: =IF($AV$4="O",Sorts!O13,IF($BB$4="O",Sorts!O37,"")) | DQ13: =IF($AV$4="O",Sorts!P13,IF($BB$4="O",Sorts!P37,"")) | DS13: NC | DU13: 10 | DV13: =IF(OR($AV$6="O1",$AV$6="O2",$AV$6="O3"),Sorts!K84,IF(OR($BB$6="O1",$BB$6="O2"),Sorts!K146,"")) -> Fracassement | EI13: 0 | EK13: =IF(OR($AV$6="O1",$AV$6="O2",$AV$6="O3"),Sorts!L84,IF(OR($BB$6="O1",$BB$6="O2"),Sorts!L146,"")) -> 6'' | EM13: =IF(OR($AV$6="O1",$AV$6="O2",$AV$6="O3"),Sorts!M84,IF(OR($BB$6="O1",$BB$6="O2"),Sorts!M146,"")) -> P | EP13: =IF(OR($AV$6="O1",$AV$6="O2",$AV$6="O3"),Sorts!N84,IF(OR($BB$6="O1",$BB$6="O2"),Sorts!N146,"")) -> X | EQ13: =IF(OR($AV$6="O1",$AV$6="O2",$AV$6="O3"),Sorts!O84,IF(OR($BB$6="O1",$BB$6="O2"),Sorts!O146,"")) -> X | ER13: =IF(OR($AV$6="O1",$AV$6="O2",$AV$6="O3"),Sorts!P84,IF(OR($BB$6="O1",$BB$6="O2"),Sorts!P146,"")) -> X | EU13: 10 | EV13: =IF($AV$4="O",Sorts!W13,IF($BB$4="O",Sorts!W37,"")) | FI13: 0 | FK13: =IF($AV$4="O",Sorts!X13,IF($BB$4="O",Sorts!X37,"")) | FN13: =IF($AV$4="O",Sorts!Y13,IF($BB$4="O",Sorts!Y37,"")) | FQ13: =IF($AV$4="O",Sorts!Z13,IF($BB$4="O",Sorts!Z37,"")) | FR13: =IF($AV$4="O",Sorts!AA13,IF($BB$4="O",Sorts!AA37,"")) | FS13: =IF($AV$4="O",Sorts!AB13,IF($BB$4="O",Sorts!AB37,"")) | FU13: NC | FW13: 10 | FX13: =IF(OR($AV$6="O1",$AV$6="O2",$AV$6="O3"),Sorts!W84,IF(OR($BB$6="O1",$BB$6="O2"),Sorts!W146,"")) -> Dissipation des Illusions | GK13: 0 | GM13: =IF(OR($AV$6="O1",$AV$6="O2",$AV$6="O3"),Sorts!X84,IF(OR($BB$6="O1",$BB$6="O2"),Sorts!X146,"")) -> 0,5''/n | GO13: =IF(OR($AV$6="O1",$AV$6="O2",$AV$6="O3"),Sorts!Y84,IF(OR($BB$6="O1",$BB$6="O2"),Sorts!Y146,"")) -> P | GR13: =IF(OR($AV$6="O1",$AV$6="O2",$AV$6="O3"),Sorts!Z84,IF(OR($BB$6="O1",$BB$6="O2"),Sorts!Z146,"")) -> X | GS13: =IF(OR($AV$6="O1",$AV$6="O2",$AV$6="O3"),Sorts!AA84,IF(OR($BB$6="O1",$BB$6="O2"),Sorts!AA146,"")) -> / | GT13: =IF(OR($AV$6="O1",$AV$6="O2",$AV$6="O3"),Sorts!AB84,IF(OR($BB$6="O1",$BB$6="O2"),Sorts!AB146,"")) -> / | GW13: 10 | GX13: =IF($AV$4="O",Sorts!AI13,IF($BB$4="O",Sorts!AI37,"")) | HK13: 0 | HM13: =IF($AV$4="O",Sorts!AJ13,IF($BB$4="O",Sorts!AJ37,"")) | HP13: =IF($AV$4="O",Sorts!AK13,IF($BB$4="O",Sorts!AK37,"")) | HS13: =IF($AV$4="O",Sorts!AL13,IF($BB$4="O",Sorts!AL37,"")) | HT13: =IF($AV$4="O",Sorts!AM13,IF($BB$4="O",Sorts!AM37,"")) | HU13: =IF($AV$4="O",Sorts!AN13,IF($BB$4="O",Sorts!AN37,"")) | HW13: NC | HY13: 10 | HZ13: =IF(OR($AV$6="O1",$AV$6="O2",$AV$6="O3"),Sorts!AI84,IF(OR($BB$6="O1",$BB$6="O2"),Sorts!AI146,"")) -> Extension III | IM13: 0 | IO13: =IF(OR($AV$6="O1",$AV$6="O2",$AV$6="O3"),Sorts!AJ84,IF(OR($BB$6="O1",$BB$6="O2"),Sorts!AJ146,"")) -> 0 | IQ13: =IF(OR($AV$6="O1",$AV$6="O2",$AV$6="O3"),Sorts!AK84,IF(OR($BB$6="O1",$BB$6="O2"),Sorts!AK146,"")) -> S | IT13: =IF(OR($AV$6="O1",$AV$6="O2",$AV$6="O3"),Sorts!AL84,IF(OR($BB$6="O1",$BB$6="O2"),Sorts!AL146,"")) -> X | IU13: =IF(OR($AV$6="O1",$AV$6="O2",$AV$6="O3"),Sorts!AM84,IF(OR($BB$6="O1",$BB$6="O2"),Sorts!AM146,"")) -> / | IV13: =IF(OR($AV$6="O1",$AV$6="O2",$AV$6="O3"),Sorts!AN84,IF(OR($BB$6="O1",$BB$6="O2"),Sorts!AN146,"")) -> / | JY13: NC | KA13: 10 | KB13: =IF(OR($AV$6="O1",$AV$6="O2",$AV$6="O3"),Sorts!AU84,IF(OR($BB$6="O1",$BB$6="O2"),Sorts!AU146,"")) -> Invocation de Monstre VI | KO13: 0 | KQ13: =IF(OR($AV$6="O1",$AV$6="O2",$AV$6="O3"),Sorts!AV84,IF(OR($BB$6="O1",$BB$6="O2"),Sorts!AV146,"")) -> 8'' | KS13: =IF(OR($AV$6="O1",$AV$6="O2",$AV$6="O3"),Sorts!AW84,IF(OR($BB$6="O1",$BB$6="O2"),Sorts!AW146,"")) -> 7r+1/n | KV13: =IF(OR($AV$6="O1",$AV$6="O2",$AV$6="O3"),Sorts!AX84,IF(OR($BB$6="O1",$BB$6="O2"),Sorts!AX146,"")) -> X | KW13: =IF(OR($AV$6="O1",$AV$6="O2",$AV$6="O3"),Sorts!AY84,IF(OR($BB$6="O1",$BB$6="O2"),Sorts!AY146,"")) -> X | KX13: =IF(OR($AV$6="O1",$AV$6="O2",$AV$6="O3"),Sorts!AZ84,IF(OR($BB$6="O1",$BB$6="O2"),Sorts!AZ146,"")) -> X
