Workbook
Name CB: #REF!
Name CHA: 'Joueur 1'!$B$21
Name Classe1: 'Joueur 1'!$AF$12
Name Classe2: 'Joueur 1'!$AF$16
Name Classe3: 'Joueur 1'!$AF$20
Name CM: #REF!
Name CN: #REF!
Name Code_Classe: 'Joueur 1'!$AO$11
Name CON: 'Joueur 1'!$B$19
Name DEX: 'Joueur 1'!$B$17
Name FOR: 'Joueur 1'!$B$11
Name INT: 'Joueur 1'!$B$13
Name LB: #REF!
Name liste_CB: #REF!
Name liste_CM: #REF!
Name liste_CN: #REF!
Name liste_LB: #REF!
Name liste_LM: #REF!
Name liste_LN: #REF!
Name liste_N: #REF!
Name liste_NB: #REF!
Name liste_NM: #REF!
Name LM: #REF!
Name LN: #REF!
Name maggo1: #REF!
Name maggo1: #REF!
Name maggo1: #REF!
Name maggo2: #REF!
Name maggo2: #REF!
Name maggo2: #REF!
Name N: #REF!
Name NB: #REF!
Name NivC1: 'Joueur 1'!$AN$14
Name NivC2: 'Joueur 1'!$AN$18
Name NivC3: 'Joueur 1'!$AN$22
Name NM: #REF!
Name RACE: 'Joueur 1'!$D$6
Name SAG: 'Joueur 1'!$B$15
Name Spec1: 'Joueur 1'!$AL$44
Name Spec2: 'Joueur 1'!$AL$45

Sheet EXPLICATIONS
A1: EXPLICATION SUR L'UTILISATION DE LA FEUILLE DE PERSONNAGE V6
A2: Cette feuille reprend quasiment toutes les informations présentes dans la feuille originale de AD&D.
A3: la feuille d'origine proposée sur le forum DDD m'a insité à pousser la réflexion et la diversité ; elle reste une feuille de calculs uniquement sans aucune macro
B4: Je conseille aussi de faire une sauvegarde de la feuille avant toute utilisation (on ne sait jamais lol),
B5: Je conseille de protéger la feuille pour éviter de dézinguer les calculs auto
A6: GAYAL
B8: NOUVEAUTES :
C9: * Information sur tous les sorts : Portée, Durée, Composantes
C10: * Gestion de toutes les races et classes AD&D : version DDD du Manuel Complet du Joueur 1-5 révision octobre 2020 -> | N10: Revue calcul de CA
C11: * Gestion multi-classes -> Apparition des niveaux et XP en fonction | N11: Revue des caractéristiques Moines
C12: * Liste déroulante des classes autorisées uniquement par la Race
C13: * Talents de voleur et Vadre-Retro affichés que si la classe le permet
C14: * Bonus d'attaque de "Prédilection Cavalier/Paladin" OK
C15: * Bonus "Spécialisation Guerrier" OK en simple Spéc
C16: * Traitement des Jets de Protection selon la meilleure classe, bonus Race intégrés MAIS bonus SAG vs. attaques mentales et DEX vs. Évitements non intégrés
B18: LISTE DES SAISIES MANUELLES :
C19: Toutes les Cellules en :
B21: LISTES DE CHOIX :
C22: Toutes les Cellules en :
B24: CALCULS :
C25: Toutes les Cellules en :
B27: BONUS CALCULES MAIS PAS SYSTEMATIQUES | G27: Bonus à appliquer selon le JP
C28: Toutes les Cellules en : | F28: 2 cases
B30: IMPRESSION : non vérifié … mais bon
C31: La feuille est paramétrée pour une impression pleine page en Recto/Verrso
B33: EN PROJET :
C34: * Gestion des compétences du Voleur Acrobate
C35: * Limitation en niveau de classes selon la Race races
C36: * Bonus Toucher des races dans la table de combat
C37: * Contrôle des caractériqtiques mini MAXI des Races

Sheet Joueur 1
AQ1: Sortilèges | CS1: Sortilèges | EU1: Sortilèges | GW1: Sortilèges | IY1: Sortilèges
B2: BOB | N2: Age | S2: Peau | Y2: Description / Apparence | AQ2: Nombre maximum de sorts autorisés | CS2: Sortilèges de Niveau 2 | EU2: Sortilèges de Niveau 4 | GW2: Sortilèges de Niveau 6 | IY2: Sortilèges de Niveau 8
N3: Taille | S3: Yeux | CS3: # | CT3: Nom du sortilège Clerc / Druide | DG3: =SUM(DG4:DG39) -> 0 | DH3: M | DI3: Portée | DL3: Durée | DO3: V | DP3: S | DQ3: M | DS3: =COUNTIF(DS4:DT39,"C") -> 0 | DT3: C | DU3: # | DV3: Nom du sortilège Magicien / Illusionniste | EI3: =SUM(EI4:EI43) -> 0 | EJ3: M | EK3: Portée | EN3: Durée | EP3: V | EQ3: S | ER3: M | EU3: # | EV3: Nom du sortilège Clerc / Druide | FI3: =SUM(FI4:FI39) -> 0 | FJ3: M | FK3: Portée | FN3: Durée | FQ3: V | FR3: S | FS3: M | FU3: =COUNTIF(FU4:FV35,"C") -> 0 | FV3: C | FW3: # | FX3: Nom du sortilège Magicien / Illusionniste | GK3: =SUM(GK4:GK39) -> 0 | GL3: M | GM3: Portée | GP3: Durée | GR3: V | GS3: S | GT3: M | GW3: # | GX3: Nom du sortilège Clerc / Druide | HK3: =SUM(HK4:HK37) -> 0 | HL3: M | HM3: Portée | HP3: Durée | HS3: V | HT3: S | HU3: M | HW3: =COUNTIF(HW4:HX33,"C") -> 0 | HX3: C | HY3: # | HZ3: Nom du sortilège Magicien / Illusionniste | IM3: =SUM(IM4:IM37) -> 0 | IN3: M | IO3: Portée | IR3: Durée | IT3: V | IU3: S | IV3: M | JY3: =COUNTIF(JY4:JZ23,"C") -> 0 | JZ3: C | KA3: # | KB3: Nom du sortilège Magicien | KO3: =SUM(KO4:KO37) -> 0 | KP3: M | KQ3: Portée | KT3: Durée | KV3: V | KW3: S | KX3: M
N4: Poids | S4: Cheveux | AR4: Clerc | AV4: =IF(OR(Code_Classe=Classe!C4,Code_Classe=Classe!C8,Code_Classe=Classe!C18,Code_Classe=Classe!C19,Code_Classe=Classe!C20,Code_Classe=Classe!C21,Code_Classe=Classe!C22,Code_Classe=Classe!C23,Code_Classe=Classe!C37,Code_Classe=Classe!C38,Code_Classe=Classe!C39),"O","N") -> N | AX4: Druide | BB4: =IF(OR(Code_Classe=Classe!C5,Code_Classe=Classe!C7,Code_Classe=Classe!C13,Code_Classe=Classe!C16,Code_Classe=Classe!C24,Code_Classe=Classe!C25,Code_Classe=Classe!C26,Code_Classe=Classe!C27,Code_Classe=Classe!C32),"O","N") -> N | CS4: 1 | CT4: =IF($AV$4="O",Sorts!K4,IF($BB$4="O",Sorts!K28,"")) | DG4: 0 | DI4: =IF($AV$4="O",Sorts!L4,IF($BB$4="O",Sorts!L28,"")) | DL4: =IF($AV$4="O",Sorts!M4,IF($BB$4="O",Sorts!M28,"")) | DO4: =IF($AV$4="O",Sorts!N4,IF($BB$4="O",Sorts!N28,"")) | DP4: =IF($AV$4="O",Sorts!O4,IF($BB$4="O",Sorts!O28,"")) | DQ4: =IF($AV$4="O",Sorts!P4,IF($BB$4="O",Sorts!P28,"")) | DS4: NC | DU4: 1 | DV4: =IF(OR($AV$6="O1",$AV$6="O2",$AV$6="O3"),Sorts!K75,IF(OR($BB$6="O1",$BB$6="O2"),Sorts!K137,"")) -> Bouche Magique | EI4: 0 | EK4: =IF(OR($AV$6="O1",$AV$6="O2",$AV$6="O3"),Sorts!L75,IF(OR($BB$6="O1",$BB$6="O2"),Sorts!L137,"")) -> S | EM4: =IF(OR($AV$6="O1",$AV$6="O2",$AV$6="O3"),Sorts!M75,IF(OR($BB$6="O1",$BB$6="O2"),Sorts!M137,"")) -> S | EP4: =IF(OR($AV$6="O1",$AV$6="O2",$AV$6="O3"),Sorts!N75,IF(OR($BB$6="O1",$BB$6="O2"),Sorts!N137,"")) -> X | EQ4: =IF(OR($AV$6="O1",$AV$6="O2",$AV$6="O3"),Sorts!O75,IF(OR($BB$6="O1",$BB$6="O2"),Sorts!O137,"")) -> X | ER4: =IF(OR($AV$6="O1",$AV$6="O2",$AV$6="O3"),Sorts!P75,IF(OR($BB$6="O1",$BB$6="O2"),Sorts!P137,"")) -> X | EU4: 1 | EV4: =IF($AV$4="O",Sorts!W4,IF($BB$4="O",Sorts!W28,"")) | FI4: 0 | FK4: =IF($AV$4="O",Sorts!X4,IF($BB$4="O",Sorts!X28,"")) | FN4: =IF($AV$4="O",Sorts!Y4,IF($BB$4="O",Sorts!Y28,"")) | FQ4: =IF($AV$4="O",Sorts!Z4,IF($BB$4="O",Sorts!Z28,"")) | FR4: =IF($AV$4="O",Sorts!AA4,IF($BB$4="O",Sorts!AA28,"")) | FS4: =IF($AV$4="O",Sorts!AB4,IF($BB$4="O",Sorts!AB28,"")) | FU4: NC | FW4: 1 | FX4: =IF(OR($AV$6="O1",$AV$6="O2",$AV$6="O3"),Sorts!W75,IF(OR($BB$6="O1",$BB$6="O2"),Sorts!W137,"")) -> Abri Sûr de Léomund | GK4: 0 | GM4: =IF(OR($AV$6="O1",$AV$6="O2",$AV$6="O3"),Sorts!X75,IF(OR($BB$6="O1",$BB$6="O2"),Sorts!X137,"")) -> 2'' | GO4: =IF(OR($AV$6="O1",$AV$6="O2",$AV$6="O3"),Sorts!Y75,IF(OR($BB$6="O1",$BB$6="O2"),Sorts!Y137,"")) -> 3t/n | GR4: =IF(OR($AV$6="O1",$AV$6="O2",$AV$6="O3"),Sorts!Z75,IF(OR($BB$6="O1",$BB$6="O2"),Sorts!Z137,"")) -> X | GS4: =IF(OR($AV$6="O1",$AV$6="O2",$AV$6="O3"),Sorts!AA75,IF(OR($BB$6="O1",$BB$6="O2"),Sorts!AA137,"")) -> X | GT4: =IF(OR($AV$6="O1",$AV$6="O2",$AV$6="O3"),Sorts!AB75,IF(OR($BB$6="O1",$BB$6="O2"),Sorts!AB137,"")) -> X | GW4: 1 | GX4: =IF($AV$4="O",Sorts!AI4,IF($BB$4="O",Sorts!AI28,"")) | HK4: 0 | HM4: =IF($AV$4="O",Sorts!AJ4,IF($BB$4="O",Sorts!AJ28,"")) | HP4: =IF($AV$4="O",Sorts!AK4,IF($BB$4="O",Sorts!AK28,"")) | HS4: =IF($AV$4="O",Sorts!AL4,IF($BB$4="O",Sorts!AL28,"")) | HT4: =IF($AV$4="O",Sorts!AM4,IF($BB$4="O",Sorts!AM28,"")) | HU4: =IF($AV$4="O",Sorts!AN4,IF($BB$4="O",Sorts!AN28,"")) | HW4: NC | HY4: 1 | HZ4: =IF(OR($AV$6="O1",$AV$6="O2",$AV$6="O3"),Sorts!AI75,IF(OR($BB$6="O1",$BB$6="O2"),Sorts!AI137,"")) -> Abaissement des Eaux | IM4: 0 | IO4: =IF(OR($AV$6="O1",$AV$6="O2",$AV$6="O3"),Sorts!AJ75,IF(OR($BB$6="O1",$BB$6="O2"),Sorts!AJ137,"")) -> 8'' | IQ4: =IF(OR($AV$6="O1",$AV$6="O2",$AV$6="O3"),Sorts!AK75,IF(OR($BB$6="O1",$BB$6="O2"),Sorts!AK137,"")) -> 5r/n | IT4: =IF(OR($AV$6="O1",$AV$6="O2",$AV$6="O3"),Sorts!AL75,IF(OR($BB$6="O1",$BB$6="O2"),Sorts!AL137,"")) -> X | IU4: =IF(OR($AV$6="O1",$AV$6="O2",$AV$6="O3"),Sorts!AM75,IF(OR($BB$6="O1",$BB$6="O2"),Sorts!AM137,"")) -> X | IV4: =IF(OR($AV$6="O1",$AV$6="O2",$AV$6="O3"),Sorts!AN75,IF(OR($BB$6="O1",$BB$6="O2"),Sorts!AN137,"")) -> X | JY4: NC | KA4: 1 | KB4: =IF(OR($AV$6="O1",$AV$6="O2",$AV$6="O3"),Sorts!AU75,IF(OR($BB$6="O1",$BB$6="O2"),Sorts!AU137,"")) -> Antipathie/Sympathie | KO4: 0 | KQ4: =IF(OR($AV$6="O1",$AV$6="O2",$AV$6="O3"),Sorts!AV75,IF(OR($BB$6="O1",$BB$6="O2"),Sorts!AV137,"")) -> 3'' | KS4: =IF(OR($AV$6="O1",$AV$6="O2",$AV$6="O3"),Sorts!AW75,IF(OR($BB$6="O1",$BB$6="O2"),Sorts!AW137,"")) -> 12t/n | KV4: =IF(OR($AV$6="O1",$AV$6="O2",$AV$6="O3"),Sorts!AX75,IF(OR($BB$6="O1",$BB$6="O2"),Sorts!AX137,"")) -> X | KW4: =IF(OR($AV$6="O1",$AV$6="O2",$AV$6="O3"),Sorts!AY75,IF(OR($BB$6="O1",$BB$6="O2"),Sorts!AY137,"")) -> X | KX4: =IF(OR($AV$6="O1",$AV$6="O2",$AV$6="O3"),Sorts!AZ75,IF(OR($BB$6="O1",$BB$6="O2"),Sorts!AZ137,"")) -> X
AR5: Niv 1 | AU5: {=+IF(AND($AV$4="N",$BB$4="N"),0,IF(AND($AV$4="O",$BB$4="N"),INDEX(Niveau!$B$550:$N$586,NivC1+1,MATCH(Classe1,Niveau!$C$550:$N$550,0)+1)+$U$16,IF(AND($AV$4="N",$BB$4="O"),INDEX(Niveau!$B$550:$N$586,NivC1+1,MATCH(Classe1,Niveau!$C$550:$N$550,0)+1)+$U$16)))} -> 0 | AW5: Niv 2 | AZ5: {=+IF(AND($AV$4="N",$BB$4="N"),0,IF(AND($AV$4="O",$BB$4="N"),INDEX(Niveau!$B$588:$N$624,NivC1+1,MATCH(Classe1,Niveau!$C$588:$N$588,0)+1)+$V$16,IF(AND($AV$4="N",$BB$4="O"),INDEX(Niveau!$B$588:$N$624,NivC1+1,MATCH(Classe1,Niveau!$C$588:$N$588,0)+1)+$V$16)))} -> 0 | BB5: Niv 3 | BE5: {=+IF(AND($AV$4="N",$BB$4="N"),0,IF(AND($AV$4="O",$BB$4="N"),INDEX(Niveau!$B$626:$N$662,NivC1+1,MATCH(Classe1,Niveau!$C$626:$N$626,0)+1)+$W$16,IF(AND($AV$4="N",$BB$4="O"),INDEX(Niveau!$B$626:$N$662,NivC1+1,MATCH(Classe1,Niveau!$C$626:$N$626,0)+1)+$W$16)))} -> 0 | BG5: Niv 4 | BJ5: {=+IF(AND($AV$4="N",$BB$4="N"),0,IF(AND($AV$4="O",$BB$4="N"),INDEX(Niveau!$B$664:$N$700,NivC1+1,MATCH(Classe1,Niveau!$C$664:$N$664,0)+1)+$X$16,IF(AND($AV$4="N",$BB$4="O"),INDEX(Niveau!$B$664:$N$700,NivC1+1,MATCH(Classe1,Niveau!$C$664:$N$664,0)+1)+$X$16)))} -> 0 | BL5: Niv 5 | BO5: {=+IF(AND($AV$4="N",$BB$4="N"),0,IF(AND($AV$4="O",$BB$4="N"),INDEX(Niveau!$B$702:$N$738,NivC1+1,MATCH(Classe1,Niveau!$C$702:$N$702,0)+1),IF(AND($AV$4="N",$BB$4="O"),INDEX(Niveau!$B$702:$N$738,NivC1+1,MATCH(Classe1,Niveau!$C$702:$N$702,0)+1))))} -> 0 | BQ5: Niv 6 | BT5: {=+IF(AND($AV$4="N",$BB$4="N"),0,IF(AND($AV$4="O",$BB$4="N"),INDEX(Niveau!$B$740:$N$776,NivC1+1,MATCH(Classe1,Niveau!$C$740:$N$740,0)+1),IF(AND($AV$4="N",$BB$4="O"),INDEX(Niveau!$B$740:$N$776,NivC1+1,MATCH(Classe1,Niveau!$C$740:$N$740,0)+1))))} -> 0 | BV5: Niv 7 | BY5: {=+IF(AND($AV$4="N",$BB$4="N"),0,IF(AND($AV$4="O",$BB$4="N"),INDEX(Niveau!$B$778:$N$814,NivC1+1,MATCH(Classe1,Niveau!$C$778:$N$778,0)+1),IF(AND($AV$4="N",$BB$4="O"),INDEX(Niveau!$B$778:$N$814,NivC1+1,MATCH(Classe1,Niveau!$C$778:$N$778,0)+1))))} -> 0 | CS5: 2 | CT5: =IF($AV$4="O",Sorts!K5,IF($BB$4="O",Sorts!K29,"")) | DG5: 0 | DI5: =IF($AV$4="O",Sorts!L5,IF($BB$4="O",Sorts!L29,"")) | DL5: =IF($AV$4="O",Sorts!M5,IF($BB$4="O",Sorts!M29,"")) | DO5: =IF($AV$4="O",Sorts!N5,IF($BB$4="O",Sorts!N29,"")) | DP5: =IF($AV$4="O",Sorts!O5,IF($BB$4="O",Sorts!O29,"")) | DQ5: =IF($AV$4="O",Sorts!P5,IF($BB$4="O",Sorts!P29,"")) | DS5: NC | DU5: 2 | DV5: =IF(OR($AV$6="O1",$AV$6="O2",$AV$6="O3"),Sorts!K76,IF(OR($BB$6="O1",$BB$6="O2"),Sorts!K138,"")) -> Bruitage | EI5: 0 | EK5: =IF(OR($AV$6="O1",$AV$6="O2",$AV$6="O3"),Sorts!L76,IF(OR($BB$6="O1",$BB$6="O2"),Sorts!L138,"")) -> 6''+1/n | EM5: =IF(OR($AV$6="O1",$AV$6="O2",$AV$6="O3"),Sorts!M76,IF(OR($BB$6="O1",$BB$6="O2"),Sorts!M138,"")) -> 2r/n | EP5: =IF(OR($AV$6="O1",$AV$6="O2",$AV$6="O3"),Sorts!N76,IF(OR($BB$6="O1",$BB$6="O2"),Sorts!N138,"")) -> X | EQ5: =IF(OR($AV$6="O1",$AV$6="O2",$AV$6="O3"),Sorts!O76,IF(OR($BB$6="O1",$BB$6="O2"),Sorts!O138,"")) -> / | ER5: =IF(OR($AV$6="O1",$AV$6="O2",$AV$6="O3"),Sorts!P76,IF(OR($BB$6="O1",$BB$6="O2"),Sorts!P138,"")) -> X | EU5: 2 | EV5: =IF($AV$4="O",Sorts!W5,IF($BB$4="O",Sorts!W29,"")) | FI5: 0 | FK5: =IF($AV$4="O",Sorts!X5,IF($BB$4="O",Sorts!X29,"")) | FN5: =IF($AV$4="O",Sorts!Y5,IF($BB$4="O",Sorts!Y29,"")) | FQ5: =IF($AV$4="O",Sorts!Z5,IF($BB$4="O",Sorts!Z29,"")) | FR5: =IF($AV$4="O",Sorts!AA5,IF($BB$4="O",Sorts!AA29,"")) | FS5: =IF($AV$4="O",Sorts!AB5,IF($BB$4="O",Sorts!AB29,"")) | FU5: NC | FW5: 2 | FX5: =IF(OR($AV$6="O1",$AV$6="O2",$AV$6="O3"),Sorts!W76,IF(OR($BB$6="O1",$BB$6="O2"),Sorts!W138,"")) -> Allométamorphose | GK5: 0 | GM5: =IF(OR($AV$6="O1",$AV$6="O2",$AV$6="O3"),Sorts!X76,IF(OR($BB$6="O1",$BB$6="O2"),Sorts!X138,"")) -> 0,5''/n | GO5: =IF(OR($AV$6="O1",$AV$6="O2",$AV$6="O3"),Sorts!Y76,IF(OR($BB$6="O1",$BB$6="O2"),Sorts!Y138,"")) -> P | GR5: =IF(OR($AV$6="O1",$AV$6="O2",$AV$6="O3"),Sorts!Z76,IF(OR($BB$6="O1",$BB$6="O2"),Sorts!Z138,"")) -> X | GS5: =IF(OR($AV$6="O1",$AV$6="O2",$AV$6="O3"),Sorts!AA76,IF(OR($BB$6="O1",$BB$6="O2"),Sorts!AA138,"")) -> X | GT5: =IF(OR($AV$6="O1",$AV$6="O2",$AV$6="O3"),Sorts!AB76,IF(OR($BB$6="O1",$BB$6="O2"),Sorts!AB138,"")) -> X | GW5: 2 | GX5: =IF($AV$4="O",Sorts!AI5,IF($BB$4="O",Sorts!AI29,"")) | HK5: 0 | HM5: =IF($AV$4="O",Sorts!AJ5,IF($BB$4="O",Sorts!AJ29,"")) | HP5: =IF($AV$4="O",Sorts!AK5,IF($BB$4="O",Sorts!AK29,"")) | HS5: =IF($AV$4="O",Sorts!AL5,IF($BB$4="O",Sorts!AL29,"")) | HT5: =IF($AV$4="O",Sorts!AM5,IF($BB$4="O",Sorts!AM29,"")) | HU5: =IF($AV$4="O",Sorts!AN5,IF($BB$4="O",Sorts!AN29,"")) | HW5: NC | HY5: 2 | HZ5: =IF(OR($AV$6="O1",$AV$6="O2",$AV$6="O3"),Sorts!AI76,IF(OR($BB$6="O1",$BB$6="O2"),Sorts!AI138,"")) -> Bulle Anti-Magique | IM5: 0 | IO5: =IF(OR($AV$6="O1",$AV$6="O2",$AV$6="O3"),Sorts!AJ76,IF(OR($BB$6="O1",$BB$6="O2"),Sorts!AJ138,"")) -> 0 | IQ5: =IF(OR($AV$6="O1",$AV$6="O2",$AV$6="O3"),Sorts!AK76,IF(OR($BB$6="O1",$BB$6="O2"),Sorts!AK138,"")) -> 1t/n | IT5: =IF(OR($AV$6="O1",$AV$6="O2",$AV$6="O3"),Sorts!AL76,IF(OR($BB$6="O1",$BB$6="O2"),Sorts!AL138,"")) -> X | IU5: =IF(OR($AV$6="O1",$AV$6="O2",$AV$6="O3"),Sorts!AM76,IF(OR($BB$6="O1",$BB$6="O2"),Sorts!AM138,"")) -> X | IV5: =IF(OR($AV$6="O1",$AV$6="O2",$AV$6="O3"),Sorts!AN76,IF(OR($BB$6="O1",$BB$6="O2"),Sorts!AN138,"")) -> / | JY5: NC | KA5: 2 | KB5: =IF(OR($AV$6="O1",$AV$6="O2",$AV$6="O3"),Sorts!AU76,IF(OR($BB$6="O1",$BB$6="O2"),Sorts!AU138,"")) -> Attache | KO5: 0 | KQ5: =IF(OR($AV$6="O1",$AV$6="O2",$AV$6="O3"),Sorts!AV76,IF(OR($BB$6="O1",$BB$6="O2"),Sorts!AV138,"")) -> 1'' | KS5: =IF(OR($AV$6="O1",$AV$6="O2",$AV$6="O3"),Sorts!AW76,IF(OR($BB$6="O1",$BB$6="O2"),Sorts!AW138,"")) -> S | KV5: =IF(OR($AV$6="O1",$AV$6="O2",$AV$6="O3"),Sorts!AX76,IF(OR($BB$6="O1",$BB$6="O2"),Sorts!AX138,"")) -> X | KW5: =IF(OR($AV$6="O1",$AV$6="O2",$AV$6="O3"),Sorts!AY76,IF(OR($BB$6="O1",$BB$6="O2"),Sorts!AY138,"")) -> X | KX5: =IF(OR($AV$6="O1",$AV$6="O2",$AV$6="O3"),Sorts!AZ76,IF(OR($BB$6="O1",$BB$6="O2"),Sorts!AZ138,"")) -> X
B6: Race | D6: Demi-elfe | N6: Origine | AR6: Magicien | AV6: =IF(OR(Code_Classe=Classe!C7,Code_Classe=Classe!C11,Code_Classe=Classe!C33,Code_Classe=Classe!C34),"O1",IF(OR(Code_Classe=Classe!C19,Code_Classe=Classe!C20,Code_Classe=Classe!C25,Code_Classe=Classe!C26,Code_Classe=Classe!C28,Code_Classe=Classe!C32,Code_Classe=Classe!C39,Code_Classe=Classe!C40),"O2",IF(Code_Classe=Classe!C37,"O3","N"))) -> O2 | AX6: Illusionniste | BB6: =IF(OR(Code_Classe=Classe!C12,Code_Classe=Classe!C35,Code_Classe=Classe!C36),"O1",IF(OR(Code_Classe=Classe!C21,Code_Classe=Classe!C29),"O2","N")) -> N | BD6: =IF(OR($D$7="MAGICIEN",$D$7="ILLUSIONISTE",$D$7="RANGER"),1,0) -> 0 | BJ6: C | BK6: : Ecrit & Connu ! | BQ6: E | BR6: : Ecrit | CB6: NC | CC6: : Non Connu | CS6: 3 | CT6: =IF($AV$4="O",Sorts!K6,IF($BB$4="O",Sorts!K30,"")) | DG6: 0 | DI6: =IF($AV$4="O",Sorts!L6,IF($BB$4="O",Sorts!L30,"")) | DL6: =IF($AV$4="O",Sorts!M6,IF($BB$4="O",Sorts!M30,"")) | DO6: =IF($AV$4="O",Sorts!N6,IF($BB$4="O",Sorts!N30,"")) | DP6: =IF($AV$4="O",Sorts!O6,IF($BB$4="O",Sorts!O30,"")) | DQ6: =IF($AV$4="O",Sorts!P6,IF($BB$4="O",Sorts!P30,"")) | DS6: NC | DU6: 3 | DV6: =IF(OR($AV$6="O1",$AV$6="O2",$AV$6="O3"),Sorts!K77,IF(OR($BB$6="O1",$BB$6="O2"),Sorts!K139,"")) -> Corde Enchantée | EI6: 0 | EK6: =IF(OR($AV$6="O1",$AV$6="O2",$AV$6="O3"),Sorts!L77,IF(OR($BB$6="O1",$BB$6="O2"),Sorts!L139,"")) -> T | EM6: =IF(OR($AV$6="O1",$AV$6="O2",$AV$6="O3"),Sorts!M77,IF(OR($BB$6="O1",$BB$6="O2"),Sorts!M139,"")) -> 2t/n | EP6: =IF(OR($AV$6="O1",$AV$6="O2",$AV$6="O3"),Sorts!N77,IF(OR($BB$6="O1",$BB$6="O2"),Sorts!N139,"")) -> X | EQ6: =IF(OR($AV$6="O1",$AV$6="O2",$AV$6="O3"),Sorts!O77,IF(OR($BB$6="O1",$BB$6="O2"),Sorts!O139,"")) -> X | ER6: =IF(OR($AV$6="O1",$AV$6="O2",$AV$6="O3"),Sorts!P77,IF(OR($BB$6="O1",$BB$6="O2"),Sorts!P139,"")) -> X | EU6: 3 | EV6: =IF($AV$4="O",Sorts!W6,IF($BB$4="O",Sorts!W30,"")) | FI6: 0 | FK6: =IF($AV$4="O",Sorts!X6,IF($BB$4="O",Sorts!X30,"")) | FN6: =IF($AV$4="O",Sorts!Y6,IF($BB$4="O",Sorts!Y30,"")) | FQ6: =IF($AV$4="O",Sorts!Z6,IF($BB$4="O",Sorts!Z30,"")) | FR6: =IF($AV$4="O",Sorts!AA6,IF($BB$4="O",Sorts!AA30,"")) | FS6: =IF($AV$4="O",Sorts!AB6,IF($BB$4="O",Sorts!AB30,"")) | FU6: NC | FW6: 3 | FX6: =IF(OR($AV$6="O1",$AV$6="O2",$AV$6="O3"),Sorts!W77,IF(OR($BB$6="O1",$BB$6="O2"),Sorts!W139,"")) -> Arme Enchantée | GK6: 0 | GM6: =IF(OR($AV$6="O1",$AV$6="O2",$AV$6="O3"),Sorts!X77,IF(OR($BB$6="O1",$BB$6="O2"),Sorts!X139,"")) -> T | GO6: =IF(OR($AV$6="O1",$AV$6="O2",$AV$6="O3"),Sorts!Y77,IF(OR($BB$6="O1",$BB$6="O2"),Sorts!Y139,"")) -> 5r/n | GR6: =IF(OR($AV$6="O1",$AV$6="O2",$AV$6="O3"),Sorts!Z77,IF(OR($BB$6="O1",$BB$6="O2"),Sorts!Z139,"")) -> X | GS6: =IF(OR($AV$6="O1",$AV$6="O2",$AV$6="O3"),Sorts!AA77,IF(OR($BB$6="O1",$BB$6="O2"),Sorts!AA139,"")) -> X | GT6: =IF(OR($AV$6="O1",$AV$6="O2",$AV$6="O3"),Sorts!AB77,IF(OR($BB$6="O1",$BB$6="O2"),Sorts!AB139,"")) -> X | GW6: 3 | GX6: =IF($AV$4="O",Sorts!AI6,IF($BB$4="O",Sorts!AI30,"")) | HK6: 0 | HM6: =IF($AV$4="O",Sorts!AJ6,IF($BB$4="O",Sorts!AJ30,"")) | HP6: =IF($AV$4="O",Sorts!AK6,IF($BB$4="O",Sorts!AK30,"")) | HS6: =IF($AV$4="O",Sorts!AL6,IF($BB$4="O",Sorts!AL30,"")) | HT6: =IF($AV$4="O",Sorts!AM6,IF($BB$4="O",Sorts!AM30,"")) | HU6: =IF($AV$4="O",Sorts!AN6,IF($BB$4="O",Sorts!AN30,"")) | HW6: NC | HY6: 3 | HZ6: =IF(OR($AV$6="O1",$AV$6="O2",$AV$6="O3"),Sorts!AI77,IF(OR($BB$6="O1",$BB$6="O2"),Sorts!AI139,"")) -> Chasseur Invisible | IM6: 0 | IO6: =IF(OR($AV$6="O1",$AV$6="O2",$AV$6="O3"),Sorts!AJ77,IF(OR($BB$6="O1",$BB$6="O2"),Sorts!AJ139,"")) -> 1'' | IQ6: =IF(OR($AV$6="O1",$AV$6="O2",$AV$6="O3"),Sorts!AK77,IF(OR($BB$6="O1",$BB$6="O2"),Sorts!AK139,"")) -> S | IT6: =IF(OR($AV$6="O1",$AV$6="O2",$AV$6="O3"),Sorts!AL77,IF(OR($BB$6="O1",$BB$6="O2"),Sorts!AL139,"")) -> X | IU6: =IF(OR($AV$6="O1",$AV$6="O2",$AV$6="O3"),Sorts!AM77,IF(OR($BB$6="O1",$BB$6="O2"),Sorts!AM139,"")) -> X | IV6: =IF(OR($AV$6="O1",$AV$6="O2",$AV$6="O3"),Sorts!AN77,IF(OR($BB$6="O1",$BB$6="O2"),Sorts!AN139,"")) -> X | JY6: NC | KA6: 3 | KB6: =IF(OR($AV$6="O1",$AV$6="O2",$AV$6="O3"),Sorts!AU77,IF(OR($BB$6="O1",$BB$6="O2"),Sorts!AU139,"")) -> Charme-Masse | KO6: 0 | KQ6: =IF(OR($AV$6="O1",$AV$6="O2",$AV$6="O3"),Sorts!AV77,IF(OR($BB$6="O1",$BB$6="O2"),Sorts!AV139,"")) -> 0,5''/n | KS6: =IF(OR($AV$6="O1",$AV$6="O2",$AV$6="O3"),Sorts!AW77,IF(OR($BB$6="O1",$BB$6="O2"),Sorts!AW139,"")) -> S | KV6: =IF(OR($AV$6="O1",$AV$6="O2",$AV$6="O3"),Sorts!AX77,IF(OR($BB$6="O1",$BB$6="O2"),Sorts!AX139,"")) -> X | KW6: =IF(OR($AV$6="O1",$AV$6="O2",$AV$6="O3"),Sorts!AY77,IF(OR($BB$6="O1",$BB$6="O2"),Sorts!AY139,"")) -> / | KX6: =IF(OR($AV$6="O1",$AV$6="O2",$AV$6="O3"),Sorts!AZ77,IF(OR($BB$6="O1",$BB$6="O2"),Sorts!AZ139,"")) -> /
B7: Classe | D7: Guerrier Magicien | N7: Titre | AR7: Niv 1 | AU7: {=+IF(AND($AV$6="N",$BB$6="N"),0,IF(AND($AV$6="O1",$BB$6="N"),INDEX(Niveau!$B$550:$N$586,NivC1+1,MATCH(Classe1,Niveau!$C$550:$N$550,0)+1),IF(AND($AV$6="O2",$BB$6="N"),INDEX(Niveau!$B$550:$N$586,NivC2+1,MATCH(Classe2,Niveau!$C$550:$N$550,0)+1),IF(AND($AV$6="O3",$BB$6="N"),INDEX(Niveau!$B$550:$N$586,NivC3+1,MATCH(Classe3,Niveau!$C$550:$N$550,0)+1),IF(AND($AV$6="N",$BB$6="O1"),INDEX(Niveau!$B$550:$N$586,NivC1+1,MATCH(Classe1,Niveau!$C$550:$N$550,0)+1),IF(AND($AV$6="N",$BB$6="O2"),INDEX(Niveau!$B$550:$N$586,NivC2+1,MATCH(Classe2,Niveau!$C$550:$N$550,0)+1)))))))} -> 2 | AW7: Niv 2 | AZ7: {=+IF(AND($AV$6="N",$BB$6="N"),0,IF(AND($AV$6="O1",$BB$6="N"),INDEX(Niveau!$B$588:$N$624,NivC1+1,MATCH(Classe1,Niveau!$C$588:$N$588,0)+1),IF(AND($AV$6="O2",$BB$6="N"),INDEX(Niveau!$B$588:$N$624,NivC2+1,MATCH(Classe2,Niveau!$C$588:$N$588,0)+1),IF(AND($AV$6="O3",$BB$6="N"),INDEX(Niveau!$B$588:$N$624,NivC3+1,MATCH(Classe3,Niveau!$C$588:$N$588,0)+1),IF(AND($AV$6="N",$BB$6="O1"),INDEX(Niveau!$B$588:$N$624,NivC1+1,MATCH(Classe1,Niveau!$C$588:$N$588,0)+1),IF(AND($AV$6="N",$BB$6="O2"),INDEX(Niveau!$B$588:$N$624,NivC2+1,MATCH(Classe2,Niveau!$C$588:$N$588,0)+1)))))))} -> 0 | BB7: Niv 3 | BE7: {=+IF(AND($AV$6="N",$BB$6="N"),0,IF(AND($AV$6="O1",$BB$6="N"),INDEX(Niveau!$B$626:$N$662,NivC1+1,MATCH(Classe1,Niveau!$C$626:$N$626,0)+1),IF(AND($AV$6="O2",$BB$6="N"),INDEX(Niveau!$B$626:$N$662,NivC2+1,MATCH(Classe2,Niveau!$C$626:$N$626,0)+1),IF(AND($AV$6="O3",$BB$6="N"),INDEX(Niveau!$B$626:$N$662,NivC3+1,MATCH(Classe3,Niveau!$C$626:$N$626,0)+1),IF(AND($AV$6="N",$BB$6="O1"),INDEX(Niveau!$B$626:$N$662,NivC1+1,MATCH(Classe1,Niveau!$C$626:$N$626,0)+1),IF(AND($AV$6="N",$BB$6="O2"),INDEX(Niveau!$B$626:$N$662,NivC2+1,MATCH(Classe2,Niveau!$C$626:$N$626,0)+1)))))))} -> 0 | BG7: Niv 4 | BJ7: {=+IF(AND($AV$6="N",$BB$6="N"),0,IF(AND($AV$6="O1",$BB$6="N"),INDEX(Niveau!$B$664:$N$700,NivC1+1,MATCH(Classe1,Niveau!$C$664:$N$664,0)+1),IF(AND($AV$6="O2",$BB$6="N"),INDEX(Niveau!$B$664:$N$700,NivC2+1,MATCH(Classe2,Niveau!$C$664:$N$664,0)+1),IF(AND($AV$6="O3",$BB$6="N"),INDEX(Niveau!$B$664:$N$700,NivC3+1,MATCH(Classe3,Niveau!$C$664:$N$664,0)+1),IF(AND($AV$6="N",$BB$6="O1"),INDEX(Niveau!$B$664:$N$700,NivC1+1,MATCH(Classe1,Niveau!$C$664:$N$664,0)+1),IF(AND($AV$6="N",$BB$6="O2"),INDEX(Niveau!$B$664:$N$700,NivC2+1,MATCH(Classe2,Niveau!$C$664:$N$664,0)+1)))))))} -> 0 | BL7: Niv 5 | BO7: {=+IF(AND($AV$6="N",$BB$6="N"),0,IF(AND($AV$6="O1",$BB$6="N"),INDEX(Niveau!$B$702:$N$738,NivC1+1,MATCH(Classe1,Niveau!$C$702:$N$702,0)+1),IF(AND($AV$6="O2",$BB$6="N"),INDEX(Niveau!$B$702:$N$738,NivC2+1,MATCH(Classe2,Niveau!$C$702:$N$702,0)+1),IF(AND($AV$6="O3",$BB$6="N"),INDEX(Niveau!$B$702:$N$738,NivC3+1,MATCH(Classe3,Niveau!$C$702:$N$702,0)+1),IF(AND($AV$6="N",$BB$6="O1"),INDEX(Niveau!$B$702:$N$738,NivC1+1,MATCH(Classe1,Niveau!$C$702:$N$702,0)+1),IF(AND($AV$6="N",$BB$6="O2"),INDEX(Niveau!$B$702:$N$738,NivC2+1,MATCH(Classe2,Niveau!$C$702:$N$702,0)+1)))))))} -> 0 | BQ7: Niv 6 | BT7: {=+IF(AND($AV$6="N",$BB$6="N"),0,IF(AND($AV$6="O1",$BB$6="N"),INDEX(Niveau!$B$740:$N$776,NivC1+1,MATCH(Classe1,Niveau!$C$740:$N$740,0)+1),IF(AND($AV$6="O2",$BB$6="N"),INDEX(Niveau!$B$740:$N$776,NivC2+1,MATCH(Classe2,Niveau!$C$740:$N$740,0)+1),IF(AND($AV$6="O3",$BB$6="N"),INDEX(Niveau!$B$740:$N$776,NivC3+1,MATCH(Classe3,Niveau!$C$740:$N$740,0)+1),IF(AND($AV$6="N",$BB$6="O1"),INDEX(Niveau!$B$740:$N$776,NivC1+1,MATCH(Classe1,Niveau!$C$740:$N$740,0)+1),IF(AND($AV$6="N",$BB$6="O2"),INDEX(Niveau!$B$740:$N$776,NivC2+1,MATCH(Classe2,Niveau!$C$740:$N$740,0)+1)))))))} -> 0 | BV7: Niv 7 | BY7: {=+IF(AND($AV$6="N",$BB$6="N"),0,IF(AND($AV$6="O1",$BB$6="N"),INDEX(Niveau!$B$778:$N$814,NivC1+1,MATCH(Classe1,Niveau!$C$778:$N$778,0)+1),IF(AND($AV$6="O2",$BB$6="N"),INDEX(Niveau!$B$778:$N$814:$N$776,NivC2+1,MATCH(Classe2,Niveau!$C$778:$N$778,0)+1),IF(AND($AV$6="O3",$BB$6="N"),INDEX(Niveau!$B$778:$N$814,NivC3+1,MATCH(Classe3,Niveau!$C$778:$N$778,0)+1),IF(AND($AV$6="N",$BB$6="O1"),INDEX(Niveau!$B$778:$N$814,NivC1+1,MATCH(Classe1,Niveau!$C$778:$N$778,0)+1),IF(AND($AV$6="N",$BB$6="O2"),INDEX(Niveau!$B$778:$N$814,NivC2+1,MATCH(Classe2,Niveau!$C$778:$N$778,0)+1)))))))} -> #VALUE! | CA7: Niv 8 | CD7: {=+IF(AND($AV$6="N",$BB$6="N"),0,IF(AND($AV$6="O1",$BB$6="N"),INDEX(Niveau!$B$816:$N$852,NivC1+1,MATCH(Classe1,Niveau!$C$816:$N$816,0)+1),IF(AND($AV$6="O2",$BB$6="N"),INDEX(Niveau!$B$816:$N$852,NivC2+1,MATCH(Classe2,Niveau!$C$816:$N$816,0)+1),IF(AND($AV$6="O3",$BB$6="N"),INDEX(Niveau!$B$816:$N$852,NivC3+1,MATCH(Classe3,Niveau!$C$816:$N$816,0)+1),IF(AND($AV$6="N",$BB$6="O1"),INDEX(Niveau!$B$816:$N$852,NivC1+1,MATCH(Classe1,Niveau!$C$816:$N$816,0)+1),IF(AND($AV$6="N",$BB$6="O2"),INDEX(Niveau!$B$816:$N$852,NivC2+1,MATCH(Classe2,Niveau!$C$816:$N$816,0)+1)))))))} -> 0 | CF7: Niv 9 | CI7: {=+IF(AND($AV$6="N",$BB$6="N"),0,IF(AND($AV$6="O1",$BB$6="N"),INDEX(Niveau!$B$854:$N$890,NivC1+1,MATCH(Classe1,Niveau!$C$854:$N$854,0)+1),IF(AND($AV$6="O2",$BB$6="N"),INDEX(Niveau!$B$854:$N$890,NivC2+1,MATCH(Classe2,Niveau!$C$854:$N$854,0)+1),IF(AND($AV$6="O3",$BB$6="N"),INDEX(Niveau!$B$854:$N$890,NivC3+1,MATCH(Classe3,Niveau!$C$854:$N$854,0)+1),IF(AND($AV$6="N",$BB$6="O1"),INDEX(Niveau!$B$854:$N$890,NivC1+1,MATCH(Classe1,Niveau!$C$854:$N$854,0)+1),IF(AND($AV$6="N",$BB$6="O2"),INDEX(Niveau!$B$854:$N$890,NivC2+1,MATCH(Classe2,Niveau!$C$854:$N$854,0)+1)))))))} -> 0 | CS7: 4 | CT7: =IF($AV$4="O",Sorts!K7,IF($BB$4="O",Sorts!K31,"")) | DG7: 0 | DI7: =IF($AV$4="O",Sorts!L7,IF($BB$4="O",Sorts!L31,"")) | DL7: =IF($AV$4="O",Sorts!M7,IF($BB$4="O",Sorts!M31,"")) | DO7: =IF($AV$4="O",Sorts!N7,IF($BB$4="O",Sorts!N31,"")) | DP7: =IF($AV$4="O",Sorts!O7,IF($BB$4="O",Sorts!O31,"")) | DQ7: =IF($AV$4="O",Sorts!P7,IF($BB$4="O",Sorts!P31,"")) | DS7: NC | DU7: 4 | DV7: =IF(OR($AV$6="O1",$AV$6="O2",$AV$6="O3"),Sorts!K78,IF(OR($BB$6="O1",$BB$6="O2"),Sorts!K140,"")) -> Détection de l’Invisibilité | EI7: 0 | EK7: =IF(OR($AV$6="O1",$AV$6="O2",$AV$6="O3"),Sorts!L78,IF(OR($BB$6="O1",$BB$6="O2"),Sorts!L140,"")) -> 1''/n | EM7: =IF(OR($AV$6="O1",$AV$6="O2",$AV$6="O3"),Sorts!M78,IF(OR($BB$6="O1",$BB$6="O2"),Sorts!M140,"")) -> 5r/n | EP7: =IF(OR($AV$6="O1",$AV$6="O2",$AV$6="O3"),Sorts!N78,IF(OR($BB$6="O1",$BB$6="O2"),Sorts!N140,"")) -> X | EQ7: =IF(OR($AV$6="O1",$AV$6="O2",$AV$6="O3"),Sorts!O78,IF(OR($BB$6="O1",$BB$6="O2"),Sorts!O140,"")) -> X | ER7: =IF(OR($AV$6="O1",$AV$6="O2",$AV$6="O3"),Sorts!P78,IF(OR($BB$6="O1",$BB$6="O2"),Sorts!P140,"")) -> X | EU7: 4 | EV7: =IF($AV$4="O",Sorts!W7,IF($BB$4="O",Sorts!W31,"")) | FI7: 0 | FK7: =IF($AV$4="O",Sorts!X7,IF($BB$4="O",Sorts!X31,"")) | FN7: =IF($AV$4="O",Sorts!Y7,IF($BB$4="O",Sorts!Y31,"")) | FQ7: =IF($AV$4="O",Sorts!Z7,IF($BB$4="O",Sorts!Z31,"")) | FR7: =IF($AV$4="O",Sorts!AA7,IF($BB$4="O",Sorts!AA31,"")) | FS7: =IF($AV$4="O",Sorts!AB7,IF($BB$4="O",Sorts!AB31,"")) | FU7: NC | FW7: 4 | FX7: =IF(OR($AV$6="O1",$AV$6="O2",$AV$6="O3"),Sorts!W78,IF(OR($BB$6="O1",$BB$6="O2"),Sorts!W140,"")) -> Autométamorphose | GK7: 0 | GM7: =IF(OR($AV$6="O1",$AV$6="O2",$AV$6="O3"),Sorts!X78,IF(OR($BB$6="O1",$BB$6="O2"),Sorts!X140,"")) -> 0 | GO7: =IF(OR($AV$6="O1",$AV$6="O2",$AV$6="O3"),Sorts!Y78,IF(OR($BB$6="O1",$BB$6="O2"),Sorts!Y140,"")) -> 2t/n | GR7: =IF(OR($AV$6="O1",$AV$6="O2",$AV$6="O3"),Sorts!Z78,IF(OR($BB$6="O1",$BB$6="O2"),Sorts!Z140,"")) -> X | GS7: =IF(OR($AV$6="O1",$AV$6="O2",$AV$6="O3"),Sorts!AA78,IF(OR($BB$6="O1",$BB$6="O2"),Sorts!AA140,"")) -> / | GT7: =IF(OR($AV$6="O1",$AV$6="O2",$AV$6="O3"),Sorts!AB78,IF(OR($BB$6="O1",$BB$6="O2"),Sorts!AB140,"")) -> / | GW7: 4 | GX7: =IF($AV$4="O",Sorts!AI7,IF($BB$4="O",Sorts!AI31,"")) | HK7: 0 | HM7: =IF($AV$4="O",Sorts!AJ7,IF($BB$4="O",Sorts!AJ31,"")) | HP7: =IF($AV$4="O",Sorts!AK7,IF($BB$4="O",Sorts!AK31,"")) | HS7: =IF($AV$4="O",Sorts!AL7,IF($BB$4="O",Sorts!AL31,"")) | HT7: =IF($AV$4="O",Sorts!AM7,IF($BB$4="O",Sorts!AM31,"")) | HU7: =IF($AV$4="O",Sorts!AN7,IF($BB$4="O",Sorts!AN31,"")) | HW7: NC | HY7: 4 | HZ7: =IF(OR($AV$6="O1",$AV$6="O2",$AV$6="O3"),Sorts!AI78,IF(OR($BB$6="O1",$BB$6="O2"),Sorts!AI140,"")) -> Contingence | IM7: 0 | IO7: =IF(OR($AV$6="O1",$AV$6="O2",$AV$6="O3"),Sorts!AJ78,IF(OR($BB$6="O1",$BB$6="O2"),Sorts!AJ140,"")) -> 0 | IQ7: =IF(OR($AV$6="O1",$AV$6="O2",$AV$6="O3"),Sorts!AK78,IF(OR($BB$6="O1",$BB$6="O2"),Sorts!AK140,"")) -> 1j/n | IT7: =IF(OR($AV$6="O1",$AV$6="O2",$AV$6="O3"),Sorts!AL78,IF(OR($BB$6="O1",$BB$6="O2"),Sorts!AL140,"")) -> X | IU7: =IF(OR($AV$6="O1",$AV$6="O2",$AV$6="O3"),Sorts!AM78,IF(OR($BB$6="O1",$BB$6="O2"),Sorts!AM140,"")) -> X | IV7: =IF(OR($AV$6="O1",$AV$6="O2",$AV$6="O3"),Sorts!AN78,IF(OR($BB$6="O1",$BB$6="O2"),Sorts!AN140,"")) -> X | JY7: NC | KA7: 4 | KB7: =IF(OR($AV$6="O1",$AV$6="O2",$AV$6="O3"),Sorts!AU78,IF(OR($BB$6="O1",$BB$6="O2"),Sorts!AU140,"")) -> Clone | KO7: 0 | KQ7: =IF(OR($AV$6="O1",$AV$6="O2",$AV$6="O3"),Sorts!AV78,IF(OR($BB$6="O1",$BB$6="O2"),Sorts!AV140,"")) -> T | KS7: =IF(OR($AV$6="O1",$AV$6="O2",$AV$6="O3"),Sorts!AW78,IF(OR($BB$6="O1",$BB$6="O2"),Sorts!AW140,"")) -> P | KV7: =IF(OR($AV$6="O1",$AV$6="O2",$AV$6="O3"),Sorts!AX78,IF(OR($BB$6="O1",$BB$6="O2"),Sorts!AX140,"")) -> X | KW7: =IF(OR($AV$6="O1",$AV$6="O2",$AV$6="O3"),Sorts!AY78,IF(OR($BB$6="O1",$BB$6="O2"),Sorts!AY140,"")) -> X | KX7: =IF(OR($AV$6="O1",$AV$6="O2",$AV$6="O3"),Sorts!AZ78,IF(OR($BB$6="O1",$BB$6="O2"),Sorts!AZ140,"")) -> X
B8: Talent | D8: Maçon/Charpentier | J8: Sexe | L8: F | N8: Dieu | AQ8: Sortilèges de Niveau 1 | CS8: 5 | CT8: =IF($AV$4="O",Sorts!K8,IF($BB$4="O",Sorts!K32,"")) | DG8: 0 | DI8: =IF($AV$4="O",Sorts!L8,IF($BB$4="O",Sorts!L32,"")) | DL8: =IF($AV$4="O",Sorts!M8,IF($BB$4="O",Sorts!M32,"")) | DO8: =IF($AV$4="O",Sorts!N8,IF($BB$4="O",Sorts!N32,"")) | DP8: =IF($AV$4="O",Sorts!O8,IF($BB$4="O",Sorts!O32,"")) | DQ8: =IF($AV$4="O",Sorts!P8,IF($BB$4="O",Sorts!P32,"")) | DS8: NC | DU8: 5 | DV8: =IF(OR($AV$6="O1",$AV$6="O2",$AV$6="O3"),Sorts!K79,IF(OR($BB$6="O1",$BB$6="O2"),Sorts!K141,"")) -> Détection du Mal | EI8: 0 | EK8: =IF(OR($AV$6="O1",$AV$6="O2",$AV$6="O3"),Sorts!L79,IF(OR($BB$6="O1",$BB$6="O2"),Sorts!L141,"")) -> 6'' | EM8: =IF(OR($AV$6="O1",$AV$6="O2",$AV$6="O3"),Sorts!M79,IF(OR($BB$6="O1",$BB$6="O2"),Sorts!M141,"")) -> 5r/n | EP8: =IF(OR($AV$6="O1",$AV$6="O2",$AV$6="O3"),Sorts!N79,IF(OR($BB$6="O1",$BB$6="O2"),Sorts!N141,"")) -> X | EQ8: =IF(OR($AV$6="O1",$AV$6="O2",$AV$6="O3"),Sorts!O79,IF(OR($BB$6="O1",$BB$6="O2"),Sorts!O141,"")) -> X | ER8: =IF(OR($AV$6="O1",$AV$6="O2",$AV$6="O3"),Sorts!P79,IF(OR($BB$6="O1",$BB$6="O2"),Sorts!P141,"")) -> / | EU8: 5 | EV8: =IF($AV$4="O",Sorts!W8,IF($BB$4="O",Sorts!W32,"")) | FI8: 0 | FK8: =IF($AV$4="O",Sorts!X8,IF($BB$4="O",Sorts!X32,"")) | FN8: =IF($AV$4="O",Sorts!Y8,IF($BB$4="O",Sorts!Y32,"")) | FQ8: =IF($AV$4="O",Sorts!Z8,IF($BB$4="O",Sorts!Z32,"")) | FR8: =IF($AV$4="O",Sorts!AA8,IF($BB$4="O",Sorts!AA32,"")) | FS8: =IF($AV$4="O",Sorts!AB8,IF($BB$4="O",Sorts!AB32,"")) | FU8: NC | FW8: 5 | FX8: =IF(OR($AV$6="O1",$AV$6="O2",$AV$6="O3"),Sorts!W79,IF(OR($BB$6="O1",$BB$6="O2"),Sorts!W141,"")) -> Bouclier de Feu | GK8: 0 | GM8: =IF(OR($AV$6="O1",$AV$6="O2",$AV$6="O3"),Sorts!X79,IF(OR($BB$6="O1",$BB$6="O2"),Sorts!X141,"")) -> 0 | GO8: =IF(OR($AV$6="O1",$AV$6="O2",$AV$6="O3"),Sorts!Y79,IF(OR($BB$6="O1",$BB$6="O2"),Sorts!Y141,"")) -> 2r+1/n | GR8: =IF(OR($AV$6="O1",$AV$6="O2",$AV$6="O3"),Sorts!Z79,IF(OR($BB$6="O1",$BB$6="O2"),Sorts!Z141,"")) -> X | GS8: =IF(OR($AV$6="O1",$AV$6="O2",$AV$6="O3"),Sorts!AA79,IF(OR($BB$6="O1",$BB$6="O2"),Sorts!AA141,"")) -> X | GT8: =IF(OR($AV$6="O1",$AV$6="O2",$AV$6="O3"),Sorts!AB79,IF(OR($BB$6="O1",$BB$6="O2"),Sorts!AB141,"")) -> X | GW8: 5 | GX8: =IF($AV$4="O",Sorts!AI8,IF($BB$4="O",Sorts!AI32,"")) | HK8: 0 | HM8: =IF($AV$4="O",Sorts!AJ8,IF($BB$4="O",Sorts!AJ32,"")) | HP8: =IF($AV$4="O",Sorts!AK8,IF($BB$4="O",Sorts!AK32,"")) | HS8: =IF($AV$4="O",Sorts!AL8,IF($BB$4="O",Sorts!AL32,"")) | HT8: =IF($AV$4="O",Sorts!AM8,IF($BB$4="O",Sorts!AM32,"")) | HU8: =IF($AV$4="O",Sorts!AN8,IF($BB$4="O",Sorts!AN32,"")) | HW8: NC | HY8: 5 | HZ8: =IF(OR($AV$6="O1",$AV$6="O2",$AV$6="O3"),Sorts!AI79,IF(OR($BB$6="O1",$BB$6="O2"),Sorts!AI141,"")) -> Contrôle du Climat | IM8: 0 | IO8: =IF(OR($AV$6="O1",$AV$6="O2",$AV$6="O3"),Sorts!AJ79,IF(OR($BB$6="O1",$BB$6="O2"),Sorts!AJ141,"")) -> 0 | IQ8: =IF(OR($AV$6="O1",$AV$6="O2",$AV$6="O3"),Sorts!AK79,IF(OR($BB$6="O1",$BB$6="O2"),Sorts!AK141,"")) -> 4-24h | IT8: =IF(OR($AV$6="O1",$AV$6="O2",$AV$6="O3"),Sorts!AL79,IF(OR($BB$6="O1",$BB$6="O2"),Sorts!AL141,"")) -> X | IU8: =IF(OR($AV$6="O1",$AV$6="O2",$AV$6="O3"),Sorts!AM79,IF(OR($BB$6="O1",$BB$6="O2"),Sorts!AM141,"")) -> X | IV8: =IF(OR($AV$6="O1",$AV$6="O2",$AV$6="O3"),Sorts!AN79,IF(OR($BB$6="O1",$BB$6="O2"),Sorts!AN141,"")) -> X | JY8: NC | KA8: 5 | KB8: =IF(OR($AV$6="O1",$AV$6="O2",$AV$6="O3"),Sorts!AU79,IF(OR($BB$6="O1",$BB$6="O2"),Sorts!AU141,"")) -> Cristairin | KO8: 0 | KQ8: =IF(OR($AV$6="O1",$AV$6="O2",$AV$6="O3"),Sorts!AV79,IF(OR($BB$6="O1",$BB$6="O2"),Sorts!AV141,"")) -> T | KS8: =IF(OR($AV$6="O1",$AV$6="O2",$AV$6="O3"),Sorts!AW79,IF(OR($BB$6="O1",$BB$6="O2"),Sorts!AW141,"")) -> P | KV8: =IF(OR($AV$6="O1",$AV$6="O2",$AV$6="O3"),Sorts!AX79,IF(OR($BB$6="O1",$BB$6="O2"),Sorts!AX141,"")) -> X | KW8: =IF(OR($AV$6="O1",$AV$6="O2",$AV$6="O3"),Sorts!AY79,IF(OR($BB$6="O1",$BB$6="O2"),Sorts!AY141,"")) -> X | KX8: =IF(OR($AV$6="O1",$AV$6="O2",$AV$6="O3"),Sorts!AZ79,IF(OR($BB$6="O1",$BB$6="O2"),Sorts!AZ141,"")) -> X
B9: Nom du joueur : | G9: Date de création : | AQ9: # | AR9: Nom du sortilège Clerc / Druide | BE9: =SUM(BE10:BE49) -> 0 | BF9: M | BG9: Portée | BJ9: Durée | BM9: V | BN9: S | BO9: M | BQ9: =COUNTIF(BQ10:BR49,"C") -> 0 | BR9: C | BS9: # | BT9: Nom du sortilège Magicien / Illusioniste | CG9: =SUM(CG10:CG49) -> 0 | CH9: M | CI9: Portée | CL9: Durée | CN9: V | CO9: S | CP9: M | CS9: 6 | CT9: =IF($AV$4="O",Sorts!K9,IF($BB$4="O",Sorts!K33,"")) | DG9: 0 | DI9: =IF($AV$4="O",Sorts!L9,IF($BB$4="O",Sorts!L33,"")) | DL9: =IF($AV$4="O",Sorts!M9,IF($BB$4="O",Sorts!M33,"")) | DO9: =IF($AV$4="O",Sorts!N9,IF($BB$4="O",Sorts!N33,"")) | DP9: =IF($AV$4="O",Sorts!O9,IF($BB$4="O",Sorts!O33,"")) | DQ9: =IF($AV$4="O",Sorts!P9,IF($BB$4="O",Sorts!P33,"")) | DS9: NC | DU9: 6 | DV9: =IF(OR($AV$6="O1",$AV$6="O2",$AV$6="O3"),Sorts!K80,IF(OR($BB$6="O1",$BB$6="O2"),Sorts!K142,"")) -> ESP | EI9: 0 | EK9: =IF(OR($AV$6="O1",$AV$6="O2",$AV$6="O3"),Sorts!L80,IF(OR($BB$6="O1",$BB$6="O2"),Sorts!L142,"")) -> 0,5''/n | EM9: =IF(OR($AV$6="O1",$AV$6="O2",$AV$6="O3"),Sorts!M80,IF(OR($BB$6="O1",$BB$6="O2"),Sorts!M142,"")) -> 1r/n | EP9: =IF(OR($AV$6="O1",$AV$6="O2",$AV$6="O3"),Sorts!N80,IF(OR($BB$6="O1",$BB$6="O2"),Sorts!N142,"")) -> X | EQ9: =IF(OR($AV$6="O1",$AV$6="O2",$AV$6="O3"),Sorts!O80,IF(OR($BB$6="O1",$BB$6="O2"),Sorts!O142,"")) -> X | ER9: =IF(OR($AV$6="O1",$AV$6="O2",$AV$6="O3"),Sorts!P80,IF(OR($BB$6="O1",$BB$6="O2"),Sorts!P142,"")) -> X | EU9: 6 | EV9: =IF($AV$4="O",Sorts!W9,IF($BB$4="O",Sorts!W33,"")) | FI9: 0 | FK9: =IF($AV$4="O",Sorts!X9,IF($BB$4="O",Sorts!X33,"")) | FN9: =IF($AV$4="O",Sorts!Y9,IF($BB$4="O",Sorts!Y33,"")) | FQ9: =IF($AV$4="O",Sorts!Z9,IF($BB$4="O",Sorts!Z33,"")) | FR9: =IF($AV$4="O",Sorts!AA9,IF($BB$4="O",Sorts!AA33,"")) | FS9: =IF($AV$4="O",Sorts!AB9,IF($BB$4="O",Sorts!AB33,"")) | FU9: NC | FW9: 6 | FX9: =IF(OR($AV$6="O1",$AV$6="O2",$AV$6="O3"),Sorts!W80,IF(OR($BB$6="O1",$BB$6="O2"),Sorts!W142,"")) -> Charme-Monstres | GK9: 0 | GM9: =IF(OR($AV$6="O1",$AV$6="O2",$AV$6="O3"),Sorts!X80,IF(OR($BB$6="O1",$BB$6="O2"),Sorts!X142,"")) -> 6'' | GO9: =IF(OR($AV$6="O1",$AV$6="O2",$AV$6="O3"),Sorts!Y80,IF(OR($BB$6="O1",$BB$6="O2"),Sorts!Y142,"")) -> S | GR9: =IF(OR($AV$6="O1",$AV$6="O2",$AV$6="O3"),Sorts!Z80,IF(OR($BB$6="O1",$BB$6="O2"),Sorts!Z142,"")) -> X | GS9: =IF(OR($AV$6="O1",$AV$6="O2",$AV$6="O3"),Sorts!AA80,IF(OR($BB$6="O1",$BB$6="O2"),Sorts!AA142,"")) -> X | GT9: =IF(OR($AV$6="O1",$AV$6="O2",$AV$6="O3"),Sorts!AB80,IF(OR($BB$6="O1",$BB$6="O2"),Sorts!AB142,"")) -> / | GW9: 6 | GX9: =IF($AV$4="O",Sorts!AI9,IF($BB$4="O",Sorts!AI33,"")) | HK9: 0 | HM9: =IF($AV$4="O",Sorts!AJ9,IF($BB$4="O",Sorts!AJ33,"")) | HP9: =IF($AV$4="O",Sorts!AK9,IF($BB$4="O",Sorts!AK33,"")) | HS9: =IF($AV$4="O",Sorts!AL9,IF($BB$4="O",Sorts!AL33,"")) | HT9: =IF($AV$4="O",Sorts!AM9,IF($BB$4="O",Sorts!AM33,"")) | HU9: =IF($AV$4="O",Sorts!AN9,IF($BB$4="O",Sorts!AN33,"")) | HW9: NC | HY9: 6 | HZ9: =IF(OR($AV$6="O1",$AV$6="O2",$AV$6="O3"),Sorts!AI80,IF(OR($BB$6="O1",$BB$6="O2"),Sorts!AI142,"")) -> Désintégration | IM9: 0 | IO9: =IF(OR($AV$6="O1",$AV$6="O2",$AV$6="O3"),Sorts!AJ80,IF(OR($BB$6="O1",$BB$6="O2"),Sorts!AJ142,"")) -> 0,5''/n | IQ9: =IF(OR($AV$6="O1",$AV$6="O2",$AV$6="O3"),Sorts!AK80,IF(OR($BB$6="O1",$BB$6="O2"),Sorts!AK142,"")) -> P | IT9: =IF(OR($AV$6="O1",$AV$6="O2",$AV$6="O3"),Sorts!AL80,IF(OR($BB$6="O1",$BB$6="O2"),Sorts!AL142,"")) -> X | IU9: =IF(OR($AV$6="O1",$AV$6="O2",$AV$6="O3"),Sorts!AM80,IF(OR($BB$6="O1",$BB$6="O2"),Sorts!AM142,"")) -> X | IV9: =IF(OR($AV$6="O1",$AV$6="O2",$AV$6="O3"),Sorts!AN80,IF(OR($BB$6="O1",$BB$6="O2"),Sorts!AN142,"")) -> X | JY9: NC | KA9: 6 | KB9: =IF(OR($AV$6="O1",$AV$6="O2",$AV$6="O3"),Sorts!AU80,IF(OR($BB$6="O1",$BB$6="O2"),Sorts!AU142,"")) -> Danse Irrésistible d’Otto | KO9: 0 | KQ9: =IF(OR($AV$6="O1",$AV$6="O2",$AV$6="O3"),Sorts!AV80,IF(OR($BB$6="O1",$BB$6="O2"),Sorts!AV142,"")) -> T | KS9: =IF(OR($AV$6="O1",$AV$6="O2",$AV$6="O3"),Sorts!AW80,IF(OR($BB$6="O1",$BB$6="O2"),Sorts!AW142,"")) -> 1d4+1r | KV9: =IF(OR($AV$6="O1",$AV$6="O2",$AV$6="O3"),Sorts!AX80,IF(OR($BB$6="O1",$BB$6="O2"),Sorts!AX142,"")) -> X | KW9: =IF(OR($AV$6="O1",$AV$6="O2",$AV$6="O3"),Sorts!AY80,IF(OR($BB$6="O1",$BB$6="O2"),Sorts!AY142,"")) -> / | KX9: =IF(OR($AV$6="O1",$AV$6="O2",$AV$6="O3"),Sorts!AZ80,IF(OR($BB$6="O1",$BB$6="O2"),Sorts!AZ142,"")) -> /
AQ10: 1 | AR10: =IF($AV$4="O",Sorts!E4,IF($BB$4="O",Sorts!E28,"")) | BE10: 0 | BG10: =IF($AV$4="O",Sorts!F4,IF($BB$4="O",Sorts!F28,"")) | BJ10: =IF($AV$4="O",Sorts!G4,IF($BB$4="O",Sorts!G28,"")) | BM10: =IF($AV$4="O",Sorts!H4,IF($BB$4="O",Sorts!H28,"")) | BN10: =IF($AV$4="O",Sorts!I4,IF($BB$4="O",Sorts!I28,"")) | BO10: =IF($AV$4="O",Sorts!J4,IF($BB$4="O",Sorts!J28,"")) | BQ10: NC | BS10: 1 | BT10: =IF(OR($AV$6="O1",$AV$6="O2",$AV$6="O3"),Sorts!E75,IF(OR($BB$6="O1",$BB$6="O2"),Sorts!E137,"")) -> Agrandissement | CG10: 0 | CI10: =IF(OR($AV$6="O1",$AV$6="O2",$AV$6="O3"),Sorts!F75,IF(OR($BB$6="O1",$BB$6="O2"),Sorts!F137,"")) -> 0 | CK10: =IF(OR($AV$6="O1",$AV$6="O2",$AV$6="O3"),Sorts!G75,IF(OR($BB$6="O1",$BB$6="O2"),Sorts!G137,"")) -> 1t/n | CN10: =IF(OR($AV$6="O1",$AV$6="O2",$AV$6="O3"),Sorts!H75,IF(OR($BB$6="O1",$BB$6="O2"),Sorts!H137,"")) -> X | CO10: =IF(OR($AV$6="O1",$AV$6="O2",$AV$6="O3"),Sorts!I75,IF(OR($BB$6="O1",$BB$6="O2"),Sorts!I137,"")) -> X | CP10: =IF(OR($AV$6="O1",$AV$6="O2",$AV$6="O3"),Sorts!J75,IF(OR($BB$6="O1",$BB$6="O2"),Sorts!J137,"")) -> X | CS10: 7 | CT10: =IF($AV$4="O",Sorts!K10,IF($BB$4="O",Sorts!K34,"")) | DG10: 0 | DI10: =IF($AV$4="O",Sorts!L10,IF($BB$4="O",Sorts!L34,"")) | DL10: =IF($AV$4="O",Sorts!M10,IF($BB$4="O",Sorts!M34,"")) | DO10: =IF($AV$4="O",Sorts!N10,IF($BB$4="O",Sorts!N34,"")) | DP10: =IF($AV$4="O",Sorts!O10,IF($BB$4="O",Sorts!O34,"")) | DQ10: =IF($AV$4="O",Sorts!P10,IF($BB$4="O",Sorts!P34,"")) | DS10: NC | DU10: 7 | DV10: =IF(OR($AV$6="O1",$AV$6="O2",$AV$6="O3"),Sorts!K81,IF(OR($BB$6="O1",$BB$6="O2"),Sorts!K143,"")) -> Flèche Acide de Melf | EI10: 0 | EK10: =IF(OR($AV$6="O1",$AV$6="O2",$AV$6="O3"),Sorts!L81,IF(OR($BB$6="O1",$BB$6="O2"),Sorts!L143,"")) -> 3'' | EM10: =IF(OR($AV$6="O1",$AV$6="O2",$AV$6="O3"),Sorts!M81,IF(OR($BB$6="O1",$BB$6="O2"),Sorts!M143,"")) -> S | EP10: =IF(OR($AV$6="O1",$AV$6="O2",$AV$6="O3"),Sorts!N81,IF(OR($BB$6="O1",$BB$6="O2"),Sorts!N143,"")) -> X | EQ10: =IF(OR($AV$6="O1",$AV$6="O2",$AV$6="O3"),Sorts!O81,IF(OR($BB$6="O1",$BB$6="O2"),Sorts!O143,"")) -> X | ER10: =IF(OR($AV$6="O1",$AV$6="O2",$AV$6="O3"),Sorts!P81,IF(OR($BB$6="O1",$BB$6="O2"),Sorts!P143,"")) -> X | EU10: 7 | EV10: =IF($AV$4="O",Sorts!W10,IF($BB$4="O",Sorts!W34,"")) | FI10: 0 | FK10: =IF($AV$4="O",Sorts!X10,IF($BB$4="O",Sorts!X34,"")) | FN10: =IF($AV$4="O",Sorts!Y10,IF($BB$4="O",Sorts!Y34,"")) | FQ10: =IF($AV$4="O",Sorts!Z10,IF($BB$4="O",Sorts!Z34,"")) | FR10: =IF($AV$4="O",Sorts!AA10,IF($BB$4="O",Sorts!AA34,"")) | FS10: =IF($AV$4="O",Sorts!AB10,IF($BB$4="O",Sorts!AB34,"")) | FU10: NC | FW10: 7 | FX10: =IF(OR($AV$6="O1",$AV$6="O2",$AV$6="O3"),Sorts!W81,IF(OR($BB$6="O1",$BB$6="O2"),Sorts!W143,"")) -> Confusion | GK10: 0 | GM10: =IF(OR($AV$6="O1",$AV$6="O2",$AV$6="O3"),Sorts!X81,IF(OR($BB$6="O1",$BB$6="O2"),Sorts!X143,"")) -> 12'' | GO10: =IF(OR($AV$6="O1",$AV$6="O2",$AV$6="O3"),Sorts!Y81,IF(OR($BB$6="O1",$BB$6="O2"),Sorts!Y143,"")) -> 2r+1/n | GR10: =IF(OR($AV$6="O1",$AV$6="O2",$AV$6="O3"),Sorts!Z81,IF(OR($BB$6="O1",$BB$6="O2"),Sorts!Z143,"")) -> X | GS10: =IF(OR($AV$6="O1",$AV$6="O2",$AV$6="O3"),Sorts!AA81,IF(OR($BB$6="O1",$BB$6="O2"),Sorts!AA143,"")) -> / | GT10: =IF(OR($AV$6="O1",$AV$6="O2",$AV$6="O3"),Sorts!AB81,IF(OR($BB$6="O1",$BB$6="O2"),Sorts!AB143,"")) -> / | GW10: 7 | GX10: =IF($AV$4="O",Sorts!AI10,IF($BB$4="O",Sorts!AI34,"")) | HK10: 0 | HM10: =IF($AV$4="O",Sorts!AJ10,IF($BB$4="O",Sorts!AJ34,"")) | HP10: =IF($AV$4="O",Sorts!AK10,IF($BB$4="O",Sorts!AK34,"")) | HS10: =IF($AV$4="O",Sorts!AL10,IF($BB$4="O",Sorts!AL34,"")) | HT10: =IF($AV$4="O",Sorts!AM10,IF($BB$4="O",Sorts!AM34,"")) | HU10: =IF($AV$4="O",Sorts!AN10,IF($BB$4="O",Sorts!AN34,"")) | HW10: NC | HY10: 7 | HZ10: =IF(OR($AV$6="O1",$AV$6="O2",$AV$6="O3"),Sorts!AI81,IF(OR($BB$6="O1",$BB$6="O2"),Sorts!AI143,"")) -> Élucubration de Mordenkainen | IM10: 0 | IO10: =IF(OR($AV$6="O1",$AV$6="O2",$AV$6="O3"),Sorts!AJ81,IF(OR($BB$6="O1",$BB$6="O2"),Sorts!AJ143,"")) -> 0 | IQ10: =IF(OR($AV$6="O1",$AV$6="O2",$AV$6="O3"),Sorts!AK81,IF(OR($BB$6="O1",$BB$6="O2"),Sorts!AK143,"")) -> I | IT10: =IF(OR($AV$6="O1",$AV$6="O2",$AV$6="O3"),Sorts!AL81,IF(OR($BB$6="O1",$BB$6="O2"),Sorts!AL143,"")) -> X | IU10: =IF(OR($AV$6="O1",$AV$6="O2",$AV$6="O3"),Sorts!AM81,IF(OR($BB$6="O1",$BB$6="O2"),Sorts!AM143,"")) -> X | IV10: =IF(OR($AV$6="O1",$AV$6="O2",$AV$6="O3"),Sorts!AN81,IF(OR($BB$6="O1",$BB$6="O2"),Sorts!AN143,"")) -> / | JY10: NC | KA10: 7 | KB10: =IF(OR($AV$6="O1",$AV$6="O2",$AV$6="O3"),Sorts!AU81,IF(OR($BB$6="O1",$BB$6="O2"),Sorts!AU143,"")) -> Emprisonnement de l’Âme | KO10: 0 | KQ10: =IF(OR($AV$6="O1",$AV$6="O2",$AV$6="O3"),Sorts!AV81,IF(OR($BB$6="O1",$BB$6="O2"),Sorts!AV143,"")) -> 1'' | KS10: =IF(OR($AV$6="O1",$AV$6="O2",$AV$6="O3"),Sorts!AW81,IF(OR($BB$6="O1",$BB$6="O2"),Sorts!AW143,"")) -> P | KV10: =IF(OR($AV$6="O1",$AV$6="O2",$AV$6="O3"),Sorts!AX81,IF(OR($BB$6="O1",$BB$6="O2"),Sorts!AX143,"")) -> X | KW10: =IF(OR($AV$6="O1",$AV$6="O2",$AV$6="O3"),Sorts!AY81,IF(OR($BB$6="O1",$BB$6="O2"),Sorts!AY143,"")) -> X | KX10: =IF(OR($AV$6="O1",$AV$6="O2",$AV$6="O3"),Sorts!AZ81,IF(OR($BB$6="O1",$BB$6="O2"),Sorts!AZ143,"")) -> X
B11: 12 | E11: FOR | G11: Toucher | I11: =IF($D$12=0,VLOOKUP(FOR,Caractéristiques!$B$2:$H$27,2,FALSE),VLOOKUP('Joueur 1'!$D$11,Caractéristiques!$B$29:$H$130,2,FALSE)) -> 0 | K11: Dégats | M11: =IF($D$12=0,VLOOKUP(FOR,Caractéristiques!$B$2:$H$27,3,FALSE),VLOOKUP('Joueur 1'!$D$11,Caractéristiques!$B$29:$H$130,3,FALSE)) -> 0 | O11: Ajust | Q11: =IF($D$12=0,VLOOKUP(FOR,Caractéristiques!$B$2:$H$27,4,FALSE),VLOOKUP('Joueur 1'!$D$11,Caractéristiques!$B$29:$H$130,4,FALSE)) -> 100 | S11: Ouvert | U11: =IF($D$12=0,VLOOKUP(FOR,Caractéristiques!$B$2:$H$27,5,FALSE),VLOOKUP('Joueur 1'!$D$11,Caractéristiques!$B$29:$H$130,5,FALSE)) -> 1 - 2 | W11: Torsion | Y11: =IF($D$12=0,VLOOKUP(FOR,Caractéristiques!$B$2:$H$27,7,FALSE),VLOOKUP('Joueur 1'!$D$11,Caractéristiques!$B$29:$H$130,7,FALSE)) -> 0.04 | AB11: VITESSE | AF11: EXPERIENCE | AN11: Code classe | AO11: =VLOOKUP(D7,Classe!B4:C40,2,FALSE) -> 25 | AQ11: 2 | AR11: =IF($AV$4="O",Sorts!E5,IF($BB$4="O",Sorts!E29,"")) | BE11: 0 | BG11: =IF($AV$4="O",Sorts!F5,IF($BB$4="O",Sorts!F29,"")) | BJ11: =IF($AV$4="O",Sorts!G5,IF($BB$4="O",Sorts!G29,"")) | BM11: =IF($AV$4="O",Sorts!H5,IF($BB$4="O",Sorts!H29,"")) | BN11: =IF($AV$4="O",Sorts!I5,IF($BB$4="O",Sorts!I29,"")) | BO11: =IF($AV$4="O",Sorts!J5,IF($BB$4="O",Sorts!J29,"")) | BQ11: NC | BS11: 2 | BT11: =IF(OR($AV$6="O1",$AV$6="O2",$AV$6="O3"),Sorts!E76,IF(OR($BB$6="O1",$BB$6="O2"),Sorts!E138,"")) -> Alarme | CG11: 0 | CI11: =IF(OR($AV$6="O1",$AV$6="O2",$AV$6="O3"),Sorts!F76,IF(OR($BB$6="O1",$BB$6="O2"),Sorts!F138,"")) -> 1’’ | CK11: =IF(OR($AV$6="O1",$AV$6="O2",$AV$6="O3"),Sorts!G76,IF(OR($BB$6="O1",$BB$6="O2"),Sorts!G138,"")) -> 2-8t+1t/n | CN11: =IF(OR($AV$6="O1",$AV$6="O2",$AV$6="O3"),Sorts!H76,IF(OR($BB$6="O1",$BB$6="O2"),Sorts!H138,"")) -> X | CO11: =IF(OR($AV$6="O1",$AV$6="O2",$AV$6="O3"),Sorts!I76,IF(OR($BB$6="O1",$BB$6="O2"),Sorts!I138,"")) -> X | CP11: =IF(OR($AV$6="O1",$AV$6="O2",$AV$6="O3"),Sorts!J76,IF(OR($BB$6="O1",$BB$6="O2"),Sorts!J138,"")) -> X | CS11: 8 | CT11: =IF($AV$4="O",Sorts!K11,IF($BB$4="O",Sorts!K35,"")) | DG11: 0 | DI11: =IF($AV$4="O",Sorts!L11,IF($BB$4="O",Sorts!L35,"")) | DL11: =IF($AV$4="O",Sorts!M11,IF($BB$4="O",Sorts!M35,"")) | DO11: =IF($AV$4="O",Sorts!N11,IF($BB$4="O",Sorts!N35,"")) | DP11: =IF($AV$4="O",Sorts!O11,IF($BB$4="O",Sorts!O35,"")) | DQ11: =IF($AV$4="O",Sorts!P11,IF($BB$4="O",Sorts!P35,"")) | DS11: NC | DU11: 8 | DV11: =IF(OR($AV$6="O1",$AV$6="O2",$AV$6="O3"),Sorts!K82,IF(OR($BB$6="O1",$BB$6="O2"),Sorts!K144,"")) -> Force | EI11: 0 | EK11: =IF(OR($AV$6="O1",$AV$6="O2",$AV$6="O3"),Sorts!L82,IF(OR($BB$6="O1",$BB$6="O2"),Sorts!L144,"")) -> T | EM11: =IF(OR($AV$6="O1",$AV$6="O2",$AV$6="O3"),Sorts!M82,IF(OR($BB$6="O1",$BB$6="O2"),Sorts!M144,"")) -> 6t/n | EP11: =IF(OR($AV$6="O1",$AV$6="O2",$AV$6="O3"),Sorts!N82,IF(OR($BB$6="O1",$BB$6="O2"),Sorts!N144,"")) -> X | EQ11: =IF(OR($AV$6="O1",$AV$6="O2",$AV$6="O3"),Sorts!O82,IF(OR($BB$6="O1",$BB$6="O2"),Sorts!O144,"")) -> X | ER11: =IF(OR($AV$6="O1",$AV$6="O2",$AV$6="O3"),Sorts!P82,IF(OR($BB$6="O1",$BB$6="O2"),Sorts!P144,"")) -> X | EU11: 8 | EV11: =IF($AV$4="O",Sorts!W11,IF($BB$4="O",Sorts!W35,"")) | FI11: 0 | FK11: =IF($AV$4="O",Sorts!X11,IF($BB$4="O",Sorts!X35,"")) | FN11: =IF($AV$4="O",Sorts!Y11,IF($BB$4="O",Sorts!Y35,"")) | FQ11: =IF($AV$4="O",Sorts!Z11,IF($BB$4="O",Sorts!Z35,"")) | FR11: =IF($AV$4="O",Sorts!AA11,IF($BB$4="O",Sorts!AA35,"")) | FS11: =IF($AV$4="O",Sorts!AB11,IF($BB$4="O",Sorts!AB35,"")) | FU11: NC | FW11: 8 | FX11: =IF(OR($AV$6="O1",$AV$6="O2",$AV$6="O3"),Sorts!W82,IF(OR($BB$6="O1",$BB$6="O2"),Sorts!W144,"")) -> Cri | GK11: 0 | GM11: =IF(OR($AV$6="O1",$AV$6="O2",$AV$6="O3"),Sorts!X82,IF(OR($BB$6="O1",$BB$6="O2"),Sorts!X144,"")) -> 0 | GO11: =IF(OR($AV$6="O1",$AV$6="O2",$AV$6="O3"),Sorts!Y82,IF(OR($BB$6="O1",$BB$6="O2"),Sorts!Y144,"")) -> I | GR11: =IF(OR($AV$6="O1",$AV$6="O2",$AV$6="O3"),Sorts!Z82,IF(OR($BB$6="O1",$BB$6="O2"),Sorts!Z144,"")) -> X | GS11: =IF(OR($AV$6="O1",$AV$6="O2",$AV$6="O3"),Sorts!AA82,IF(OR($BB$6="O1",$BB$6="O2"),Sorts!AA144,"")) -> / | GT11: =IF(OR($AV$6="O1",$AV$6="O2",$AV$6="O3"),Sorts!AB82,IF(OR($BB$6="O1",$BB$6="O2"),Sorts!AB144,"")) -> X | GW11: 8 | GX11: =IF($AV$4="O",Sorts!AI11,IF($BB$4="O",Sorts!AI35,"")) | HK11: 0 | HM11: =IF($AV$4="O",Sorts!AJ11,IF($BB$4="O",Sorts!AJ35,"")) | HP11: =IF($AV$4="O",Sorts!AK11,IF($BB$4="O",Sorts!AK35,"")) | HS11: =IF($AV$4="O",Sorts!AL11,IF($BB$4="O",Sorts!AL35,"")) | HT11: =IF($AV$4="O",Sorts!AM11,IF($BB$4="O",Sorts!AM35,"")) | HU11: =IF($AV$4="O",Sorts!AN11,IF($BB$4="O",Sorts!AN35,"")) | HW11: NC | HY11: 8 | HZ11: =IF(OR($AV$6="O1",$AV$6="O2",$AV$6="O3"),Sorts!AI82,IF(OR($BB$6="O1",$BB$6="O2"),Sorts!AI144,"")) -> Enchaînement d’Éclairs | IM11: 0 | IO11: =IF(OR($AV$6="O1",$AV$6="O2",$AV$6="O3"),Sorts!AJ82,IF(OR($BB$6="O1",$BB$6="O2"),Sorts!AJ144,"")) -> 4''+0,5/n | IQ11: =IF(OR($AV$6="O1",$AV$6="O2",$AV$6="O3"),Sorts!AK82,IF(OR($BB$6="O1",$BB$6="O2"),Sorts!AK144,"")) -> I | IT11: =IF(OR($AV$6="O1",$AV$6="O2",$AV$6="O3"),Sorts!AL82,IF(OR($BB$6="O1",$BB$6="O2"),Sorts!AL144,"")) -> X | IU11: =IF(OR($AV$6="O1",$AV$6="O2",$AV$6="O3"),Sorts!AM82,IF(OR($BB$6="O1",$BB$6="O2"),Sorts!AM144,"")) -> X | IV11: =IF(OR($AV$6="O1",$AV$6="O2",$AV$6="O3"),Sorts!AN82,IF(OR($BB$6="O1",$BB$6="O2"),Sorts!AN144,"")) -> X | JY11: NC | KA11: 8 | KB11: =IF(OR($AV$6="O1",$AV$6="O2",$AV$6="O3"),Sorts!AU82,IF(OR($BB$6="O1",$BB$6="O2"),Sorts!AU144,"")) -> Ensevelissement | KO11: 0 | KQ11: =IF(OR($AV$6="O1",$AV$6="O2",$AV$6="O3"),Sorts!AV82,IF(OR($BB$6="O1",$BB$6="O2"),Sorts!AV144,"")) -> 1''/n | KS11: =IF(OR($AV$6="O1",$AV$6="O2",$AV$6="O3"),Sorts!AW82,IF(OR($BB$6="O1",$BB$6="O2"),Sorts!AW144,"")) -> S | KV11: =IF(OR($AV$6="O1",$AV$6="O2",$AV$6="O3"),Sorts!AX82,IF(OR($BB$6="O1",$BB$6="O2"),Sorts!AX144,"")) -> X | KW11: =IF(OR($AV$6="O1",$AV$6="O2",$AV$6="O3"),Sorts!AY82,IF(OR($BB$6="O1",$BB$6="O2"),Sorts!AY144,"")) -> X | KX11: =IF(OR($AV$6="O1",$AV$6="O2",$AV$6="O3"),Sorts!AZ82,IF(OR($BB$6="O1",$BB$6="O2"),Sorts!AZ144,"")) -> X
D12: =IF(OR(Classe1="Guerrier",Classe1="Ranger",Classe1="Paladin",Classe1="Barbare",Classe1="Cavalier",Classe2="Guerrier",Classe2="Ranger")*AND($B$11=18),1,0) -> 0 | O12: Poids | S12: portes | W12: Barreaux | AB12: =IF(Code_Classe=14,VLOOKUP(NivC1,Classe!B43:D60,3),MIN(36,(VLOOKUP($D$26,'Armures-Armes'!B3:D14,3,FALSE))-N26))&" m" -> 12 m | AF12: =VLOOKUP(Code_Classe,Classe!C4:F40,2,FALSE) -> Guerrier | AK12: Bonus 10% si : | AL12: {=INDEX(Classe!$C$3:$S$40,Code_Classe+1,17)} -> Aucun | AQ12: 3 | AR12: =IF($AV$4="O",Sorts!E6,IF($BB$4="O",Sorts!E30,"")) | BE12: 0 | BG12: =IF($AV$4="O",Sorts!F6,IF($BB$4="O",Sorts!F30,"")) | BJ12: =IF($AV$4="O",Sorts!G6,IF($BB$4="O",Sorts!G30,"")) | BM12: =IF($AV$4="O",Sorts!H6,IF($BB$4="O",Sorts!H30,"")) | BN12: =IF($AV$4="O",Sorts!I6,IF($BB$4="O",Sorts!I30,"")) | BO12: =IF($AV$4="O",Sorts!J6,IF($BB$4="O",Sorts!J30,"")) | BQ12: NC | BS12: 3 | BT12: =IF(OR($AV$6="O1",$AV$6="O2",$AV$6="O3"),Sorts!E77,IF(OR($BB$6="O1",$BB$6="O2"),Sorts!E139,"")) -> Altération des Feux Normaux | CG12: 0 | CI12: =IF(OR($AV$6="O1",$AV$6="O2",$AV$6="O3"),Sorts!F77,IF(OR($BB$6="O1",$BB$6="O2"),Sorts!F139,"")) -> 0,5’’/n | CK12: =IF(OR($AV$6="O1",$AV$6="O2",$AV$6="O3"),Sorts!G77,IF(OR($BB$6="O1",$BB$6="O2"),Sorts!G139,"")) -> 1r/n | CN12: =IF(OR($AV$6="O1",$AV$6="O2",$AV$6="O3"),Sorts!H77,IF(OR($BB$6="O1",$BB$6="O2"),Sorts!H139,"")) -> X | CO12: =IF(OR($AV$6="O1",$AV$6="O2",$AV$6="O3"),Sorts!I77,IF(OR($BB$6="O1",$BB$6="O2"),Sorts!I139,"")) -> X | CP12: =IF(OR($AV$6="O1",$AV$6="O2",$AV$6="O3"),Sorts!J77,IF(OR($BB$6="O1",$BB$6="O2"),Sorts!J139,"")) -> / | CS12: 9 | CT12: =IF($AV$4="O",Sorts!K12,IF($BB$4="O",Sorts!K36,"")) | DG12: 0 | DI12: =IF($AV$4="O",Sorts!L12,IF($BB$4="O",Sorts!L36,"")) | DL12: =IF($AV$4="O",Sorts!M12,IF($BB$4="O",Sorts!M36,"")) | DO12: =IF($AV$4="O",Sorts!N12,IF($BB$4="O",Sorts!N36,"")) | DP12: =IF($AV$4="O",Sorts!O12,IF($BB$4="O",Sorts!O36,"")) | DQ12: =IF($AV$4="O",Sorts!P12,IF($BB$4="O",Sorts!P36,"")) | DS12: NC | DU12: 9 | DV12: =IF(OR($AV$6="O1",$AV$6="O2",$AV$6="O3"),Sorts!K83,IF(OR($BB$6="O1",$BB$6="O2"),Sorts!K145,"")) -> Fouet | EI12: 0 | EK12: =IF(OR($AV$6="O1",$AV$6="O2",$AV$6="O3"),Sorts!L83,IF(OR($BB$6="O1",$BB$6="O2"),Sorts!L145,"")) -> 1'' | EM12: =IF(OR($AV$6="O1",$AV$6="O2",$AV$6="O3"),Sorts!M83,IF(OR($BB$6="O1",$BB$6="O2"),Sorts!M145,"")) -> 1r/n | EP12: =IF(OR($AV$6="O1",$AV$6="O2",$AV$6="O3"),Sorts!N83,IF(OR($BB$6="O1",$BB$6="O2"),Sorts!N145,"")) -> X | EQ12: =IF(OR($AV$6="O1",$AV$6="O2",$AV$6="O3"),Sorts!O83,IF(OR($BB$6="O1",$BB$6="O2"),Sorts!O145,"")) -> X | ER12: =IF(OR($AV$6="O1",$AV$6="O2",$AV$6="O3"),Sorts!P83,IF(OR($BB$6="O1",$BB$6="O2"),Sorts!P145,"")) -> X | EU12: 9 | EV12: =IF($AV$4="O",Sorts!W12,IF($BB$4="O",Sorts!W36,"")) | FI12: 0 | FK12: =IF($AV$4="O",Sorts!X12,IF($BB$4="O",Sorts!X36,"")) | FN12: =IF($AV$4="O",Sorts!Y12,IF($BB$4="O",Sorts!Y36,"")) | FQ12: =IF($AV$4="O",Sorts!Z12,IF($BB$4="O",Sorts!Z36,"")) | FR12: =IF($AV$4="O",Sorts!AA12,IF($BB$4="O",Sorts!AA36,"")) | FS12: =IF($AV$4="O",Sorts!AB12,IF($BB$4="O",Sorts!AB36,"")) | FU12: NC | FW12: 9 | FX12: =IF(OR($AV$6="O1",$AV$6="O2",$AV$6="O3"),Sorts!W83,IF(OR($BB$6="O1",$BB$6="O2"),Sorts!W145,"")) -> Désenvoûtement | GK12: 0 | GM12: =IF(OR($AV$6="O1",$AV$6="O2",$AV$6="O3"),Sorts!X83,IF(OR($BB$6="O1",$BB$6="O2"),Sorts!X145,"")) -> T | GO12: =IF(OR($AV$6="O1",$AV$6="O2",$AV$6="O3"),Sorts!Y83,IF(OR($BB$6="O1",$BB$6="O2"),Sorts!Y145,"")) -> P | GR12: =IF(OR($AV$6="O1",$AV$6="O2",$AV$6="O3"),Sorts!Z83,IF(OR($BB$6="O1",$BB$6="O2"),Sorts!Z145,"")) -> X | GS12: =IF(OR($AV$6="O1",$AV$6="O2",$AV$6="O3"),Sorts!AA83,IF(OR($BB$6="O1",$BB$6="O2"),Sorts!AA145,"")) -> / | GT12: =IF(OR($AV$6="O1",$AV$6="O2",$AV$6="O3"),Sorts!AB83,IF(OR($BB$6="O1",$BB$6="O2"),Sorts!AB145,"")) -> / | GW12: 9 | GX12: =IF($AV$4="O",Sorts!AI12,IF($BB$4="O",Sorts!AI36,"")) | HK12: 0 | HM12: =IF($AV$4="O",Sorts!AJ12,IF($BB$4="O",Sorts!AJ36,"")) | HP12: =IF($AV$4="O",Sorts!AK12,IF($BB$4="O",Sorts!AK36,"")) | HS12: =IF($AV$4="O",Sorts!AL12,IF($BB$4="O",Sorts!AL36,"")) | HT12: =IF($AV$4="O",Sorts!AM12,IF($BB$4="O",Sorts!AM36,"")) | HU12: =IF($AV$4="O",Sorts!AN12,IF($BB$4="O",Sorts!AN36,"")) | HW12: NC | HY12: 9 | HZ12: =IF(OR($AV$6="O1",$AV$6="O2",$AV$6="O3"),Sorts!AI83,IF(OR($BB$6="O1",$BB$6="O2"),Sorts!AI145,"")) -> Enchantement | IM12: 0 | IO12: =IF(OR($AV$6="O1",$AV$6="O2",$AV$6="O3"),Sorts!AJ83,IF(OR($BB$6="O1",$BB$6="O2"),Sorts!AJ145,"")) -> T | IQ12: =IF(OR($AV$6="O1",$AV$6="O2",$AV$6="O3"),Sorts!AK83,IF(OR($BB$6="O1",$BB$6="O2"),Sorts!AK145,"")) -> S | IT12: =IF(OR($AV$6="O1",$AV$6="O2",$AV$6="O3"),Sorts!AL83,IF(OR($BB$6="O1",$BB$6="O2"),Sorts!AL145,"")) -> X | IU12: =IF(OR($AV$6="O1",$AV$6="O2",$AV$6="O3"),Sorts!AM83,IF(OR($BB$6="O1",$BB$6="O2"),Sorts!AM145,"")) -> X | IV12: =IF(OR($AV$6="O1",$AV$6="O2",$AV$6="O3"),Sorts!AN83,IF(OR($BB$6="O1",$BB$6="O2"),Sorts!AN145,"")) -> X | JY12: NC | KA12: 9 | KB12: =IF(OR($AV$6="O1",$AV$6="O2",$AV$6="O3"),Sorts!AU83,IF(OR($BB$6="O1",$BB$6="O2"),Sorts!AU145,"")) -> Immunité Magique de Serten | KO12: 0 | KQ12: =IF(OR($AV$6="O1",$AV$6="O2",$AV$6="O3"),Sorts!AV83,IF(OR($BB$6="O1",$BB$6="O2"),Sorts!AV145,"")) -> T | KS12: =IF(OR($AV$6="O1",$AV$6="O2",$AV$6="O3"),Sorts!AW83,IF(OR($BB$6="O1",$BB$6="O2"),Sorts!AW145,"")) -> 1t/n | KV12: =IF(OR($AV$6="O1",$AV$6="O2",$AV$6="O3"),Sorts!AX83,IF(OR($BB$6="O1",$BB$6="O2"),Sorts!AX145,"")) -> X | KW12: =IF(OR($AV$6="O1",$AV$6="O2",$AV$6="O3"),Sorts!AY83,IF(OR($BB$6="O1",$BB$6="O2"),Sorts!AY145,"")) -> X | KX12: =IF(OR($AV$6="O1",$AV$6="O2",$AV$6="O3"),Sorts!AZ83,IF(OR($BB$6="O1",$BB$6="O2"),Sorts!AZ145,"")) -> X
B13: 12 | E13: INT | G13: Lang | I13: =VLOOKUP(INT,Caractéristiques!$B$133:$F$160,2,FALSE) -> 3 | K13: Know | M13: =VLOOKUP(INT,Caractéristiques!$B$133:$F$160,3,FALSE) -> 0.45 | O13: Sorts | Q13: =VLOOKUP(INT,Caractéristiques!$B$133:$F$160,4,FALSE) -> 5 | S13: Sorts | U13: =VLOOKUP(INT,Caractéristiques!$B$133:$F$160,5,FALSE) -> 7 | AF13: XP MIN | AH13: =INDEX(Niveau!$A$511:$Q$547,NivC1+1,MATCH(Classe1,Niveau!$B$511:$Q$511,0)+1) -> 4001 | AK13: Pts Exp | AN13: Niveau | AQ13: 4 | AR13: =IF($AV$4="O",Sorts!E7,IF($BB$4="O",Sorts!E31,"")) | BE13: 0 | BG13: =IF($AV$4="O",Sorts!F7,IF($BB$4="O",Sorts!F31,"")) | BJ13: =IF($AV$4="O",Sorts!G7,IF($BB$4="O",Sorts!G31,"")) | BM13: =IF($AV$4="O",Sorts!H7,IF($BB$4="O",Sorts!H31,"")) | BN13: =IF($AV$4="O",Sorts!I7,IF($BB$4="O",Sorts!I31,"")) | BO13: =IF($AV$4="O",Sorts!J7,IF($BB$4="O",Sorts!J31,"")) | BQ13: NC | BS13: 4 | BT13: =IF(OR($AV$6="O1",$AV$6="O2",$AV$6="O3"),Sorts!E78,IF(OR($BB$6="O1",$BB$6="O2"),Sorts!E140,"")) -> Amitié | CG13: 0 | CI13: =IF(OR($AV$6="O1",$AV$6="O2",$AV$6="O3"),Sorts!F78,IF(OR($BB$6="O1",$BB$6="O2"),Sorts!F140,"")) -> 0 | CK13: =IF(OR($AV$6="O1",$AV$6="O2",$AV$6="O3"),Sorts!G78,IF(OR($BB$6="O1",$BB$6="O2"),Sorts!G140,"")) -> 1r/n | CN13: =IF(OR($AV$6="O1",$AV$6="O2",$AV$6="O3"),Sorts!H78,IF(OR($BB$6="O1",$BB$6="O2"),Sorts!H140,"")) -> X | CO13: =IF(OR($AV$6="O1",$AV$6="O2",$AV$6="O3"),Sorts!I78,IF(OR($BB$6="O1",$BB$6="O2"),Sorts!I140,"")) -> X | CP13: =IF(OR($AV$6="O1",$AV$6="O2",$AV$6="O3"),Sorts!J78,IF(OR($BB$6="O1",$BB$6="O2"),Sorts!J140,"")) -> X | CS13: 10 | CT13: =IF($AV$4="O",Sorts!K13,IF($BB$4="O",Sorts!K37,"")) | DG13: 0 | DI13: =IF($AV$4="O",Sorts!L13,IF($BB$4="O",Sorts!L37,"")) | DL13: =IF($AV$4="O",Sorts!M13,IF($BB$4="O",Sorts!M37,"")) | DO13: =IF($AV$4="O",Sorts!N13,IF($BB$4="O",Sorts!N37,"")) | DP13: =IF($AV$4="O",Sorts!O13,IF($BB$4="O",Sorts!O37,"")) | DQ13: =IF($AV$4="O",Sorts!P13,IF($BB$4="O",Sorts!P37,"")) | DS13: NC | DU13: 10 | DV13: =IF(OR($AV$6="O1",$AV$6="O2",$AV$6="O3"),Sorts!K84,IF(OR($BB$6="O1",$BB$6="O2"),Sorts!K146,"")) -> Fracassement | EI13: 0 | EK13: =IF(OR($AV$6="O1",$AV$6="O2",$AV$6="O3"),Sorts!L84,IF(OR($BB$6="O1",$BB$6="O2"),Sorts!L146,"")) -> 6'' | EM13: =IF(OR($AV$6="O1",$AV$6="O2",$AV$6="O3"),Sorts!M84,IF(OR($BB$6="O1",$BB$6="O2"),Sorts!M146,"")) -> P | EP13: =IF(OR($AV$6="O1",$AV$6="O2",$AV$6="O3"),Sorts!N84,IF(OR($BB$6="O1",$BB$6="O2"),Sorts!N146,"")) -> X | EQ13: =IF(OR($AV$6="O1",$AV$6="O2",$AV$6="O3"),Sorts!O84,IF(OR($BB$6="O1",$BB$6="O2"),Sorts!O146,"")) -> X | ER13: =IF(OR($AV$6="O1",$AV$6="O2",$AV$6="O3"),Sorts!P84,IF(OR($BB$6="O1",$BB$6="O2"),Sorts!P146,"")) -> X | EU13: 10 | EV13: =IF($AV$4="O",Sorts!W13,IF($BB$4="O",Sorts!W37,"")) | FI13: 0 | FK13: =IF($AV$4="O",Sorts!X13,IF($BB$4="O",Sorts!X37,"")) | FN13: =IF($AV$4="O",Sorts!Y13,IF($BB$4="O",Sorts!Y37,"")) | FQ13: =IF($AV$4="O",Sorts!Z13,IF($BB$4="O",Sorts!Z37,"")) | FR13: =IF($AV$4="O",Sorts!AA13,IF($BB$4="O",Sorts!AA37,"")) | FS13: =IF($AV$4="O",Sorts!AB13,IF($BB$4="O",Sorts!AB37,"")) | FU13: NC | FW13: 10 | FX13: =IF(OR($AV$6="O1",$AV$6="O2",$AV$6="O3"),Sorts!W84,IF(OR($BB$6="O1",$BB$6="O2"),Sorts!W146,"")) -> Dissipation des Illusions | GK13: 0 | GM13: =IF(OR($AV$6="O1",$AV$6="O2",$AV$6="O3"),Sorts!X84,IF(OR($BB$6="O1",$BB$6="O2"),Sorts!X146,"")) -> 0,5''/n | GO13: =IF(OR($AV$6="O1",$AV$6="O2",$AV$6="O3"),Sorts!Y84,IF(OR($BB$6="O1",$BB$6="O2"),Sorts!Y146,"")) -> P | GR13: =IF(OR($AV$6="O1",$AV$6="O2",$AV$6="O3"),Sorts!Z84,IF(OR($BB$6="O1",$BB$6="O2"),Sorts!Z146,"")) -> X | GS13: =IF(OR($AV$6="O1",$AV$6="O2",$AV$6="O3"),Sorts!AA84,IF(OR($BB$6="O1",$BB$6="O2"),Sorts!AA146,"")) -> / | GT13: =IF(OR($AV$6="O1",$AV$6="O2",$AV$6="O3"),Sorts!AB84,IF(OR($BB$6="O1",$BB$6="O2"),Sorts!AB146,"")) -> / | GW13: 10 | GX13: =IF($AV$4="O",Sorts!AI13,IF($BB$4="O",Sorts!AI37,"")) | HK13: 0 | HM13: =IF($AV$4="O",Sorts!AJ13,IF($BB$4="O",Sorts!AJ37,"")) | HP13: =IF($AV$4="O",Sorts!AK13,IF($BB$4="O",Sorts!AK37,"")) | HS13: =IF($AV$4="O",Sorts!AL13,IF($BB$4="O",Sorts!AL37,"")) | HT13: =IF($AV$4="O",Sorts!AM13,IF($BB$4="O",Sorts!AM37,"")) | HU13: =IF($AV$4="O",Sorts!AN13,IF($BB$4="O",Sorts!AN37,"")) | HW13: NC | HY13: 10 | HZ13: =IF(OR($AV$6="O1",$AV$6="O2",$AV$6="O3"),Sorts!AI84,IF(OR($BB$6="O1",$BB$6="O2"),Sorts!AI146,"")) -> Extension III | IM13: 0 | IO13: =IF(OR($AV$6="O1",$AV$6="O2",$AV$6="O3"),Sorts!AJ84,IF(OR($BB$6="O1",$BB$6="O2"),Sorts!AJ146,"")) -> 0 | IQ13: =IF(OR($AV$6="O1",$AV$6="O2",$AV$6="O3"),Sorts!AK84,IF(OR($BB$6="O1",$BB$6="O2"),Sorts!AK146,"")) -> S | IT13: =IF(OR($AV$6="O1",$AV$6="O2",$AV$6="O3"),Sorts!AL84,IF(OR($BB$6="O1",$BB$6="O2"),Sorts!AL146,"")) -> X | IU13: =IF(OR($AV$6="O1",$AV$6="O2",$AV$6="O3"),Sorts!AM84,IF(OR($BB$6="O1",$BB$6="O2"),Sorts!AM146,"")) -> / | IV13: =IF(OR($AV$6="O1",$AV$6="O2",$AV$6="O3"),Sorts!AN84,IF(OR($BB$6="O1",$BB$6="O2"),Sorts!AN146,"")) -> / | JY13: NC | KA13: 10 | KB13: =IF(OR($AV$6="O1",$AV$6="O2",$AV$6="O3"),Sorts!AU84,IF(OR($BB$6="O1",$BB$6="O2"),Sorts!AU146,"")) -> Invocation de Monstre VI | KO13: 0 | KQ13: =IF(OR($AV$6="O1",$AV$6="O2",$AV$6="O3"),Sorts!AV84,IF(OR($BB$6="O1",$BB$6="O2"),Sorts!AV146,"")) -> 8'' | KS13: =IF(OR($AV$6="O1",$AV$6="O2",$AV$6="O3"),Sorts!AW84,IF(OR($BB$6="O1",$BB$6="O2"),Sorts!AW146,"")) -> 7r+1/n | KV13: =IF(OR($AV$6="O1",$AV$6="O2",$AV$6="O3"),Sorts!AX84,IF(OR($BB$6="O1",$BB$6="O2"),Sorts!AX146,"")) -> X | KW13: =IF(OR($AV$6="O1",$AV$6="O2",$AV$6="O3"),Sorts!AY84,IF(OR($BB$6="O1",$BB$6="O2"),Sorts!AY146,"")) -> X | KX13: =IF(OR($AV$6="O1",$AV$6="O2",$AV$6="O3"),Sorts!AZ84,IF(OR($BB$6="O1",$BB$6="O2"),Sorts!AZ146,"")) -> X
G14: Add | K14: Spells | O14: Min | S14: Max | Z14: DES DE VIE | AF14: XP MAX | AH14: =INDEX(Niveau!$A$511:$Q$547,NivC1+2,MATCH(Classe1,Niveau!$B$511:$Q$511,0)+1)-1 -> 8000 | AK14: 4028 | AN14: 3 | AQ14: 5 | AR14: =IF($AV$4="O",Sorts!E8,IF($BB$4="O",Sorts!E32,"")) | BE14: 0 | BG14: =IF($AV$4="O",Sorts!F8,IF($BB$4="O",Sorts!F32,"")) | BJ14: =IF($AV$4="O",Sorts!G8,IF($BB$4="O",Sorts!G32,"")) | BM14: =IF($AV$4="O",Sorts!H8,IF($BB$4="O",Sorts!H32,"")) | BN14: =IF($AV$4="O",Sorts!I8,IF($BB$4="O",Sorts!I32,"")) | BO14: =IF($AV$4="O",Sorts!J8,IF($BB$4="O",Sorts!J32,"")) | BQ14: NC | BS14: 5 | BT14: =IF(OR($AV$6="O1",$AV$6="O2",$AV$6="O3"),Sorts!E79,IF(OR($BB$6="O1",$BB$6="O2"),Sorts!E141,"")) -> Armure | CG14: 0 | CI14: =IF(OR($AV$6="O1",$AV$6="O2",$AV$6="O3"),Sorts!F79,IF(OR($BB$6="O1",$BB$6="O2"),Sorts!F141,"")) -> T | CK14: =IF(OR($AV$6="O1",$AV$6="O2",$AV$6="O3"),Sorts!G79,IF(OR($BB$6="O1",$BB$6="O2"),Sorts!G141,"")) -> S | CN14: =IF(OR($AV$6="O1",$AV$6="O2",$AV$6="O3"),Sorts!H79,IF(OR($BB$6="O1",$BB$6="O2"),Sorts!H141,"")) -> X | CO14: =IF(OR($AV$6="O1",$AV$6="O2",$AV$6="O3"),Sorts!I79,IF(OR($BB$6="O1",$BB$6="O2"),Sorts!I141,"")) -> X | CP14: =IF(OR($AV$6="O1",$AV$6="O2",$AV$6="O3"),Sorts!J79,IF(OR($BB$6="O1",$BB$6="O2"),Sorts!J141,"")) -> X | CS14: 11 | CT14: =IF($AV$4="O",Sorts!K14,IF($BB$4="O",Sorts!K38,"")) | DG14: 0 | DI14: =IF($AV$4="O",Sorts!L14,IF($BB$4="O",Sorts!L38,"")) | DL14: =IF($AV$4="O",Sorts!M14,IF($BB$4="O",Sorts!M38,"")) | DO14: =IF($AV$4="O",Sorts!N14,IF($BB$4="O",Sorts!N38,"")) | DP14: =IF($AV$4="O",Sorts!O14,IF($BB$4="O",Sorts!O38,"")) | DQ14: =IF($AV$4="O",Sorts!P14,IF($BB$4="O",Sorts!P38,"")) | DS14: NC | DU14: 11 | DV14: =IF(OR($AV$6="O1",$AV$6="O2",$AV$6="O3"),Sorts!K85,IF(OR($BB$6="O1",$BB$6="O2"),Sorts!K147,"")) -> Image Miroir | EI14: 0 | EK14: =IF(OR($AV$6="O1",$AV$6="O2",$AV$6="O3"),Sorts!L85,IF(OR($BB$6="O1",$BB$6="O2"),Sorts!L147,"")) -> 0 | EM14: =IF(OR($AV$6="O1",$AV$6="O2",$AV$6="O3"),Sorts!M85,IF(OR($BB$6="O1",$BB$6="O2"),Sorts!M147,"")) -> 2r/n | EP14: =IF(OR($AV$6="O1",$AV$6="O2",$AV$6="O3"),Sorts!N85,IF(OR($BB$6="O1",$BB$6="O2"),Sorts!N147,"")) -> X | EQ14: =IF(OR($AV$6="O1",$AV$6="O2",$AV$6="O3"),Sorts!O85,IF(OR($BB$6="O1",$BB$6="O2"),Sorts!O147,"")) -> X | ER14: =IF(OR($AV$6="O1",$AV$6="O2",$AV$6="O3"),Sorts!P85,IF(OR($BB$6="O1",$BB$6="O2"),Sorts!P147,"")) -> / | EU14: 11 | EV14: =IF($AV$4="O",Sorts!W14,IF($BB$4="O",Sorts!W38,"")) | FI14: 0 | FK14: =IF($AV$4="O",Sorts!X14,IF($BB$4="O",Sorts!X38,"")) | FN14: =IF($AV$4="O",Sorts!Y14,IF($BB$4="O",Sorts!Y38,"")) | FQ14: =IF($AV$4="O",Sorts!Z14,IF($BB$4="O",Sorts!Z38,"")) | FR14: =IF($AV$4="O",Sorts!AA14,IF($BB$4="O",Sorts!AA38,"")) | FS14: =IF($AV$4="O",Sorts!AB14,IF($BB$4="O",Sorts!AB38,"")) | FU14: NC | FW14: 11 | FX14: =IF(OR($AV$6="O1",$AV$6="O2",$AV$6="O3"),Sorts!W85,IF(OR($BB$6="O1",$BB$6="O2"),Sorts!W147,"")) -> Effroi | GK14: 0 | GM14: =IF(OR($AV$6="O1",$AV$6="O2",$AV$6="O3"),Sorts!X85,IF(OR($BB$6="O1",$BB$6="O2"),Sorts!X147,"")) -> 0 | GO14: =IF(OR($AV$6="O1",$AV$6="O2",$AV$6="O3"),Sorts!Y85,IF(OR($BB$6="O1",$BB$6="O2"),Sorts!Y147,"")) -> S | GR14: =IF(OR($AV$6="O1",$AV$6="O2",$AV$6="O3"),Sorts!Z85,IF(OR($BB$6="O1",$BB$6="O2"),Sorts!Z147,"")) -> X | GS14: =IF(OR($AV$6="O1",$AV$6="O2",$AV$6="O3"),Sorts!AA85,IF(OR($BB$6="O1",$BB$6="O2"),Sorts!AA147,"")) -> X | GT14: =IF(OR($AV$6="O1",$AV$6="O2",$AV$6="O3"),Sorts!AB85,IF(OR($BB$6="O1",$BB$6="O2"),Sorts!AB147,"")) -> X | GW14: 11 | GX14: =IF($AV$4="O",Sorts!AI14,IF($BB$4="O",Sorts!AI38,"")) | HK14: 0 | HM14: =IF($AV$4="O",Sorts!AJ14,IF($BB$4="O",Sorts!AJ38,"")) | HP14: =IF($AV$4="O",Sorts!AK14,IF($BB$4="O",Sorts!AK38,"")) | HS14: =IF($AV$4="O",Sorts!AL14,IF($BB$4="O",Sorts!AL38,"")) | HT14: =IF($AV$4="O",Sorts!AM14,IF($BB$4="O",Sorts!AM38,"")) | HU14: =IF($AV$4="O",Sorts!AN14,IF($BB$4="O",Sorts!AN38,"")) | HW14: NC | HY14: 11 | HZ14: =IF(OR($AV$6="O1",$AV$6="O2",$AV$6="O3"),Sorts!AI85,IF(OR($BB$6="O1",$BB$6="O2"),Sorts!AI147,"")) -> Glissement de Terrain | IM14: 0 | IO14: =IF(OR($AV$6="O1",$AV$6="O2",$AV$6="O3"),Sorts!AJ85,IF(OR($BB$6="O1",$BB$6="O2"),Sorts!AJ147,"")) -> 1''/n | IQ14: =IF(OR($AV$6="O1",$AV$6="O2",$AV$6="O3"),Sorts!AK85,IF(OR($BB$6="O1",$BB$6="O2"),Sorts!AK147,"")) -> P | IT14: =IF(OR($AV$6="O1",$AV$6="O2",$AV$6="O3"),Sorts!AL85,IF(OR($BB$6="O1",$BB$6="O2"),Sorts!AL147,"")) -> X | IU14: =IF(OR($AV$6="O1",$AV$6="O2",$AV$6="O3"),Sorts!AM85,IF(OR($BB$6="O1",$BB$6="O2"),Sorts!AM147,"")) -> X | IV14: =IF(OR($AV$6="O1",$AV$6="O2",$AV$6="O3"),Sorts!AN85,IF(OR($BB$6="O1",$BB$6="O2"),Sorts!AN147,"")) -> X | JY14: NC | KA14: 11 | KB14: =IF(OR($AV$6="O1",$AV$6="O2",$AV$6="O3"),Sorts!AU85,IF(OR($BB$6="O1",$BB$6="O2"),Sorts!AU147,"")) -> Labyrinthe | KO14: 0 | KQ14: =IF(OR($AV$6="O1",$AV$6="O2",$AV$6="O3"),Sorts!AV85,IF(OR($BB$6="O1",$BB$6="O2"),Sorts!AV147,"")) -> 0,5''/n | KS14: =IF(OR($AV$6="O1",$AV$6="O2",$AV$6="O3"),Sorts!AW85,IF(OR($BB$6="O1",$BB$6="O2"),Sorts!AW147,"")) -> S | KV14: =IF(OR($AV$6="O1",$AV$6="O2",$AV$6="O3"),Sorts!AX85,IF(OR($BB$6="O1",$BB$6="O2"),Sorts!AX147,"")) -> X | KW14: =IF(OR($AV$6="O1",$AV$6="O2",$AV$6="O3"),Sorts!AY85,IF(OR($BB$6="O1",$BB$6="O2"),Sorts!AY147,"")) -> X | KX14: =IF(OR($AV$6="O1",$AV$6="O2",$AV$6="O3"),Sorts!AZ85,IF(OR($BB$6="O1",$BB$6="O2"),Sorts!AZ147,"")) -> /
B15: 17 | E15: SAG | G15: Ajust | I15: =VLOOKUP(SAG,Caractéristiques!$B$160:$L$184,2,FALSE) -> 3 | K15: % Echec | M15: =IF(OR(Classe1="CLERC",Classe1="DRUIDE",AND(Classe1="BARDE",NivC1>8)),VLOOKUP(SAG,Caractéristiques!$B$160:$L$184,10,FALSE),"NA") -> NA | N15: =IF(OR($D$7="CLERC",$D$7="DRUIDE"),VLOOKUP($B$15,#REF!,6,FALSE),"no") -> no | O15: Ajust | Q15: =VLOOKUP(SAG,Caractéristiques!$B$160:$L$184,11,FALSE) -> -3 | S15: Niveau | U15: 1 | V15: 2 | W15: 3 | X15: 4 | Z15: Classe 1 | AB15: {=INDEX(Niveau!$B$472:$Q$508,NivC1+1,MATCH(Classe1,Niveau!$C$472:$Q$472,0)+1)&IF(AND(Code_Classe>14,Code_Classe>33),"/3",IF(Code_Classe>14,"/2",""))} -> 3D10/2 | AH15: =AH14-AK14 -> 3972 | AQ15: 6 | AR15: =IF($AV$4="O",Sorts!E9,IF($BB$4="O",Sorts!E33,"")) | BE15: 0 | BG15: =IF($AV$4="O",Sorts!F9,IF($BB$4="O",Sorts!F33,"")) | BJ15: =IF($AV$4="O",Sorts!G9,IF($BB$4="O",Sorts!G33,"")) | BM15: =IF($AV$4="O",Sorts!H9,IF($BB$4="O",Sorts!H33,"")) | BN15: =IF($AV$4="O",Sorts!I9,IF($BB$4="O",Sorts!I33,"")) | BO15: =IF($AV$4="O",Sorts!J9,IF($BB$4="O",Sorts!J33,"")) | BQ15: NC | BS15: 6 | BT15: =IF(OR($AV$6="O1",$AV$6="O2",$AV$6="O3"),Sorts!E80,IF(OR($BB$6="O1",$BB$6="O2"),Sorts!E142,"")) -> Aura Magique de Nystul | CG15: 0 | CI15: =IF(OR($AV$6="O1",$AV$6="O2",$AV$6="O3"),Sorts!F80,IF(OR($BB$6="O1",$BB$6="O2"),Sorts!F142,"")) -> T | CK15: =IF(OR($AV$6="O1",$AV$6="O2",$AV$6="O3"),Sorts!G80,IF(OR($BB$6="O1",$BB$6="O2"),Sorts!G142,"")) -> 1j/n | CN15: =IF(OR($AV$6="O1",$AV$6="O2",$AV$6="O3"),Sorts!H80,IF(OR($BB$6="O1",$BB$6="O2"),Sorts!H142,"")) -> X | CO15: =IF(OR($AV$6="O1",$AV$6="O2",$AV$6="O3"),Sorts!I80,IF(OR($BB$6="O1",$BB$6="O2"),Sorts!I142,"")) -> X | CP15: =IF(OR($AV$6="O1",$AV$6="O2",$AV$6="O3"),Sorts!J80,IF(OR($BB$6="O1",$BB$6="O2"),Sorts!J142,"")) -> X | CS15: 12 | CT15: =IF($AV$4="O",Sorts!K15,IF($BB$4="O",Sorts!K39,"")) | DG15: 0 | DI15: =IF($AV$4="O",Sorts!L15,IF($BB$4="O",Sorts!L39,"")) | DL15: =IF($AV$4="O",Sorts!M15,IF($BB$4="O",Sorts!M39,"")) | DO15: =IF($AV$4="O",Sorts!N15,IF($BB$4="O",Sorts!N39,"")) | DP15: =IF($AV$4="O",Sorts!O15,IF($BB$4="O",Sorts!O39,"")) | DQ15: =IF($AV$4="O",Sorts!P15,IF($BB$4="O",Sorts!P39,"")) | DS15: NC | DU15: 12 | DV15: =IF(OR($AV$6="O1",$AV$6="O2",$AV$6="O3"),Sorts!K86,IF(OR($BB$6="O1",$BB$6="O2"),Sorts!K148,"")) -> Invisibilité | EI15: 0 | EK15: =IF(OR($AV$6="O1",$AV$6="O2",$AV$6="O3"),Sorts!L86,IF(OR($BB$6="O1",$BB$6="O2"),Sorts!L148,"")) -> T | EM15: =IF(OR($AV$6="O1",$AV$6="O2",$AV$6="O3"),Sorts!M86,IF(OR($BB$6="O1",$BB$6="O2"),Sorts!M148,"")) -> S | EP15: =IF(OR($AV$6="O1",$AV$6="O2",$AV$6="O3"),Sorts!N86,IF(OR($BB$6="O1",$BB$6="O2"),Sorts!N148,"")) -> X | EQ15: =IF(OR($AV$6="O1",$AV$6="O2",$AV$6="O3"),Sorts!O86,IF(OR($BB$6="O1",$BB$6="O2"),Sorts!O148,"")) -> X | ER15: =IF(OR($AV$6="O1",$AV$6="O2",$AV$6="O3"),Sorts!P86,IF(OR($BB$6="O1",$BB$6="O2"),Sorts!P148,"")) -> X | EU15: 12 | EV15: =IF($AV$4="O",Sorts!W15,IF($BB$4="O",Sorts!W39,"")) | FI15: 0 | FK15: =IF($AV$4="O",Sorts!X15,IF($BB$4="O",Sorts!X39,"")) | FN15: =IF($AV$4="O",Sorts!Y15,IF($BB$4="O",Sorts!Y39,"")) | FQ15: =IF($AV$4="O",Sorts!Z15,IF($BB$4="O",Sorts!Z39,"")) | FR15: =IF($AV$4="O",Sorts!AA15,IF($BB$4="O",Sorts!AA39,"")) | FS15: =IF($AV$4="O",Sorts!AB15,IF($BB$4="O",Sorts!AB39,"")) | FU15: NC | FW15: 12 | FX15: =IF(OR($AV$6="O1",$AV$6="O2",$AV$6="O3"),Sorts!W86,IF(OR($BB$6="O1",$BB$6="O2"),Sorts!W148,"")) -> Embroussaillement | GK15: 0 | GM15: =IF(OR($AV$6="O1",$AV$6="O2",$AV$6="O3"),Sorts!X86,IF(OR($BB$6="O1",$BB$6="O2"),Sorts!X148,"")) -> 1''/n | GO15: =IF(OR($AV$6="O1",$AV$6="O2",$AV$6="O3"),Sorts!Y86,IF(OR($BB$6="O1",$BB$6="O2"),Sorts!Y148,"")) -> 1r/n | GR15: =IF(OR($AV$6="O1",$AV$6="O2",$AV$6="O3"),Sorts!Z86,IF(OR($BB$6="O1",$BB$6="O2"),Sorts!Z148,"")) -> X | GS15: =IF(OR($AV$6="O1",$AV$6="O2",$AV$6="O3"),Sorts!AA86,IF(OR($BB$6="O1",$BB$6="O2"),Sorts!AA148,"")) -> / | GT15: =IF(OR($AV$6="O1",$AV$6="O2",$AV$6="O3"),Sorts!AB86,IF(OR($BB$6="O1",$BB$6="O2"),Sorts!AB148,"")) -> / | GW15: 12 | GX15: =IF($AV$4="O",Sorts!AI15,IF($BB$4="O",Sorts!AI39,"")) | HK15: 0 | HM15: =IF($AV$4="O",Sorts!AJ15,IF($BB$4="O",Sorts!AJ39,"")) | HP15: =IF($AV$4="O",Sorts!AK15,IF($BB$4="O",Sorts!AK39,"")) | HS15: =IF($AV$4="O",Sorts!AL15,IF($BB$4="O",Sorts!AL39,"")) | HT15: =IF($AV$4="O",Sorts!AM15,IF($BB$4="O",Sorts!AM39,"")) | HU15: =IF($AV$4="O",Sorts!AN15,IF($BB$4="O",Sorts!AN39,"")) | HW15: NC | HY15: 12 | HZ15: =IF(OR($AV$6="O1",$AV$6="O2",$AV$6="O3"),Sorts!AI86,IF(OR($BB$6="O1",$BB$6="O2"),Sorts!AI148,"")) -> Globe d’Invulnérabilité | IM15: 0 | IO15: =IF(OR($AV$6="O1",$AV$6="O2",$AV$6="O3"),Sorts!AJ86,IF(OR($BB$6="O1",$BB$6="O2"),Sorts!AJ148,"")) -> 0 | IQ15: =IF(OR($AV$6="O1",$AV$6="O2",$AV$6="O3"),Sorts!AK86,IF(OR($BB$6="O1",$BB$6="O2"),Sorts!AK148,"")) -> 1r/n | IT15: =IF(OR($AV$6="O1",$AV$6="O2",$AV$6="O3"),Sorts!AL86,IF(OR($BB$6="O1",$BB$6="O2"),Sorts!AL148,"")) -> X | IU15: =IF(OR($AV$6="O1",$AV$6="O2",$AV$6="O3"),Sorts!AM86,IF(OR($BB$6="O1",$BB$6="O2"),Sorts!AM148,"")) -> X | IV15: =IF(OR($AV$6="O1",$AV$6="O2",$AV$6="O3"),Sorts!AN86,IF(OR($BB$6="O1",$BB$6="O2"),Sorts!AN148,"")) -> X | JY15: NC | KA15: 12 | KB15: =IF(OR($AV$6="O1",$AV$6="O2",$AV$6="O3"),Sorts!AU86,IF(OR($BB$6="O1",$BB$6="O2"),Sorts!AU148,"")) -> Mot de Pouvoir : « Cécité » | KO15: 0 | KQ15: =IF(OR($AV$6="O1",$AV$6="O2",$AV$6="O3"),Sorts!AV86,IF(OR($BB$6="O1",$BB$6="O2"),Sorts!AV148,"")) -> 0,5''/n | KS15: =IF(OR($AV$6="O1",$AV$6="O2",$AV$6="O3"),Sorts!AW86,IF(OR($BB$6="O1",$BB$6="O2"),Sorts!AW148,"")) -> S | KV15: =IF(OR($AV$6="O1",$AV$6="O2",$AV$6="O3"),Sorts!AX86,IF(OR($BB$6="O1",$BB$6="O2"),Sorts!AX148,"")) -> X | KW15: =IF(OR($AV$6="O1",$AV$6="O2",$AV$6="O3"),Sorts!AY86,IF(OR($BB$6="O1",$BB$6="O2"),Sorts!AY148,"")) -> / | KX15: =IF(OR($AV$6="O1",$AV$6="O2",$AV$6="O3"),Sorts!AZ86,IF(OR($BB$6="O1",$BB$6="O2"),Sorts!AZ148,"")) -> /
G16: Magie | K16: aux sorts | M16: =IF(OR($D$7="CLERC",$D$7="DRUIDE"),VLOOKUP($B$15,#REF!,6,FALSE),"no") -> no | N16: =IF(OR($D$7="CLERC",$D$7="DRUIDE"),VLOOKUP($B$15,#REF!,6,FALSE),"no") -> no | O16: Jp/Sorts | S16: Sort | U16: =IF(OR(Classe1="CLERC",Classe1="DRUIDE",),VLOOKUP(SAG,Caractéristiques!$B$160:$L$184,3,FALSE),0) -> 0 | V16: =IF(OR(Classe1="CLERC",Classe1="DRUIDE",AND(Classe1="BARDE",NivC1>10)),VLOOKUP(SAG,Caractéristiques!$B$160:$L$184,4,FALSE),0) -> 0 | W16: =IF(OR(Classe1="CLERC",Classe1="DRUIDE",AND(Classe1="BARDE",NivC1>10)),VLOOKUP(SAG,Caractéristiques!$B$160:$L$184,5,FALSE),0) -> 0 | X16: =IF(OR(Classe1="CLERC",Classe1="DRUIDE",AND(Classe1="BARDE",NivC1>10)),VLOOKUP(SAG,Caractéristiques!$B$160:$L$184,6,FALSE),0) -> 0 | Z16: Classe 2 | AB16: {=IF(Code_Classe>14,IF(NivC2<>"",INDEX(Niveau!$B$472:$Q$508,NivC2+1,MATCH(Classe2,Niveau!$C$472:$Q$472,0)+1),"")&IF(Code_Classe>33,"/3",IF(Code_Classe>14,"/2","")),"")} -> 2D4/2 | AF16: =IF(VLOOKUP(Code_Classe,Classe!C4:F40,3,FALSE)<>0,VLOOKUP(Code_Classe,Classe!C4:F40,3,FALSE),"/") -> Magicien | AQ16: 7 | AR16: =IF($AV$4="O",Sorts!E10,IF($BB$4="O",Sorts!E34,"")) | BE16: 0 | BG16: =IF($AV$4="O",Sorts!F10,IF($BB$4="O",Sorts!F34,"")) | BJ16: =IF($AV$4="O",Sorts!G10,IF($BB$4="O",Sorts!G34,"")) | BM16: =IF($AV$4="O",Sorts!H10,IF($BB$4="O",Sorts!H34,"")) | BN16: =IF($AV$4="O",Sorts!I10,IF($BB$4="O",Sorts!I34,"")) | BO16: =IF($AV$4="O",Sorts!J10,IF($BB$4="O",Sorts!J34,"")) | BQ16: NC | BS16: 7 | BT16: =IF(OR($AV$6="O1",$AV$6="O2",$AV$6="O3"),Sorts!E81,IF(OR($BB$6="O1",$BB$6="O2"),Sorts!E143,"")) -> Bouclier | CG16: 0 | CI16: =IF(OR($AV$6="O1",$AV$6="O2",$AV$6="O3"),Sorts!F81,IF(OR($BB$6="O1",$BB$6="O2"),Sorts!F143,"")) -> 0 | CK16: =IF(OR($AV$6="O1",$AV$6="O2",$AV$6="O3"),Sorts!G81,IF(OR($BB$6="O1",$BB$6="O2"),Sorts!G143,"")) -> 5r/n | CN16: =IF(OR($AV$6="O1",$AV$6="O2",$AV$6="O3"),Sorts!H81,IF(OR($BB$6="O1",$BB$6="O2"),Sorts!H143,"")) -> X | CO16: =IF(OR($AV$6="O1",$AV$6="O2",$AV$6="O3"),Sorts!I81,IF(OR($BB$6="O1",$BB$6="O2"),Sorts!I143,"")) -> X | CP16: =IF(OR($AV$6="O1",$AV$6="O2",$AV$6="O3"),Sorts!J81,IF(OR($BB$6="O1",$BB$6="O2"),Sorts!J143,"")) -> / | CS16: 13 | CT16: =IF($AV$4="O",Sorts!K16,IF($BB$4="O",Sorts!K40,"")) | DG16: 0 | DI16: =IF($AV$4="O",Sorts!L16,IF($BB$4="O",Sorts!L40,"")) | DL16: =IF($AV$4="O",Sorts!M16,IF($BB$4="O",Sorts!M40,"")) | DO16: =IF($AV$4="O",Sorts!N16,IF($BB$4="O",Sorts!N40,"")) | DP16: =IF($AV$4="O",Sorts!O16,IF($BB$4="O",Sorts!O40,"")) | DQ16: =IF($AV$4="O",Sorts!P16,IF($BB$4="O",Sorts!P40,"")) | DS16: NC | DU16: 13 | DV16: =IF(OR($AV$6="O1",$AV$6="O2",$AV$6="O3"),Sorts!K87,IF(OR($BB$6="O1",$BB$6="O2"),Sorts!K149,"")) -> Irritation | EI16: 0 | EK16: =IF(OR($AV$6="O1",$AV$6="O2",$AV$6="O3"),Sorts!L87,IF(OR($BB$6="O1",$BB$6="O2"),Sorts!L149,"")) -> 1''/n | EM16: =IF(OR($AV$6="O1",$AV$6="O2",$AV$6="O3"),Sorts!M87,IF(OR($BB$6="O1",$BB$6="O2"),Sorts!M149,"")) -> S | EP16: =IF(OR($AV$6="O1",$AV$6="O2",$AV$6="O3"),Sorts!N87,IF(OR($BB$6="O1",$BB$6="O2"),Sorts!N149,"")) -> X | EQ16: =IF(OR($AV$6="O1",$AV$6="O2",$AV$6="O3"),Sorts!O87,IF(OR($BB$6="O1",$BB$6="O2"),Sorts!O149,"")) -> X | ER16: =IF(OR($AV$6="O1",$AV$6="O2",$AV$6="O3"),Sorts!P87,IF(OR($BB$6="O1",$BB$6="O2"),Sorts!P149,"")) -> X | EU16: 13 | EV16: =IF($AV$4="O",Sorts!W16,IF($BB$4="O",Sorts!W40,"")) | FI16: 0 | FK16: =IF($AV$4="O",Sorts!X16,IF($BB$4="O",Sorts!X40,"")) | FN16: =IF($AV$4="O",Sorts!Y16,IF($BB$4="O",Sorts!Y40,"")) | FQ16: =IF($AV$4="O",Sorts!Z16,IF($BB$4="O",Sorts!Z40,"")) | FR16: =IF($AV$4="O",Sorts!AA16,IF($BB$4="O",Sorts!AA40,"")) | FS16: =IF($AV$4="O",Sorts!AB16,IF($BB$4="O",Sorts!AB40,"")) | FU16: NC | FW16: 13 | FX16: =IF(OR($AV$6="O1",$AV$6="O2",$AV$6="O3"),Sorts!W87,IF(OR($BB$6="O1",$BB$6="O2"),Sorts!W149,"")) -> Excavation | GK16: 0 | GM16: =IF(OR($AV$6="O1",$AV$6="O2",$AV$6="O3"),Sorts!X87,IF(OR($BB$6="O1",$BB$6="O2"),Sorts!X149,"")) -> 3'' | GO16: =IF(OR($AV$6="O1",$AV$6="O2",$AV$6="O3"),Sorts!Y87,IF(OR($BB$6="O1",$BB$6="O2"),Sorts!Y149,"")) -> 1r/n | GR16: =IF(OR($AV$6="O1",$AV$6="O2",$AV$6="O3"),Sorts!Z87,IF(OR($BB$6="O1",$BB$6="O2"),Sorts!Z149,"")) -> X | GS16: =IF(OR($AV$6="O1",$AV$6="O2",$AV$6="O3"),Sorts!AA87,IF(OR($BB$6="O1",$BB$6="O2"),Sorts!AA149,"")) -> X | GT16: =IF(OR($AV$6="O1",$AV$6="O2",$AV$6="O3"),Sorts!AB87,IF(OR($BB$6="O1",$BB$6="O2"),Sorts!AB149,"")) -> X | GW16: 13 | HW16: NC | HY16: 13 | HZ16: =IF(OR($AV$6="O1",$AV$6="O2",$AV$6="O3"),Sorts!AI87,IF(OR($BB$6="O1",$BB$6="O2"),Sorts!AI149,"")) -> Holographie | IM16: 0 | IO16: =IF(OR($AV$6="O1",$AV$6="O2",$AV$6="O3"),Sorts!AJ87,IF(OR($BB$6="O1",$BB$6="O2"),Sorts!AJ149,"")) -> 1''/n | IQ16: =IF(OR($AV$6="O1",$AV$6="O2",$AV$6="O3"),Sorts!AK87,IF(OR($BB$6="O1",$BB$6="O2"),Sorts!AK149,"")) -> 1r/n | IT16: =IF(OR($AV$6="O1",$AV$6="O2",$AV$6="O3"),Sorts!AL87,IF(OR($BB$6="O1",$BB$6="O2"),Sorts!AL149,"")) -> X | IU16: =IF(OR($AV$6="O1",$AV$6="O2",$AV$6="O3"),Sorts!AM87,IF(OR($BB$6="O1",$BB$6="O2"),Sorts!AM149,"")) -> X | IV16: =IF(OR($AV$6="O1",$AV$6="O2",$AV$6="O3"),Sorts!AN87,IF(OR($BB$6="O1",$BB$6="O2"),Sorts!AN149,"")) -> X | JY16: NC | KA16: 13 | KB16: =IF(OR($AV$6="O1",$AV$6="O2",$AV$6="O3"),Sorts!AU87,IF(OR($BB$6="O1",$BB$6="O2"),Sorts!AU149,"")) -> Nuage Incendiaire | KO16: 0 | KQ16: =IF(OR($AV$6="O1",$AV$6="O2",$AV$6="O3"),Sorts!AV87,IF(OR($BB$6="O1",$BB$6="O2"),Sorts!AV149,"")) -> 3'' | KS16: =IF(OR($AV$6="O1",$AV$6="O2",$AV$6="O3"),Sorts!AW87,IF(OR($BB$6="O1",$BB$6="O2"),Sorts!AW149,"")) -> 4r+1d6r | KV16: =IF(OR($AV$6="O1",$AV$6="O2",$AV$6="O3"),Sorts!AX87,IF(OR($BB$6="O1",$BB$6="O2"),Sorts!AX149,"")) -> X | KW16: =IF(OR($AV$6="O1",$AV$6="O2",$AV$6="O3"),Sorts!AY87,IF(OR($BB$6="O1",$BB$6="O2"),Sorts!AY149,"")) -> X | KX16: =IF(OR($AV$6="O1",$AV$6="O2",$AV$6="O3"),Sorts!AZ87,IF(OR($BB$6="O1",$BB$6="O2"),Sorts!AZ149,"")) -> X
B17: 17 | E17: DEX | G17: Ajust | I17: =VLOOKUP(DEX,Caractéristiques!$B$187:$E$211,2,FALSE) -> 2 | K17: Ajust | M17: =VLOOKUP(DEX,Caractéristiques!$B$187:$E$211,3,FALSE) -> 2 | O17: Ajust | Q17: =VLOOKUP(DEX,Caractéristiques!$B$187:$E$211,4,FALSE) -> -3 | S17: JP bagt | U17: =VLOOKUP(DEX,Caractéristiques!$B$187:$E$211,4,FALSE) -> -3 | Z17: Classe 3 | AB17: {=IF(Code_Classe>33,IF(NivC3<>"",INDEX(Niveau!$B$472:$Q$508,NivC3+1,MATCH(Classe3,Niveau!$C$472:$Q$472,0)+1),"")&IF(Code_Classe>33,"/3",""),"")} | AF17: XP MIN | AH17: =IF(Classe2="/","/",INDEX(Niveau!$A$511:$Q$547,NivC2+1,MATCH(Classe2,Niveau!$B$511:$Q$511,0)+1)) -> 2501 | AK17: Pts Exp | AN17: Niveau | AQ17: 8 | AR17: =IF($AV$4="O",Sorts!E11,IF($BB$4="O",Sorts!E35,"")) | BE17: 0 | BG17: =IF($AV$4="O",Sorts!F11,IF($BB$4="O",Sorts!F35,"")) | BJ17: =IF($AV$4="O",Sorts!G11,IF($BB$4="O",Sorts!G35,"")) | BM17: =IF($AV$4="O",Sorts!H11,IF($BB$4="O",Sorts!H35,"")) | BN17: =IF($AV$4="O",Sorts!I11,IF($BB$4="O",Sorts!I35,"")) | BO17: =IF($AV$4="O",Sorts!J11,IF($BB$4="O",Sorts!J35,"")) | BQ17: NC | BS17: 8 | BT17: =IF(OR($AV$6="O1",$AV$6="O2",$AV$6="O3"),Sorts!E82,IF(OR($BB$6="O1",$BB$6="O2"),Sorts!E144,"")) -> Charme-Personnes | CG17: 0 | CI17: =IF(OR($AV$6="O1",$AV$6="O2",$AV$6="O3"),Sorts!F82,IF(OR($BB$6="O1",$BB$6="O2"),Sorts!F144,"")) -> 12’’ | CK17: =IF(OR($AV$6="O1",$AV$6="O2",$AV$6="O3"),Sorts!G82,IF(OR($BB$6="O1",$BB$6="O2"),Sorts!G144,"")) -> S | CN17: =IF(OR($AV$6="O1",$AV$6="O2",$AV$6="O3"),Sorts!H82,IF(OR($BB$6="O1",$BB$6="O2"),Sorts!H144,"")) -> X | CO17: =IF(OR($AV$6="O1",$AV$6="O2",$AV$6="O3"),Sorts!I82,IF(OR($BB$6="O1",$BB$6="O2"),Sorts!I144,"")) -> X | CP17: =IF(OR($AV$6="O1",$AV$6="O2",$AV$6="O3"),Sorts!J82,IF(OR($BB$6="O1",$BB$6="O2"),Sorts!J144,"")) -> / | CS17: 14 | CT17: =IF($AV$4="O",Sorts!K17,IF($BB$4="O",Sorts!K41,"")) | DG17: 0 | DI17: =IF($AV$4="O",Sorts!L17,IF($BB$4="O",Sorts!L41,"")) | DL17: =IF($AV$4="O",Sorts!M17,IF($BB$4="O",Sorts!M41,"")) | DO17: =IF($AV$4="O",Sorts!N17,IF($BB$4="O",Sorts!N41,"")) | DP17: =IF($AV$4="O",Sorts!O17,IF($BB$4="O",Sorts!O41,"")) | DQ17: =IF($AV$4="O",Sorts!P17,IF($BB$4="O",Sorts!P41,"")) | DS17: NC | DU17: 14 | DV17: =IF(OR($AV$6="O1",$AV$6="O2",$AV$6="O3"),Sorts!K88,IF(OR($BB$6="O1",$BB$6="O2"),Sorts!K150,"")) -> Lévitation | EI17: 0 | EK17: =IF(OR($AV$6="O1",$AV$6="O2",$AV$6="O3"),Sorts!L88,IF(OR($BB$6="O1",$BB$6="O2"),Sorts!L150,"")) -> 2''/n | EM17: =IF(OR($AV$6="O1",$AV$6="O2",$AV$6="O3"),Sorts!M88,IF(OR($BB$6="O1",$BB$6="O2"),Sorts!M150,"")) -> 1t/n | EP17: =IF(OR($AV$6="O1",$AV$6="O2",$AV$6="O3"),Sorts!N88,IF(OR($BB$6="O1",$BB$6="O2"),Sorts!N150,"")) -> X | EQ17: =IF(OR($AV$6="O1",$AV$6="O2",$AV$6="O3"),Sorts!O88,IF(OR($BB$6="O1",$BB$6="O2"),Sorts!O150,"")) -> X | ER17: =IF(OR($AV$6="O1",$AV$6="O2",$AV$6="O3"),Sorts!P88,IF(OR($BB$6="O1",$BB$6="O2"),Sorts!P150,"")) -> X | EU17: 14 | EV17: =IF($AV$4="O",Sorts!W17,IF($BB$4="O",Sorts!W41,"")) | FI17: 0 | FK17: =IF($AV$4="O",Sorts!X17,IF($BB$4="O",Sorts!X41,"")) | FN17: =IF($AV$4="O",Sorts!Y17,IF($BB$4="O",Sorts!Y41,"")) | FQ17: =IF($AV$4="O",Sorts!Z17,IF($BB$4="O",Sorts!Z41,"")) | FR17: =IF($AV$4="O",Sorts!AA17,IF($BB$4="O",Sorts!AA41,"")) | FS17: =IF($AV$4="O",Sorts!AB17,IF($BB$4="O",Sorts!AB41,"")) | FU17: NC | FW17: 14 | FX17: =IF(OR($AV$6="O1",$AV$6="O2",$AV$6="O3"),Sorts!W88,IF(OR($BB$6="O1",$BB$6="O2"),Sorts!W150,"")) -> Extension I | GK17: 0 | GM17: =IF(OR($AV$6="O1",$AV$6="O2",$AV$6="O3"),Sorts!X88,IF(OR($BB$6="O1",$BB$6="O2"),Sorts!X150,"")) -> 0 | GO17: =IF(OR($AV$6="O1",$AV$6="O2",$AV$6="O3"),Sorts!Y88,IF(OR($BB$6="O1",$BB$6="O2"),Sorts!Y150,"")) -> S | GR17: =IF(OR($AV$6="O1",$AV$6="O2",$AV$6="O3"),Sorts!Z88,IF(OR($BB$6="O1",$BB$6="O2"),Sorts!Z150,"")) -> X | GS17: =IF(OR($AV$6="O1",$AV$6="O2",$AV$6="O3"),Sorts!AA88,IF(OR($BB$6="O1",$BB$6="O2"),Sorts!AA150,"")) -> / | GT17: =IF(OR($AV$6="O1",$AV$6="O2",$AV$6="O3"),Sorts!AB88,IF(OR($BB$6="O1",$BB$6="O2"),Sorts!AB150,"")) -> / | GW17: 14 | HW17: NC | HY17: 14 | HZ17: =IF(OR($AV$6="O1",$AV$6="O2",$AV$6="O3"),Sorts!AI88,IF(OR($BB$6="O1",$BB$6="O2"),Sorts!AI150,"")) -> Incantation Mortelle | IM17: 0 | IO17: =IF(OR($AV$6="O1",$AV$6="O2",$AV$6="O3"),Sorts!AJ88,IF(OR($BB$6="O1",$BB$6="O2"),Sorts!AJ150,"")) -> 1''/n | IQ17: =IF(OR($AV$6="O1",$AV$6="O2",$AV$6="O3"),Sorts!AK88,IF(OR($BB$6="O1",$BB$6="O2"),Sorts!AK150,"")) -> I | IT17: =IF(OR($AV$6="O1",$AV$6="O2",$AV$6="O3"),Sorts!AL88,IF(OR($BB$6="O1",$BB$6="O2"),Sorts!AL150,"")) -> X | IU17: =IF(OR($AV$6="O1",$AV$6="O2",$AV$6="O3"),Sorts!AM88,IF(OR($BB$6="O1",$BB$6="O2"),Sorts!AM150,"")) -> X | IV17: =IF(OR($AV$6="O1",$AV$6="O2",$AV$6="O3"),Sorts!AN88,IF(OR($BB$6="O1",$BB$6="O2"),Sorts!AN150,"")) -> X | JY17: NC | KA17: 14 | KB17: =IF(OR($AV$6="O1",$AV$6="O2",$AV$6="O3"),Sorts!AU88,IF(OR($BB$6="O1",$BB$6="O2"),Sorts!AU150,"")) -> Permanence | KO17: 0 | KQ17: =IF(OR($AV$6="O1",$AV$6="O2",$AV$6="O3"),Sorts!AV88,IF(OR($BB$6="O1",$BB$6="O2"),Sorts!AV150,"")) -> S | KS17: =IF(OR($AV$6="O1",$AV$6="O2",$AV$6="O3"),Sorts!AW88,IF(OR($BB$6="O1",$BB$6="O2"),Sorts!AW150,"")) -> P | KV17: =IF(OR($AV$6="O1",$AV$6="O2",$AV$6="O3"),Sorts!AX88,IF(OR($BB$6="O1",$BB$6="O2"),Sorts!AX150,"")) -> X | KW17: =IF(OR($AV$6="O1",$AV$6="O2",$AV$6="O3"),Sorts!AY88,IF(OR($BB$6="O1",$BB$6="O2"),Sorts!AY150,"")) -> X | KX17: =IF(OR($AV$6="O1",$AV$6="O2",$AV$6="O3"),Sorts!AZ88,IF(OR($BB$6="O1",$BB$6="O2"),Sorts!AZ150,"")) -> X
G18: Surprise | K18: Project | O18: CA | S18: Souffle | Z18: Bonus Contit | AC18: =+$I$19 -> 0 | AF18: XP MAX | AH18: =IF(Classe2="/","/",INDEX(Niveau!$A$511:$Q$547,NivC2+2,MATCH(Classe2,Niveau!$B$511:$Q$511,0)+1)-1) -> 5000 | AK18: =IF(Code_Classe>14,AK14,"") -> 4028 | AN18: 2 | AQ18: 9 | AR18: =IF($AV$4="O",Sorts!E12,IF($BB$4="O",Sorts!E36,"")) | BE18: 0 | BG18: =IF($AV$4="O",Sorts!F12,IF($BB$4="O",Sorts!F36,"")) | BJ18: =IF($AV$4="O",Sorts!G12,IF($BB$4="O",Sorts!G36,"")) | BM18: =IF($AV$4="O",Sorts!H12,IF($BB$4="O",Sorts!H36,"")) | BN18: =IF($AV$4="O",Sorts!I12,IF($BB$4="O",Sorts!I36,"")) | BO18: =IF($AV$4="O",Sorts!J12,IF($BB$4="O",Sorts!J36,"")) | BQ18: NC | BS18: 9 | BT18: =IF(OR($AV$6="O1",$AV$6="O2",$AV$6="O3"),Sorts!E83,IF(OR($BB$6="O1",$BB$6="O2"),Sorts!E145,"")) -> Chute de Plume | CG18: 0 | CI18: =IF(OR($AV$6="O1",$AV$6="O2",$AV$6="O3"),Sorts!F83,IF(OR($BB$6="O1",$BB$6="O2"),Sorts!F145,"")) -> 1’’/n | CK18: =IF(OR($AV$6="O1",$AV$6="O2",$AV$6="O3"),Sorts!G83,IF(OR($BB$6="O1",$BB$6="O2"),Sorts!G145,"")) -> 1s/n | CN18: =IF(OR($AV$6="O1",$AV$6="O2",$AV$6="O3"),Sorts!H83,IF(OR($BB$6="O1",$BB$6="O2"),Sorts!H145,"")) -> X | CO18: =IF(OR($AV$6="O1",$AV$6="O2",$AV$6="O3"),Sorts!I83,IF(OR($BB$6="O1",$BB$6="O2"),Sorts!I145,"")) -> / | CP18: =IF(OR($AV$6="O1",$AV$6="O2",$AV$6="O3"),Sorts!J83,IF(OR($BB$6="O1",$BB$6="O2"),Sorts!J145,"")) -> X | CS18: 15 | CT18: =IF($AV$4="O",Sorts!K18,IF($BB$4="O",Sorts!K42,"")) | DG18: 0 | DI18: =IF($AV$4="O",Sorts!L18,IF($BB$4="O",Sorts!L42,"")) | DL18: =IF($AV$4="O",Sorts!M18,IF($BB$4="O",Sorts!M42,"")) | DO18: =IF($AV$4="O",Sorts!N18,IF($BB$4="O",Sorts!N42,"")) | DP18: =IF($AV$4="O",Sorts!O18,IF($BB$4="O",Sorts!O42,"")) | DQ18: =IF($AV$4="O",Sorts!P18,IF($BB$4="O",Sorts!P42,"")) | DS18: NC | DU18: 15 | DV18: =IF(OR($AV$6="O1",$AV$6="O2",$AV$6="O3"),Sorts!K89,IF(OR($BB$6="O1",$BB$6="O2"),Sorts!K151,"")) -> Lien | EI18: 0 | EK18: =IF(OR($AV$6="O1",$AV$6="O2",$AV$6="O3"),Sorts!L89,IF(OR($BB$6="O1",$BB$6="O2"),Sorts!L151,"")) -> 3'' | EM18: =IF(OR($AV$6="O1",$AV$6="O2",$AV$6="O3"),Sorts!M89,IF(OR($BB$6="O1",$BB$6="O2"),Sorts!M151,"")) -> 1r/n | EP18: =IF(OR($AV$6="O1",$AV$6="O2",$AV$6="O3"),Sorts!N89,IF(OR($BB$6="O1",$BB$6="O2"),Sorts!N151,"")) -> X | EQ18: =IF(OR($AV$6="O1",$AV$6="O2",$AV$6="O3"),Sorts!O89,IF(OR($BB$6="O1",$BB$6="O2"),Sorts!O151,"")) -> X | ER18: =IF(OR($AV$6="O1",$AV$6="O2",$AV$6="O3"),Sorts!P89,IF(OR($BB$6="O1",$BB$6="O2"),Sorts!P151,"")) -> X | EU18: 15 | EV18: =IF($AV$4="O",Sorts!W18,IF($BB$4="O",Sorts!W42,"")) | FI18: 0 | FK18: =IF($AV$4="O",Sorts!X18,IF($BB$4="O",Sorts!X42,"")) | FN18: =IF($AV$4="O",Sorts!Y18,IF($BB$4="O",Sorts!Y42,"")) | FQ18: =IF($AV$4="O",Sorts!Z18,IF($BB$4="O",Sorts!Z42,"")) | FR18: =IF($AV$4="O",Sorts!AA18,IF($BB$4="O",Sorts!AA42,"")) | FS18: =IF($AV$4="O",Sorts!AB18,IF($BB$4="O",Sorts!AB42,"")) | FU18: NC | FW18: 15 | FX18: =IF(OR($AV$6="O1",$AV$6="O2",$AV$6="O3"),Sorts!W89,IF(OR($BB$6="O1",$BB$6="O2"),Sorts!W151,"")) -> Feu Charmeur | GK18: 0 | GM18: =IF(OR($AV$6="O1",$AV$6="O2",$AV$6="O3"),Sorts!X89,IF(OR($BB$6="O1",$BB$6="O2"),Sorts!X151,"")) -> 1'' | GO18: =IF(OR($AV$6="O1",$AV$6="O2",$AV$6="O3"),Sorts!Y89,IF(OR($BB$6="O1",$BB$6="O2"),Sorts!Y151,"")) -> 2r/n | GR18: =IF(OR($AV$6="O1",$AV$6="O2",$AV$6="O3"),Sorts!Z89,IF(OR($BB$6="O1",$BB$6="O2"),Sorts!Z151,"")) -> X | GS18: =IF(OR($AV$6="O1",$AV$6="O2",$AV$6="O3"),Sorts!AA89,IF(OR($BB$6="O1",$BB$6="O2"),Sorts!AA151,"")) -> X | GT18: =IF(OR($AV$6="O1",$AV$6="O2",$AV$6="O3"),Sorts!AB89,IF(OR($BB$6="O1",$BB$6="O2"),Sorts!AB151,"")) -> X | GW18: 15 | HW18: NC | HY18: 15 | HZ18: =IF(OR($AV$6="O1",$AV$6="O2",$AV$6="O3"),Sorts!AI89,IF(OR($BB$6="O1",$BB$6="O2"),Sorts!AI151,"")) -> Invocation de Monstre IV | IM18: 0 | IO18: =IF(OR($AV$6="O1",$AV$6="O2",$AV$6="O3"),Sorts!AJ89,IF(OR($BB$6="O1",$BB$6="O2"),Sorts!AJ151,"")) -> 6'' | IQ18: =IF(OR($AV$6="O1",$AV$6="O2",$AV$6="O3"),Sorts!AK89,IF(OR($BB$6="O1",$BB$6="O2"),Sorts!AK151,"")) -> 5r+1/n | IT18: =IF(OR($AV$6="O1",$AV$6="O2",$AV$6="O3"),Sorts!AL89,IF(OR($BB$6="O1",$BB$6="O2"),Sorts!AL151,"")) -> X | IU18: =IF(OR($AV$6="O1",$AV$6="O2",$AV$6="O3"),Sorts!AM89,IF(OR($BB$6="O1",$BB$6="O2"),Sorts!AM151,"")) -> X | IV18: =IF(OR($AV$6="O1",$AV$6="O2",$AV$6="O3"),Sorts!AN89,IF(OR($BB$6="O1",$BB$6="O2"),Sorts!AN151,"")) -> X | JY18: NC | KA18: 15 | KB18: =IF(OR($AV$6="O1",$AV$6="O2",$AV$6="O3"),Sorts!AU89,IF(OR($BB$6="O1",$BB$6="O2"),Sorts!AU151,"")) -> Poing de Bigby | KO18: 0 | KQ18: =IF(OR($AV$6="O1",$AV$6="O2",$AV$6="O3"),Sorts!AV89,IF(OR($BB$6="O1",$BB$6="O2"),Sorts!AV151,"")) -> 0,5''/n | KS18: =IF(OR($AV$6="O1",$AV$6="O2",$AV$6="O3"),Sorts!AW89,IF(OR($BB$6="O1",$BB$6="O2"),Sorts!AW151,"")) -> 1r/n | KV18: =IF(OR($AV$6="O1",$AV$6="O2",$AV$6="O3"),Sorts!AX89,IF(OR($BB$6="O1",$BB$6="O2"),Sorts!AX151,"")) -> X | KW18: =IF(OR($AV$6="O1",$AV$6="O2",$AV$6="O3"),Sorts!AY89,IF(OR($BB$6="O1",$BB$6="O2"),Sorts!AY151,"")) -> X | KX18: =IF(OR($AV$6="O1",$AV$6="O2",$AV$6="O3"),Sorts!AZ89,IF(OR($BB$6="O1",$BB$6="O2"),Sorts!AZ151,"")) -> X
B19: 12 | E19: CON | G19: Ajust | I19: =IF(OR(Classe1="GUERRIER",Classe2="GUERRIER",Classe1="RANGER",Classe2="RANGER",Classe1="PALADIN",Classe1="BARBARE",Classe1="CAVALIER",),VLOOKUP(CON,Caractéristiques!$B$214:$G$238,3,FALSE),VLOOKUP(CON,Caractéristiques!$B$214:$G$238,2,FALSE)) -> 0 | K19: Choc | M19: =VLOOKUP(CON,Caractéristiques!$B$214:$G$238,4,FALSE) -> 0.8 | O19: % de | Q19: =VLOOKUP(CON,Caractéristiques!$B$214:$G$238,5,FALSE) -> 0.85 | S19: JP poison | U19: =VLOOKUP(CON,Caractéristiques!$B$214:$G$238,6,FALSE) -> 0 | Z19: PV tot | AB19: 45 | AH19: =IF(Classe2="/","/",AH18-AK18) -> 972 | AQ19: 10 | AR19: =IF($AV$4="O",Sorts!E13,IF($BB$4="O",Sorts!E37,"")) | BE19: 0 | BG19: =IF($AV$4="O",Sorts!F13,IF($BB$4="O",Sorts!F37,"")) | BJ19: =IF($AV$4="O",Sorts!G13,IF($BB$4="O",Sorts!G37,"")) | BM19: =IF($AV$4="O",Sorts!H13,IF($BB$4="O",Sorts!H37,"")) | BN19: =IF($AV$4="O",Sorts!I13,IF($BB$4="O",Sorts!I37,"")) | BO19: =IF($AV$4="O",Sorts!J13,IF($BB$4="O",Sorts!J37,"")) | BQ19: NC | BS19: 10 | BT19: =IF(OR($AV$6="O1",$AV$6="O2",$AV$6="O3"),Sorts!E84,IF(OR($BB$6="O1",$BB$6="O2"),Sorts!E146,"")) -> Compréhension des Langues | CG19: 0 | CI19: =IF(OR($AV$6="O1",$AV$6="O2",$AV$6="O3"),Sorts!F84,IF(OR($BB$6="O1",$BB$6="O2"),Sorts!F146,"")) -> T | CK19: =IF(OR($AV$6="O1",$AV$6="O2",$AV$6="O3"),Sorts!G84,IF(OR($BB$6="O1",$BB$6="O2"),Sorts!G146,"")) -> 5r/n | CN19: =IF(OR($AV$6="O1",$AV$6="O2",$AV$6="O3"),Sorts!H84,IF(OR($BB$6="O1",$BB$6="O2"),Sorts!H146,"")) -> X | CO19: =IF(OR($AV$6="O1",$AV$6="O2",$AV$6="O3"),Sorts!I84,IF(OR($BB$6="O1",$BB$6="O2"),Sorts!I146,"")) -> X | CP19: =IF(OR($AV$6="O1",$AV$6="O2",$AV$6="O3"),Sorts!J84,IF(OR($BB$6="O1",$BB$6="O2"),Sorts!J146,"")) -> X | CS19: 16 | CT19: =IF($AV$4="O",Sorts!K19,IF($BB$4="O",Sorts!K43,"")) | DG19: 0 | DI19: =IF($AV$4="O",Sorts!L19,IF($BB$4="O",Sorts!L43,"")) | DL19: =IF($AV$4="O",Sorts!M19,IF($BB$4="O",Sorts!M43,"")) | DO19: =IF($AV$4="O",Sorts!N19,IF($BB$4="O",Sorts!N43,"")) | DP19: =IF($AV$4="O",Sorts!O19,IF($BB$4="O",Sorts!O43,"")) | DQ19: =IF($AV$4="O",Sorts!P19,IF($BB$4="O",Sorts!P43,"")) | DS19: NC | DU19: 16 | DV19: =IF(OR($AV$6="O1",$AV$6="O2",$AV$6="O3"),Sorts!K90,IF(OR($BB$6="O1",$BB$6="O2"),Sorts!K152,"")) -> Localisation d’Objets | EI19: 0 | EK19: =IF(OR($AV$6="O1",$AV$6="O2",$AV$6="O3"),Sorts!L90,IF(OR($BB$6="O1",$BB$6="O2"),Sorts!L152,"")) -> 2''/n | EM19: =IF(OR($AV$6="O1",$AV$6="O2",$AV$6="O3"),Sorts!M90,IF(OR($BB$6="O1",$BB$6="O2"),Sorts!M152,"")) -> 1r/n | EP19: =IF(OR($AV$6="O1",$AV$6="O2",$AV$6="O3"),Sorts!N90,IF(OR($BB$6="O1",$BB$6="O2"),Sorts!N152,"")) -> X | EQ19: =IF(OR($AV$6="O1",$AV$6="O2",$AV$6="O3"),Sorts!O90,IF(OR($BB$6="O1",$BB$6="O2"),Sorts!O152,"")) -> X | ER19: =IF(OR($AV$6="O1",$AV$6="O2",$AV$6="O3"),Sorts!P90,IF(OR($BB$6="O1",$BB$6="O2"),Sorts!P152,"")) -> X | EU19: 16 | EV19: =IF($AV$4="O",Sorts!W19,IF($BB$4="O",Sorts!W43,"")) | FI19: 0 | FK19: =IF($AV$4="O",Sorts!X19,IF($BB$4="O",Sorts!X43,"")) | FN19: =IF($AV$4="O",Sorts!Y19,IF($BB$4="O",Sorts!Y43,"")) | FQ19: =IF($AV$4="O",Sorts!Z19,IF($BB$4="O",Sorts!Z43,"")) | FR19: =IF($AV$4="O",Sorts!AA19,IF($BB$4="O",Sorts!AA43,"")) | FS19: =IF($AV$4="O",Sorts!AB19,IF($BB$4="O",Sorts!AB43,"")) | FU19: NC | FW19: 16 | FX19: =IF(OR($AV$6="O1",$AV$6="O2",$AV$6="O3"),Sorts!W90,IF(OR($BB$6="O1",$BB$6="O2"),Sorts!W152,"")) -> Globe Mineur d’Invulnérabilité | GK19: 0 | GM19: =IF(OR($AV$6="O1",$AV$6="O2",$AV$6="O3"),Sorts!X90,IF(OR($BB$6="O1",$BB$6="O2"),Sorts!X152,"")) -> 0 | GO19: =IF(OR($AV$6="O1",$AV$6="O2",$AV$6="O3"),Sorts!Y90,IF(OR($BB$6="O1",$BB$6="O2"),Sorts!Y152,"")) -> 1r/n | GR19: =IF(OR($AV$6="O1",$AV$6="O2",$AV$6="O3"),Sorts!Z90,IF(OR($BB$6="O1",$BB$6="O2"),Sorts!Z152,"")) -> X | GS19: =IF(OR($AV$6="O1",$AV$6="O2",$AV$6="O3"),Sorts!AA90,IF(OR($BB$6="O1",$BB$6="O2"),Sorts!AA152,"")) -> X | GT19: =IF(OR($AV$6="O1",$AV$6="O2",$AV$6="O3"),Sorts!AB90,IF(OR($BB$6="O1",$BB$6="O2"),Sorts!AB152,"")) -> X | GW19: 16 | HW19: NC | HY19: 16 | HZ19: =IF(OR($AV$6="O1",$AV$6="O2",$AV$6="O3"),Sorts!AI90,IF(OR($BB$6="O1",$BB$6="O2"),Sorts!AI152,"")) -> Main de Force de Bigby | IM19: 0 | IO19: =IF(OR($AV$6="O1",$AV$6="O2",$AV$6="O3"),Sorts!AJ90,IF(OR($BB$6="O1",$BB$6="O2"),Sorts!AJ152,"")) -> 1''/n | IQ19: =IF(OR($AV$6="O1",$AV$6="O2",$AV$6="O3"),Sorts!AK90,IF(OR($BB$6="O1",$BB$6="O2"),Sorts!AK152,"")) -> 1r/n | IT19: =IF(OR($AV$6="O1",$AV$6="O2",$AV$6="O3"),Sorts!AL90,IF(OR($BB$6="O1",$BB$6="O2"),Sorts!AL152,"")) -> X | IU19: =IF(OR($AV$6="O1",$AV$6="O2",$AV$6="O3"),Sorts!AM90,IF(OR($BB$6="O1",$BB$6="O2"),Sorts!AM152,"")) -> X | IV19: =IF(OR($AV$6="O1",$AV$6="O2",$AV$6="O3"),Sorts!AN90,IF(OR($BB$6="O1",$BB$6="O2"),Sorts!AN152,"")) -> X | JY19: NC | KA19: 16 | KB19: =IF(OR($AV$6="O1",$AV$6="O2",$AV$6="O3"),Sorts!AU90,IF(OR($BB$6="O1",$BB$6="O2"),Sorts!AU152,"")) -> Protection d’Esprit | KO19: 0 | KQ19: =IF(OR($AV$6="O1",$AV$6="O2",$AV$6="O3"),Sorts!AV90,IF(OR($BB$6="O1",$BB$6="O2"),Sorts!AV152,"")) -> 3'' | KS19: =IF(OR($AV$6="O1",$AV$6="O2",$AV$6="O3"),Sorts!AW90,IF(OR($BB$6="O1",$BB$6="O2"),Sorts!AW152,"")) -> 1j | KV19: =IF(OR($AV$6="O1",$AV$6="O2",$AV$6="O3"),Sorts!AX90,IF(OR($BB$6="O1",$BB$6="O2"),Sorts!AX152,"")) -> X | KW19: =IF(OR($AV$6="O1",$AV$6="O2",$AV$6="O3"),Sorts!AY90,IF(OR($BB$6="O1",$BB$6="O2"),Sorts!AY152,"")) -> X | KX19: =IF(OR($AV$6="O1",$AV$6="O2",$AV$6="O3"),Sorts!AZ90,IF(OR($BB$6="O1",$BB$6="O2"),Sorts!AZ152,"")) -> /
G20: Pts de vie | K20: Metab | O20: Resurrec | AF20: =IF(VLOOKUP(Code_Classe,Classe!C4:F40,4,FALSE)<>0,VLOOKUP(Code_Classe,Classe!C4:F40,4,FALSE),"/") -> / | AQ20: 11 | AR20: =IF($AV$4="O",Sorts!E14,IF($BB$4="O",Sorts!E38,"")) | BE20: 0 | BG20: =IF($AV$4="O",Sorts!F14,IF($BB$4="O",Sorts!F38,"")) | BJ20: =IF($AV$4="O",Sorts!G14,IF($BB$4="O",Sorts!G38,"")) | BM20: =IF($AV$4="O",Sorts!H14,IF($BB$4="O",Sorts!H38,"")) | BN20: =IF($AV$4="O",Sorts!I14,IF($BB$4="O",Sorts!I38,"")) | BO20: =IF($AV$4="O",Sorts!J14,IF($BB$4="O",Sorts!J38,"")) | BQ20: NC | BS20: 11 | BT20: =IF(OR($AV$6="O1",$AV$6="O2",$AV$6="O3"),Sorts!E85,IF(OR($BB$6="O1",$BB$6="O2"),Sorts!E147,"")) -> Course | CG20: 0 | CI20: =IF(OR($AV$6="O1",$AV$6="O2",$AV$6="O3"),Sorts!F85,IF(OR($BB$6="O1",$BB$6="O2"),Sorts!F147,"")) -> T | CK20: =IF(OR($AV$6="O1",$AV$6="O2",$AV$6="O3"),Sorts!G85,IF(OR($BB$6="O1",$BB$6="O2"),Sorts!G147,"")) -> 5-8h | CN20: =IF(OR($AV$6="O1",$AV$6="O2",$AV$6="O3"),Sorts!H85,IF(OR($BB$6="O1",$BB$6="O2"),Sorts!H147,"")) -> X | CO20: =IF(OR($AV$6="O1",$AV$6="O2",$AV$6="O3"),Sorts!I85,IF(OR($BB$6="O1",$BB$6="O2"),Sorts!I147,"")) -> X | CP20: =IF(OR($AV$6="O1",$AV$6="O2",$AV$6="O3"),Sorts!J85,IF(OR($BB$6="O1",$BB$6="O2"),Sorts!J147,"")) -> X | CS20: 17 | CT20: =IF($AV$4="O",Sorts!K20,IF($BB$4="O",Sorts!K44,"")) | DG20: 0 | DI20: =IF($AV$4="O",Sorts!L20,IF($BB$4="O",Sorts!L44,"")) | DL20: =IF($AV$4="O",Sorts!M20,IF($BB$4="O",Sorts!M44,"")) | DO20: =IF($AV$4="O",Sorts!N20,IF($BB$4="O",Sorts!N44,"")) | DP20: =IF($AV$4="O",Sorts!O20,IF($BB$4="O",Sorts!O44,"")) | DQ20: =IF($AV$4="O",Sorts!P20,IF($BB$4="O",Sorts!P44,"")) | DS20: NC | DU20: 17 | DV20: =IF(OR($AV$6="O1",$AV$6="O2",$AV$6="O3"),Sorts!K91,IF(OR($BB$6="O1",$BB$6="O2"),Sorts!K153,"")) -> Lumière Éternelle | EI20: 0 | EK20: =IF(OR($AV$6="O1",$AV$6="O2",$AV$6="O3"),Sorts!L91,IF(OR($BB$6="O1",$BB$6="O2"),Sorts!L153,"")) -> 6'' | EM20: =IF(OR($AV$6="O1",$AV$6="O2",$AV$6="O3"),Sorts!M91,IF(OR($BB$6="O1",$BB$6="O2"),Sorts!M153,"")) -> P | EP20: =IF(OR($AV$6="O1",$AV$6="O2",$AV$6="O3"),Sorts!N91,IF(OR($BB$6="O1",$BB$6="O2"),Sorts!N153,"")) -> X | EQ20: =IF(OR($AV$6="O1",$AV$6="O2",$AV$6="O3"),Sorts!O91,IF(OR($BB$6="O1",$BB$6="O2"),Sorts!O153,"")) -> X | ER20: =IF(OR($AV$6="O1",$AV$6="O2",$AV$6="O3"),Sorts!P91,IF(OR($BB$6="O1",$BB$6="O2"),Sorts!P153,"")) -> / | EU20: 17 | FU20: NC | FW20: 17 | FX20: =IF(OR($AV$6="O1",$AV$6="O2",$AV$6="O3"),Sorts!W91,IF(OR($BB$6="O1",$BB$6="O2"),Sorts!W153,"")) -> Invocation de Monstre II | GK20: 0 | GM20: =IF(OR($AV$6="O1",$AV$6="O2",$AV$6="O3"),Sorts!X91,IF(OR($BB$6="O1",$BB$6="O2"),Sorts!X153,"")) -> 4'' | GO20: =IF(OR($AV$6="O1",$AV$6="O2",$AV$6="O3"),Sorts!Y91,IF(OR($BB$6="O1",$BB$6="O2"),Sorts!Y153,"")) -> 3r+1/n | GR20: =IF(OR($AV$6="O1",$AV$6="O2",$AV$6="O3"),Sorts!Z91,IF(OR($BB$6="O1",$BB$6="O2"),Sorts!Z153,"")) -> X | GS20: =IF(OR($AV$6="O1",$AV$6="O2",$AV$6="O3"),Sorts!AA91,IF(OR($BB$6="O1",$BB$6="O2"),Sorts!AA153,"")) -> X | GT20: =IF(OR($AV$6="O1",$AV$6="O2",$AV$6="O3"),Sorts!AB91,IF(OR($BB$6="O1",$BB$6="O2"),Sorts!AB153,"")) -> X | GW20: 17 | HW20: NC | HY20: 17 | HZ20: =IF(OR($AV$6="O1",$AV$6="O2",$AV$6="O3"),Sorts!AI91,IF(OR($BB$6="O1",$BB$6="O2"),Sorts!AI153,"")) -> Mauvais Œil | IM20: 0 | IO20: =IF(OR($AV$6="O1",$AV$6="O2",$AV$6="O3"),Sorts!AJ91,IF(OR($BB$6="O1",$BB$6="O2"),Sorts!AJ153,"")) -> 6m | IQ20: =IF(OR($AV$6="O1",$AV$6="O2",$AV$6="O3"),Sorts!AK91,IF(OR($BB$6="O1",$BB$6="O2"),Sorts!AK153,"")) -> S | IT20: =IF(OR($AV$6="O1",$AV$6="O2",$AV$6="O3"),Sorts!AL91,IF(OR($BB$6="O1",$BB$6="O2"),Sorts!AL153,"")) -> X | IU20: =IF(OR($AV$6="O1",$AV$6="O2",$AV$6="O3"),Sorts!AM91,IF(OR($BB$6="O1",$BB$6="O2"),Sorts!AM153,"")) -> X | IV20: =IF(OR($AV$6="O1",$AV$6="O2",$AV$6="O3"),Sorts!AN91,IF(OR($BB$6="O1",$BB$6="O2"),Sorts!AN153,"")) -> / | JY20: NC | KA20: 17 | KB20: =IF(OR($AV$6="O1",$AV$6="O2",$AV$6="O3"),Sorts!AU91,IF(OR($BB$6="O1",$BB$6="O2"),Sorts!AU153,"")) -> Requête | KO20: 0 | KQ20: =IF(OR($AV$6="O1",$AV$6="O2",$AV$6="O3"),Sorts!AV91,IF(OR($BB$6="O1",$BB$6="O2"),Sorts!AV153,"")) -> S | KS20: =IF(OR($AV$6="O1",$AV$6="O2",$AV$6="O3"),Sorts!AW91,IF(OR($BB$6="O1",$BB$6="O2"),Sorts!AW153,"")) -> S | KV20: =IF(OR($AV$6="O1",$AV$6="O2",$AV$6="O3"),Sorts!AX91,IF(OR($BB$6="O1",$BB$6="O2"),Sorts!AX153,"")) -> X | KW20: =IF(OR($AV$6="O1",$AV$6="O2",$AV$6="O3"),Sorts!AY91,IF(OR($BB$6="O1",$BB$6="O2"),Sorts!AY153,"")) -> X | KX20: =IF(OR($AV$6="O1",$AV$6="O2",$AV$6="O3"),Sorts!AZ91,IF(OR($BB$6="O1",$BB$6="O2"),Sorts!AZ153,"")) -> /
B21: 12 | E21: CHA | G21: Nbr Max | I21: =VLOOKUP($B$21,Caractéristiques!$B$241:$F$265,2,FALSE) -> 5 | K21: Ajustement | M21: =VLOOKUP($B$21,Caractéristiques!$B$241:$F$265,3,FALSE) -> 0 | O21: Ajust | Q21: =VLOOKUP($B$21,Caractéristiques!$B$241:$F$265,4,FALSE) -> 0 | Z21: Blessures | AB21: 3 | AC21: 1 | AF21: XP MIN | AH21: =IF(Classe3="/","/",INDEX(Niveau!$A$511:$Q$547,NivC3+1,MATCH(Classe3,Niveau!$B$511:$Q$511,0)+1)) -> / | AK21: Pts Exp | AN21: Niveau | AQ21: 12 | AR21: =IF($AV$4="O",Sorts!E15,IF($BB$4="O",Sorts!E39,"")) | BE21: 0 | BG21: =IF($AV$4="O",Sorts!F15,IF($BB$4="O",Sorts!F39,"")) | BJ21: =IF($AV$4="O",Sorts!G15,IF($BB$4="O",Sorts!G39,"")) | BM21: =IF($AV$4="O",Sorts!H15,IF($BB$4="O",Sorts!H39,"")) | BN21: =IF($AV$4="O",Sorts!I15,IF($BB$4="O",Sorts!I39,"")) | BO21: =IF($AV$4="O",Sorts!J15,IF($BB$4="O",Sorts!J39,"")) | BQ21: NC | BS21: 12 | BT21: =IF(OR($AV$6="O1",$AV$6="O2",$AV$6="O3"),Sorts!E86,IF(OR($BB$6="O1",$BB$6="O2"),Sorts!E148,"")) -> Détection de la Magie | CG21: 0 | CI21: =IF(OR($AV$6="O1",$AV$6="O2",$AV$6="O3"),Sorts!F86,IF(OR($BB$6="O1",$BB$6="O2"),Sorts!F148,"")) -> 0 | CK21: =IF(OR($AV$6="O1",$AV$6="O2",$AV$6="O3"),Sorts!G86,IF(OR($BB$6="O1",$BB$6="O2"),Sorts!G148,"")) -> 2r/n | CN21: =IF(OR($AV$6="O1",$AV$6="O2",$AV$6="O3"),Sorts!H86,IF(OR($BB$6="O1",$BB$6="O2"),Sorts!H148,"")) -> X | CO21: =IF(OR($AV$6="O1",$AV$6="O2",$AV$6="O3"),Sorts!I86,IF(OR($BB$6="O1",$BB$6="O2"),Sorts!I148,"")) -> X | CP21: =IF(OR($AV$6="O1",$AV$6="O2",$AV$6="O3"),Sorts!J86,IF(OR($BB$6="O1",$BB$6="O2"),Sorts!J148,"")) -> / | CS21: 18 | CT21: =IF($AV$4="O",Sorts!K21,IF($BB$4="O",Sorts!K45,"")) | DG21: 0 | DI21: =IF($AV$4="O",Sorts!L21,IF($BB$4="O",Sorts!L45,"")) | DL21: =IF($AV$4="O",Sorts!M21,IF($BB$4="O",Sorts!M45,"")) | DO21: =IF($AV$4="O",Sorts!N21,IF($BB$4="O",Sorts!N45,"")) | DP21: =IF($AV$4="O",Sorts!O21,IF($BB$4="O",Sorts!O45,"")) | DQ21: =IF($AV$4="O",Sorts!P21,IF($BB$4="O",Sorts!P45,"")) | DS21: NC | DU21: 18 | DV21: =IF(OR($AV$6="O1",$AV$6="O2",$AV$6="O3"),Sorts!K92,IF(OR($BB$6="O1",$BB$6="O2"),Sorts!K154,"")) -> Nuage Puant | EI21: 0 | EK21: =IF(OR($AV$6="O1",$AV$6="O2",$AV$6="O3"),Sorts!L92,IF(OR($BB$6="O1",$BB$6="O2"),Sorts!L154,"")) -> 3'' | EM21: =IF(OR($AV$6="O1",$AV$6="O2",$AV$6="O3"),Sorts!M92,IF(OR($BB$6="O1",$BB$6="O2"),Sorts!M154,"")) -> 1r/n | EP21: =IF(OR($AV$6="O1",$AV$6="O2",$AV$6="O3"),Sorts!N92,IF(OR($BB$6="O1",$BB$6="O2"),Sorts!N154,"")) -> X | EQ21: =IF(OR($AV$6="O1",$AV$6="O2",$AV$6="O3"),Sorts!O92,IF(OR($BB$6="O1",$BB$6="O2"),Sorts!O154,"")) -> X | ER21: =IF(OR($AV$6="O1",$AV$6="O2",$AV$6="O3"),Sorts!P92,IF(OR($BB$6="O1",$BB$6="O2"),Sorts!P154,"")) -> X | EU21: 18 | FU21: NC | FW21: 18 | FX21: =IF(OR($AV$6="O1",$AV$6="O2",$AV$6="O3"),Sorts!W92,IF(OR($BB$6="O1",$BB$6="O2"),Sorts!W154,"")) -> Maladresse | GK21: 0 | GM21: =IF(OR($AV$6="O1",$AV$6="O2",$AV$6="O3"),Sorts!X92,IF(OR($BB$6="O1",$BB$6="O2"),Sorts!X154,"")) -> 1''/n | GO21: =IF(OR($AV$6="O1",$AV$6="O2",$AV$6="O3"),Sorts!Y92,IF(OR($BB$6="O1",$BB$6="O2"),Sorts!Y154,"")) -> 1r/n | GR21: =IF(OR($AV$6="O1",$AV$6="O2",$AV$6="O3"),Sorts!Z92,IF(OR($BB$6="O1",$BB$6="O2"),Sorts!Z154,"")) -> X | GS21: =IF(OR($AV$6="O1",$AV$6="O2",$AV$6="O3"),Sorts!AA92,IF(OR($BB$6="O1",$BB$6="O2"),Sorts!AA154,"")) -> X | GT21: =IF(OR($AV$6="O1",$AV$6="O2",$AV$6="O3"),Sorts!AB92,IF(OR($BB$6="O1",$BB$6="O2"),Sorts!AB154,"")) -> X | GW21: 18 | HW21: NC | HY21: 18 | HZ21: =IF(OR($AV$6="O1",$AV$6="O2",$AV$6="O3"),Sorts!AI92,IF(OR($BB$6="O1",$BB$6="O2"),Sorts!AI154,"")) -> Mythomancie | IM21: 0 | IO21: =IF(OR($AV$6="O1",$AV$6="O2",$AV$6="O3"),Sorts!AJ92,IF(OR($BB$6="O1",$BB$6="O2"),Sorts!AJ154,"")) -> 0 | IQ21: =IF(OR($AV$6="O1",$AV$6="O2",$AV$6="O3"),Sorts!AK92,IF(OR($BB$6="O1",$BB$6="O2"),Sorts!AK154,"")) -> S | IT21: =IF(OR($AV$6="O1",$AV$6="O2",$AV$6="O3"),Sorts!AL92,IF(OR($BB$6="O1",$BB$6="O2"),Sorts!AL154,"")) -> X | IU21: =IF(OR($AV$6="O1",$AV$6="O2",$AV$6="O3"),Sorts!AM92,IF(OR($BB$6="O1",$BB$6="O2"),Sorts!AM154,"")) -> X | IV21: =IF(OR($AV$6="O1",$AV$6="O2",$AV$6="O3"),Sorts!AN92,IF(OR($BB$6="O1",$BB$6="O2"),Sorts!AN154,"")) -> X | JY21: NC | KA21: 18 | KB21: =IF(OR($AV$6="O1",$AV$6="O2",$AV$6="O3"),Sorts!AU92,IF(OR($BB$6="O1",$BB$6="O2"),Sorts!AU154,"")) -> Sphère Télékinétique d’Otiluke | KO21: 0 | KQ21: =IF(OR($AV$6="O1",$AV$6="O2",$AV$6="O3"),Sorts!AV92,IF(OR($BB$6="O1",$BB$6="O2"),Sorts!AV154,"")) -> 2'' | KS21: =IF(OR($AV$6="O1",$AV$6="O2",$AV$6="O3"),Sorts!AW92,IF(OR($BB$6="O1",$BB$6="O2"),Sorts!AW154,"")) -> 1r/n | KV21: =IF(OR($AV$6="O1",$AV$6="O2",$AV$6="O3"),Sorts!AX92,IF(OR($BB$6="O1",$BB$6="O2"),Sorts!AX154,"")) -> X | KW21: =IF(OR($AV$6="O1",$AV$6="O2",$AV$6="O3"),Sorts!AY92,IF(OR($BB$6="O1",$BB$6="O2"),Sorts!AY154,"")) -> X | KX21: =IF(OR($AV$6="O1",$AV$6="O2",$AV$6="O3"),Sorts!AZ92,IF(OR($BB$6="O1",$BB$6="O2"),Sorts!AZ154,"")) -> X
G22: Suivants | K22: Loyauté | O22: Réaction | Z22: Actuel | AB22: =AB19-AB21-AC21-AD21 -> 41 | AF22: XP MAX | AH22: =IF(Classe3="/","/",INDEX(Niveau!$A$511:$Q$547,NivC3+2,MATCH(Classe3,Niveau!$B$511:$Q$511,0)+1)-1) -> / | AK22: =IF(Code_Classe>33,AK18,"") | AQ22: 13 | AR22: =IF($AV$4="O",Sorts!E16,IF($BB$4="O",Sorts!E40,"")) | BE22: 0 | BG22: =IF($AV$4="O",Sorts!F16,IF($BB$4="O",Sorts!F40,"")) | BJ22: =IF($AV$4="O",Sorts!G16,IF($BB$4="O",Sorts!G40,"")) | BM22: =IF($AV$4="O",Sorts!H16,IF($BB$4="O",Sorts!H40,"")) | BN22: =IF($AV$4="O",Sorts!I16,IF($BB$4="O",Sorts!I40,"")) | BO22: =IF($AV$4="O",Sorts!J16,IF($BB$4="O",Sorts!J40,"")) | BQ22: NC | BS22: 13 | BT22: =IF(OR($AV$6="O1",$AV$6="O2",$AV$6="O3"),Sorts!E87,IF(OR($BB$6="O1",$BB$6="O2"),Sorts!E149,"")) -> Disque Flottant de Tenser | CG22: 0 | CI22: =IF(OR($AV$6="O1",$AV$6="O2",$AV$6="O3"),Sorts!F87,IF(OR($BB$6="O1",$BB$6="O2"),Sorts!F149,"")) -> 2’’ | CK22: =IF(OR($AV$6="O1",$AV$6="O2",$AV$6="O3"),Sorts!G87,IF(OR($BB$6="O1",$BB$6="O2"),Sorts!G149,"")) -> 3t+1t/n | CN22: =IF(OR($AV$6="O1",$AV$6="O2",$AV$6="O3"),Sorts!H87,IF(OR($BB$6="O1",$BB$6="O2"),Sorts!H149,"")) -> X | CO22: =IF(OR($AV$6="O1",$AV$6="O2",$AV$6="O3"),Sorts!I87,IF(OR($BB$6="O1",$BB$6="O2"),Sorts!I149,"")) -> X | CP22: =IF(OR($AV$6="O1",$AV$6="O2",$AV$6="O3"),Sorts!J87,IF(OR($BB$6="O1",$BB$6="O2"),Sorts!J149,"")) -> X | CS22: 19 | CT22: =IF($AV$4="O",Sorts!K22,IF($BB$4="O",Sorts!K46,"")) | DG22: 0 | DI22: =IF($AV$4="O",Sorts!L22,IF($BB$4="O",Sorts!L46,"")) | DL22: =IF($AV$4="O",Sorts!M22,IF($BB$4="O",Sorts!M46,"")) | DO22: =IF($AV$4="O",Sorts!N22,IF($BB$4="O",Sorts!N46,"")) | DP22: =IF($AV$4="O",Sorts!O22,IF($BB$4="O",Sorts!O46,"")) | DQ22: =IF($AV$4="O",Sorts!P22,IF($BB$4="O",Sorts!P46,"")) | DS22: NC | DU22: 19 | DV22: =IF(OR($AV$6="O1",$AV$6="O2",$AV$6="O3"),Sorts!K93,IF(OR($BB$6="O1",$BB$6="O2"),Sorts!K155,"")) -> Or des Fous | EI22: 0 | EK22: =IF(OR($AV$6="O1",$AV$6="O2",$AV$6="O3"),Sorts!L93,IF(OR($BB$6="O1",$BB$6="O2"),Sorts!L155,"")) -> 1'' | EM22: =IF(OR($AV$6="O1",$AV$6="O2",$AV$6="O3"),Sorts!M93,IF(OR($BB$6="O1",$BB$6="O2"),Sorts!M155,"")) -> 6t/n | EP22: =IF(OR($AV$6="O1",$AV$6="O2",$AV$6="O3"),Sorts!N93,IF(OR($BB$6="O1",$BB$6="O2"),Sorts!N155,"")) -> X | EQ22: =IF(OR($AV$6="O1",$AV$6="O2",$AV$6="O3"),Sorts!O93,IF(OR($BB$6="O1",$BB$6="O2"),Sorts!O155,"")) -> X | ER22: =IF(OR($AV$6="O1",$AV$6="O2",$AV$6="O3"),Sorts!P93,IF(OR($BB$6="O1",$BB$6="O2"),Sorts!P155,"")) -> X | EU22: 19 | FU22: NC | FW22: 19 | FX22: =IF(OR($AV$6="O1",$AV$6="O2",$AV$6="O3"),Sorts!W93,IF(OR($BB$6="O1",$BB$6="O2"),Sorts!W155,"")) -> Miroir Magique | GK22: 0 | GM22: =IF(OR($AV$6="O1",$AV$6="O2",$AV$6="O3"),Sorts!X93,IF(OR($BB$6="O1",$BB$6="O2"),Sorts!X155,"")) -> T | GO22: =IF(OR($AV$6="O1",$AV$6="O2",$AV$6="O3"),Sorts!Y93,IF(OR($BB$6="O1",$BB$6="O2"),Sorts!Y155,"")) -> 1r/n | GR22: =IF(OR($AV$6="O1",$AV$6="O2",$AV$6="O3"),Sorts!Z93,IF(OR($BB$6="O1",$BB$6="O2"),Sorts!Z155,"")) -> X | GS22: =IF(OR($AV$6="O1",$AV$6="O2",$AV$6="O3"),Sorts!AA93,IF(OR($BB$6="O1",$BB$6="O2"),Sorts!AA155,"")) -> X | GT22: =IF(OR($AV$6="O1",$AV$6="O2",$AV$6="O3"),Sorts!AB93,IF(OR($BB$6="O1",$BB$6="O2"),Sorts!AB155,"")) -> X | GW22: 19 | HW22: NC | HY22: 19 | HZ22: =IF(OR($AV$6="O1",$AV$6="O2",$AV$6="O3"),Sorts!AI93,IF(OR($BB$6="O1",$BB$6="O2"),Sorts!AI155,"")) -> Punition Spirituelle | IM22: 0 | IO22: =IF(OR($AV$6="O1",$AV$6="O2",$AV$6="O3"),Sorts!AJ93,IF(OR($BB$6="O1",$BB$6="O2"),Sorts!AJ155,"")) -> 1''+30cm/n | IQ22: =IF(OR($AV$6="O1",$AV$6="O2",$AV$6="O3"),Sorts!AK93,IF(OR($BB$6="O1",$BB$6="O2"),Sorts!AK155,"")) -> S | IT22: =IF(OR($AV$6="O1",$AV$6="O2",$AV$6="O3"),Sorts!AL93,IF(OR($BB$6="O1",$BB$6="O2"),Sorts!AL155,"")) -> X | IU22: =IF(OR($AV$6="O1",$AV$6="O2",$AV$6="O3"),Sorts!AM93,IF(OR($BB$6="O1",$BB$6="O2"),Sorts!AM155,"")) -> / | IV22: =IF(OR($AV$6="O1",$AV$6="O2",$AV$6="O3"),Sorts!AN93,IF(OR($BB$6="O1",$BB$6="O2"),Sorts!AN155,"")) -> X | JY22: NC | KA22: 19 | KB22: =IF(OR($AV$6="O1",$AV$6="O2",$AV$6="O3"),Sorts!AU93,IF(OR($BB$6="O1",$BB$6="O2"),Sorts!AU155,"")) -> Symbole | KO22: 0 | KQ22: =IF(OR($AV$6="O1",$AV$6="O2",$AV$6="O3"),Sorts!AV93,IF(OR($BB$6="O1",$BB$6="O2"),Sorts!AV155,"")) -> T | KS22: =IF(OR($AV$6="O1",$AV$6="O2",$AV$6="O3"),Sorts!AW93,IF(OR($BB$6="O1",$BB$6="O2"),Sorts!AW155,"")) -> S | KV22: =IF(OR($AV$6="O1",$AV$6="O2",$AV$6="O3"),Sorts!AX93,IF(OR($BB$6="O1",$BB$6="O2"),Sorts!AX155,"")) -> X | KW22: =IF(OR($AV$6="O1",$AV$6="O2",$AV$6="O3"),Sorts!AY93,IF(OR($BB$6="O1",$BB$6="O2"),Sorts!AY155,"")) -> X | KX22: =IF(OR($AV$6="O1",$AV$6="O2",$AV$6="O3"),Sorts!AZ93,IF(OR($BB$6="O1",$BB$6="O2"),Sorts!AZ155,"")) -> X
AH23: =IF(Classe3="/","/",AH22-AK22) -> / | AQ23: 14 | AR23: =IF($AV$4="O",Sorts!E17,IF($BB$4="O",Sorts!E41,"")) | BE23: 0 | BG23: =IF($AV$4="O",Sorts!F17,IF($BB$4="O",Sorts!F41,"")) | BJ23: =IF($AV$4="O",Sorts!G17,IF($BB$4="O",Sorts!G41,"")) | BM23: =IF($AV$4="O",Sorts!H17,IF($BB$4="O",Sorts!H41,"")) | BN23: =IF($AV$4="O",Sorts!I17,IF($BB$4="O",Sorts!I41,"")) | BO23: =IF($AV$4="O",Sorts!J17,IF($BB$4="O",Sorts!J41,"")) | BQ23: NC | BS23: 14 | BT23: =IF(OR($AV$6="O1",$AV$6="O2",$AV$6="O3"),Sorts!E88,IF(OR($BB$6="O1",$BB$6="O2"),Sorts!E150,"")) -> Eau de Feu | CG23: 0 | CI23: =IF(OR($AV$6="O1",$AV$6="O2",$AV$6="O3"),Sorts!F88,IF(OR($BB$6="O1",$BB$6="O2"),Sorts!F150,"")) -> 1’’ | CK23: =IF(OR($AV$6="O1",$AV$6="O2",$AV$6="O3"),Sorts!G88,IF(OR($BB$6="O1",$BB$6="O2"),Sorts!G150,"")) -> 1r | CN23: =IF(OR($AV$6="O1",$AV$6="O2",$AV$6="O3"),Sorts!H88,IF(OR($BB$6="O1",$BB$6="O2"),Sorts!H150,"")) -> X | CO23: =IF(OR($AV$6="O1",$AV$6="O2",$AV$6="O3"),Sorts!I88,IF(OR($BB$6="O1",$BB$6="O2"),Sorts!I150,"")) -> X | CP23: =IF(OR($AV$6="O1",$AV$6="O2",$AV$6="O3"),Sorts!J88,IF(OR($BB$6="O1",$BB$6="O2"),Sorts!J150,"")) -> X | CS23: 20 | CT23: =IF($AV$4="O",Sorts!K23,IF($BB$4="O",Sorts!K47,"")) | DG23: 0 | DI23: =IF($AV$4="O",Sorts!L23,IF($BB$4="O",Sorts!L47,"")) | DL23: =IF($AV$4="O",Sorts!M23,IF($BB$4="O",Sorts!M47,"")) | DO23: =IF($AV$4="O",Sorts!N23,IF($BB$4="O",Sorts!N47,"")) | DP23: =IF($AV$4="O",Sorts!O23,IF($BB$4="O",Sorts!O47,"")) | DQ23: =IF($AV$4="O",Sorts!P23,IF($BB$4="O",Sorts!P47,"")) | DS23: NC | DU23: 20 | DV23: =IF(OR($AV$6="O1",$AV$6="O2",$AV$6="O3"),Sorts!K94,IF(OR($BB$6="O1",$BB$6="O2"),Sorts!K156,"")) -> Oubli | EI23: 0 | EK23: =IF(OR($AV$6="O1",$AV$6="O2",$AV$6="O3"),Sorts!L94,IF(OR($BB$6="O1",$BB$6="O2"),Sorts!L156,"")) -> 3'' | EM23: =IF(OR($AV$6="O1",$AV$6="O2",$AV$6="O3"),Sorts!M94,IF(OR($BB$6="O1",$BB$6="O2"),Sorts!M156,"")) -> P | EP23: =IF(OR($AV$6="O1",$AV$6="O2",$AV$6="O3"),Sorts!N94,IF(OR($BB$6="O1",$BB$6="O2"),Sorts!N156,"")) -> X | EQ23: =IF(OR($AV$6="O1",$AV$6="O2",$AV$6="O3"),Sorts!O94,IF(OR($BB$6="O1",$BB$6="O2"),Sorts!O156,"")) -> X | ER23: =IF(OR($AV$6="O1",$AV$6="O2",$AV$6="O3"),Sorts!P94,IF(OR($BB$6="O1",$BB$6="O2"),Sorts!P156,"")) -> / | EU23: 20 | FU23: NC | FW23: 20 | FX23: =IF(OR($AV$6="O1",$AV$6="O2",$AV$6="O3"),Sorts!W94,IF(OR($BB$6="O1",$BB$6="O2"),Sorts!W156,"")) -> Moyen Mnémonique de Rary | GK23: 0 | GM23: =IF(OR($AV$6="O1",$AV$6="O2",$AV$6="O3"),Sorts!X94,IF(OR($BB$6="O1",$BB$6="O2"),Sorts!X156,"")) -> 0 | GO23: =IF(OR($AV$6="O1",$AV$6="O2",$AV$6="O3"),Sorts!Y94,IF(OR($BB$6="O1",$BB$6="O2"),Sorts!Y156,"")) -> 1j | GR23: =IF(OR($AV$6="O1",$AV$6="O2",$AV$6="O3"),Sorts!Z94,IF(OR($BB$6="O1",$BB$6="O2"),Sorts!Z156,"")) -> X | GS23: =IF(OR($AV$6="O1",$AV$6="O2",$AV$6="O3"),Sorts!AA94,IF(OR($BB$6="O1",$BB$6="O2"),Sorts!AA156,"")) -> X | GT23: =IF(OR($AV$6="O1",$AV$6="O2",$AV$6="O3"),Sorts!AB94,IF(OR($BB$6="O1",$BB$6="O2"),Sorts!AB156,"")) -> X | GW23: 20 | HW23: NC | HY23: 20 | HZ23: =IF(OR($AV$6="O1",$AV$6="O2",$AV$6="O3"),Sorts!AI94,IF(OR($BB$6="O1",$BB$6="O2"),Sorts!AI156,"")) -> Quête Magique | IM23: 0 | IO23: =IF(OR($AV$6="O1",$AV$6="O2",$AV$6="O3"),Sorts!AJ94,IF(OR($BB$6="O1",$BB$6="O2"),Sorts!AJ156,"")) -> T | IQ23: =IF(OR($AV$6="O1",$AV$6="O2",$AV$6="O3"),Sorts!AK94,IF(OR($BB$6="O1",$BB$6="O2"),Sorts!AK156,"")) -> S | IT23: =IF(OR($AV$6="O1",$AV$6="O2",$AV$6="O3"),Sorts!AL94,IF(OR($BB$6="O1",$BB$6="O2"),Sorts!AL156,"")) -> X | IU23: =IF(OR($AV$6="O1",$AV$6="O2",$AV$6="O3"),Sorts!AM94,IF(OR($BB$6="O1",$BB$6="O2"),Sorts!AM156,"")) -> / | IV23: =IF(OR($AV$6="O1",$AV$6="O2",$AV$6="O3"),Sorts!AN94,IF(OR($BB$6="O1",$BB$6="O2"),Sorts!AN156,"")) -> / | JY23: NC | KA23: 20 | KB23: =IF(OR($AV$6="O1",$AV$6="O2",$AV$6="O3"),Sorts!AU94,IF(OR($BB$6="O1",$BB$6="O2"),Sorts!AU156,"")) -> Transformation d’Objets | KO23: 0 | KQ23: =IF(OR($AV$6="O1",$AV$6="O2",$AV$6="O3"),Sorts!AV94,IF(OR($BB$6="O1",$BB$6="O2"),Sorts!AV156,"")) -> 0,5''/n | KS23: =IF(OR($AV$6="O1",$AV$6="O2",$AV$6="O3"),Sorts!AW94,IF(OR($BB$6="O1",$BB$6="O2"),Sorts!AW156,"")) -> V | KV23: =IF(OR($AV$6="O1",$AV$6="O2",$AV$6="O3"),Sorts!AX94,IF(OR($BB$6="O1",$BB$6="O2"),Sorts!AX156,"")) -> X | KW23: =IF(OR($AV$6="O1",$AV$6="O2",$AV$6="O3"),Sorts!AY94,IF(OR($BB$6="O1",$BB$6="O2"),Sorts!AY156,"")) -> X | KX23: =IF(OR($AV$6="O1",$AV$6="O2",$AV$6="O3"),Sorts!AZ94,IF(OR($BB$6="O1",$BB$6="O2"),Sorts!AZ156,"")) -> X
B24: CLASSE D'ARMURE | AQ24: 15 | AR24: =IF($AV$4="O",Sorts!E18,IF($BB$4="O",Sorts!E42,"")) | BE24: 0 | BG24: =IF($AV$4="O",Sorts!F18,IF($BB$4="O",Sorts!F42,"")) | BJ24: =IF($AV$4="O",Sorts!G18,IF($BB$4="O",Sorts!G42,"")) | BM24: =IF($AV$4="O",Sorts!H18,IF($BB$4="O",Sorts!H42,"")) | BN24: =IF($AV$4="O",Sorts!I18,IF($BB$4="O",Sorts!I42,"")) | BO24: =IF($AV$4="O",Sorts!J18,IF($BB$4="O",Sorts!J42,"")) | BQ24: NC | BS24: 15 | BT24: =IF(OR($AV$6="O1",$AV$6="O2",$AV$6="O3"),Sorts!E89,IF(OR($BB$6="O1",$BB$6="O2"),Sorts!E151,"")) -> Écriture | CG24: 0 | CI24: =IF(OR($AV$6="O1",$AV$6="O2",$AV$6="O3"),Sorts!F89,IF(OR($BB$6="O1",$BB$6="O2"),Sorts!F151,"")) -> 0 | CK24: =IF(OR($AV$6="O1",$AV$6="O2",$AV$6="O3"),Sorts!G89,IF(OR($BB$6="O1",$BB$6="O2"),Sorts!G151,"")) -> 1h/n | CN24: =IF(OR($AV$6="O1",$AV$6="O2",$AV$6="O3"),Sorts!H89,IF(OR($BB$6="O1",$BB$6="O2"),Sorts!H151,"")) -> X | CO24: =IF(OR($AV$6="O1",$AV$6="O2",$AV$6="O3"),Sorts!I89,IF(OR($BB$6="O1",$BB$6="O2"),Sorts!I151,"")) -> X | CP24: =IF(OR($AV$6="O1",$AV$6="O2",$AV$6="O3"),Sorts!J89,IF(OR($BB$6="O1",$BB$6="O2"),Sorts!J151,"")) -> X | CS24: 21 | DS24: NC | DU24: 21 | DV24: =IF(OR($AV$6="O1",$AV$6="O2",$AV$6="O3"),Sorts!K95,IF(OR($BB$6="O1",$BB$6="O2"),Sorts!K157,"")) -> Ouverture | EI24: 0 | EK24: =IF(OR($AV$6="O1",$AV$6="O2",$AV$6="O3"),Sorts!L95,IF(OR($BB$6="O1",$BB$6="O2"),Sorts!L157,"")) -> 6'' | EM24: =IF(OR($AV$6="O1",$AV$6="O2",$AV$6="O3"),Sorts!M95,IF(OR($BB$6="O1",$BB$6="O2"),Sorts!M157,"")) -> S | EP24: =IF(OR($AV$6="O1",$AV$6="O2",$AV$6="O3"),Sorts!N95,IF(OR($BB$6="O1",$BB$6="O2"),Sorts!N157,"")) -> X | EQ24: =IF(OR($AV$6="O1",$AV$6="O2",$AV$6="O3"),Sorts!O95,IF(OR($BB$6="O1",$BB$6="O2"),Sorts!O157,"")) -> / | ER24: =IF(OR($AV$6="O1",$AV$6="O2",$AV$6="O3"),Sorts!P95,IF(OR($BB$6="O1",$BB$6="O2"),Sorts!P157,"")) -> / | EU24: 21 | FU24: NC | FW24: 21 | FX24: =IF(OR($AV$6="O1",$AV$6="O2",$AV$6="O3"),Sorts!W95,IF(OR($BB$6="O1",$BB$6="O2"),Sorts!W157,"")) -> Mur de Feu | GK24: 0 | GM24: =IF(OR($AV$6="O1",$AV$6="O2",$AV$6="O3"),Sorts!X95,IF(OR($BB$6="O1",$BB$6="O2"),Sorts!X157,"")) -> 6'' | GO24: =IF(OR($AV$6="O1",$AV$6="O2",$AV$6="O3"),Sorts!Y95,IF(OR($BB$6="O1",$BB$6="O2"),Sorts!Y157,"")) -> S | GR24: =IF(OR($AV$6="O1",$AV$6="O2",$AV$6="O3"),Sorts!Z95,IF(OR($BB$6="O1",$BB$6="O2"),Sorts!Z157,"")) -> X | GS24: =IF(OR($AV$6="O1",$AV$6="O2",$AV$6="O3"),Sorts!AA95,IF(OR($BB$6="O1",$BB$6="O2"),Sorts!AA157,"")) -> X | GT24: =IF(OR($AV$6="O1",$AV$6="O2",$AV$6="O3"),Sorts!AB95,IF(OR($BB$6="O1",$BB$6="O2"),Sorts!AB157,"")) -> X | GW24: 21 | HW24: NC | HY24: 21 | HZ24: =IF(OR($AV$6="O1",$AV$6="O2",$AV$6="O3"),Sorts!AI95,IF(OR($BB$6="O1",$BB$6="O2"),Sorts!AI157,"")) -> Réincarnation | IM24: 0 | IO24: =IF(OR($AV$6="O1",$AV$6="O2",$AV$6="O3"),Sorts!AJ95,IF(OR($BB$6="O1",$BB$6="O2"),Sorts!AJ157,"")) -> T | IQ24: =IF(OR($AV$6="O1",$AV$6="O2",$AV$6="O3"),Sorts!AK95,IF(OR($BB$6="O1",$BB$6="O2"),Sorts!AK157,"")) -> P | IT24: =IF(OR($AV$6="O1",$AV$6="O2",$AV$6="O3"),Sorts!AL95,IF(OR($BB$6="O1",$BB$6="O2"),Sorts!AL157,"")) -> X | IU24: =IF(OR($AV$6="O1",$AV$6="O2",$AV$6="O3"),Sorts!AM95,IF(OR($BB$6="O1",$BB$6="O2"),Sorts!AM157,"")) -> X | IV24: =IF(OR($AV$6="O1",$AV$6="O2",$AV$6="O3"),Sorts!AN95,IF(OR($BB$6="O1",$BB$6="O2"),Sorts!AN157,"")) -> X | IY24: INFORMATIONS DIVERSES
L25: Protect | N25: Magie | R25: Talents de voleur | W25: =IF(OR(Classe1="voleur",Classe2="voleur",Classe3="voleur"),"V",IF(Classe1="voleur Acrobate","V",IF(OR(Classe1="assassin",Classe2="assassin"),"A",IF(Classe1="moine","M",IF(Classe1="barde","B","NA"))))) -> NA | X25: =IF(OR(Classe1="Voleur",Classe1="Voleur Acrobate",Classe1="Assassin",Classe1="Moine",Classe1="Barde"),NivC1,IF(OR(Classe2="Voleur",Classe2="Assassin"),NivC2,IF(Classe3="Voleur",NivC3,""))) | AA25: Jets de Protection | AF25: Paralysie / Poison | AK25: {=IF(Classe3<>"/",MIN(INDEX(Niveau!$B$159:$P$195,NivC1+1,MATCH(Classe1,Niveau!$C$159:$P$159,0)+1),INDEX(Niveau!$B$159:$P$195,NivC2+1,MATCH(Classe2,Niveau!$C$159:$P$159,0)+1),INDEX(Niveau!$B$159:$P$195,NivC3+1,MATCH(Classe3,Niveau!$C$159:$P$159,0)+1)),IF(Classe2<>"/",MIN(INDEX(Niveau!$B$159:$P$195,NivC1+1,MATCH(Classe1,Niveau!$C$159:$P$159,0)+1),INDEX(Niveau!$B$159:$P$195,NivC2+1,MATCH(Classe2,Niveau!$C$159:$P$159,0)+1)),INDEX(Niveau!$B$159:$P$195,NivC1+1,MATCH(Classe1,Niveau!$C$159:$P$159,0)+1)))+$AN$26+$AN$30} -> 13 | AN25: CON | AQ25: 16 | AR25: =IF($AV$4="O",Sorts!E19,IF($BB$4="O",Sorts!E43,"")) | BE25: 0 | BG25: =IF($AV$4="O",Sorts!F19,IF($BB$4="O",Sorts!F43,"")) | BJ25: =IF($AV$4="O",Sorts!G19,IF($BB$4="O",Sorts!G43,"")) | BM25: =IF($AV$4="O",Sorts!H19,IF($BB$4="O",Sorts!H43,"")) | BN25: =IF($AV$4="O",Sorts!I19,IF($BB$4="O",Sorts!I43,"")) | BO25: =IF($AV$4="O",Sorts!J19,IF($BB$4="O",Sorts!J43,"")) | BQ25: NC | BS25: 16 | BT25: =IF(OR($AV$6="O1",$AV$6="O2",$AV$6="O3"),Sorts!E90,IF(OR($BB$6="O1",$BB$6="O2"),Sorts!E152,"")) -> Effacement | CG25: 0 | CI25: =IF(OR($AV$6="O1",$AV$6="O2",$AV$6="O3"),Sorts!F90,IF(OR($BB$6="O1",$BB$6="O2"),Sorts!F152,"")) -> 3’’ | CK25: =IF(OR($AV$6="O1",$AV$6="O2",$AV$6="O3"),Sorts!G90,IF(OR($BB$6="O1",$BB$6="O2"),Sorts!G152,"")) -> P | CN25: =IF(OR($AV$6="O1",$AV$6="O2",$AV$6="O3"),Sorts!H90,IF(OR($BB$6="O1",$BB$6="O2"),Sorts!H152,"")) -> X | CO25: =IF(OR($AV$6="O1",$AV$6="O2",$AV$6="O3"),Sorts!I90,IF(OR($BB$6="O1",$BB$6="O2"),Sorts!I152,"")) -> X | CP25: =IF(OR($AV$6="O1",$AV$6="O2",$AV$6="O3"),Sorts!J90,IF(OR($BB$6="O1",$BB$6="O2"),Sorts!J152,"")) -> / | CS25: 22 | DS25: NC | DU25: 22 | DV25: =IF(OR($AV$6="O1",$AV$6="O2",$AV$6="O3"),Sorts!K96,IF(OR($BB$6="O1",$BB$6="O2"),Sorts!K158,"")) -> Perception des Alignements | EI25: 0 | EK25: =IF(OR($AV$6="O1",$AV$6="O2",$AV$6="O3"),Sorts!L96,IF(OR($BB$6="O1",$BB$6="O2"),Sorts!L158,"")) -> 1'' | EM25: =IF(OR($AV$6="O1",$AV$6="O2",$AV$6="O3"),Sorts!M96,IF(OR($BB$6="O1",$BB$6="O2"),Sorts!M158,"")) -> 1r/n | EP25: =IF(OR($AV$6="O1",$AV$6="O2",$AV$6="O3"),Sorts!N96,IF(OR($BB$6="O1",$BB$6="O2"),Sorts!N158,"")) -> X | EQ25: =IF(OR($AV$6="O1",$AV$6="O2",$AV$6="O3"),Sorts!O96,IF(OR($BB$6="O1",$BB$6="O2"),Sorts!O158,"")) -> X | ER25: =IF(OR($AV$6="O1",$AV$6="O2",$AV$6="O3"),Sorts!P96,IF(OR($BB$6="O1",$BB$6="O2"),Sorts!P158,"")) -> / | EU25: 22 | FU25: NC | FW25: 22 | FX25: =IF(OR($AV$6="O1",$AV$6="O2",$AV$6="O3"),Sorts!W96,IF(OR($BB$6="O1",$BB$6="O2"),Sorts!W158,"")) -> Mur de Glace | GK25: 0 | GM25: =IF(OR($AV$6="O1",$AV$6="O2",$AV$6="O3"),Sorts!X96,IF(OR($BB$6="O1",$BB$6="O2"),Sorts!X158,"")) -> 1''/n | GO25: =IF(OR($AV$6="O1",$AV$6="O2",$AV$6="O3"),Sorts!Y96,IF(OR($BB$6="O1",$BB$6="O2"),Sorts!Y158,"")) -> 1t/n | GR25: =IF(OR($AV$6="O1",$AV$6="O2",$AV$6="O3"),Sorts!Z96,IF(OR($BB$6="O1",$BB$6="O2"),Sorts!Z158,"")) -> X | GS25: =IF(OR($AV$6="O1",$AV$6="O2",$AV$6="O3"),Sorts!AA96,IF(OR($BB$6="O1",$BB$6="O2"),Sorts!AA158,"")) -> X | GT25: =IF(OR($AV$6="O1",$AV$6="O2",$AV$6="O3"),Sorts!AB96,IF(OR($BB$6="O1",$BB$6="O2"),Sorts!AB158,"")) -> X | GW25: 22 | HW25: NC | HY25: 22 | HZ25: =IF(OR($AV$6="O1",$AV$6="O2",$AV$6="O3"),Sorts!AI96,IF(OR($BB$6="O1",$BB$6="O2"),Sorts!AI158,"")) -> Répulsion | IM25: 0 | IO25: =IF(OR($AV$6="O1",$AV$6="O2",$AV$6="O3"),Sorts!AJ96,IF(OR($BB$6="O1",$BB$6="O2"),Sorts!AJ158,"")) -> 1''/n | IQ25: =IF(OR($AV$6="O1",$AV$6="O2",$AV$6="O3"),Sorts!AK96,IF(OR($BB$6="O1",$BB$6="O2"),Sorts!AK158,"")) -> 1r/2n | IT25: =IF(OR($AV$6="O1",$AV$6="O2",$AV$6="O3"),Sorts!AL96,IF(OR($BB$6="O1",$BB$6="O2"),Sorts!AL158,"")) -> X | IU25: =IF(OR($AV$6="O1",$AV$6="O2",$AV$6="O3"),Sorts!AM96,IF(OR($BB$6="O1",$BB$6="O2"),Sorts!AM158,"")) -> X | IV25: =IF(OR($AV$6="O1",$AV$6="O2",$AV$6="O3"),Sorts!AN96,IF(OR($BB$6="O1",$BB$6="O2"),Sorts!AN158,"")) -> X
B26: Armure | D26: Plate | L26: =IF(AND(Code_Classe=14,OR(D26='Armures-Armes'!B4,D26='Armures-Armes'!B5)),VLOOKUP(NivC1,Classe!B44:I60,2,FALSE),VLOOKUP(D26,'Armures-Armes'!B3:E14,4,FALSE)) -> 3 | N26: 0 | R26: Classe+DEX+Race+Armure | AF26: Mort magique | AN26: =$U$19 -> 0 | AQ26: 17 | AR26: =IF($AV$4="O",Sorts!E20,IF($BB$4="O",Sorts!E44,"")) | BE26: 0 | BG26: =IF($AV$4="O",Sorts!F20,IF($BB$4="O",Sorts!F44,"")) | BJ26: =IF($AV$4="O",Sorts!G20,IF($BB$4="O",Sorts!G44,"")) | BM26: =IF($AV$4="O",Sorts!H20,IF($BB$4="O",Sorts!H44,"")) | BN26: =IF($AV$4="O",Sorts!I20,IF($BB$4="O",Sorts!I44,"")) | BO26: =IF($AV$4="O",Sorts!J20,IF($BB$4="O",Sorts!J44,"")) | BQ26: NC | BS26: 17 | BT26: =IF(OR($AV$6="O1",$AV$6="O2",$AV$6="O3"),Sorts!E91,IF(OR($BB$6="O1",$BB$6="O2"),Sorts!E153,"")) -> Escalade d’Araignée | CG26: 0 | CI26: =IF(OR($AV$6="O1",$AV$6="O2",$AV$6="O3"),Sorts!F91,IF(OR($BB$6="O1",$BB$6="O2"),Sorts!F153,"")) -> T | CK26: =IF(OR($AV$6="O1",$AV$6="O2",$AV$6="O3"),Sorts!G91,IF(OR($BB$6="O1",$BB$6="O2"),Sorts!G153,"")) -> 1r+1r/n | CN26: =IF(OR($AV$6="O1",$AV$6="O2",$AV$6="O3"),Sorts!H91,IF(OR($BB$6="O1",$BB$6="O2"),Sorts!H153,"")) -> X | CO26: =IF(OR($AV$6="O1",$AV$6="O2",$AV$6="O3"),Sorts!I91,IF(OR($BB$6="O1",$BB$6="O2"),Sorts!I153,"")) -> X | CP26: =IF(OR($AV$6="O1",$AV$6="O2",$AV$6="O3"),Sorts!J91,IF(OR($BB$6="O1",$BB$6="O2"),Sorts!J153,"")) -> X | CS26: 23 | DS26: NC | DU26: 23 | DV26: =IF(OR($AV$6="O1",$AV$6="O2",$AV$6="O3"),Sorts!K97,IF(OR($BB$6="O1",$BB$6="O2"),Sorts!K159,"")) -> Peur | EI26: 0 | EK26: =IF(OR($AV$6="O1",$AV$6="O2",$AV$6="O3"),Sorts!L97,IF(OR($BB$6="O1",$BB$6="O2"),Sorts!L159,"")) -> 1'' | EM26: =IF(OR($AV$6="O1",$AV$6="O2",$AV$6="O3"),Sorts!M97,IF(OR($BB$6="O1",$BB$6="O2"),Sorts!M159,"")) -> 3-12r | EP26: =IF(OR($AV$6="O1",$AV$6="O2",$AV$6="O3"),Sorts!N97,IF(OR($BB$6="O1",$BB$6="O2"),Sorts!N159,"")) -> X | EQ26: =IF(OR($AV$6="O1",$AV$6="O2",$AV$6="O3"),Sorts!O97,IF(OR($BB$6="O1",$BB$6="O2"),Sorts!O159,"")) -> X | ER26: =IF(OR($AV$6="O1",$AV$6="O2",$AV$6="O3"),Sorts!P97,IF(OR($BB$6="O1",$BB$6="O2"),Sorts!P159,"")) -> X | EU26: 23 | FU26: NC | FW26: 23 | FX26: =IF(OR($AV$6="O1",$AV$6="O2",$AV$6="O3"),Sorts!W97,IF(OR($BB$6="O1",$BB$6="O2"),Sorts!W159,"")) -> Œil Magique | GK26: 0 | GM26: =IF(OR($AV$6="O1",$AV$6="O2",$AV$6="O3"),Sorts!X97,IF(OR($BB$6="O1",$BB$6="O2"),Sorts!X159,"")) -> 0 | GO26: =IF(OR($AV$6="O1",$AV$6="O2",$AV$6="O3"),Sorts!Y97,IF(OR($BB$6="O1",$BB$6="O2"),Sorts!Y159,"")) -> 1r/n | GR26: =IF(OR($AV$6="O1",$AV$6="O2",$AV$6="O3"),Sorts!Z97,IF(OR($BB$6="O1",$BB$6="O2"),Sorts!Z159,"")) -> X | GS26: =IF(OR($AV$6="O1",$AV$6="O2",$AV$6="O3"),Sorts!AA97,IF(OR($BB$6="O1",$BB$6="O2"),Sorts!AA159,"")) -> X | GT26: =IF(OR($AV$6="O1",$AV$6="O2",$AV$6="O3"),Sorts!AB97,IF(OR($BB$6="O1",$BB$6="O2"),Sorts!AB159,"")) -> X | GW26: 23 | HW26: NC | HY26: 23 | HZ26: =IF(OR($AV$6="O1",$AV$6="O2",$AV$6="O3"),Sorts!AI97,IF(OR($BB$6="O1",$BB$6="O2"),Sorts!AI159,"")) -> Séparation des Eaux | IM26: 0 | IO26: =IF(OR($AV$6="O1",$AV$6="O2",$AV$6="O3"),Sorts!AJ97,IF(OR($BB$6="O1",$BB$6="O2"),Sorts!AJ159,"")) -> 1''/n | IQ26: =IF(OR($AV$6="O1",$AV$6="O2",$AV$6="O3"),Sorts!AK97,IF(OR($BB$6="O1",$BB$6="O2"),Sorts!AK159,"")) -> S | IT26: =IF(OR($AV$6="O1",$AV$6="O2",$AV$6="O3"),Sorts!AL97,IF(OR($BB$6="O1",$BB$6="O2"),Sorts!AL159,"")) -> X | IU26: =IF(OR($AV$6="O1",$AV$6="O2",$AV$6="O3"),Sorts!AM97,IF(OR($BB$6="O1",$BB$6="O2"),Sorts!AM159,"")) -> X | IV26: =IF(OR($AV$6="O1",$AV$6="O2",$AV$6="O3"),Sorts!AN97,IF(OR($BB$6="O1",$BB$6="O2"),Sorts!AN159,"")) -> X
R27: PickPocket | V27: {=IF(OR(AND(W25="A",OR(X25=1,X25=2)),(AND(W25="B",OR(X25=1,X25=2,X25=3,X25=4,X25=5,X25=6)))),"/",IF(X25="","/",INDEX(Niveau!$B$43:$G$79,'Joueur 1'!$X$25+1,MATCH('Joueur 1'!$W$25,Niveau!$C$43:$G$43,0)+1)+INDEX(Caractéristiques!$B$186:$M$211,DEX+1,5)+INDEX(Race!$B$42:$K$57,MATCH(RACE,Race!$B$43:$B$57,0)+1,2)+INDEX('Armures-Armes'!$B$3:$N$14,MATCH('Joueur 1'!$D$26,'Armures-Armes'!$B$4:$B$14,0)+1,5)))} -> / | X27: Dissimulation dans l'ombre | AB27: {=IF(OR(AND(W25="A",OR(X25=1,X25=2)),(AND(W25="B",OR(X25=1,X25=2,X25=3,X25=4,X25=5,X25=6)))),"/",IF($X$25="","/",INDEX(Niveau!$Z$43:$AE$79,'Joueur 1'!$X$25+1,MATCH('Joueur 1'!$W$25,Niveau!$AA$43:$AE$43,0)+1)+INDEX(Caractéristiques!$B$186:$M$211,DEX+1,9)+INDEX(Race!$B$42:$K$57,MATCH(RACE,Race!$B$43:$B$57,0)+1,6)+INDEX('Armures-Armes'!$B$3:$N$14,MATCH('Joueur 1'!$D$26,'Armures-Armes'!$B$4:$B$14,0)+1,9)))} -> / | AF27: Pétrification | AK27: {=IF(Classe3<>"/",MIN(INDEX(Niveau!$B$198:$P$234,NivC1+1,MATCH(Classe1,Niveau!$C$198:$P$198,0)+1),INDEX(Niveau!$B$198:$P$234,NivC2+1,MATCH(Classe2,Niveau!$C$198:$P$198,0)+1),INDEX(Niveau!$B$198:$P$234,NivC3+1,MATCH(Classe3,Niveau!$C$198:$P$198,0)+1)),IF(Classe2<>"/",MIN(INDEX(Niveau!$B$198:$P$234,NivC1+1,MATCH(Classe1,Niveau!$C$198:$P$198,0)+1),INDEX(Niveau!$B$198:$P$234,NivC2+1,MATCH(Classe2,Niveau!$C$198:$P$198,0)+1)),INDEX(Niveau!$B$198:$P$234,NivC1+1,MATCH(Classe1,Niveau!$C$198:$P$198,0)+1)))+$AO$30} -> 13 | AN27: MAGIE | AQ27: 18 | AR27: =IF($AV$4="O",Sorts!E21,IF($BB$4="O",Sorts!E45,"")) | BE27: 0 | BG27: =IF($AV$4="O",Sorts!F21,IF($BB$4="O",Sorts!F45,"")) | BJ27: =IF($AV$4="O",Sorts!G21,IF($BB$4="O",Sorts!G45,"")) | BM27: =IF($AV$4="O",Sorts!H21,IF($BB$4="O",Sorts!H45,"")) | BN27: =IF($AV$4="O",Sorts!I21,IF($BB$4="O",Sorts!I45,"")) | BO27: =IF($AV$4="O",Sorts!J21,IF($BB$4="O",Sorts!J45,"")) | BQ27: NC | BS27: 18 | BT27: =IF(OR($AV$6="O1",$AV$6="O2",$AV$6="O3"),Sorts!E92,IF(OR($BB$6="O1",$BB$6="O2"),Sorts!E154,"")) -> Fermeture | CG27: 0 | CI27: =IF(OR($AV$6="O1",$AV$6="O2",$AV$6="O3"),Sorts!F92,IF(OR($BB$6="O1",$BB$6="O2"),Sorts!F154,"")) -> 2’’/n | CK27: =IF(OR($AV$6="O1",$AV$6="O2",$AV$6="O3"),Sorts!G92,IF(OR($BB$6="O1",$BB$6="O2"),Sorts!G154,"")) -> 1r/n | CN27: =IF(OR($AV$6="O1",$AV$6="O2",$AV$6="O3"),Sorts!H92,IF(OR($BB$6="O1",$BB$6="O2"),Sorts!H154,"")) -> X | CO27: =IF(OR($AV$6="O1",$AV$6="O2",$AV$6="O3"),Sorts!I92,IF(OR($BB$6="O1",$BB$6="O2"),Sorts!I154,"")) -> / | CP27: =IF(OR($AV$6="O1",$AV$6="O2",$AV$6="O3"),Sorts!J92,IF(OR($BB$6="O1",$BB$6="O2"),Sorts!J154,"")) -> / | CS27: 24 | DS27: NC | DU27: 24 | DV27: =IF(OR($AV$6="O1",$AV$6="O2",$AV$6="O3"),Sorts!K98,IF(OR($BB$6="O1",$BB$6="O2"),Sorts!K160,"")) -> Piège de Léomund | EI27: 0 | EK27: =IF(OR($AV$6="O1",$AV$6="O2",$AV$6="O3"),Sorts!L98,IF(OR($BB$6="O1",$BB$6="O2"),Sorts!L160,"")) -> T | EM27: =IF(OR($AV$6="O1",$AV$6="O2",$AV$6="O3"),Sorts!M98,IF(OR($BB$6="O1",$BB$6="O2"),Sorts!M160,"")) -> P | EP27: =IF(OR($AV$6="O1",$AV$6="O2",$AV$6="O3"),Sorts!N98,IF(OR($BB$6="O1",$BB$6="O2"),Sorts!N160,"")) -> X | EQ27: =IF(OR($AV$6="O1",$AV$6="O2",$AV$6="O3"),Sorts!O98,IF(OR($BB$6="O1",$BB$6="O2"),Sorts!O160,"")) -> X | ER27: =IF(OR($AV$6="O1",$AV$6="O2",$AV$6="O3"),Sorts!P98,IF(OR($BB$6="O1",$BB$6="O2"),Sorts!P160,"")) -> X | EU27: 24 | FU27: NC | FW27: 24 | FX27: =IF(OR($AV$6="O1",$AV$6="O2",$AV$6="O3"),Sorts!W98,IF(OR($BB$6="O1",$BB$6="O2"),Sorts!W160,"")) -> Peau de Pierre | GK27: 0 | GM27: =IF(OR($AV$6="O1",$AV$6="O2",$AV$6="O3"),Sorts!X98,IF(OR($BB$6="O1",$BB$6="O2"),Sorts!X160,"")) -> T | GO27: =IF(OR($AV$6="O1",$AV$6="O2",$AV$6="O3"),Sorts!Y98,IF(OR($BB$6="O1",$BB$6="O2"),Sorts!Y160,"")) -> S | GR27: =IF(OR($AV$6="O1",$AV$6="O2",$AV$6="O3"),Sorts!Z98,IF(OR($BB$6="O1",$BB$6="O2"),Sorts!Z160,"")) -> X | GS27: =IF(OR($AV$6="O1",$AV$6="O2",$AV$6="O3"),Sorts!AA98,IF(OR($BB$6="O1",$BB$6="O2"),Sorts!AA160,"")) -> X | GT27: =IF(OR($AV$6="O1",$AV$6="O2",$AV$6="O3"),Sorts!AB98,IF(OR($BB$6="O1",$BB$6="O2"),Sorts!AB160,"")) -> X | GW27: 24 | HW27: NC | HY27: 24 | HZ27: =IF(OR($AV$6="O1",$AV$6="O2",$AV$6="O3"),Sorts!AI98,IF(OR($BB$6="O1",$BB$6="O2"),Sorts!AI160,"")) -> Sphère Glaciale d’Otiluke | IM27: 0 | IO27: =IF(OR($AV$6="O1",$AV$6="O2",$AV$6="O3"),Sorts!AJ98,IF(OR($BB$6="O1",$BB$6="O2"),Sorts!AJ160,"")) -> S | IQ27: =IF(OR($AV$6="O1",$AV$6="O2",$AV$6="O3"),Sorts!AK98,IF(OR($BB$6="O1",$BB$6="O2"),Sorts!AK160,"")) -> S | IT27: =IF(OR($AV$6="O1",$AV$6="O2",$AV$6="O3"),Sorts!AL98,IF(OR($BB$6="O1",$BB$6="O2"),Sorts!AL160,"")) -> X | IU27: =IF(OR($AV$6="O1",$AV$6="O2",$AV$6="O3"),Sorts!AM98,IF(OR($BB$6="O1",$BB$6="O2"),Sorts!AM160,"")) -> X | IV27: =IF(OR($AV$6="O1",$AV$6="O2",$AV$6="O3"),Sorts!AN98,IF(OR($BB$6="O1",$BB$6="O2"),Sorts!AN160,"")) -> X
B28: Bouclier | D28: Bouclier cuir | L28: =VLOOKUP($D$28,'Armures-Armes'!$B$17:$C$21,2,FALSE) -> -1 | N28: -1 | AF28: Polymorphose | AN28: =SUM($N$30:$O$37) -> -1 | AQ28: 19 | AR28: =IF($AV$4="O",Sorts!E22,IF($BB$4="O",Sorts!E46,"")) | BE28: 0 | BG28: =IF($AV$4="O",Sorts!F22,IF($BB$4="O",Sorts!F46,"")) | BJ28: =IF($AV$4="O",Sorts!G22,IF($BB$4="O",Sorts!G46,"")) | BM28: =IF($AV$4="O",Sorts!H22,IF($BB$4="O",Sorts!H46,"")) | BN28: =IF($AV$4="O",Sorts!I22,IF($BB$4="O",Sorts!I46,"")) | BO28: =IF($AV$4="O",Sorts!J22,IF($BB$4="O",Sorts!J46,"")) | BQ28: NC | BS28: 19 | BT28: =IF(OR($AV$6="O1",$AV$6="O2",$AV$6="O3"),Sorts!E93,IF(OR($BB$6="O1",$BB$6="O2"),Sorts!E155,"")) -> Fonte | CG28: 0 | CI28: =IF(OR($AV$6="O1",$AV$6="O2",$AV$6="O3"),Sorts!F93,IF(OR($BB$6="O1",$BB$6="O2"),Sorts!F155,"")) -> 3’’ | CK28: =IF(OR($AV$6="O1",$AV$6="O2",$AV$6="O3"),Sorts!G93,IF(OR($BB$6="O1",$BB$6="O2"),Sorts!G155,"")) -> 1r/n | CN28: =IF(OR($AV$6="O1",$AV$6="O2",$AV$6="O3"),Sorts!H93,IF(OR($BB$6="O1",$BB$6="O2"),Sorts!H155,"")) -> X | CO28: =IF(OR($AV$6="O1",$AV$6="O2",$AV$6="O3"),Sorts!I93,IF(OR($BB$6="O1",$BB$6="O2"),Sorts!I155,"")) -> X | CP28: =IF(OR($AV$6="O1",$AV$6="O2",$AV$6="O3"),Sorts!J93,IF(OR($BB$6="O1",$BB$6="O2"),Sorts!J155,"")) -> X | CS28: 25 | DS28: NC | DU28: 25 | DV28: =IF(OR($AV$6="O1",$AV$6="O2",$AV$6="O3"),Sorts!K99,IF(OR($BB$6="O1",$BB$6="O2"),Sorts!K161,"")) -> Poches Profondes | EI28: 0 | EK28: =IF(OR($AV$6="O1",$AV$6="O2",$AV$6="O3"),Sorts!L99,IF(OR($BB$6="O1",$BB$6="O2"),Sorts!L161,"")) -> T | EM28: =IF(OR($AV$6="O1",$AV$6="O2",$AV$6="O3"),Sorts!M99,IF(OR($BB$6="O1",$BB$6="O2"),Sorts!M161,"")) -> 24t+6/n | EP28: =IF(OR($AV$6="O1",$AV$6="O2",$AV$6="O3"),Sorts!N99,IF(OR($BB$6="O1",$BB$6="O2"),Sorts!N161,"")) -> X | EQ28: =IF(OR($AV$6="O1",$AV$6="O2",$AV$6="O3"),Sorts!O99,IF(OR($BB$6="O1",$BB$6="O2"),Sorts!O161,"")) -> X | ER28: =IF(OR($AV$6="O1",$AV$6="O2",$AV$6="O3"),Sorts!P99,IF(OR($BB$6="O1",$BB$6="O2"),Sorts!P161,"")) -> X | EU28: 25 | FU28: NC | FW28: 25 | FX28: =IF(OR($AV$6="O1",$AV$6="O2",$AV$6="O3"),Sorts!W99,IF(OR($BB$6="O1",$BB$6="O2"),Sorts!W161,"")) -> Phytomorphose | GK28: 0 | GM28: =IF(OR($AV$6="O1",$AV$6="O2",$AV$6="O3"),Sorts!X99,IF(OR($BB$6="O1",$BB$6="O2"),Sorts!X161,"")) -> 1''/n | GO28: =IF(OR($AV$6="O1",$AV$6="O2",$AV$6="O3"),Sorts!Y99,IF(OR($BB$6="O1",$BB$6="O2"),Sorts!Y161,"")) -> S | GR28: =IF(OR($AV$6="O1",$AV$6="O2",$AV$6="O3"),Sorts!Z99,IF(OR($BB$6="O1",$BB$6="O2"),Sorts!Z161,"")) -> X | GS28: =IF(OR($AV$6="O1",$AV$6="O2",$AV$6="O3"),Sorts!AA99,IF(OR($BB$6="O1",$BB$6="O2"),Sorts!AA161,"")) -> X | GT28: =IF(OR($AV$6="O1",$AV$6="O2",$AV$6="O3"),Sorts!AB99,IF(OR($BB$6="O1",$BB$6="O2"),Sorts!AB161,"")) -> X | GW28: 25 | HW28: NC | HY28: 25 | HZ28: =IF(OR($AV$6="O1",$AV$6="O2",$AV$6="O3"),Sorts!AI99,IF(OR($BB$6="O1",$BB$6="O2"),Sorts!AI161,"")) -> Transformation de Tenser | IM28: 0 | IO28: =IF(OR($AV$6="O1",$AV$6="O2",$AV$6="O3"),Sorts!AJ99,IF(OR($BB$6="O1",$BB$6="O2"),Sorts!AJ161,"")) -> 0 | IQ28: =IF(OR($AV$6="O1",$AV$6="O2",$AV$6="O3"),Sorts!AK99,IF(OR($BB$6="O1",$BB$6="O2"),Sorts!AK161,"")) -> 1r/n | IT28: =IF(OR($AV$6="O1",$AV$6="O2",$AV$6="O3"),Sorts!AL99,IF(OR($BB$6="O1",$BB$6="O2"),Sorts!AL161,"")) -> X | IU28: =IF(OR($AV$6="O1",$AV$6="O2",$AV$6="O3"),Sorts!AM99,IF(OR($BB$6="O1",$BB$6="O2"),Sorts!AM161,"")) -> X | IV28: =IF(OR($AV$6="O1",$AV$6="O2",$AV$6="O3"),Sorts!AN99,IF(OR($BB$6="O1",$BB$6="O2"),Sorts!AN161,"")) -> X
R29: Crochetage | V29: {=IF(OR(AND(W25="A",OR(X25=1,X25=2)),(AND(W25="B",OR(X25=1,X25=2,X25=3,X25=4,X25=5,X25=6)))),"/",IF($X$25="","/",INDEX(Niveau!$H$43:$M$79,'Joueur 1'!$X$25+1,MATCH('Joueur 1'!$W$25,Niveau!$I$43:$M$43,0)+1)+INDEX(Caractéristiques!$B$186:$M$211,DEX+1,6)+INDEX(Race!$B$42:$K$57,MATCH(RACE,Race!$B$43:$B$57,0)+1,3)+INDEX('Armures-Armes'!$B$3:$N$14,MATCH('Joueur 1'!$D$26,'Armures-Armes'!$B$4:$B$14,0)+1,6)))} -> / | X29: Ecoute aux portes | AB29: {=IF(OR(AND(W25="A",OR(X25=1,X25=2)),(AND(W25="B",OR(X25=1,X25=2,X25=3,X25=4,X25=5,X25=6)))),"/",IF($X$25="","/",INDEX(Niveau!$AF$43:$AK$79,'Joueur 1'!$X$25+1,MATCH('Joueur 1'!$W$25,Niveau!$AG$43:$AK$43,0)+1)+INDEX(Caractéristiques!$B$186:$M$211,DEX+1,10)+INDEX(Race!$B$42:$K$57,MATCH(RACE,Race!$B$43:$B$57,0)+1,7)+INDEX('Armures-Armes'!$B$3:$N$14,MATCH('Joueur 1'!$D$26,'Armures-Armes'!$B$4:$B$14,0)+1,10)))} -> / | AF29: Baguette | AK29: {=IF(Classe3<>"/",MIN(INDEX(Niveau!$B$237:$P$273,NivC1+1,MATCH(Classe1,Niveau!$C$237:$P$237,0)+1),INDEX(Niveau!$B$237:$P$273,NivC2+1,MATCH(Classe2,Niveau!$C$237:$P$237,0)+1),INDEX(Niveau!$B$237:$P$273,NivC3+1,MATCH(Classe3,Niveau!$C$237:$P$237,0)+1)),IF(Classe2<>"/",MIN(INDEX(Niveau!$B$237:$P$273,NivC1+1,MATCH(Classe1,Niveau!$C$237:$P$237,0)+1),INDEX(Niveau!$B$237:$P$273,NivC2+1,MATCH(Classe2,Niveau!$C$237:$P$237,0)+1)),INDEX(Niveau!$B$237:$P$273,NivC1+1,MATCH(Classe1,Niveau!$C$237:$P$237,0)+1)))+$AN$30} -> 11 | AN29: RACE | AQ29: 20 | AR29: =IF($AV$4="O",Sorts!E23,IF($BB$4="O",Sorts!E47,"")) | BE29: 0 | BG29: =IF($AV$4="O",Sorts!F23,IF($BB$4="O",Sorts!F47,"")) | BJ29: =IF($AV$4="O",Sorts!G23,IF($BB$4="O",Sorts!G47,"")) | BM29: =IF($AV$4="O",Sorts!H23,IF($BB$4="O",Sorts!H47,"")) | BN29: =IF($AV$4="O",Sorts!I23,IF($BB$4="O",Sorts!I47,"")) | BO29: =IF($AV$4="O",Sorts!J23,IF($BB$4="O",Sorts!J47,"")) | BQ29: NC | BS29: 20 | BT29: =IF(OR($AV$6="O1",$AV$6="O2",$AV$6="O3"),Sorts!E94,IF(OR($BB$6="O1",$BB$6="O2"),Sorts!E156,"")) -> Graisse | CG29: 0 | CI29: =IF(OR($AV$6="O1",$AV$6="O2",$AV$6="O3"),Sorts!F94,IF(OR($BB$6="O1",$BB$6="O2"),Sorts!F156,"")) -> 1’’ | CK29: =IF(OR($AV$6="O1",$AV$6="O2",$AV$6="O3"),Sorts!G94,IF(OR($BB$6="O1",$BB$6="O2"),Sorts!G156,"")) -> P | CN29: =IF(OR($AV$6="O1",$AV$6="O2",$AV$6="O3"),Sorts!H94,IF(OR($BB$6="O1",$BB$6="O2"),Sorts!H156,"")) -> X | CO29: =IF(OR($AV$6="O1",$AV$6="O2",$AV$6="O3"),Sorts!I94,IF(OR($BB$6="O1",$BB$6="O2"),Sorts!I156,"")) -> X | CP29: =IF(OR($AV$6="O1",$AV$6="O2",$AV$6="O3"),Sorts!J94,IF(OR($BB$6="O1",$BB$6="O2"),Sorts!J156,"")) -> X | CS29: 26 | DS29: NC | DU29: 26 | DV29: =IF(OR($AV$6="O1",$AV$6="O2",$AV$6="O3"),Sorts!K100,IF(OR($BB$6="O1",$BB$6="O2"),Sorts!K162,"")) -> Préservation | EI29: 0 | EK29: =IF(OR($AV$6="O1",$AV$6="O2",$AV$6="O3"),Sorts!L100,IF(OR($BB$6="O1",$BB$6="O2"),Sorts!L162,"")) -> T | EM29: =IF(OR($AV$6="O1",$AV$6="O2",$AV$6="O3"),Sorts!M100,IF(OR($BB$6="O1",$BB$6="O2"),Sorts!M162,"")) -> P | EP29: =IF(OR($AV$6="O1",$AV$6="O2",$AV$6="O3"),Sorts!N100,IF(OR($BB$6="O1",$BB$6="O2"),Sorts!N162,"")) -> X | EQ29: =IF(OR($AV$6="O1",$AV$6="O2",$AV$6="O3"),Sorts!O100,IF(OR($BB$6="O1",$BB$6="O2"),Sorts!O162,"")) -> X | ER29: =IF(OR($AV$6="O1",$AV$6="O2",$AV$6="O3"),Sorts!P100,IF(OR($BB$6="O1",$BB$6="O2"),Sorts!P162,"")) -> X | EU29: 26 | FU29: NC | FW29: 26 | FX29: =IF(OR($AV$6="O1",$AV$6="O2",$AV$6="O3"),Sorts!W100,IF(OR($BB$6="O1",$BB$6="O2"),Sorts!W162,"")) -> Piège à Feu | GK29: 0 | GM29: =IF(OR($AV$6="O1",$AV$6="O2",$AV$6="O3"),Sorts!X100,IF(OR($BB$6="O1",$BB$6="O2"),Sorts!X162,"")) -> T | GO29: =IF(OR($AV$6="O1",$AV$6="O2",$AV$6="O3"),Sorts!Y100,IF(OR($BB$6="O1",$BB$6="O2"),Sorts!Y162,"")) -> P | GR29: =IF(OR($AV$6="O1",$AV$6="O2",$AV$6="O3"),Sorts!Z100,IF(OR($BB$6="O1",$BB$6="O2"),Sorts!Z162,"")) -> X | GS29: =IF(OR($AV$6="O1",$AV$6="O2",$AV$6="O3"),Sorts!AA100,IF(OR($BB$6="O1",$BB$6="O2"),Sorts!AA162,"")) -> X | GT29: =IF(OR($AV$6="O1",$AV$6="O2",$AV$6="O3"),Sorts!AB100,IF(OR($BB$6="O1",$BB$6="O2"),Sorts!AB162,"")) -> X | GW29: 26 | HW29: NC | HY29: 26 | HZ29: =IF(OR($AV$6="O1",$AV$6="O2",$AV$6="O3"),Sorts!AI100,IF(OR($BB$6="O1",$BB$6="O2"),Sorts!AI162,"")) -> Transmutation d’Eau en Poussière | IM29: 0 | IO29: =IF(OR($AV$6="O1",$AV$6="O2",$AV$6="O3"),Sorts!AJ100,IF(OR($BB$6="O1",$BB$6="O2"),Sorts!AJ162,"")) -> 6'' | IQ29: =IF(OR($AV$6="O1",$AV$6="O2",$AV$6="O3"),Sorts!AK100,IF(OR($BB$6="O1",$BB$6="O2"),Sorts!AK162,"")) -> P | IT29: =IF(OR($AV$6="O1",$AV$6="O2",$AV$6="O3"),Sorts!AL100,IF(OR($BB$6="O1",$BB$6="O2"),Sorts!AL162,"")) -> X | IU29: =IF(OR($AV$6="O1",$AV$6="O2",$AV$6="O3"),Sorts!AM100,IF(OR($BB$6="O1",$BB$6="O2"),Sorts!AM162,"")) -> X | IV29: =IF(OR($AV$6="O1",$AV$6="O2",$AV$6="O3"),Sorts!AN100,IF(OR($BB$6="O1",$BB$6="O2"),Sorts!AN162,"")) -> X
B30: Bracelet | D30: Aucun | L30: =VLOOKUP('Joueur 1'!$D$30,'Armures-Armes'!B23:C31,2,FALSE) -> 10 | AF30: Baton magique | AN30: =IF(OR($D$6=Race!$B$30,$D$6=Race!$B$34,$D$6=Race!$B$35,$D$6=Race!$B$36,$D$6=Race!$B$37),-ROUNDDOWN(CON/3.5,0),IF(($D$6=Race!$B$31),-3,IF(($D$6=Race!$B$28),-2,0))) -> 0 | AO30: =IF(($D$6=Race!$B$31),-3,IF(($D$6=Race!$B$28),-2,0)) -> 0 | AQ30: 21 | BE30: 0 | BQ30: NC | BS30: 21 | BT30: =IF(OR($AV$6="O1",$AV$6="O2",$AV$6="O3"),Sorts!E95,IF(OR($BB$6="O1",$BB$6="O2"),Sorts!E157,"")) -> Identification | CG30: 0 | CI30: =IF(OR($AV$6="O1",$AV$6="O2",$AV$6="O3"),Sorts!F95,IF(OR($BB$6="O1",$BB$6="O2"),Sorts!F157,"")) -> 0 | CK30: =IF(OR($AV$6="O1",$AV$6="O2",$AV$6="O3"),Sorts!G95,IF(OR($BB$6="O1",$BB$6="O2"),Sorts!G157,"")) -> 1s/n | CN30: =IF(OR($AV$6="O1",$AV$6="O2",$AV$6="O3"),Sorts!H95,IF(OR($BB$6="O1",$BB$6="O2"),Sorts!H157,"")) -> X | CO30: =IF(OR($AV$6="O1",$AV$6="O2",$AV$6="O3"),Sorts!I95,IF(OR($BB$6="O1",$BB$6="O2"),Sorts!I157,"")) -> X | CP30: =IF(OR($AV$6="O1",$AV$6="O2",$AV$6="O3"),Sorts!J95,IF(OR($BB$6="O1",$BB$6="O2"),Sorts!J157,"")) -> X | CS30: 27 | DS30: NC | DU30: 27 | DV30: =IF(OR($AV$6="O1",$AV$6="O2",$AV$6="O3"),Sorts!K101,IF(OR($BB$6="O1",$BB$6="O2"),Sorts!K163,"")) -> Protection contre les Tours Mineurs | EI30: 0 | EK30: =IF(OR($AV$6="O1",$AV$6="O2",$AV$6="O3"),Sorts!L101,IF(OR($BB$6="O1",$BB$6="O2"),Sorts!L163,"")) -> T | EM30: =IF(OR($AV$6="O1",$AV$6="O2",$AV$6="O3"),Sorts!M101,IF(OR($BB$6="O1",$BB$6="O2"),Sorts!M163,"")) -> 1j/n | EP30: =IF(OR($AV$6="O1",$AV$6="O2",$AV$6="O3"),Sorts!N101,IF(OR($BB$6="O1",$BB$6="O2"),Sorts!N163,"")) -> X | EQ30: =IF(OR($AV$6="O1",$AV$6="O2",$AV$6="O3"),Sorts!O101,IF(OR($BB$6="O1",$BB$6="O2"),Sorts!O163,"")) -> X | ER30: =IF(OR($AV$6="O1",$AV$6="O2",$AV$6="O3"),Sorts!P101,IF(OR($BB$6="O1",$BB$6="O2"),Sorts!P163,"")) -> / | EU30: 27 | FU30: NC | FW30: 27 | FX30: =IF(OR($AV$6="O1",$AV$6="O2",$AV$6="O3"),Sorts!W101,IF(OR($BB$6="O1",$BB$6="O2"),Sorts!W163,"")) -> Porte Dimensionnelle | GK30: 0 | GM30: =IF(OR($AV$6="O1",$AV$6="O2",$AV$6="O3"),Sorts!X101,IF(OR($BB$6="O1",$BB$6="O2"),Sorts!X163,"")) -> 0 | GO30: =IF(OR($AV$6="O1",$AV$6="O2",$AV$6="O3"),Sorts!Y101,IF(OR($BB$6="O1",$BB$6="O2"),Sorts!Y163,"")) -> S | GR30: =IF(OR($AV$6="O1",$AV$6="O2",$AV$6="O3"),Sorts!Z101,IF(OR($BB$6="O1",$BB$6="O2"),Sorts!Z163,"")) -> X | GS30: =IF(OR($AV$6="O1",$AV$6="O2",$AV$6="O3"),Sorts!AA101,IF(OR($BB$6="O1",$BB$6="O2"),Sorts!AA163,"")) -> / | GT30: =IF(OR($AV$6="O1",$AV$6="O2",$AV$6="O3"),Sorts!AB101,IF(OR($BB$6="O1",$BB$6="O2"),Sorts!AB163,"")) -> / | GW30: 27 | HW30: NC | HY30: 27 | HZ30: =IF(OR($AV$6="O1",$AV$6="O2",$AV$6="O3"),Sorts!AI101,IF(OR($BB$6="O1",$BB$6="O2"),Sorts!AI163,"")) -> Transmutation de Pierre en Chair | IM30: 0 | IO30: =IF(OR($AV$6="O1",$AV$6="O2",$AV$6="O3"),Sorts!AJ101,IF(OR($BB$6="O1",$BB$6="O2"),Sorts!AJ163,"")) -> 1''/n | IQ30: =IF(OR($AV$6="O1",$AV$6="O2",$AV$6="O3"),Sorts!AK101,IF(OR($BB$6="O1",$BB$6="O2"),Sorts!AK163,"")) -> P | IT30: =IF(OR($AV$6="O1",$AV$6="O2",$AV$6="O3"),Sorts!AL101,IF(OR($BB$6="O1",$BB$6="O2"),Sorts!AL163,"")) -> X | IU30: =IF(OR($AV$6="O1",$AV$6="O2",$AV$6="O3"),Sorts!AM101,IF(OR($BB$6="O1",$BB$6="O2"),Sorts!AM163,"")) -> X | IV30: =IF(OR($AV$6="O1",$AV$6="O2",$AV$6="O3"),Sorts!AN101,IF(OR($BB$6="O1",$BB$6="O2"),Sorts!AN163,"")) -> X
R31: Repérage et Désamorçage | V31: {=IF(OR(AND(W25="A",OR(X25=1,X25=2)),(AND(W25="B",OR(X25=1,X25=2,X25=3,X25=4,X25=5,X25=6)))),"/",IF($X$25="","/",INDEX(Niveau!$N$43:$S$79,'Joueur 1'!$X$25+1,MATCH('Joueur 1'!$W$25,Niveau!$O$43:$S$43,0)+1)+INDEX(Caractéristiques!$B$186:$M$211,DEX+1,7)+INDEX(Race!$B$42:$K$57,MATCH(RACE,Race!$B$43:$B$57,0)+1,4)+INDEX('Armures-Armes'!$B$3:$N$14,MATCH('Joueur 1'!$D$26,'Armures-Armes'!$B$4:$B$14,0)+1,7)))} -> / | X31: Escalade | AB31: {=IF(OR(AND(W25="A",OR(X25=1,X25=2)),(AND(W25="B",OR(X25=1,X25=2,X25=3,X25=4,X25=5,X25=6)))),"/",IF($X$25="","/",INDEX(Niveau!$AL$43:$AQ$79,'Joueur 1'!$X$25+1,MATCH('Joueur 1'!$W$25,Niveau!$AM$43:$AQ$43,0)+1)+INDEX(Caractéristiques!$B$186:$M$211,DEX+1,11)+INDEX(Race!$B$42:$K$57,MATCH(RACE,Race!$B$43:$B$57,0)+1,8)+INDEX('Armures-Armes'!$B$3:$N$14,MATCH('Joueur 1'!$D$26,'Armures-Armes'!$B$4:$B$14,0)+1,11)))} -> / | AF31: Souffle | AK31: {=IF(Classe3<>"/",MIN(INDEX(Niveau!$B$276:$P$312,NivC1+1,MATCH(Classe1,Niveau!$C$276:$P$276,0)+1),INDEX(Niveau!$B$276:$P$312,NivC2+1,MATCH(Classe2,Niveau!$C$276:$P$276,0)+1),INDEX(Niveau!$B$276:$P$312,NivC3+1,MATCH(Classe3,Niveau!$C$276:$P$276,0)+1)),IF(Classe2<>"/",MIN(INDEX(Niveau!$B$276:$P$312,NivC1+1,MATCH(Classe1,Niveau!$C$276:$P$276,0)+1),INDEX(Niveau!$B$276:$P$312,NivC2+1,MATCH(Classe2,Niveau!$C$276:$P$276,0)+1)),INDEX(Niveau!$B$276:$P$312,NivC1+1,MATCH(Classe1,Niveau!$C$276:$P$276,0)+1)))+$AO$30+$AN$32} -> 12 | AN31: DEX | AQ31: 22 | BE31: 0 | BQ31: NC | BS31: 22 | BT31: =IF(OR($AV$6="O1",$AV$6="O2",$AV$6="O3"),Sorts!E96,IF(OR($BB$6="O1",$BB$6="O2"),Sorts!E158,"")) -> Invocation d’un Familier | CG31: 0 | CI31: =IF(OR($AV$6="O1",$AV$6="O2",$AV$6="O3"),Sorts!F96,IF(OR($BB$6="O1",$BB$6="O2"),Sorts!F158,"")) -> 1,6km/n | CK31: =IF(OR($AV$6="O1",$AV$6="O2",$AV$6="O3"),Sorts!G96,IF(OR($BB$6="O1",$BB$6="O2"),Sorts!G158,"")) -> S | CN31: =IF(OR($AV$6="O1",$AV$6="O2",$AV$6="O3"),Sorts!H96,IF(OR($BB$6="O1",$BB$6="O2"),Sorts!H158,"")) -> X | CO31: =IF(OR($AV$6="O1",$AV$6="O2",$AV$6="O3"),Sorts!I96,IF(OR($BB$6="O1",$BB$6="O2"),Sorts!I158,"")) -> X | CP31: =IF(OR($AV$6="O1",$AV$6="O2",$AV$6="O3"),Sorts!J96,IF(OR($BB$6="O1",$BB$6="O2"),Sorts!J158,"")) -> X | CS31: 28 | DS31: NC | DU31: 28 | DV31: =IF(OR($AV$6="O1",$AV$6="O2",$AV$6="O3"),Sorts!K102,IF(OR($BB$6="O1",$BB$6="O2"),Sorts!K164,"")) -> Pyrotechnie | EI31: 0 | EK31: =IF(OR($AV$6="O1",$AV$6="O2",$AV$6="O3"),Sorts!L102,IF(OR($BB$6="O1",$BB$6="O2"),Sorts!L164,"")) -> 12'' | EM31: =IF(OR($AV$6="O1",$AV$6="O2",$AV$6="O3"),Sorts!M102,IF(OR($BB$6="O1",$BB$6="O2"),Sorts!M164,"")) -> S | EP31: =IF(OR($AV$6="O1",$AV$6="O2",$AV$6="O3"),Sorts!N102,IF(OR($BB$6="O1",$BB$6="O2"),Sorts!N164,"")) -> X | EQ31: =IF(OR($AV$6="O1",$AV$6="O2",$AV$6="O3"),Sorts!O102,IF(OR($BB$6="O1",$BB$6="O2"),Sorts!O164,"")) -> X | ER31: =IF(OR($AV$6="O1",$AV$6="O2",$AV$6="O3"),Sorts!P102,IF(OR($BB$6="O1",$BB$6="O2"),Sorts!P164,"")) -> / | EU31: 28 | FU31: NC | FW31: 28 | FX31: =IF(OR($AV$6="O1",$AV$6="O2",$AV$6="O3"),Sorts!W102,IF(OR($BB$6="O1",$BB$6="O2"),Sorts!W164,"")) -> Sphère Résiliente d’Otiluke | GK31: 0 | GM31: =IF(OR($AV$6="O1",$AV$6="O2",$AV$6="O3"),Sorts!X102,IF(OR($BB$6="O1",$BB$6="O2"),Sorts!X164,"")) -> 2'' | GO31: =IF(OR($AV$6="O1",$AV$6="O2",$AV$6="O3"),Sorts!Y102,IF(OR($BB$6="O1",$BB$6="O2"),Sorts!Y164,"")) -> 1r/n | GR31: =IF(OR($AV$6="O1",$AV$6="O2",$AV$6="O3"),Sorts!Z102,IF(OR($BB$6="O1",$BB$6="O2"),Sorts!Z164,"")) -> X | GS31: =IF(OR($AV$6="O1",$AV$6="O2",$AV$6="O3"),Sorts!AA102,IF(OR($BB$6="O1",$BB$6="O2"),Sorts!AA164,"")) -> X | GT31: =IF(OR($AV$6="O1",$AV$6="O2",$AV$6="O3"),Sorts!AB102,IF(OR($BB$6="O1",$BB$6="O2"),Sorts!AB164,"")) -> X | GW31: 28 | HW31: NC | HY31: 28 | HZ31: =IF(OR($AV$6="O1",$AV$6="O2",$AV$6="O3"),Sorts!AI102,IF(OR($BB$6="O1",$BB$6="O2"),Sorts!AI164,"")) -> Transvision | IM31: 0 | IO31: =IF(OR($AV$6="O1",$AV$6="O2",$AV$6="O3"),Sorts!AJ102,IF(OR($BB$6="O1",$BB$6="O2"),Sorts!AJ164,"")) -> T | IQ31: =IF(OR($AV$6="O1",$AV$6="O2",$AV$6="O3"),Sorts!AK102,IF(OR($BB$6="O1",$BB$6="O2"),Sorts!AK164,"")) -> 1r/n | IT31: =IF(OR($AV$6="O1",$AV$6="O2",$AV$6="O3"),Sorts!AL102,IF(OR($BB$6="O1",$BB$6="O2"),Sorts!AL164,"")) -> X | IU31: =IF(OR($AV$6="O1",$AV$6="O2",$AV$6="O3"),Sorts!AM102,IF(OR($BB$6="O1",$BB$6="O2"),Sorts!AM164,"")) -> X | IV31: =IF(OR($AV$6="O1",$AV$6="O2",$AV$6="O3"),Sorts!AN102,IF(OR($BB$6="O1",$BB$6="O2"),Sorts!AN164,"")) -> X
B32: Anneau | D32: Anneau de protection | N32: -1 | AN32: =$U$17 -> -3 | AQ32: 23 | BE32: 0 | BQ32: NC | BS32: 23 | BT32: =IF(OR($AV$6="O1",$AV$6="O2",$AV$6="O3"),Sorts!E97,IF(OR($BB$6="O1",$BB$6="O2"),Sorts!E159,"")) -> Lecture de la Magie | CG32: 0 | CI32: =IF(OR($AV$6="O1",$AV$6="O2",$AV$6="O3"),Sorts!F97,IF(OR($BB$6="O1",$BB$6="O2"),Sorts!F159,"")) -> 0 | CK32: =IF(OR($AV$6="O1",$AV$6="O2",$AV$6="O3"),Sorts!G97,IF(OR($BB$6="O1",$BB$6="O2"),Sorts!G159,"")) -> 2r/n | CN32: =IF(OR($AV$6="O1",$AV$6="O2",$AV$6="O3"),Sorts!H97,IF(OR($BB$6="O1",$BB$6="O2"),Sorts!H159,"")) -> X | CO32: =IF(OR($AV$6="O1",$AV$6="O2",$AV$6="O3"),Sorts!I97,IF(OR($BB$6="O1",$BB$6="O2"),Sorts!I159,"")) -> X | CP32: =IF(OR($AV$6="O1",$AV$6="O2",$AV$6="O3"),Sorts!J97,IF(OR($BB$6="O1",$BB$6="O2"),Sorts!J159,"")) -> X | CS32: 29 | DS32: NC | DU32: 29 | DV32: =IF(OR($AV$6="O1",$AV$6="O2",$AV$6="O3"),Sorts!K103,IF(OR($BB$6="O1",$BB$6="O2"),Sorts!K165,"")) -> Rayon d’Affaiblissement | EI32: 0 | EK32: =IF(OR($AV$6="O1",$AV$6="O2",$AV$6="O3"),Sorts!L103,IF(OR($BB$6="O1",$BB$6="O2"),Sorts!L165,"")) -> 1''+0,25/n | EM32: =IF(OR($AV$6="O1",$AV$6="O2",$AV$6="O3"),Sorts!M103,IF(OR($BB$6="O1",$BB$6="O2"),Sorts!M165,"")) -> 1r/n | EP32: =IF(OR($AV$6="O1",$AV$6="O2",$AV$6="O3"),Sorts!N103,IF(OR($BB$6="O1",$BB$6="O2"),Sorts!N165,"")) -> X | EQ32: =IF(OR($AV$6="O1",$AV$6="O2",$AV$6="O3"),Sorts!O103,IF(OR($BB$6="O1",$BB$6="O2"),Sorts!O165,"")) -> X | ER32: =IF(OR($AV$6="O1",$AV$6="O2",$AV$6="O3"),Sorts!P103,IF(OR($BB$6="O1",$BB$6="O2"),Sorts!P165,"")) -> / | EU32: 29 | FU32: NC | FW32: 29 | FX32: =IF(OR($AV$6="O1",$AV$6="O2",$AV$6="O3"),Sorts!W103,IF(OR($BB$6="O1",$BB$6="O2"),Sorts!W165,"")) -> Tempête de Glace | GK32: 0 | GM32: =IF(OR($AV$6="O1",$AV$6="O2",$AV$6="O3"),Sorts!X103,IF(OR($BB$6="O1",$BB$6="O2"),Sorts!X165,"")) -> 1''/n | GO32: =IF(OR($AV$6="O1",$AV$6="O2",$AV$6="O3"),Sorts!Y103,IF(OR($BB$6="O1",$BB$6="O2"),Sorts!Y165,"")) -> 1r | GR32: =IF(OR($AV$6="O1",$AV$6="O2",$AV$6="O3"),Sorts!Z103,IF(OR($BB$6="O1",$BB$6="O2"),Sorts!Z165,"")) -> X | GS32: =IF(OR($AV$6="O1",$AV$6="O2",$AV$6="O3"),Sorts!AA103,IF(OR($BB$6="O1",$BB$6="O2"),Sorts!AA165,"")) -> X | GT32: =IF(OR($AV$6="O1",$AV$6="O2",$AV$6="O3"),Sorts!AB103,IF(OR($BB$6="O1",$BB$6="O2"),Sorts!AB165,"")) -> X | GW32: 29 | HW32: NC | HY32: 29 | HZ32: =IF(OR($AV$6="O1",$AV$6="O2",$AV$6="O3"),Sorts!AI103,IF(OR($BB$6="O1",$BB$6="O2"),Sorts!AI165,"")) -> Traquenard | IM32: 0 | IO32: =IF(OR($AV$6="O1",$AV$6="O2",$AV$6="O3"),Sorts!AJ103,IF(OR($BB$6="O1",$BB$6="O2"),Sorts!AJ165,"")) -> 1'' | IQ32: =IF(OR($AV$6="O1",$AV$6="O2",$AV$6="O3"),Sorts!AK103,IF(OR($BB$6="O1",$BB$6="O2"),Sorts!AK165,"")) -> S | IT32: =IF(OR($AV$6="O1",$AV$6="O2",$AV$6="O3"),Sorts!AL103,IF(OR($BB$6="O1",$BB$6="O2"),Sorts!AL165,"")) -> X | IU32: =IF(OR($AV$6="O1",$AV$6="O2",$AV$6="O3"),Sorts!AM103,IF(OR($BB$6="O1",$BB$6="O2"),Sorts!AM165,"")) -> X | IV32: =IF(OR($AV$6="O1",$AV$6="O2",$AV$6="O3"),Sorts!AN103,IF(OR($BB$6="O1",$BB$6="O2"),Sorts!AN165,"")) -> X
R33: Déplacement silencieux | V33: {=IF(OR(AND(W25="A",OR(X25=1,X25=2)),(AND(W25="B",OR(X25=1,X25=2,X25=3,X25=4,X25=5,X25=6)))),"/",IF($X$25="","/",INDEX(Niveau!$T$43:$Y$79,'Joueur 1'!$X$25+1,MATCH('Joueur 1'!$W$25,Niveau!$U$43:$Y$43,0)+1)+INDEX(Caractéristiques!$B$186:$M$211,DEX+1,8)+INDEX(Race!$B$42:$K$57,MATCH(RACE,Race!$B$43:$B$57,0)+1,5)+INDEX('Armures-Armes'!$B$3:$N$14,MATCH('Joueur 1'!$D$26,'Armures-Armes'!$B$4:$B$14,0)+1,8)))} -> / | X33: Lecture des Langues | AB33: {=IF(OR(AND(W25="A",OR(X25=1,X25=2)),(AND(W25="B",OR(X25=1,X25=2,X25=3,X25=4,X25=5,X25=6)))),"/",IF($X$25="","/",INDEX(Niveau!$AR$43:$AW$79,'Joueur 1'!$X$25+1,MATCH('Joueur 1'!$W$25,Niveau!$AS$43:$AW$43,0)+1)+INDEX(Caractéristiques!$B$186:$M$211,DEX+1,12)+INDEX(Race!$B$42:$K$57,MATCH(RACE,Race!$B$43:$B$57,0)+1,9)+INDEX('Armures-Armes'!$B$3:$N$14,MATCH('Joueur 1'!$D$26,'Armures-Armes'!$B$4:$B$14,0)+1,12)))} -> / | AF33: Sortilèges | AK33: {=IF(Classe3<>"/",MIN(INDEX(Niveau!$B$315:$P$351,NivC1+1,MATCH(Classe1,Niveau!$C$315:$P$315,0)+1),INDEX(Niveau!$B$315:$P$351,NivC2+1,MATCH(Classe2,Niveau!$C$315:$P$315,0)+1),INDEX(Niveau!$B$315:$P$351,NivC3+1,MATCH(Classe3,Niveau!$C$315:$P$315,0)+1)),IF(Classe2<>"/",MIN(INDEX(Niveau!$B$315:$P$351,NivC1+1,MATCH(Classe1,Niveau!$C$315:$P$315,0)+1),INDEX(Niveau!$B$315:$P$351,NivC2+1,MATCH(Classe2,Niveau!$C$315:$P$315,0)+1)),INDEX(Niveau!$B$315:$P$351,NivC1+1,MATCH(Classe1,Niveau!$C$315:$P$315,0)+1)))+$AN$30} -> 12 | AN33: SAG | AQ33: 24 | BE33: 0 | BQ33: NC | BS33: 24 | BT33: =IF(OR($AV$6="O1",$AV$6="O2",$AV$6="O3"),Sorts!E98,IF(OR($BB$6="O1",$BB$6="O2"),Sorts!E160,"")) -> Lumière | CG33: 0 | CI33: =IF(OR($AV$6="O1",$AV$6="O2",$AV$6="O3"),Sorts!F98,IF(OR($BB$6="O1",$BB$6="O2"),Sorts!F160,"")) -> 6’’ | CK33: =IF(OR($AV$6="O1",$AV$6="O2",$AV$6="O3"),Sorts!G98,IF(OR($BB$6="O1",$BB$6="O2"),Sorts!G160,"")) -> 1t/n | CN33: =IF(OR($AV$6="O1",$AV$6="O2",$AV$6="O3"),Sorts!H98,IF(OR($BB$6="O1",$BB$6="O2"),Sorts!H160,"")) -> X | CO33: =IF(OR($AV$6="O1",$AV$6="O2",$AV$6="O3"),Sorts!I98,IF(OR($BB$6="O1",$BB$6="O2"),Sorts!I160,"")) -> X | CP33: =IF(OR($AV$6="O1",$AV$6="O2",$AV$6="O3"),Sorts!J98,IF(OR($BB$6="O1",$BB$6="O2"),Sorts!J160,"")) -> / | CS33: 30 | DS33: NC | DU33: 30 | DV33: =IF(OR($AV$6="O1",$AV$6="O2",$AV$6="O3"),Sorts!K104,IF(OR($BB$6="O1",$BB$6="O2"),Sorts!K166,"")) -> Rire Incontrôlable et Hideux de Tasha | EI33: 0 | EK33: =IF(OR($AV$6="O1",$AV$6="O2",$AV$6="O3"),Sorts!L104,IF(OR($BB$6="O1",$BB$6="O2"),Sorts!L166,"")) -> 5'' | EM33: =IF(OR($AV$6="O1",$AV$6="O2",$AV$6="O3"),Sorts!M104,IF(OR($BB$6="O1",$BB$6="O2"),Sorts!M166,"")) -> 1r | EP33: =IF(OR($AV$6="O1",$AV$6="O2",$AV$6="O3"),Sorts!N104,IF(OR($BB$6="O1",$BB$6="O2"),Sorts!N166,"")) -> X | EQ33: =IF(OR($AV$6="O1",$AV$6="O2",$AV$6="O3"),Sorts!O104,IF(OR($BB$6="O1",$BB$6="O2"),Sorts!O166,"")) -> X | ER33: =IF(OR($AV$6="O1",$AV$6="O2",$AV$6="O3"),Sorts!P104,IF(OR($BB$6="O1",$BB$6="O2"),Sorts!P166,"")) -> X | EU33: 30 | FU33: NC | FW33: 30 | FX33: =IF(OR($AV$6="O1",$AV$6="O2",$AV$6="O3"),Sorts!W104,IF(OR($BB$6="O1",$BB$6="O2"),Sorts!W166,"")) -> Tentacules Noires d’Evard | GK33: 0 | GM33: =IF(OR($AV$6="O1",$AV$6="O2",$AV$6="O3"),Sorts!X104,IF(OR($BB$6="O1",$BB$6="O2"),Sorts!X166,"")) -> 3'' | GO33: =IF(OR($AV$6="O1",$AV$6="O2",$AV$6="O3"),Sorts!Y104,IF(OR($BB$6="O1",$BB$6="O2"),Sorts!Y166,"")) -> 1r/n | GR33: =IF(OR($AV$6="O1",$AV$6="O2",$AV$6="O3"),Sorts!Z104,IF(OR($BB$6="O1",$BB$6="O2"),Sorts!Z166,"")) -> X | GS33: =IF(OR($AV$6="O1",$AV$6="O2",$AV$6="O3"),Sorts!AA104,IF(OR($BB$6="O1",$BB$6="O2"),Sorts!AA166,"")) -> X | GT33: =IF(OR($AV$6="O1",$AV$6="O2",$AV$6="O3"),Sorts!AB104,IF(OR($BB$6="O1",$BB$6="O2"),Sorts!AB166,"")) -> X | GW33: 30 | HW33: NC | HY33: 30 | HZ33: =IF(OR($AV$6="O1",$AV$6="O2",$AV$6="O3"),Sorts!AI104,IF(OR($BB$6="O1",$BB$6="O2"),Sorts!AI166,"")) -> Vigiles et Sentinelles | IM33: 0 | IO33: =IF($AU$7<>0,IF($D$7="Illusionniste",Sorts!#REF!,Sorts!AJ104),"") -> 0 | IQ33: =IF(OR($AV$6="O1",$AV$6="O2",$AV$6="O3"),Sorts!AK104,IF(OR($BB$6="O1",$BB$6="O2"),Sorts!AK166,"")) -> 6t/n | IT33: =IF(OR($AV$6="O1",$AV$6="O2",$AV$6="O3"),Sorts!AL104,IF(OR($BB$6="O1",$BB$6="O2"),Sorts!AL166,"")) -> X | IU33: =IF(OR($AV$6="O1",$AV$6="O2",$AV$6="O3"),Sorts!AM104,IF(OR($BB$6="O1",$BB$6="O2"),Sorts!AM166,"")) -> X | IV33: =IF(OR($AV$6="O1",$AV$6="O2",$AV$6="O3"),Sorts!AN104,IF(OR($BB$6="O1",$BB$6="O2"),Sorts!AN166,"")) -> X
B34: Cape | D34: Cape de protection | N34: 0 | AN34: =$Q$15 -> -3 | AQ34: 25 | BE34: 0 | BQ34: NC | BS34: 25 | BT34: =IF(OR($AV$6="O1",$AV$6="O2",$AV$6="O3"),Sorts!E99,IF(OR($BB$6="O1",$BB$6="O2"),Sorts!E161,"")) -> Lumières Dansantes | CG34: 0 | CI34: =IF(OR($AV$6="O1",$AV$6="O2",$AV$6="O3"),Sorts!F99,IF(OR($BB$6="O1",$BB$6="O2"),Sorts!F161,"")) -> 4’’+1’’/n | CK34: =IF(OR($AV$6="O1",$AV$6="O2",$AV$6="O3"),Sorts!G99,IF(OR($BB$6="O1",$BB$6="O2"),Sorts!G161,"")) -> 2r/n | CN34: =IF(OR($AV$6="O1",$AV$6="O2",$AV$6="O3"),Sorts!H99,IF(OR($BB$6="O1",$BB$6="O2"),Sorts!H161,"")) -> X | CO34: =IF(OR($AV$6="O1",$AV$6="O2",$AV$6="O3"),Sorts!I99,IF(OR($BB$6="O1",$BB$6="O2"),Sorts!I161,"")) -> X | CP34: =IF(OR($AV$6="O1",$AV$6="O2",$AV$6="O3"),Sorts!J99,IF(OR($BB$6="O1",$BB$6="O2"),Sorts!J161,"")) -> X | CS34: 31 | DS34: NC | DU34: 31 | DV34: =IF(OR($AV$6="O1",$AV$6="O2",$AV$6="O3"),Sorts!K105,IF(OR($BB$6="O1",$BB$6="O2"),Sorts!K167,"")) -> Sphère Enflammée | EI34: 0 | EK34: =IF(OR($AV$6="O1",$AV$6="O2",$AV$6="O3"),Sorts!L105,IF(OR($BB$6="O1",$BB$6="O2"),Sorts!L167,"")) -> 1'' | EM34: =IF(OR($AV$6="O1",$AV$6="O2",$AV$6="O3"),Sorts!M105,IF(OR($BB$6="O1",$BB$6="O2"),Sorts!M167,"")) -> 1r/n | EP34: =IF(OR($AV$6="O1",$AV$6="O2",$AV$6="O3"),Sorts!N105,IF(OR($BB$6="O1",$BB$6="O2"),Sorts!N167,"")) -> X | EQ34: =IF(OR($AV$6="O1",$AV$6="O2",$AV$6="O3"),Sorts!O105,IF(OR($BB$6="O1",$BB$6="O2"),Sorts!O167,"")) -> X | ER34: =IF(OR($AV$6="O1",$AV$6="O2",$AV$6="O3"),Sorts!P105,IF(OR($BB$6="O1",$BB$6="O2"),Sorts!P167,"")) -> X | EU34: 31 | FU34: NC | FW34: 31 | FX34: =IF(OR($AV$6="O1",$AV$6="O2",$AV$6="O3"),Sorts!W105,IF(OR($BB$6="O1",$BB$6="O2"),Sorts!W167,"")) -> Terrain Hallucinatoire | GK34: 0 | GM34: =IF(OR($AV$6="O1",$AV$6="O2",$AV$6="O3"),Sorts!X105,IF(OR($BB$6="O1",$BB$6="O2"),Sorts!X167,"")) -> 2''/n | GO34: =IF(OR($AV$6="O1",$AV$6="O2",$AV$6="O3"),Sorts!Y105,IF(OR($BB$6="O1",$BB$6="O2"),Sorts!Y167,"")) -> S | GR34: =IF(OR($AV$6="O1",$AV$6="O2",$AV$6="O3"),Sorts!Z105,IF(OR($BB$6="O1",$BB$6="O2"),Sorts!Z167,"")) -> X | GS34: =IF(OR($AV$6="O1",$AV$6="O2",$AV$6="O3"),Sorts!AA105,IF(OR($BB$6="O1",$BB$6="O2"),Sorts!AA167,"")) -> X | GT34: =IF(OR($AV$6="O1",$AV$6="O2",$AV$6="O3"),Sorts!AB105,IF(OR($BB$6="O1",$BB$6="O2"),Sorts!AB167,"")) -> X | GW34: Sortilèges de Niveau 7 | IY34: Sortilèges de Niveau 9
AG35: Ajuster SAG vs. attaques mentales et DEX vs. évitements | AQ35: 26 | BE35: 0 | BQ35: NC | BS35: 26 | BT35: =IF(OR($AV$6="O1",$AV$6="O2",$AV$6="O3"),Sorts!E100,IF(OR($BB$6="O1",$BB$6="O2"),Sorts!E162,"")) -> Mains Brûlantes | CG35: 0 | CI35: =IF(OR($AV$6="O1",$AV$6="O2",$AV$6="O3"),Sorts!F100,IF(OR($BB$6="O1",$BB$6="O2"),Sorts!F162,"")) -> 0 | CK35: =IF(OR($AV$6="O1",$AV$6="O2",$AV$6="O3"),Sorts!G100,IF(OR($BB$6="O1",$BB$6="O2"),Sorts!G162,"")) -> 1r | CN35: =IF(OR($AV$6="O1",$AV$6="O2",$AV$6="O3"),Sorts!H100,IF(OR($BB$6="O1",$BB$6="O2"),Sorts!H162,"")) -> X | CO35: =IF(OR($AV$6="O1",$AV$6="O2",$AV$6="O3"),Sorts!I100,IF(OR($BB$6="O1",$BB$6="O2"),Sorts!I162,"")) -> X | CP35: =IF(OR($AV$6="O1",$AV$6="O2",$AV$6="O3"),Sorts!J100,IF(OR($BB$6="O1",$BB$6="O2"),Sorts!J162,"")) -> / | CS35: 32 | DS35: NC | DU35: 32 | DV35: =IF(OR($AV$6="O1",$AV$6="O2",$AV$6="O3"),Sorts!K106,IF(OR($BB$6="O1",$BB$6="O2"),Sorts!K168,"")) -> Ténèbres sur 5 mètres | EI35: 0 | EK35: =IF(OR($AV$6="O1",$AV$6="O2",$AV$6="O3"),Sorts!L106,IF(OR($BB$6="O1",$BB$6="O2"),Sorts!L168,"")) -> 1''/n | EM35: =IF(OR($AV$6="O1",$AV$6="O2",$AV$6="O3"),Sorts!M106,IF(OR($BB$6="O1",$BB$6="O2"),Sorts!M168,"")) -> 1t+1r/n | EP35: =IF(OR($AV$6="O1",$AV$6="O2",$AV$6="O3"),Sorts!N106,IF(OR($BB$6="O1",$BB$6="O2"),Sorts!N168,"")) -> X | EQ35: =IF(OR($AV$6="O1",$AV$6="O2",$AV$6="O3"),Sorts!O106,IF(OR($BB$6="O1",$BB$6="O2"),Sorts!O168,"")) -> / | ER35: =IF(OR($AV$6="O1",$AV$6="O2",$AV$6="O3"),Sorts!P106,IF(OR($BB$6="O1",$BB$6="O2"),Sorts!P168,"")) -> X | EU35: 32 | FU35: NC | FW35: 32 | FX35: =IF(OR($AV$6="O1",$AV$6="O2",$AV$6="O3"),Sorts!W106,IF(OR($BB$6="O1",$BB$6="O2"),Sorts!W168,"")) -> Ultravision | GK35: 0 | GM35: =IF(OR($AV$6="O1",$AV$6="O2",$AV$6="O3"),Sorts!X106,IF(OR($BB$6="O1",$BB$6="O2"),Sorts!X168,"")) -> T | GO35: =IF(OR($AV$6="O1",$AV$6="O2",$AV$6="O3"),Sorts!Y106,IF(OR($BB$6="O1",$BB$6="O2"),Sorts!Y168,"")) -> 6t+6/n | GR35: =IF(OR($AV$6="O1",$AV$6="O2",$AV$6="O3"),Sorts!Z106,IF(OR($BB$6="O1",$BB$6="O2"),Sorts!Z168,"")) -> X | GS35: =IF(OR($AV$6="O1",$AV$6="O2",$AV$6="O3"),Sorts!AA106,IF(OR($BB$6="O1",$BB$6="O2"),Sorts!AA168,"")) -> X | GT35: =IF(OR($AV$6="O1",$AV$6="O2",$AV$6="O3"),Sorts!AB106,IF(OR($BB$6="O1",$BB$6="O2"),Sorts!AB168,"")) -> X | GW35: # | GX35: Nom du sortilège Clerc / Druide | HK35: =SUM(HK36:HK82) -> 0 | HL35: M | HM35: Portée | HP35: Durée | HS35: V | HT35: S | HU35: M | HW35: =COUNTIF(HW36:HX60,"C") -> 0 | HX35: C | HY35: # | HZ35: Nom du sortilège Magicien / Illusionniste | IM35: =SUM(IM36:IM82) -> 0 | IN35: M | IO35: Portée | IR35: Durée | IT35: V | IU35: S | IV35: M | JY35: =COUNTIF(JY36:JZ51,"C") -> 0 | JZ35: C | KA35: # | KB35: Nom du sortilège Magicien | KO35: =SUM(KO36:KO82) -> 0 | KP35: M | KQ35: Portée | KT35: Durée | KV35: V | KW35: S | KX35: M
B36: Autre | D36: Libre | N36: 0 | R36: Vade Retro | U36: =IF(Classe1="Clerc","OUI","NON") -> NON | AB36: Nb : | AC36: 1 à 12 | AE36: T : | AF36: automatique | AI36: D : | AJ36: damnation | AM36: D* : | AN36: 7 à 12 | AQ36: 27 | BE36: 0 | BQ36: NC | BS36: 27 | BT36: =IF(OR($AV$6="O1",$AV$6="O2",$AV$6="O3"),Sorts!E101,IF(OR($BB$6="O1",$BB$6="O2"),Sorts!E163,"")) -> Marque de Magicien | CG36: 0 | CI36: =IF(OR($AV$6="O1",$AV$6="O2",$AV$6="O3"),Sorts!F101,IF(OR($BB$6="O1",$BB$6="O2"),Sorts!F163,"")) -> 1’’ | CK36: =IF(OR($AV$6="O1",$AV$6="O2",$AV$6="O3"),Sorts!G101,IF(OR($BB$6="O1",$BB$6="O2"),Sorts!G163,"")) -> P | CN36: =IF(OR($AV$6="O1",$AV$6="O2",$AV$6="O3"),Sorts!H101,IF(OR($BB$6="O1",$BB$6="O2"),Sorts!H163,"")) -> X | CO36: =IF(OR($AV$6="O1",$AV$6="O2",$AV$6="O3"),Sorts!I101,IF(OR($BB$6="O1",$BB$6="O2"),Sorts!I163,"")) -> X | CP36: =IF(OR($AV$6="O1",$AV$6="O2",$AV$6="O3"),Sorts!J101,IF(OR($BB$6="O1",$BB$6="O2"),Sorts!J163,"")) -> X | CS36: 33 | DS36: NC | DU36: 33 | DV36: =IF(OR($AV$6="O1",$AV$6="O2",$AV$6="O3"),Sorts!K107,IF(OR($BB$6="O1",$BB$6="O2"),Sorts!K169,"")) -> Toile d’Araignée | EI36: 0 | EK36: =IF(OR($AV$6="O1",$AV$6="O2",$AV$6="O3"),Sorts!L107,IF(OR($BB$6="O1",$BB$6="O2"),Sorts!L169,"")) -> 0,5''/n | EM36: =IF(OR($AV$6="O1",$AV$6="O2",$AV$6="O3"),Sorts!M107,IF(OR($BB$6="O1",$BB$6="O2"),Sorts!M169,"")) -> 2t/n | EP36: =IF(OR($AV$6="O1",$AV$6="O2",$AV$6="O3"),Sorts!N107,IF(OR($BB$6="O1",$BB$6="O2"),Sorts!N169,"")) -> X | EQ36: =IF(OR($AV$6="O1",$AV$6="O2",$AV$6="O3"),Sorts!O107,IF(OR($BB$6="O1",$BB$6="O2"),Sorts!O169,"")) -> X | ER36: =IF(OR($AV$6="O1",$AV$6="O2",$AV$6="O3"),Sorts!P107,IF(OR($BB$6="O1",$BB$6="O2"),Sorts!P169,"")) -> X | EU36: Sortilèges de Niveau 5 | GW36: 1 | GX36: =IF($AV$4="O",Sorts!AO4,IF($BB$4="O",Sorts!AO28,"")) | HK36: 0 | HM36: =IF($AV$4="O",Sorts!AP4,IF($BB$4="O",Sorts!AP28,"")) | HP36: =IF($AV$4="O",Sorts!AQ4,IF($BB$4="O",Sorts!AQ28,"")) | HS36: =IF($AV$4="O",Sorts!AR4,IF($BB$4="O",Sorts!AR28,"")) | HT36: =IF($AV$4="O",Sorts!AS4,IF($BB$4="O",Sorts!AS28,"")) | HU36: =IF($AV$4="O",Sorts!AT4,IF($BB$4="O",Sorts!AT28,"")) | HW36: NC | HY36: 1 | HZ36: =IF(OR($AV$6="O1",$AV$6="O2",$AV$6="O3"),Sorts!AO75,IF(OR($BB$6="O1",$BB$6="O2"),Sorts!AO137,"")) -> Bannissement | IM36: 0 | IO36: =IF(OR($AV$6="O1",$AV$6="O2",$AV$6="O3"),Sorts!AP75,IF(OR($BB$6="O1",$BB$6="O2"),Sorts!AP137,"")) -> 2'' | IQ36: =IF(OR($AV$6="O1",$AV$6="O2",$AV$6="O3"),Sorts!AQ75,IF(OR($BB$6="O1",$BB$6="O2"),Sorts!AQ137,"")) -> P | IT36: =IF(OR($AV$6="O1",$AV$6="O2",$AV$6="O3"),Sorts!AR75,IF(OR($BB$6="O1",$BB$6="O2"),Sorts!AR137,"")) -> X | IU36: =IF(OR($AV$6="O1",$AV$6="O2",$AV$6="O3"),Sorts!AS75,IF(OR($BB$6="O1",$BB$6="O2"),Sorts!AS137,"")) -> X | IV36: =IF(OR($AV$6="O1",$AV$6="O2",$AV$6="O3"),Sorts!AT75,IF(OR($BB$6="O1",$BB$6="O2"),Sorts!AT137,"")) -> X | JY36: NC | KA36: 1 | KB36: =IF(OR($AV$6="O1",$AV$6="O2",$AV$6="O3"),Sorts!BA75,IF(OR($BB$6="O1",$BB$6="O2"),Sorts!BA137,"")) -> Absorption d’Énergie | KO36: 0 | KQ36: =IF(OR($AV$6="O1",$AV$6="O2",$AV$6="O3"),Sorts!BB75,IF(OR($BB$6="O1",$BB$6="O2"),Sorts!BB137,"")) -> T | KS36: =IF(OR($AV$6="O1",$AV$6="O2",$AV$6="O3"),Sorts!BC75,IF(OR($BB$6="O1",$BB$6="O2"),Sorts!BC137,"")) -> P | KV36: =IF(OR($AV$6="O1",$AV$6="O2",$AV$6="O3"),Sorts!BD75,IF(OR($BB$6="O1",$BB$6="O2"),Sorts!BD137,"")) -> X | KW36: =IF(OR($AV$6="O1",$AV$6="O2",$AV$6="O3"),Sorts!BE75,IF(OR($BB$6="O1",$BB$6="O2"),Sorts!BE137,"")) -> X | KX36: =IF(OR($AV$6="O1",$AV$6="O2",$AV$6="O3"),Sorts!BF75,IF(OR($BB$6="O1",$BB$6="O2"),Sorts!BF137,"")) -> X
AJ37: Vampire | AN37: {=IF($U$36="non","/",INDEX(Niveau!$B$893:$Q$906,MATCH('Joueur 1'!$AJ$37,Niveau!$B$893:$B$906,0),NivC1+1))} -> / | AQ37: 28 | BE37: 0 | BQ37: NC | BS37: 28 | BT37: =IF(OR($AV$6="O1",$AV$6="O2",$AV$6="O3"),Sorts!E102,IF(OR($BB$6="O1",$BB$6="O2"),Sorts!E164,"")) -> Message | CG37: 0 | CI37: =IF(OR($AV$6="O1",$AV$6="O2",$AV$6="O3"),Sorts!F102,IF(OR($BB$6="O1",$BB$6="O2"),Sorts!F164,"")) -> 6’’+1’’/n | CK37: =IF(OR($AV$6="O1",$AV$6="O2",$AV$6="O3"),Sorts!G102,IF(OR($BB$6="O1",$BB$6="O2"),Sorts!G164,"")) -> 5s+1s/n | CN37: =IF(OR($AV$6="O1",$AV$6="O2",$AV$6="O3"),Sorts!H102,IF(OR($BB$6="O1",$BB$6="O2"),Sorts!H164,"")) -> X | CO37: =IF(OR($AV$6="O1",$AV$6="O2",$AV$6="O3"),Sorts!I102,IF(OR($BB$6="O1",$BB$6="O2"),Sorts!I164,"")) -> X | CP37: =IF(OR($AV$6="O1",$AV$6="O2",$AV$6="O3"),Sorts!J102,IF(OR($BB$6="O1",$BB$6="O2"),Sorts!J164,"")) -> X | CS37: 34 | DS37: NC | DU37: 34 | DV37: =IF(OR($AV$6="O1",$AV$6="O2",$AV$6="O3"),Sorts!K108,IF(OR($BB$6="O1",$BB$6="O2"),Sorts!K170,"")) -> Verrou Magique | EI37: 0 | EK37: =IF(OR($AV$6="O1",$AV$6="O2",$AV$6="O3"),Sorts!L108,IF(OR($BB$6="O1",$BB$6="O2"),Sorts!L170,"")) -> T | EM37: =IF(OR($AV$6="O1",$AV$6="O2",$AV$6="O3"),Sorts!M108,IF(OR($BB$6="O1",$BB$6="O2"),Sorts!M170,"")) -> P | EP37: =IF(OR($AV$6="O1",$AV$6="O2",$AV$6="O3"),Sorts!N108,IF(OR($BB$6="O1",$BB$6="O2"),Sorts!N170,"")) -> X | EQ37: =IF(OR($AV$6="O1",$AV$6="O2",$AV$6="O3"),Sorts!O108,IF(OR($BB$6="O1",$BB$6="O2"),Sorts!O170,"")) -> X | ER37: =IF(OR($AV$6="O1",$AV$6="O2",$AV$6="O3"),Sorts!P108,IF(OR($BB$6="O1",$BB$6="O2"),Sorts!P170,"")) -> / | EU37: # | EV37: Nom du sortilège Clerc / Druide | FI37: =SUM(FI38:FI82) -> 0 | FJ37: M | FK37: Portée | FN37: Durée | FQ37: V | FR37: S | FS37: M | FU37: =COUNTIF(FU38:FV68,"C") -> 0 | FV37: C | FW37: # | FX37: Nom du sortilège Magicien / Illusionniste | GK37: =SUM(GK38:GK82) -> 0 | GL37: M | GM37: Portée | GP37: Durée | GR37: V | GS37: S | GT37: M | GW37: 2 | GX37: =IF($AV$4="O",Sorts!AO5,IF($BB$4="O",Sorts!AO29,"")) | HK37: 0 | HM37: =IF($AV$4="O",Sorts!AP5,IF($BB$4="O",Sorts!AP29,"")) | HP37: =IF($AV$4="O",Sorts!AQ5,IF($BB$4="O",Sorts!AQ29,"")) | HS37: =IF($AV$4="O",Sorts!AR5,IF($BB$4="O",Sorts!AR29,"")) | HT37: =IF($AV$4="O",Sorts!AS5,IF($BB$4="O",Sorts!AS29,"")) | HU37: =IF($AV$4="O",Sorts!AT5,IF($BB$4="O",Sorts!AT29,"")) | HW37: NC | HY37: 2 | HZ37: =IF(OR($AV$6="O1",$AV$6="O2",$AV$6="O3"),Sorts!AO76,IF(OR($BB$6="O1",$BB$6="O2"),Sorts!AO138,"")) -> Boule de Feu à Retardement | IM37: 0 | IO37: =IF(OR($AV$6="O1",$AV$6="O2",$AV$6="O3"),Sorts!AP76,IF(OR($BB$6="O1",$BB$6="O2"),Sorts!AP138,"")) -> 10''+1/n | IQ37: =IF(OR($AV$6="O1",$AV$6="O2",$AV$6="O3"),Sorts!AQ76,IF(OR($BB$6="O1",$BB$6="O2"),Sorts!AQ138,"")) -> S | IT37: =IF(OR($AV$6="O1",$AV$6="O2",$AV$6="O3"),Sorts!AR76,IF(OR($BB$6="O1",$BB$6="O2"),Sorts!AR138,"")) -> X | IU37: =IF(OR($AV$6="O1",$AV$6="O2",$AV$6="O3"),Sorts!AS76,IF(OR($BB$6="O1",$BB$6="O2"),Sorts!AS138,"")) -> X | IV37: =IF(OR($AV$6="O1",$AV$6="O2",$AV$6="O3"),Sorts!AT76,IF(OR($BB$6="O1",$BB$6="O2"),Sorts!AT138,"")) -> X | JY37: NC | KA37: 2 | KB37: =IF(OR($AV$6="O1",$AV$6="O2",$AV$6="O3"),Sorts!BA76,IF(OR($BB$6="O1",$BB$6="O2"),Sorts!BA138,"")) -> Arrêt du Temps | KO37: 0 | KQ37: =IF(OR($AV$6="O1",$AV$6="O2",$AV$6="O3"),Sorts!BB76,IF(OR($BB$6="O1",$BB$6="O2"),Sorts!BB138,"")) -> 0 | KS37: =IF(OR($AV$6="O1",$AV$6="O2",$AV$6="O3"),Sorts!BC76,IF(OR($BB$6="O1",$BB$6="O2"),Sorts!BC138,"")) -> 0,5s/n+1d8s | KV37: =IF(OR($AV$6="O1",$AV$6="O2",$AV$6="O3"),Sorts!BD76,IF(OR($BB$6="O1",$BB$6="O2"),Sorts!BD138,"")) -> X | KW37: =IF(OR($AV$6="O1",$AV$6="O2",$AV$6="O3"),Sorts!BE76,IF(OR($BB$6="O1",$BB$6="O2"),Sorts!BE138,"")) -> / | KX37: =IF(OR($AV$6="O1",$AV$6="O2",$AV$6="O3"),Sorts!BF76,IF(OR($BB$6="O1",$BB$6="O2"),Sorts!BF138,"")) -> /
I38: DOS | M38: FACE | R38: Squelette | U38: {=IF($U$36="non","/",INDEX(Niveau!$B$893:$Q$906,MATCH($R$38,Niveau!$B$893:$B$906,0),NivC1+1))} -> / | X38: Ombre | AA38: {=IF($U$36="non","/",INDEX(Niveau!$B$893:$Q$906,MATCH('Joueur 1'!$X$38,Niveau!$B$893:$B$906,0),NivC1+1))} -> / | AD38: Âme en peine | AH38: {=IF($U$36="non","/",INDEX(Niveau!$B$893:$Q$906,MATCH('Joueur 1'!$AD$38,Niveau!$B$893:$B$906,0),NivC1+1))} -> / | AJ38: Fantôme | AN38: {=IF($U$36="non","/",INDEX(Niveau!$B$893:$Q$906,MATCH('Joueur 1'!$AJ$38,Niveau!$B$893:$B$906,0),NivC1+1))} -> / | AQ38: 29 | BE38: 0 | BQ38: NC | BS38: 29 | BT38: =IF(OR($AV$6="O1",$AV$6="O2",$AV$6="O3"),Sorts!E103,IF(OR($BB$6="O1",$BB$6="O2"),Sorts!E165,"")) -> Monture | CG38: 0 | CI38: =IF(OR($AV$6="O1",$AV$6="O2",$AV$6="O3"),Sorts!F103,IF(OR($BB$6="O1",$BB$6="O2"),Sorts!F165,"")) -> 1’’ | CK38: =IF(OR($AV$6="O1",$AV$6="O2",$AV$6="O3"),Sorts!G103,IF(OR($BB$6="O1",$BB$6="O2"),Sorts!G165,"")) -> 12t+6t/n | CN38: =IF(OR($AV$6="O1",$AV$6="O2",$AV$6="O3"),Sorts!H103,IF(OR($BB$6="O1",$BB$6="O2"),Sorts!H165,"")) -> X | CO38: =IF(OR($AV$6="O1",$AV$6="O2",$AV$6="O3"),Sorts!I103,IF(OR($BB$6="O1",$BB$6="O2"),Sorts!I165,"")) -> X | CP38: =IF(OR($AV$6="O1",$AV$6="O2",$AV$6="O3"),Sorts!J103,IF(OR($BB$6="O1",$BB$6="O2"),Sorts!J165,"")) -> X | CS38: 35 | DS38: NC | DU38: 35 | DV38: =IF(OR($AV$6="O1",$AV$6="O2",$AV$6="O3"),Sorts!K109,IF(OR($BB$6="O1",$BB$6="O2"),Sorts!K171,"")) -> Vocalisation | EI38: 0 | EK38: =IF(OR($AV$6="O1",$AV$6="O2",$AV$6="O3"),Sorts!L109,IF(OR($BB$6="O1",$BB$6="O2"),Sorts!L171,"")) -> T | EM38: =IF(OR($AV$6="O1",$AV$6="O2",$AV$6="O3"),Sorts!M109,IF(OR($BB$6="O1",$BB$6="O2"),Sorts!M171,"")) -> 5r | EP38: =IF(OR($AV$6="O1",$AV$6="O2",$AV$6="O3"),Sorts!N109,IF(OR($BB$6="O1",$BB$6="O2"),Sorts!N171,"")) -> / | EQ38: =IF(OR($AV$6="O1",$AV$6="O2",$AV$6="O3"),Sorts!O109,IF(OR($BB$6="O1",$BB$6="O2"),Sorts!O171,"")) -> X | ER38: =IF(OR($AV$6="O1",$AV$6="O2",$AV$6="O3"),Sorts!P109,IF(OR($BB$6="O1",$BB$6="O2"),Sorts!P171,"")) -> X | EU38: 1 | EV38: =IF($AV$4="O",Sorts!AC4,IF($BB$4="O",Sorts!AC28,"")) | FI38: 0 | FK38: =IF($AV$4="O",Sorts!AD4,IF($BB$4="O",Sorts!AD28,"")) | FN38: =IF($AV$4="O",Sorts!AE4,IF($BB$4="O",Sorts!AE28,"")) | FQ38: =IF($AV$4="O",Sorts!AF4,IF($BB$4="O",Sorts!AF28,"")) | FR38: =IF($AV$4="O",Sorts!AG4,IF($BB$4="O",Sorts!AG28,"")) | FS38: =IF($AV$4="O",Sorts!AH4,IF($BB$4="O",Sorts!AH28,"")) | FU38: NC | FW38: 1 | FX38: =IF(OR($AV$6="O1",$AV$6="O2",$AV$6="O3"),Sorts!AC75,IF(OR($BB$6="O1",$BB$6="O2"),Sorts!AC137,"")) -> Chien Fidèle de Mordenkainen | GK38: 0 | GM38: =IF(OR($AV$6="O1",$AV$6="O2",$AV$6="O3"),Sorts!AD75,IF(OR($BB$6="O1",$BB$6="O2"),Sorts!AD137,"")) -> 1'' | GO38: =IF(OR($AV$6="O1",$AV$6="O2",$AV$6="O3"),Sorts!AE75,IF(OR($BB$6="O1",$BB$6="O2"),Sorts!AE137,"")) -> 2r/n | GR38: =IF(OR($AV$6="O1",$AV$6="O2",$AV$6="O3"),Sorts!AF75,IF(OR($BB$6="O1",$BB$6="O2"),Sorts!AF137,"")) -> X | GS38: =IF(OR($AV$6="O1",$AV$6="O2",$AV$6="O3"),Sorts!AG75,IF(OR($BB$6="O1",$BB$6="O2"),Sorts!AG137,"")) -> X | GT38: =IF(OR($AV$6="O1",$AV$6="O2",$AV$6="O3"),Sorts!AH75,IF(OR($BB$6="O1",$BB$6="O2"),Sorts!AH137,"")) -> X | GW38: 3 | GX38: =IF($AV$4="O",Sorts!AO6,IF($BB$4="O",Sorts!AO30,"")) | HK38: 0 | HM38: =IF($AV$4="O",Sorts!AP6,IF($BB$4="O",Sorts!AP30,"")) | HP38: =IF($AV$4="O",Sorts!AQ6,IF($BB$4="O",Sorts!AQ30,"")) | HS38: =IF($AV$4="O",Sorts!AR6,IF($BB$4="O",Sorts!AR30,"")) | HT38: =IF($AV$4="O",Sorts!AS6,IF($BB$4="O",Sorts!AS30,"")) | HU38: =IF($AV$4="O",Sorts!AT6,IF($BB$4="O",Sorts!AT30,"")) | HW38: NC | HY38: 3 | HZ38: =IF(OR($AV$6="O1",$AV$6="O2",$AV$6="O3"),Sorts!AO77,IF(OR($BB$6="O1",$BB$6="O2"),Sorts!AO139,"")) -> Cacodémon | IM38: 0 | IO38: =IF(OR($AV$6="O1",$AV$6="O2",$AV$6="O3"),Sorts!AP77,IF(OR($BB$6="O1",$BB$6="O2"),Sorts!AP139,"")) -> 1'' | IQ38: =IF(OR($AV$6="O1",$AV$6="O2",$AV$6="O3"),Sorts!AQ77,IF(OR($BB$6="O1",$BB$6="O2"),Sorts!AQ139,"")) -> S | IT38: =IF(OR($AV$6="O1",$AV$6="O2",$AV$6="O3"),Sorts!AR77,IF(OR($BB$6="O1",$BB$6="O2"),Sorts!AR139,"")) -> X | IU38: =IF(OR($AV$6="O1",$AV$6="O2",$AV$6="O3"),Sorts!AS77,IF(OR($BB$6="O1",$BB$6="O2"),Sorts!AS139,"")) -> X | IV38: =IF(OR($AV$6="O1",$AV$6="O2",$AV$6="O3"),Sorts!AT77,IF(OR($BB$6="O1",$BB$6="O2"),Sorts!AT139,"")) -> X | JY38: NC | KA38: 3 | KB38: =IF(OR($AV$6="O1",$AV$6="O2",$AV$6="O3"),Sorts!BA77,IF(OR($BB$6="O1",$BB$6="O2"),Sorts!BA139,"")) -> Asile | KO38: 0 | KQ38: =IF(OR($AV$6="O1",$AV$6="O2",$AV$6="O3"),Sorts!BB77,IF(OR($BB$6="O1",$BB$6="O2"),Sorts!BB139,"")) -> T | KS38: =IF(OR($AV$6="O1",$AV$6="O2",$AV$6="O3"),Sorts!BC77,IF(OR($BB$6="O1",$BB$6="O2"),Sorts!BC139,"")) -> S | KV38: =IF(OR($AV$6="O1",$AV$6="O2",$AV$6="O3"),Sorts!BD77,IF(OR($BB$6="O1",$BB$6="O2"),Sorts!BD139,"")) -> X | KW38: =IF(OR($AV$6="O1",$AV$6="O2",$AV$6="O3"),Sorts!BE77,IF(OR($BB$6="O1",$BB$6="O2"),Sorts!BE139,"")) -> X | KX38: =IF(OR($AV$6="O1",$AV$6="O2",$AV$6="O3"),Sorts!BF77,IF(OR($BB$6="O1",$BB$6="O2"),Sorts!BF139,"")) -> X
B39: DEXT | D39: =+$U$17 -> -3 | I39: =IF(N26<0,(MIN(L26+N26,L30)),(MIN(L26+N26,L30))+N32)+N34+N36 -> 2 | M39: =IF(N26<0,(MIN(L26+N26,L30)),(MIN(L26+N26,L30))+N32)+L28+N28+N34+N36+D39 -> -3 | R39: Zombie | U39: {=IF($U$36="non","/",INDEX(Niveau!$B$893:$Q$906,MATCH('Joueur 1'!$R$39,Niveau!$B$893:$B$906,0),NivC1+1))} -> / | X39: Nécrophage | AA39: {=IF($U$36="non","/",INDEX(Niveau!$B$893:$Q$906,MATCH('Joueur 1'!$X$39,Niveau!$B$893:$B$906,0),NivC1+1))} -> / | AD39: Momie | AH39: {=IF($U$36="non","/",INDEX(Niveau!$B$893:$Q$906,MATCH('Joueur 1'!$AD$39,Niveau!$B$893:$B$906,0),NivC1+1))} -> / | AJ39: Liche | AN39: {=IF($U$36="non","/",INDEX(Niveau!$B$893:$Q$906,MATCH('Joueur 1'!$AJ$39,Niveau!$B$893:$B$906,0),NivC1+1))} -> / | AQ39: 30 | BE39: 0 | BQ39: NC | BS39: 30 | BT39: =IF(OR($AV$6="O1",$AV$6="O2",$AV$6="O3"),Sorts!E104,IF(OR($BB$6="O1",$BB$6="O2"),Sorts!E166,"")) -> Moquerie | CG39: 0 | CI39: =IF(OR($AV$6="O1",$AV$6="O2",$AV$6="O3"),Sorts!F104,IF(OR($BB$6="O1",$BB$6="O2"),Sorts!F166,"")) -> 3’’ | CK39: =IF(OR($AV$6="O1",$AV$6="O2",$AV$6="O3"),Sorts!G104,IF(OR($BB$6="O1",$BB$6="O2"),Sorts!G166,"")) -> Inst | CN39: =IF(OR($AV$6="O1",$AV$6="O2",$AV$6="O3"),Sorts!H104,IF(OR($BB$6="O1",$BB$6="O2"),Sorts!H166,"")) -> X | CO39: =IF(OR($AV$6="O1",$AV$6="O2",$AV$6="O3"),Sorts!I104,IF(OR($BB$6="O1",$BB$6="O2"),Sorts!I166,"")) -> X | CP39: =IF(OR($AV$6="O1",$AV$6="O2",$AV$6="O3"),Sorts!J104,IF(OR($BB$6="O1",$BB$6="O2"),Sorts!J166,"")) -> / | CS39: 36 | DS39: NC | DU39: 36 | DV39: =IF(OR($AV$6="O1",$AV$6="O2",$AV$6="O3"),Sorts!K110,IF(OR($BB$6="O1",$BB$6="O2"),Sorts!K172,"")) -> Zéphyr | EI39: 0 | EK39: =IF(OR($AV$6="O1",$AV$6="O2",$AV$6="O3"),Sorts!L110,IF(OR($BB$6="O1",$BB$6="O2"),Sorts!L172,"")) -> 0 | EM39: =IF(OR($AV$6="O1",$AV$6="O2",$AV$6="O3"),Sorts!M110,IF(OR($BB$6="O1",$BB$6="O2"),Sorts!M172,"")) -> 1s | EP39: =IF(OR($AV$6="O1",$AV$6="O2",$AV$6="O3"),Sorts!N110,IF(OR($BB$6="O1",$BB$6="O2"),Sorts!N172,"")) -> X | EQ39: =IF(OR($AV$6="O1",$AV$6="O2",$AV$6="O3"),Sorts!O110,IF(OR($BB$6="O1",$BB$6="O2"),Sorts!O172,"")) -> X | ER39: =IF(OR($AV$6="O1",$AV$6="O2",$AV$6="O3"),Sorts!P110,IF(OR($BB$6="O1",$BB$6="O2"),Sorts!P172,"")) -> X | EU39: 2 | EV39: =IF($AV$4="O",Sorts!AC5,IF($BB$4="O",Sorts!AC29,"")) | FI39: 0 | FK39: =IF($AV$4="O",Sorts!AD5,IF($BB$4="O",Sorts!AD29,"")) | FN39: =IF($AV$4="O",Sorts!AE5,IF($BB$4="O",Sorts!AE29,"")) | FQ39: =IF($AV$4="O",Sorts!AF5,IF($BB$4="O",Sorts!AF29,"")) | FR39: =IF($AV$4="O",Sorts!AG5,IF($BB$4="O",Sorts!AG29,"")) | FS39: =IF($AV$4="O",Sorts!AH5,IF($BB$4="O",Sorts!AH29,"")) | FU39: NC | FW39: 2 | FX39: =IF(OR($AV$6="O1",$AV$6="O2",$AV$6="O3"),Sorts!AC76,IF(OR($BB$6="O1",$BB$6="O2"),Sorts!AC138,"")) -> Coffre Secret de Léomund | GK39: 0 | GM39: =IF(OR($AV$6="O1",$AV$6="O2",$AV$6="O3"),Sorts!AD76,IF(OR($BB$6="O1",$BB$6="O2"),Sorts!AD138,"")) -> S | GO39: =IF(OR($AV$6="O1",$AV$6="O2",$AV$6="O3"),Sorts!AE76,IF(OR($BB$6="O1",$BB$6="O2"),Sorts!AE138,"")) -> 60j | GR39: =IF(OR($AV$6="O1",$AV$6="O2",$AV$6="O3"),Sorts!AF76,IF(OR($BB$6="O1",$BB$6="O2"),Sorts!AF138,"")) -> X | GS39: =IF(OR($AV$6="O1",$AV$6="O2",$AV$6="O3"),Sorts!AG76,IF(OR($BB$6="O1",$BB$6="O2"),Sorts!AG138,"")) -> X | GT39: =IF(OR($AV$6="O1",$AV$6="O2",$AV$6="O3"),Sorts!AH76,IF(OR($BB$6="O1",$BB$6="O2"),Sorts!AH138,"")) -> X | GW39: 4 | GX39: =IF($AV$4="O",Sorts!AO7,IF($BB$4="O",Sorts!AO31,"")) | HK39: 0 | HM39: =IF($AV$4="O",Sorts!AP7,IF($BB$4="O",Sorts!AP31,"")) | HP39: =IF($AV$4="O",Sorts!AQ7,IF($BB$4="O",Sorts!AQ31,"")) | HS39: =IF($AV$4="O",Sorts!AR7,IF($BB$4="O",Sorts!AR31,"")) | HT39: =IF($AV$4="O",Sorts!AS7,IF($BB$4="O",Sorts!AS31,"")) | HU39: =IF($AV$4="O",Sorts!AT7,IF($BB$4="O",Sorts!AT31,"")) | HW39: NC | HY39: 4 | HZ39: =IF(OR($AV$6="O1",$AV$6="O2",$AV$6="O3"),Sorts!AO78,IF(OR($BB$6="O1",$BB$6="O2"),Sorts!AO140,"")) -> Cage de Force | IM39: 0 | IO39: =IF(OR($AV$6="O1",$AV$6="O2",$AV$6="O3"),Sorts!AP78,IF(OR($BB$6="O1",$BB$6="O2"),Sorts!AP140,"")) -> 1''/2n | IQ39: =IF(OR($AV$6="O1",$AV$6="O2",$AV$6="O3"),Sorts!AQ78,IF(OR($BB$6="O1",$BB$6="O2"),Sorts!AQ140,"")) -> 6t+1/n | IT39: =IF(OR($AV$6="O1",$AV$6="O2",$AV$6="O3"),Sorts!AR78,IF(OR($BB$6="O1",$BB$6="O2"),Sorts!AR140,"")) -> X | IU39: =IF(OR($AV$6="O1",$AV$6="O2",$AV$6="O3"),Sorts!AS78,IF(OR($BB$6="O1",$BB$6="O2"),Sorts!AS140,"")) -> X | IV39: =IF(OR($AV$6="O1",$AV$6="O2",$AV$6="O3"),Sorts!AT78,IF(OR($BB$6="O1",$BB$6="O2"),Sorts!AT140,"")) -> / | JY39: NC | KA39: 4 | KB39: =IF(OR($AV$6="O1",$AV$6="O2",$AV$6="O3"),Sorts!BA78,IF(OR($BB$6="O1",$BB$6="O2"),Sorts!BA140,"")) -> Disjonction de Mordenkainen | KO39: 0 | KQ39: =IF(OR($AV$6="O1",$AV$6="O2",$AV$6="O3"),Sorts!BB78,IF(OR($BB$6="O1",$BB$6="O2"),Sorts!BB140,"")) -> 0 | KS39: =IF(OR($AV$6="O1",$AV$6="O2",$AV$6="O3"),Sorts!BC78,IF(OR($BB$6="O1",$BB$6="O2"),Sorts!BC140,"")) -> P | KV39: =IF(OR($AV$6="O1",$AV$6="O2",$AV$6="O3"),Sorts!BD78,IF(OR($BB$6="O1",$BB$6="O2"),Sorts!BD140,"")) -> X | KW39: =IF(OR($AV$6="O1",$AV$6="O2",$AV$6="O3"),Sorts!BE78,IF(OR($BB$6="O1",$BB$6="O2"),Sorts!BE140,"")) -> / | KX39: =IF(OR($AV$6="O1",$AV$6="O2",$AV$6="O3"),Sorts!BF78,IF(OR($BB$6="O1",$BB$6="O2"),Sorts!BF140,"")) -> /
R40: Goule | U40: {=IF($U$36="non","/",INDEX(Niveau!$B$893:$Q$906,MATCH('Joueur 1'!$R$40,Niveau!$B$893:$B$906,0),NivC1+1))} -> / | X40: Ghast | AA40: {=IF($U$36="non","/",INDEX(Niveau!$B$893:$Q$906,MATCH('Joueur 1'!$X$40,Niveau!$B$893:$B$906,0),NivC1+1))} -> / | AD40: Spectre | AH40: {=IF($U$36="non","/",INDEX(Niveau!$B$893:$Q$906,MATCH('Joueur 1'!$AD$40,Niveau!$B$893:$B$906,0),NivC1+1))} -> / | AJ40: Spécial | AN40: {=IF($U$36="non","/",INDEX(Niveau!$B$893:$Q$906,MATCH('Joueur 1'!$AJ$40,Niveau!$B$893:$B$906,0),NivC1+1))} -> / | AQ40: 31 | BE40: 0 | BQ40: NC | BS40: 31 | BT40: =IF(OR($AV$6="O1",$AV$6="O2",$AV$6="O3"),Sorts!E105,IF(OR($BB$6="O1",$BB$6="O2"),Sorts!E167,"")) -> Pluie | CG40: 0 | CI40: =IF(OR($AV$6="O1",$AV$6="O2",$AV$6="O3"),Sorts!F105,IF(OR($BB$6="O1",$BB$6="O2"),Sorts!F167,"")) -> 1’’/n | CK40: =IF(OR($AV$6="O1",$AV$6="O2",$AV$6="O3"),Sorts!G105,IF(OR($BB$6="O1",$BB$6="O2"),Sorts!G167,"")) -> 1s/n | CN40: =IF(OR($AV$6="O1",$AV$6="O2",$AV$6="O3"),Sorts!H105,IF(OR($BB$6="O1",$BB$6="O2"),Sorts!H167,"")) -> X | CO40: =IF(OR($AV$6="O1",$AV$6="O2",$AV$6="O3"),Sorts!I105,IF(OR($BB$6="O1",$BB$6="O2"),Sorts!I167,"")) -> X | CP40: =IF(OR($AV$6="O1",$AV$6="O2",$AV$6="O3"),Sorts!J105,IF(OR($BB$6="O1",$BB$6="O2"),Sorts!J167,"")) -> X | CS40: Sortilèges de Niveau 3 | EU40: 3 | EV40: =IF($AV$4="O",Sorts!AC6,IF($BB$4="O",Sorts!AC30,"")) | FI40: 0 | FK40: =IF($AV$4="O",Sorts!AD6,IF($BB$4="O",Sorts!AD30,"")) | FN40: =IF($AV$4="O",Sorts!AE6,IF($BB$4="O",Sorts!AE30,"")) | FQ40: =IF($AV$4="O",Sorts!AF6,IF($BB$4="O",Sorts!AF30,"")) | FR40: =IF($AV$4="O",Sorts!AG6,IF($BB$4="O",Sorts!AG30,"")) | FS40: =IF($AV$4="O",Sorts!AH6,IF($BB$4="O",Sorts!AH30,"")) | FU40: NC | FW40: 3 | FX40: =IF(OR($AV$6="O1",$AV$6="O2",$AV$6="O3"),Sorts!AC77,IF(OR($BB$6="O1",$BB$6="O2"),Sorts!AC139,"")) -> Cône de Froid | GK40: 0 | GM40: =IF(OR($AV$6="O1",$AV$6="O2",$AV$6="O3"),Sorts!AD77,IF(OR($BB$6="O1",$BB$6="O2"),Sorts!AD139,"")) -> 0 | GO40: =IF(OR($AV$6="O1",$AV$6="O2",$AV$6="O3"),Sorts!AE77,IF(OR($BB$6="O1",$BB$6="O2"),Sorts!AE139,"")) -> I | GR40: =IF(OR($AV$6="O1",$AV$6="O2",$AV$6="O3"),Sorts!AF77,IF(OR($BB$6="O1",$BB$6="O2"),Sorts!AF139,"")) -> X | GS40: =IF(OR($AV$6="O1",$AV$6="O2",$AV$6="O3"),Sorts!AG77,IF(OR($BB$6="O1",$BB$6="O2"),Sorts!AG139,"")) -> X | GT40: =IF(OR($AV$6="O1",$AV$6="O2",$AV$6="O3"),Sorts!AH77,IF(OR($BB$6="O1",$BB$6="O2"),Sorts!AH139,"")) -> X | GW40: 5 | GX40: =IF($AV$4="O",Sorts!AO8,IF($BB$4="O",Sorts!AO32,"")) | HK40: 0 | HM40: =IF($AV$4="O",Sorts!AP8,IF($BB$4="O",Sorts!AP32,"")) | HP40: =IF($AV$4="O",Sorts!AQ8,IF($BB$4="O",Sorts!AQ32,"")) | HS40: =IF($AV$4="O",Sorts!AR8,IF($BB$4="O",Sorts!AR32,"")) | HT40: =IF($AV$4="O",Sorts!AS8,IF($BB$4="O",Sorts!AS32,"")) | HU40: =IF($AV$4="O",Sorts!AT8,IF($BB$4="O",Sorts!AT32,"")) | HW40: NC | HY40: 5 | HZ40: =IF(OR($AV$6="O1",$AV$6="O2",$AV$6="O3"),Sorts!AO79,IF(OR($BB$6="O1",$BB$6="O2"),Sorts!AO141,"")) -> Charme-Plantes | IM40: 0 | IO40: =IF(OR($AV$6="O1",$AV$6="O2",$AV$6="O3"),Sorts!AP79,IF(OR($BB$6="O1",$BB$6="O2"),Sorts!AP141,"")) -> 3'' | IQ40: =IF(OR($AV$6="O1",$AV$6="O2",$AV$6="O3"),Sorts!AQ79,IF(OR($BB$6="O1",$BB$6="O2"),Sorts!AQ141,"")) -> P | IT40: =IF(OR($AV$6="O1",$AV$6="O2",$AV$6="O3"),Sorts!AR79,IF(OR($BB$6="O1",$BB$6="O2"),Sorts!AR141,"")) -> X | IU40: =IF(OR($AV$6="O1",$AV$6="O2",$AV$6="O3"),Sorts!AS79,IF(OR($BB$6="O1",$BB$6="O2"),Sorts!AS141,"")) -> X | IV40: =IF(OR($AV$6="O1",$AV$6="O2",$AV$6="O3"),Sorts!AT79,IF(OR($BB$6="O1",$BB$6="O2"),Sorts!AT141,"")) -> X | JY40: NC | KA40: 5 | KB40: =IF(OR($AV$6="O1",$AV$6="O2",$AV$6="O3"),Sorts!BA79,IF(OR($BB$6="O1",$BB$6="O2"),Sorts!BA141,"")) -> Emprisonnement | KO40: 0 | KQ40: =IF(OR($AV$6="O1",$AV$6="O2",$AV$6="O3"),Sorts!BB79,IF(OR($BB$6="O1",$BB$6="O2"),Sorts!BB141,"")) -> T | KS40: =IF(OR($AV$6="O1",$AV$6="O2",$AV$6="O3"),Sorts!BC79,IF(OR($BB$6="O1",$BB$6="O2"),Sorts!BC141,"")) -> P | KV40: =IF(OR($AV$6="O1",$AV$6="O2",$AV$6="O3"),Sorts!BD79,IF(OR($BB$6="O1",$BB$6="O2"),Sorts!BD141,"")) -> X | KW40: =IF(OR($AV$6="O1",$AV$6="O2",$AV$6="O3"),Sorts!BE79,IF(OR($BB$6="O1",$BB$6="O2"),Sorts!BE141,"")) -> X | KX40: =IF(OR($AV$6="O1",$AV$6="O2",$AV$6="O3"),Sorts!BF79,IF(OR($BB$6="O1",$BB$6="O2"),Sorts!BF141,"")) -> /
AQ41: 32 | BE41: 0 | BQ41: NC | BS41: 32 | BT41: =IF(OR($AV$6="O1",$AV$6="O2",$AV$6="O3"),Sorts!E106,IF(OR($BB$6="O1",$BB$6="O2"),Sorts!E168,"")) -> Poigne Électrique | CG41: 0 | CI41: =IF(OR($AV$6="O1",$AV$6="O2",$AV$6="O3"),Sorts!F106,IF(OR($BB$6="O1",$BB$6="O2"),Sorts!F168,"")) -> T | CK41: =IF(OR($AV$6="O1",$AV$6="O2",$AV$6="O3"),Sorts!G106,IF(OR($BB$6="O1",$BB$6="O2"),Sorts!G168,"")) -> T | CN41: =IF(OR($AV$6="O1",$AV$6="O2",$AV$6="O3"),Sorts!H106,IF(OR($BB$6="O1",$BB$6="O2"),Sorts!H168,"")) -> X | CO41: =IF(OR($AV$6="O1",$AV$6="O2",$AV$6="O3"),Sorts!I106,IF(OR($BB$6="O1",$BB$6="O2"),Sorts!I168,"")) -> X | CP41: =IF(OR($AV$6="O1",$AV$6="O2",$AV$6="O3"),Sorts!J106,IF(OR($BB$6="O1",$BB$6="O2"),Sorts!J168,"")) -> / | CS41: # | CT41: Nom du sortilège Clerc / Druide | DG41: =SUM(DG42:DG82) -> 0 | DH41: M | DI41: Portée | DL41: Durée | DO41: V | DP41: S | DQ41: M | DS41: =COUNTIF(DS42:DT74,"C") -> 0 | DT41: C | DU41: # | DV41: Nom du sortilège Magicien / Illusionniste | EI41: =SUM(EI42:EI82) -> 0 | EJ41: M | EK41: Portée | EN41: Durée | EP41: V | EQ41: S | ER41: M | EU41: 4 | EV41: =IF($AV$4="O",Sorts!AC7,IF($BB$4="O",Sorts!AC31,"")) | FI41: 0 | FK41: =IF($AV$4="O",Sorts!AD7,IF($BB$4="O",Sorts!AD31,"")) | FN41: =IF($AV$4="O",Sorts!AE7,IF($BB$4="O",Sorts!AE31,"")) | FQ41: =IF($AV$4="O",Sorts!AF7,IF($BB$4="O",Sorts!AF31,"")) | FR41: =IF($AV$4="O",Sorts!AG7,IF($BB$4="O",Sorts!AG31,"")) | FS41: =IF($AV$4="O",Sorts!AH7,IF($BB$4="O",Sorts!AH31,"")) | FU41: NC | FW41: 4 | FX41: =IF(OR($AV$6="O1",$AV$6="O2",$AV$6="O3"),Sorts!AC78,IF(OR($BB$6="O1",$BB$6="O2"),Sorts!AC140,"")) -> Contact d’Autres Plans | GK41: 0 | GM41: =IF(OR($AV$6="O1",$AV$6="O2",$AV$6="O3"),Sorts!AD78,IF(OR($BB$6="O1",$BB$6="O2"),Sorts!AD140,"")) -> 0 | GO41: =IF(OR($AV$6="O1",$AV$6="O2",$AV$6="O3"),Sorts!AE78,IF(OR($BB$6="O1",$BB$6="O2"),Sorts!AE140,"")) -> S | GR41: =IF(OR($AV$6="O1",$AV$6="O2",$AV$6="O3"),Sorts!AF78,IF(OR($BB$6="O1",$BB$6="O2"),Sorts!AF140,"")) -> X | GS41: =IF(OR($AV$6="O1",$AV$6="O2",$AV$6="O3"),Sorts!AG78,IF(OR($BB$6="O1",$BB$6="O2"),Sorts!AG140,"")) -> / | GT41: =IF(OR($AV$6="O1",$AV$6="O2",$AV$6="O3"),Sorts!AH78,IF(OR($BB$6="O1",$BB$6="O2"),Sorts!AH140,"")) -> / | GW41: 6 | GX41: =IF($AV$4="O",Sorts!AO9,IF($BB$4="O",Sorts!AO33,"")) | HK41: 0 | HM41: =IF($AV$4="O",Sorts!AP9,IF($BB$4="O",Sorts!AP33,"")) | HP41: =IF($AV$4="O",Sorts!AQ9,IF($BB$4="O",Sorts!AQ33,"")) | HS41: =IF($AV$4="O",Sorts!AR9,IF($BB$4="O",Sorts!AR33,"")) | HT41: =IF($AV$4="O",Sorts!AS9,IF($BB$4="O",Sorts!AS33,"")) | HU41: =IF($AV$4="O",Sorts!AT9,IF($BB$4="O",Sorts!AT33,"")) | HW41: NC | HY41: 6 | HZ41: =IF(OR($AV$6="O1",$AV$6="O2",$AV$6="O3"),Sorts!AO80,IF(OR($BB$6="O1",$BB$6="O2"),Sorts!AO142,"")) -> Disparition | IM41: 0 | IO41: =IF(OR($AV$6="O1",$AV$6="O2",$AV$6="O3"),Sorts!AP80,IF(OR($BB$6="O1",$BB$6="O2"),Sorts!AP142,"")) -> T | IQ41: =IF(OR($AV$6="O1",$AV$6="O2",$AV$6="O3"),Sorts!AQ80,IF(OR($BB$6="O1",$BB$6="O2"),Sorts!AQ142,"")) -> S | IT41: =IF(OR($AV$6="O1",$AV$6="O2",$AV$6="O3"),Sorts!AR80,IF(OR($BB$6="O1",$BB$6="O2"),Sorts!AR142,"")) -> X | IU41: =IF(OR($AV$6="O1",$AV$6="O2",$AV$6="O3"),Sorts!AS80,IF(OR($BB$6="O1",$BB$6="O2"),Sorts!AS142,"")) -> / | IV41: =IF(OR($AV$6="O1",$AV$6="O2",$AV$6="O3"),Sorts!AT80,IF(OR($BB$6="O1",$BB$6="O2"),Sorts!AT142,"")) -> / | JY41: NC | KA41: 6 | KB41: =IF(OR($AV$6="O1",$AV$6="O2",$AV$6="O3"),Sorts!BA80,IF(OR($BB$6="O1",$BB$6="O2"),Sorts!BA142,"")) -> Fragilité de Cristal | KO41: 0 | KQ41: =IF(OR($AV$6="O1",$AV$6="O2",$AV$6="O3"),Sorts!BB80,IF(OR($BB$6="O1",$BB$6="O2"),Sorts!BB142,"")) -> T | KS41: =IF(OR($AV$6="O1",$AV$6="O2",$AV$6="O3"),Sorts!BC80,IF(OR($BB$6="O1",$BB$6="O2"),Sorts!BC142,"")) -> P | KV41: =IF(OR($AV$6="O1",$AV$6="O2",$AV$6="O3"),Sorts!BD80,IF(OR($BB$6="O1",$BB$6="O2"),Sorts!BD142,"")) -> X | KW41: =IF(OR($AV$6="O1",$AV$6="O2",$AV$6="O3"),Sorts!BE80,IF(OR($BB$6="O1",$BB$6="O2"),Sorts!BE142,"")) -> X | KX41: =IF(OR($AV$6="O1",$AV$6="O2",$AV$6="O3"),Sorts!BF80,IF(OR($BB$6="O1",$BB$6="O2"),Sorts!BF142,"")) -> /
B42: TABLEAU DES ARMES | AQ42: 33 | BE42: 0 | BQ42: NC | BS42: 33 | BT42: =IF(OR($AV$6="O1",$AV$6="O2",$AV$6="O3"),Sorts!E107,IF(OR($BB$6="O1",$BB$6="O2"),Sorts!E169,"")) -> Poussée | CG42: 0 | CI42: =IF(OR($AV$6="O1",$AV$6="O2",$AV$6="O3"),Sorts!F107,IF(OR($BB$6="O1",$BB$6="O2"),Sorts!F169,"")) -> 1’’+1/4’’/n | CK42: =IF(OR($AV$6="O1",$AV$6="O2",$AV$6="O3"),Sorts!G107,IF(OR($BB$6="O1",$BB$6="O2"),Sorts!G169,"")) -> Inst | CN42: =IF(OR($AV$6="O1",$AV$6="O2",$AV$6="O3"),Sorts!H107,IF(OR($BB$6="O1",$BB$6="O2"),Sorts!H169,"")) -> X | CO42: =IF(OR($AV$6="O1",$AV$6="O2",$AV$6="O3"),Sorts!I107,IF(OR($BB$6="O1",$BB$6="O2"),Sorts!I169,"")) -> X | CP42: =IF(OR($AV$6="O1",$AV$6="O2",$AV$6="O3"),Sorts!J107,IF(OR($BB$6="O1",$BB$6="O2"),Sorts!J169,"")) -> X | CS42: 1 | CT42: =IF($AV$4="O",Sorts!Q4,IF($BB$4="O",Sorts!Q28,"")) | DG42: 0 | DI42: =IF($AV$4="O",Sorts!R4,IF($BB$4="O",Sorts!R28,"")) | DL42: =IF($AV$4="O",Sorts!S4,IF($BB$4="O",Sorts!S28,"")) | DO42: =IF($AV$4="O",Sorts!T4,IF($BB$4="O",Sorts!T28,"")) | DP42: =IF($AV$4="O",Sorts!U4,IF($BB$4="O",Sorts!U28,"")) | DQ42: =IF($AV$4="O",Sorts!V4,IF($BB$4="O",Sorts!V28,"")) | DS42: NC | DU42: 1 | DV42: =IF(OR($AV$6="O1",$AV$6="O2",$AV$6="O3"),Sorts!Q75,IF(OR($BB$6="O1",$BB$6="O2"),Sorts!Q137,"")) -> Boule de Feu | EI42: 0 | EK42: =IF(OR($AV$6="O1",$AV$6="O2",$AV$6="O3"),Sorts!R75,IF(OR($BB$6="O1",$BB$6="O2"),Sorts!R137,"")) -> 10''+1/n | EM42: =IF(OR($AV$6="O1",$AV$6="O2",$AV$6="O3"),Sorts!S75,IF(OR($BB$6="O1",$BB$6="O2"),Sorts!S137,"")) -> I | EP42: =IF(OR($AV$6="O1",$AV$6="O2",$AV$6="O3"),Sorts!T75,IF(OR($BB$6="O1",$BB$6="O2"),Sorts!T137,"")) -> X | EQ42: =IF(OR($AV$6="O1",$AV$6="O2",$AV$6="O3"),Sorts!U75,IF(OR($BB$6="O1",$BB$6="O2"),Sorts!U137,"")) -> X | ER42: =IF(OR($AV$6="O1",$AV$6="O2",$AV$6="O3"),Sorts!V75,IF(OR($BB$6="O1",$BB$6="O2"),Sorts!V137,"")) -> X | EU42: 5 | EV42: =IF($AV$4="O",Sorts!AC8,IF($BB$4="O",Sorts!AC32,"")) | FI42: 0 | FK42: =IF($AV$4="O",Sorts!AD8,IF($BB$4="O",Sorts!AD32,"")) | FN42: =IF($AV$4="O",Sorts!AE8,IF($BB$4="O",Sorts!AE32,"")) | FQ42: =IF($AV$4="O",Sorts!AF8,IF($BB$4="O",Sorts!AF32,"")) | FR42: =IF($AV$4="O",Sorts!AG8,IF($BB$4="O",Sorts!AG32,"")) | FS42: =IF($AV$4="O",Sorts!AH8,IF($BB$4="O",Sorts!AH32,"")) | FU42: NC | FW42: 5 | FX42: =IF(OR($AV$6="O1",$AV$6="O2",$AV$6="O3"),Sorts!AC79,IF(OR($BB$6="O1",$BB$6="O2"),Sorts!AC141,"")) -> Croissance Animale | GK42: 0 | GM42: =IF(OR($AV$6="O1",$AV$6="O2",$AV$6="O3"),Sorts!AD79,IF(OR($BB$6="O1",$BB$6="O2"),Sorts!AD141,"")) -> 6'' | GO42: =IF(OR($AV$6="O1",$AV$6="O2",$AV$6="O3"),Sorts!AE79,IF(OR($BB$6="O1",$BB$6="O2"),Sorts!AE141,"")) -> 1r/n | GR42: =IF(OR($AV$6="O1",$AV$6="O2",$AV$6="O3"),Sorts!AF79,IF(OR($BB$6="O1",$BB$6="O2"),Sorts!AF141,"")) -> X | GS42: =IF(OR($AV$6="O1",$AV$6="O2",$AV$6="O3"),Sorts!AG79,IF(OR($BB$6="O1",$BB$6="O2"),Sorts!AG141,"")) -> X | GT42: =IF(OR($AV$6="O1",$AV$6="O2",$AV$6="O3"),Sorts!AH79,IF(OR($BB$6="O1",$BB$6="O2"),Sorts!AH141,"")) -> / | GW42: 7 | GX42: =IF($AV$4="O",Sorts!AO10,IF($BB$4="O",Sorts!AO34,"")) | HK42: 0 | HM42: =IF($AV$4="O",Sorts!AP10,IF($BB$4="O",Sorts!AP34,"")) | HP42: =IF($AV$4="O",Sorts!AQ10,IF($BB$4="O",Sorts!AQ34,"")) | HS42: =IF($AV$4="O",Sorts!AR10,IF($BB$4="O",Sorts!AR34,"")) | HT42: =IF($AV$4="O",Sorts!AS10,IF($BB$4="O",Sorts!AS34,"")) | HU42: =IF($AV$4="O",Sorts!AT10,IF($BB$4="O",Sorts!AT34,"")) | HW42: NC | HY42: 7 | HZ42: =IF(OR($AV$6="O1",$AV$6="O2",$AV$6="O3"),Sorts!AO81,IF(OR($BB$6="O1",$BB$6="O2"),Sorts!AO143,"")) -> Duo-Dimension | IM42: 0 | IO42: =IF(OR($AV$6="O1",$AV$6="O2",$AV$6="O3"),Sorts!AP81,IF(OR($BB$6="O1",$BB$6="O2"),Sorts!AP143,"")) -> 0 | IQ42: =IF(OR($AV$6="O1",$AV$6="O2",$AV$6="O3"),Sorts!AQ81,IF(OR($BB$6="O1",$BB$6="O2"),Sorts!AQ143,"")) -> 3r+1/n | IT42: =IF(OR($AV$6="O1",$AV$6="O2",$AV$6="O3"),Sorts!AR81,IF(OR($BB$6="O1",$BB$6="O2"),Sorts!AR143,"")) -> X | IU42: =IF(OR($AV$6="O1",$AV$6="O2",$AV$6="O3"),Sorts!AS81,IF(OR($BB$6="O1",$BB$6="O2"),Sorts!AS143,"")) -> X | IV42: =IF(OR($AV$6="O1",$AV$6="O2",$AV$6="O3"),Sorts!AT81,IF(OR($BB$6="O1",$BB$6="O2"),Sorts!AT143,"")) -> X | JY42: NC | KA42: 7 | KB42: =IF(OR($AV$6="O1",$AV$6="O2",$AV$6="O3"),Sorts!BA81,IF(OR($BB$6="O1",$BB$6="O2"),Sorts!BA143,"")) -> Hétéromorphisme | KO42: 0 | KQ42: =IF(OR($AV$6="O1",$AV$6="O2",$AV$6="O3"),Sorts!BB81,IF(OR($BB$6="O1",$BB$6="O2"),Sorts!BB143,"")) -> 0 | KS42: =IF(OR($AV$6="O1",$AV$6="O2",$AV$6="O3"),Sorts!BC81,IF(OR($BB$6="O1",$BB$6="O2"),Sorts!BC143,"")) -> 1t/n | KV42: =IF(OR($AV$6="O1",$AV$6="O2",$AV$6="O3"),Sorts!BD81,IF(OR($BB$6="O1",$BB$6="O2"),Sorts!BD143,"")) -> X | KW42: =IF(OR($AV$6="O1",$AV$6="O2",$AV$6="O3"),Sorts!BE81,IF(OR($BB$6="O1",$BB$6="O2"),Sorts!BE143,"")) -> X | KX42: =IF(OR($AV$6="O1",$AV$6="O2",$AV$6="O3"),Sorts!BF81,IF(OR($BB$6="O1",$BB$6="O2"),Sorts!BF143,"")) -> X
T43: TOUCHER | X43: DOMMAGES | AE43: Rapidité | AL43: Spécialisation G/R | AQ43: 34 | BE43: 0 | BQ43: NC | BS43: 34 | BT43: =IF(OR($AV$6="O1",$AV$6="O2",$AV$6="O3"),Sorts!E108,IF(OR($BB$6="O1",$BB$6="O2"),Sorts!E170,"")) -> Projectile Magique | CG43: 0 | CI43: =IF(OR($AV$6="O1",$AV$6="O2",$AV$6="O3"),Sorts!F108,IF(OR($BB$6="O1",$BB$6="O2"),Sorts!F170,"")) -> 6’’+1’’/n | CK43: =IF(OR($AV$6="O1",$AV$6="O2",$AV$6="O3"),Sorts!G108,IF(OR($BB$6="O1",$BB$6="O2"),Sorts!G170,"")) -> S | CN43: =IF(OR($AV$6="O1",$AV$6="O2",$AV$6="O3"),Sorts!H108,IF(OR($BB$6="O1",$BB$6="O2"),Sorts!H170,"")) -> X | CO43: =IF(OR($AV$6="O1",$AV$6="O2",$AV$6="O3"),Sorts!I108,IF(OR($BB$6="O1",$BB$6="O2"),Sorts!I170,"")) -> X | CP43: =IF(OR($AV$6="O1",$AV$6="O2",$AV$6="O3"),Sorts!J108,IF(OR($BB$6="O1",$BB$6="O2"),Sorts!J170,"")) -> / | CS43: 2 | CT43: =IF($AV$4="O",Sorts!Q5,IF($BB$4="O",Sorts!Q29,"")) | DG43: 0 | DI43: =IF($AV$4="O",Sorts!R5,IF($BB$4="O",Sorts!R29,"")) | DL43: =IF($AV$4="O",Sorts!S5,IF($BB$4="O",Sorts!S29,"")) | DO43: =IF($AV$4="O",Sorts!T5,IF($BB$4="O",Sorts!T29,"")) | DP43: =IF($AV$4="O",Sorts!U5,IF($BB$4="O",Sorts!U29,"")) | DQ43: =IF($AV$4="O",Sorts!V5,IF($BB$4="O",Sorts!V29,"")) | DS43: NC | DU43: 2 | DV43: =IF(OR($AV$6="O1",$AV$6="O2",$AV$6="O3"),Sorts!Q76,IF(OR($BB$6="O1",$BB$6="O2"),Sorts!Q138,"")) -> Catalepsie | EI43: 0 | EK43: =IF(OR($AV$6="O1",$AV$6="O2",$AV$6="O3"),Sorts!R76,IF(OR($BB$6="O1",$BB$6="O2"),Sorts!R138,"")) -> T | EM43: =IF(OR($AV$6="O1",$AV$6="O2",$AV$6="O3"),Sorts!S76,IF(OR($BB$6="O1",$BB$6="O2"),Sorts!S138,"")) -> 6r+1/n | EP43: =IF(OR($AV$6="O1",$AV$6="O2",$AV$6="O3"),Sorts!T76,IF(OR($BB$6="O1",$BB$6="O2"),Sorts!T138,"")) -> X | EQ43: =IF(OR($AV$6="O1",$AV$6="O2",$AV$6="O3"),Sorts!U76,IF(OR($BB$6="O1",$BB$6="O2"),Sorts!U138,"")) -> X | ER43: =IF(OR($AV$6="O1",$AV$6="O2",$AV$6="O3"),Sorts!V76,IF(OR($BB$6="O1",$BB$6="O2"),Sorts!V138,"")) -> / | EU43: 6 | EV43: =IF($AV$4="O",Sorts!AC9,IF($BB$4="O",Sorts!AC33,"")) | FI43: 0 | FK43: =IF($AV$4="O",Sorts!AD9,IF($BB$4="O",Sorts!AD33,"")) | FN43: =IF($AV$4="O",Sorts!AE9,IF($BB$4="O",Sorts!AE33,"")) | FQ43: =IF($AV$4="O",Sorts!AF9,IF($BB$4="O",Sorts!AF33,"")) | FR43: =IF($AV$4="O",Sorts!AG9,IF($BB$4="O",Sorts!AG33,"")) | FS43: =IF($AV$4="O",Sorts!AH9,IF($BB$4="O",Sorts!AH33,"")) | FU43: NC | FW43: 6 | FX43: =IF(OR($AV$6="O1",$AV$6="O2",$AV$6="O3"),Sorts!AC80,IF(OR($BB$6="O1",$BB$6="O2"),Sorts!AC142,"")) -> Débilité Mentale | GK43: 0 | GM43: =IF(OR($AV$6="O1",$AV$6="O2",$AV$6="O3"),Sorts!AD80,IF(OR($BB$6="O1",$BB$6="O2"),Sorts!AD142,"")) -> 1''/n | GO43: =IF(OR($AV$6="O1",$AV$6="O2",$AV$6="O3"),Sorts!AE80,IF(OR($BB$6="O1",$BB$6="O2"),Sorts!AE142,"")) -> P | GR43: =IF(OR($AV$6="O1",$AV$6="O2",$AV$6="O3"),Sorts!AF80,IF(OR($BB$6="O1",$BB$6="O2"),Sorts!AF142,"")) -> X | GS43: =IF(OR($AV$6="O1",$AV$6="O2",$AV$6="O3"),Sorts!AG80,IF(OR($BB$6="O1",$BB$6="O2"),Sorts!AG142,"")) -> X | GT43: =IF(OR($AV$6="O1",$AV$6="O2",$AV$6="O3"),Sorts!AH80,IF(OR($BB$6="O1",$BB$6="O2"),Sorts!AH142,"")) -> X | GW43: 8 | GX43: =IF($AV$4="O",Sorts!AO11,IF($BB$4="O",Sorts!AO35,"")) | HK43: 0 | HM43: =IF($AV$4="O",Sorts!AP11,IF($BB$4="O",Sorts!AP35,"")) | HP43: =IF($AV$4="O",Sorts!AQ11,IF($BB$4="O",Sorts!AQ35,"")) | HS43: =IF($AV$4="O",Sorts!AR11,IF($BB$4="O",Sorts!AR35,"")) | HT43: =IF($AV$4="O",Sorts!AS11,IF($BB$4="O",Sorts!AS35,"")) | HU43: =IF($AV$4="O",Sorts!AT11,IF($BB$4="O",Sorts!AT35,"")) | HW43: NC | HY43: 8 | HZ43: =IF(OR($AV$6="O1",$AV$6="O2",$AV$6="O3"),Sorts!AO82,IF(OR($BB$6="O1",$BB$6="O2"),Sorts!AO144,"")) -> Épée de Mordenkainen | IM43: 0 | IO43: =IF(OR($AV$6="O1",$AV$6="O2",$AV$6="O3"),Sorts!AP82,IF(OR($BB$6="O1",$BB$6="O2"),Sorts!AP144,"")) -> 3'' | IQ43: =IF(OR($AV$6="O1",$AV$6="O2",$AV$6="O3"),Sorts!AQ82,IF(OR($BB$6="O1",$BB$6="O2"),Sorts!AQ144,"")) -> 1r/n | IT43: =IF(OR($AV$6="O1",$AV$6="O2",$AV$6="O3"),Sorts!AR82,IF(OR($BB$6="O1",$BB$6="O2"),Sorts!AR144,"")) -> X | IU43: =IF(OR($AV$6="O1",$AV$6="O2",$AV$6="O3"),Sorts!AS82,IF(OR($BB$6="O1",$BB$6="O2"),Sorts!AS144,"")) -> X | IV43: =IF(OR($AV$6="O1",$AV$6="O2",$AV$6="O3"),Sorts!AT82,IF(OR($BB$6="O1",$BB$6="O2"),Sorts!AT144,"")) -> X | JY43: NC | KA43: 8 | KB43: =IF(OR($AV$6="O1",$AV$6="O2",$AV$6="O3"),Sorts!BA82,IF(OR($BB$6="O1",$BB$6="O2"),Sorts!BA144,"")) -> Invocation de Monstre VII | KO43: 0 | KQ43: =IF(OR($AV$6="O1",$AV$6="O2",$AV$6="O3"),Sorts!BB82,IF(OR($BB$6="O1",$BB$6="O2"),Sorts!BB144,"")) -> 9'' | KS43: =IF(OR($AV$6="O1",$AV$6="O2",$AV$6="O3"),Sorts!BC82,IF(OR($BB$6="O1",$BB$6="O2"),Sorts!BC144,"")) -> 8r+1/n | KV43: =IF(OR($AV$6="O1",$AV$6="O2",$AV$6="O3"),Sorts!BD82,IF(OR($BB$6="O1",$BB$6="O2"),Sorts!BD144,"")) -> X | KW43: =IF(OR($AV$6="O1",$AV$6="O2",$AV$6="O3"),Sorts!BE82,IF(OR($BB$6="O1",$BB$6="O2"),Sorts!BE144,"")) -> X | KX43: =IF(OR($AV$6="O1",$AV$6="O2",$AV$6="O3"),Sorts!BF82,IF(OR($BB$6="O1",$BB$6="O2"),Sorts!BF144,"")) -> X
C44: TACO | G44: Maitrises | I44: =VLOOKUP(Code_Classe,Classe!$C$3:$AD$40,28,FALSE) -> NivC1 | J44: =IF(VLOOKUP(Code_Classe,Classe!$C$3:$AD$40,28,FALSE)="NivC2",NivC2,NivC1) -> 3 | M44: TYPE | R44: M | S44: S/P | T44: F | U44: Mag | V44: TACO | X44: P/M | Z44: G | AB44: F | AC44: Mag | AD44: Tot | AE44: Cad | AG44: Rap | AI44: Init | AL44: Epée longue | AQ44: 35 | BE44: 0 | BQ44: NC | BS44: 35 | BT44: =IF(OR($AV$6="O1",$AV$6="O2",$AV$6="O3"),Sorts!E109,IF(OR($BB$6="O1",$BB$6="O2"),Sorts!E171,"")) -> Protection contre le Mal | CG44: 0 | CI44: =IF(OR($AV$6="O1",$AV$6="O2",$AV$6="O3"),Sorts!F109,IF(OR($BB$6="O1",$BB$6="O2"),Sorts!F171,"")) -> T | CK44: =IF(OR($AV$6="O1",$AV$6="O2",$AV$6="O3"),Sorts!G109,IF(OR($BB$6="O1",$BB$6="O2"),Sorts!G171,"")) -> 2r/n | CN44: =IF(OR($AV$6="O1",$AV$6="O2",$AV$6="O3"),Sorts!H109,IF(OR($BB$6="O1",$BB$6="O2"),Sorts!H171,"")) -> X | CO44: =IF(OR($AV$6="O1",$AV$6="O2",$AV$6="O3"),Sorts!I109,IF(OR($BB$6="O1",$BB$6="O2"),Sorts!I171,"")) -> X | CP44: =IF(OR($AV$6="O1",$AV$6="O2",$AV$6="O3"),Sorts!J109,IF(OR($BB$6="O1",$BB$6="O2"),Sorts!J171,"")) -> X | CS44: 3 | CT44: =IF($AV$4="O",Sorts!Q6,IF($BB$4="O",Sorts!Q30,"")) | DG44: 0 | DI44: =IF($AV$4="O",Sorts!R6,IF($BB$4="O",Sorts!R30,"")) | DL44: =IF($AV$4="O",Sorts!S6,IF($BB$4="O",Sorts!S30,"")) | DO44: =IF($AV$4="O",Sorts!T6,IF($BB$4="O",Sorts!T30,"")) | DP44: =IF($AV$4="O",Sorts!U6,IF($BB$4="O",Sorts!U30,"")) | DQ44: =IF($AV$4="O",Sorts!V6,IF($BB$4="O",Sorts!V30,"")) | DS44: NC | DU44: 3 | DV44: =IF(OR($AV$6="O1",$AV$6="O2",$AV$6="O3"),Sorts!Q77,IF(OR($BB$6="O1",$BB$6="O2"),Sorts!Q139,"")) -> Chaumière de Léomund | EI44: 0 | EK44: =IF(OR($AV$6="O1",$AV$6="O2",$AV$6="O3"),Sorts!R77,IF(OR($BB$6="O1",$BB$6="O2"),Sorts!R139,"")) -> 0 | EM44: =IF(OR($AV$6="O1",$AV$6="O2",$AV$6="O3"),Sorts!S77,IF(OR($BB$6="O1",$BB$6="O2"),Sorts!S139,"")) -> 6t/n | EP44: =IF(OR($AV$6="O1",$AV$6="O2",$AV$6="O3"),Sorts!T77,IF(OR($BB$6="O1",$BB$6="O2"),Sorts!T139,"")) -> X | EQ44: =IF(OR($AV$6="O1",$AV$6="O2",$AV$6="O3"),Sorts!U77,IF(OR($BB$6="O1",$BB$6="O2"),Sorts!U139,"")) -> X | ER44: =IF(OR($AV$6="O1",$AV$6="O2",$AV$6="O3"),Sorts!V77,IF(OR($BB$6="O1",$BB$6="O2"),Sorts!V139,"")) -> X | EU44: 7 | EV44: =IF($AV$4="O",Sorts!AC10,IF($BB$4="O",Sorts!AC34,"")) | FI44: 0 | FK44: =IF($AV$4="O",Sorts!AD10,IF($BB$4="O",Sorts!AD34,"")) | FN44: =IF($AV$4="O",Sorts!AE10,IF($BB$4="O",Sorts!AE34,"")) | FQ44: =IF($AV$4="O",Sorts!AF10,IF($BB$4="O",Sorts!AF34,"")) | FR44: =IF($AV$4="O",Sorts!AG10,IF($BB$4="O",Sorts!AG34,"")) | FS44: =IF($AV$4="O",Sorts!AH10,IF($BB$4="O",Sorts!AH34,"")) | FU44: NC | FW44: 7 | FX44: =IF(OR($AV$6="O1",$AV$6="O2",$AV$6="O3"),Sorts!AC81,IF(OR($BB$6="O1",$BB$6="O2"),Sorts!AC143,"")) -> Distorsion des Distances | GK44: 0 | GM44: =IF(OR($AV$6="O1",$AV$6="O2",$AV$6="O3"),Sorts!AD81,IF(OR($BB$6="O1",$BB$6="O2"),Sorts!AD143,"")) -> 1''/n | GO44: =IF(OR($AV$6="O1",$AV$6="O2",$AV$6="O3"),Sorts!AE81,IF(OR($BB$6="O1",$BB$6="O2"),Sorts!AE143,"")) -> 1t/n | GR44: =IF(OR($AV$6="O1",$AV$6="O2",$AV$6="O3"),Sorts!AF81,IF(OR($BB$6="O1",$BB$6="O2"),Sorts!AF143,"")) -> X | GS44: =IF(OR($AV$6="O1",$AV$6="O2",$AV$6="O3"),Sorts!AG81,IF(OR($BB$6="O1",$BB$6="O2"),Sorts!AG143,"")) -> X | GT44: =IF(OR($AV$6="O1",$AV$6="O2",$AV$6="O3"),Sorts!AH81,IF(OR($BB$6="O1",$BB$6="O2"),Sorts!AH143,"")) -> X | GW44: 9 | GX44: =IF($AV$4="O",Sorts!AO12,IF($BB$4="O",Sorts!AO36,"")) | HK44: 0 | HM44: =IF($AV$4="O",Sorts!AP12,IF($BB$4="O",Sorts!AP36,"")) | HP44: =IF($AV$4="O",Sorts!AQ12,IF($BB$4="O",Sorts!AQ36,"")) | HS44: =IF($AV$4="O",Sorts!AR12,IF($BB$4="O",Sorts!AR36,"")) | HT44: =IF($AV$4="O",Sorts!AS12,IF($BB$4="O",Sorts!AS36,"")) | HU44: =IF($AV$4="O",Sorts!AT12,IF($BB$4="O",Sorts!AT36,"")) | HW44: NC | HY44: 9 | HZ44: =IF(OR($AV$6="O1",$AV$6="O2",$AV$6="O3"),Sorts!AO83,IF(OR($BB$6="O1",$BB$6="O2"),Sorts!AO145,"")) -> Inversion de la Gravité | IM44: 0 | IO44: =IF(OR($AV$6="O1",$AV$6="O2",$AV$6="O3"),Sorts!AP83,IF(OR($BB$6="O1",$BB$6="O2"),Sorts!AP145,"")) -> 0,5''/n | IQ44: =IF(OR($AV$6="O1",$AV$6="O2",$AV$6="O3"),Sorts!AQ83,IF(OR($BB$6="O1",$BB$6="O2"),Sorts!AQ145,"")) -> 1s | IT44: =IF(OR($AV$6="O1",$AV$6="O2",$AV$6="O3"),Sorts!AR83,IF(OR($BB$6="O1",$BB$6="O2"),Sorts!AR145,"")) -> X | IU44: =IF(OR($AV$6="O1",$AV$6="O2",$AV$6="O3"),Sorts!AS83,IF(OR($BB$6="O1",$BB$6="O2"),Sorts!AS145,"")) -> X | IV44: =IF(OR($AV$6="O1",$AV$6="O2",$AV$6="O3"),Sorts!AT83,IF(OR($BB$6="O1",$BB$6="O2"),Sorts!AT145,"")) -> X | JY44: NC | KA44: 9 | KB44: =IF(OR($AV$6="O1",$AV$6="O2",$AV$6="O3"),Sorts!BA83,IF(OR($BB$6="O1",$BB$6="O2"),Sorts!BA145,"")) -> Main Broyante de Bigby | KO44: 0 | KQ44: =IF(OR($AV$6="O1",$AV$6="O2",$AV$6="O3"),Sorts!BB83,IF(OR($BB$6="O1",$BB$6="O2"),Sorts!BB145,"")) -> 0,5''/n | KS44: =IF(OR($AV$6="O1",$AV$6="O2",$AV$6="O3"),Sorts!BC83,IF(OR($BB$6="O1",$BB$6="O2"),Sorts!BC145,"")) -> 1r/n | KV44: =IF(OR($AV$6="O1",$AV$6="O2",$AV$6="O3"),Sorts!BD83,IF(OR($BB$6="O1",$BB$6="O2"),Sorts!BD145,"")) -> X | KW44: =IF(OR($AV$6="O1",$AV$6="O2",$AV$6="O3"),Sorts!BE83,IF(OR($BB$6="O1",$BB$6="O2"),Sorts!BE145,"")) -> X | KX44: =IF(OR($AV$6="O1",$AV$6="O2",$AV$6="O3"),Sorts!BF83,IF(OR($BB$6="O1",$BB$6="O2"),Sorts!BF145,"")) -> X
