Workbook
Name CB: Autres!$N$2:$N$6
Name CM: Autres!$O$2:$O$8
Name CN: Autres!$P$2:$P$8
Name Jets_de_dés_1: Basique!$B$46:$U$63
Name Jets_de_dés_2: Basique!$B$66:$U$83
Name Jets_de_dés_3: Basique!$B$86:$U$103
Name LB: Autres!$Q$2:$Q$6
Name liste_CB: Autres!$N$2:$N$6
Name liste_CM: Autres!$O$2:$O$8
Name liste_CN: Autres!$P$2:$P$8
Name liste_LB: Autres!$Q$2:$Q$6
Name liste_LM: Autres!$R$2:$R$6
Name liste_LN: Autres!$S$2:$S$6
Name liste_N: Autres!$T$2:$T$6
Name liste_NB: Autres!$U$2:$U$9
Name liste_NM: Autres!$V$2:$V$9
Name LM: Autres!$R$2:$R$6
Name LN: Autres!$S$2:$S$6
Name maggo1: #REF!
Name maggo1: #REF!
Name maggo1: #REF!
Name maggo1: #REF!
Name maggo2: #REF!
Name maggo2: #REF!
Name maggo2: #REF!
Name maggo2: #REF!
Name N: Autres!$T$2:$T$6
Name NB: Autres!$U$2:$U$9
Name NM: Autres!$V$2:$V$9

Sheet EXPLICATIONS
A1: EXPLICATION SUR L'UTILISATION DE LA FEUILLE DE PERSONNAGE V6
A3: Cette feuille reprend quasiment toutes les informations présentes dans la feuille originale de AD&D.
B5: NOUVEAUTES :
C6: * Améliorations sur l'interaction des objets sur la Classe d'armure
B8: SAISIE DES INFORMATIONS 3 CHOIX :
C9: * Saisir manuellement dans la cellule concernée
C10: * Choisir dans le menu déroulant de la cellule
C11: * Ne rien inscrire puisque la feuille calcule seule,
B13: LISTE DES SAISIES MANUELLES :
C14: Toutes les Cellules en :
D15: Nom du joueur, Date de création, NOM, niveau, age, taille/poids, signe particuliers
D16: Chiifre des caractéristiques + % de force (si nécessaire)
D17: Objets magiques
D18: Total PV et Total Xp
D19: Pièces d'or
C20: Possessions & Equipement + Notes
B22: SORTILEGES :
C23: Dans cette version, seul le nombre de sorts authorisés se calcule automatiquement,
C24: Les sorts doivent être inscrits manuellement
B26: IMPRESSION :
C27: La feuille est paramétrée pour une impression pleine page en Recto/Verrso
A30: En espérant que cela pourra rendre service à de nombreuses personnes.
A31: J'ai voulu créér une feuille de perso à l'image de l'originale,
A32: Avec toute mon amitié.
A33: MagicStef
A35: PS : | B35: Je conseille de faire une sauvegarde de la feuille avant toute utilisation (on ne sait jamais lol),
B36: De même, le présent onglet "EXPLICATIONS", peut ensuite être supprimé,

Sheet Joueur 1
B1: Feuille de personnage | AQ1: Sortilèges | CS1: Sortilèges | EU1: Sortilèges | GW1: Sortilèges | IY1: Sortilèges
AQ2: Nombre maximum de sorts autorisés | CS2: Sortilèges de Niveau 2 | EU2: Sortilèges de Niveau 4 | GW2: Sortilèges de Niveau 6 | IY2: Sortilèges de Niveau 8
B3: Nom du joueur : | AD3: Date de création : | CS3: # | CT3: Nom du sortilège Clerc / Druide | DG3: =SUM(DG4:DG39) -> 0 | DH3: M | DI3: Portée | DL3: Durée | DO3: V | DP3: S | DQ3: M | DS3: =COUNTIF(DS4:DT39,"C") -> 0 | DT3: C | DU3: # | DV3: Nom du sortilège Magicien / Illusionniste | EI3: =SUM(EI4:EI43) -> 0 | EJ3: M | EK3: Portée | EN3: Durée | EP3: V | EQ3: S | ER3: M | EU3: # | EV3: Nom du sortilège Clerc / Druide | FI3: =SUM(FI4:FI39) -> 0 | FJ3: M | FK3: Portée | FN3: Durée | FQ3: V | FR3: S | FS3: M | FU3: =COUNTIF(FU4:FV35,"C") -> 0 | FV3: C | FW3: # | FX3: Nom du sortilège Magicien / Illusionniste | GK3: =SUM(GK4:GK39) -> 0 | GL3: M | GM3: Portée | GP3: Durée | GR3: V | GS3: S | GT3: M | GW3: # | GX3: Nom du sortilège Clerc / Druide | HK3: =SUM(HK4:HK37) -> 0 | HL3: M | HM3: Portée | HP3: Durée | HS3: V | HT3: S | HU3: M | HW3: =COUNTIF(HW4:HX33,"C") -> 0 | HX3: C | HY3: # | HZ3: Nom du sortilège Magicien / Illusionniste | IM3: =SUM(IM4:IM37) -> 0 | IN3: M | IO3: Portée | IR3: Durée | IT3: V | IU3: S | IV3: M | JY3: =COUNTIF(JY4:JZ23,"C") -> 0 | JZ3: C | KA3: # | KB3: Nom du sortilège Magicien | KO3: =SUM(KO4:KO37) -> 0 | KP3: M | KQ3: Portée | KT3: Durée | KV3: V | KW3: S | KX3: M
AR4: Clerc et Druide | AZ4: =IF(OR($O$5="CLERC",$O$5="DRUIDE",$O$5="RANGER",$O$5="PALADIN",$O$5="BARDE"),1,0) -> 1 | CS4: 1 | CT4: =IF($AU$5<>0,IF(OR($O$5="CLERC",$O$5="PALADIN"),Sorts!K4,Sorts!K28),"") -> Aquagenèse | DG4: 0 | DI4: =IF($AU$5<>0,IF(OR($O$5="CLERC",$O$5="PALADIN"),Sorts!L4,Sorts!L28),"") -> 1'' | DL4: =IF($AU$5<>0,IF(OR($O$5="CLERC",$O$5="PALADIN"),Sorts!M4,Sorts!M28),"") -> P | DO4: =IF($AU$5<>0,IF(OR($O$5="CLERC",$O$5="PALADIN"),Sorts!N4,Sorts!N28),"") -> X | DP4: =IF($AU$5<>0,IF(OR($O$5="CLERC",$O$5="PALADIN"),Sorts!O4,Sorts!O28),"") -> X | DQ4: =IF($AU$5<>0,IF(OR($O$5="CLERC",$O$5="PALADIN"),Sorts!P4,Sorts!P28),"") -> / | DS4: NC | DU4: 1 | DV4: =IF($AU$7<>0,IF($O$5="Illusionniste",Sorts!Q119,Sorts!K75),"") | EI4: 0 | EK4: =IF($AU$7<>0,IF($O$5="Illusionniste",Sorts!R119,Sorts!L75),"") | EM4: =IF($AU$7<>0,IF($O$5="Illusionniste",Sorts!S119,Sorts!M75),"") | EP4: =IF($AU$7<>0,IF($O$5="Illusionniste",Sorts!T119,Sorts!N75),"") | EQ4: =IF($AU$7<>0,IF($O$5="Illusionniste",Sorts!U119,Sorts!O75),"") | ER4: =IF($AU$7<>0,IF($O$5="Illusionniste",Sorts!V119,Sorts!P75),"") | EU4: 1 | EV4: =IF($AU$5<>0,IF(OR($O$5="CLERC",$O$5="PALADIN"),Sorts!W4,Sorts!W28),"") -> Contrôle de la Température sur 3 mètres | FI4: 0 | FK4: =IF($AU$5<>0,IF(OR($O$5="CLERC",$O$5="PALADIN"),Sorts!X4,Sorts!X28),"") -> 0 | FN4: =IF($AU$5<>0,IF(OR($O$5="CLERC",$O$5="PALADIN"),Sorts!Y4,Sorts!Y28),"") -> 4t+1/n | FQ4: =IF($AU$5<>0,IF(OR($O$5="CLERC",$O$5="PALADIN"),Sorts!Z4,Sorts!Z28),"") -> X | FR4: =IF($AU$5<>0,IF(OR($O$5="CLERC",$O$5="PALADIN"),Sorts!AA4,Sorts!AA28),"") -> X | FS4: =IF($AU$5<>0,IF(OR($O$5="CLERC",$O$5="PALADIN"),Sorts!AB4,Sorts!AB28),"") -> / | FU4: NC | FW4: 1 | FX4: =IF($AU$7<>0,IF($O$5="Illusionniste",Sorts!AC119,Sorts!W75),"") | GK4: 0 | GM4: =IF($AU$7<>0,IF($O$5="Illusionniste",Sorts!AD119,Sorts!X75),"") | GO4: =IF($AU$7<>0,IF($O$5="Illusionniste",Sorts!AE119,Sorts!Y75),"") | GR4: =IF($AU$7<>0,IF($O$5="Illusionniste",Sorts!AF119,Sorts!Z75),"") | GS4: =IF($AU$7<>0,IF($O$5="Illusionniste",Sorts!AG119,Sorts!AA75),"") | GT4: =IF($AU$7<>0,IF($O$5="Illusionniste",Sorts!AH119,Sorts!AB75),"") | GW4: 1 | GX4: =IF($AU$5<>0,IF(OR($O$5="CLERC",$O$5="PALADIN"),Sorts!AI4,Sorts!AI28),"") -> Bouclier Anti-Animal | HK4: 0 | HM4: =IF($AU$5<>0,IF(OR($O$5="CLERC",$O$5="PALADIN"),Sorts!AJ4,Sorts!AJ28),"") -> 0 | HP4: =IF($AU$5<>0,IF(OR($O$5="CLERC",$O$5="PALADIN"),Sorts!AK4,Sorts!AK28),"") -> 1t/n | HS4: =IF($AU$5<>0,IF(OR($O$5="CLERC",$O$5="PALADIN"),Sorts!AL4,Sorts!AL28),"") -> X | HT4: =IF($AU$5<>0,IF(OR($O$5="CLERC",$O$5="PALADIN"),Sorts!AM4,Sorts!AM28),"") -> X | HU4: =IF($AU$5<>0,IF(OR($O$5="CLERC",$O$5="PALADIN"),Sorts!AN4,Sorts!AN28),"") -> X | HW4: NC | HY4: 1 | HZ4: =IF($AU$7<>0,IF($O$5="Illusionniste",Sorts!AO119,Sorts!AI75),"") | IM4: 0 | IO4: =IF($AU$7<>0,IF($O$5="Illusionniste",Sorts!AP119,Sorts!AJ75),"") | IQ4: =IF($AU$7<>0,IF($O$5="Illusionniste",Sorts!AQ119,Sorts!AK75),"") | IT4: =IF($AU$7<>0,IF($O$5="Illusionniste",Sorts!AR119,Sorts!AL75),"") | IU4: =IF($AU$7<>0,IF($O$5="Illusionniste",Sorts!AS119,Sorts!AM75),"") | IV4: =IF($AU$7<>0,IF($O$5="Illusionniste",Sorts!AT119,Sorts!AN75),"") | JY4: NC | KA4: 1 | KB4: =IF($AU$7<>0,IF($O$5="Illusionniste",Sorts!BA119,Sorts!AU75),"") | KO4: 0 | KQ4: =IF($AU$7<>0,IF($O$5="Illusionniste",Sorts!BA119,Sorts!AV75),"") | KS4: =IF($AU$7<>0,IF($O$5="Illusionniste",Sorts!BA119,Sorts!AW75),"") | KV4: =IF($AU$7<>0,IF($O$5="Illusionniste",Sorts!BA119,Sorts!AX75),"") | KW4: =IF($AU$7<>0,IF($O$5="Illusionniste",Sorts!BA119,Sorts!AY75),"") | KX4: =IF($AU$7<>0,IF($O$5="Illusionniste",Sorts!BA119,Sorts!AZ75),"")
B5: Joueur 1 | M5: Classe : | O5: DRUIDE | X5: Titre : | Z5: =INDEX(Niveaux!A3:L39,MATCH('Joueur 1'!$AM$5,Niveaux!A4:A39,0)+1,MATCH('Joueur 1'!$O$5,Niveaux!B2:L2,0)+1) -> Novice | AJ5: Niveau : | AM5: 1 | AR5: Niv 1 | AU5: =IF(OR($O$5="CLERC",$O$5="DRUIDE",$O$5="RANGER",$O$5="PALADIN",$O$5="BARDE"),INDEX(Niveaux!$A$782:$M$818,'Joueur 1'!$AM$5+1,MATCH('Joueur 1'!$O$5,Niveaux!$B$782:$L$782,0)+1),0)+$N$16 -> 4 | AW5: Niv 2 | AZ5: =IF(OR($O$5="CLERC",$O$5="DRUIDE",$O$5="RANGER",$O$5="PALADIN",$O$5="BARDE"),INDEX(Niveaux!$A$819:$M$885,'Joueur 1'!$AM$5+1,MATCH('Joueur 1'!$O$5,Niveaux!$B$819:$L$819,0)+1),0)+$O$16 -> 2 | BB5: Niv 3 | BE5: =IF(OR($O$5="CLERC",$O$5="DRUIDE",$O$5="RANGER",$O$5="PALADIN",$O$5="BARDE"),INDEX(Niveaux!$A$856:$M$892,'Joueur 1'!$AM$5+1,MATCH('Joueur 1'!$O$5,Niveaux!$B$856:$L$856,0)+1),0)+$P$16 -> 1 | BG5: Niv 4 | BJ5: =IF(OR($O$5="CLERC",$O$5="DRUIDE",$O$5="RANGER",$O$5="PALADIN",$O$5="BARDE"),INDEX(Niveaux!$A$893:$M$929,'Joueur 1'!$AM$5+1,MATCH('Joueur 1'!$O$5,Niveaux!$B$893:$L$893,0)+1),0)+$Q$16 -> 0 | BL5: Niv 5 | BO5: =IF(OR($O$5="CLERC",$O$5="DRUIDE",$O$5="RANGER",$O$5="PALADIN",$O$5="BARDE"),INDEX(Niveaux!$A$930:$M$966,'Joueur 1'!$AM$5+1,MATCH('Joueur 1'!$O$5,Niveaux!$B$930:$L$930,0)+1),0) -> 0 | BQ5: Niv 6 | BT5: =IF(OR($O$5="CLERC",$O$5="DRUIDE",$O$5="RANGER",$O$5="PALADIN",$O$5="BARDE"),INDEX(Niveaux!$A$967:$M$1003,'Joueur 1'!$AM$5+1,MATCH('Joueur 1'!$O$5,Niveaux!$B$967:$L$967,0)+1),0) -> 0 | BV5: Niv 7 | BY5: =IF(OR($O$5="CLERC",$O$5="DRUIDE",$O$5="RANGER",$O$5="PALADIN",$O$5="BARDE"),INDEX(Niveaux!$A$1004:$M$1040,'Joueur 1'!$AM$5+1,MATCH('Joueur 1'!$O$5,Niveaux!$B$1004:$L$1004,0)+1),0) -> 0 | CS5: 2 | CT5: =IF($AU$5<>0,IF(OR($O$5="CLERC",$O$5="PALADIN"),Sorts!K5,Sorts!K29),"") -> Baie Magique | DG5: 0 | DI5: =IF($AU$5<>0,IF(OR($O$5="CLERC",$O$5="PALADIN"),Sorts!L5,Sorts!L29),"") -> T | DL5: =IF($AU$5<>0,IF(OR($O$5="CLERC",$O$5="PALADIN"),Sorts!M5,Sorts!M29),"") -> 1j/n | DO5: =IF($AU$5<>0,IF(OR($O$5="CLERC",$O$5="PALADIN"),Sorts!N5,Sorts!N29),"") -> X | DP5: =IF($AU$5<>0,IF(OR($O$5="CLERC",$O$5="PALADIN"),Sorts!O5,Sorts!O29),"") -> X | DQ5: =IF($AU$5<>0,IF(OR($O$5="CLERC",$O$5="PALADIN"),Sorts!P5,Sorts!P29),"") -> X | DS5: NC | DU5: 2 | DV5: =IF($AU$7<>0,IF($O$5="Illusionniste",Sorts!Q120,Sorts!K76),"") | EI5: 0 | EK5: =IF($AU$7<>0,IF($O$5="Illusionniste",Sorts!R120,Sorts!L76),"") | EM5: =IF($AU$7<>0,IF($O$5="Illusionniste",Sorts!S120,Sorts!M76),"") | EP5: =IF($AU$7<>0,IF($O$5="Illusionniste",Sorts!T120,Sorts!N76),"") | EQ5: =IF($AU$7<>0,IF($O$5="Illusionniste",Sorts!U120,Sorts!O76),"") | ER5: =IF($AU$7<>0,IF($O$5="Illusionniste",Sorts!V120,Sorts!P76),"") | EU5: 2 | EV5: =IF($AU$5<>0,IF(OR($O$5="CLERC",$O$5="PALADIN"),Sorts!W5,Sorts!W29),"") -> Dissipation de la Magie | FI5: 0 | FK5: =IF($AU$5<>0,IF(OR($O$5="CLERC",$O$5="PALADIN"),Sorts!X5,Sorts!X29),"") -> 8'' | FN5: =IF($AU$5<>0,IF(OR($O$5="CLERC",$O$5="PALADIN"),Sorts!Y5,Sorts!Y29),"") -> P | FQ5: =IF($AU$5<>0,IF(OR($O$5="CLERC",$O$5="PALADIN"),Sorts!Z5,Sorts!Z29),"") -> X | FR5: =IF($AU$5<>0,IF(OR($O$5="CLERC",$O$5="PALADIN"),Sorts!AA5,Sorts!AA29),"") -> X | FS5: =IF($AU$5<>0,IF(OR($O$5="CLERC",$O$5="PALADIN"),Sorts!AB5,Sorts!AB29),"") -> X | FU5: NC | FW5: 2 | FX5: =IF($AU$7<>0,IF($O$5="Illusionniste",Sorts!AC120,Sorts!W76),"") | GK5: 0 | GM5: =IF($AU$7<>0,IF($O$5="Illusionniste",Sorts!AD120,Sorts!X76),"") | GO5: =IF($AU$7<>0,IF($O$5="Illusionniste",Sorts!AE120,Sorts!Y76),"") | GR5: =IF($AU$7<>0,IF($O$5="Illusionniste",Sorts!AF120,Sorts!Z76),"") | GS5: =IF($AU$7<>0,IF($O$5="Illusionniste",Sorts!AG120,Sorts!AA76),"") | GT5: =IF($AU$7<>0,IF($O$5="Illusionniste",Sorts!AH120,Sorts!AB76),"") | GW5: 2 | GX5: =IF($AU$5<>0,IF(OR($O$5="CLERC",$O$5="PALADIN"),Sorts!AI5,Sorts!AI29),"") -> Chêne Vivant | HK5: 0 | HM5: =IF($AU$5<>0,IF(OR($O$5="CLERC",$O$5="PALADIN"),Sorts!AJ5,Sorts!AJ29),"") -> T | HP5: =IF($AU$5<>0,IF(OR($O$5="CLERC",$O$5="PALADIN"),Sorts!AK5,Sorts!AK29),"") -> 1j/n | HS5: =IF($AU$5<>0,IF(OR($O$5="CLERC",$O$5="PALADIN"),Sorts!AL5,Sorts!AL29),"") -> X | HT5: =IF($AU$5<>0,IF(OR($O$5="CLERC",$O$5="PALADIN"),Sorts!AM5,Sorts!AM29),"") -> X | HU5: =IF($AU$5<>0,IF(OR($O$5="CLERC",$O$5="PALADIN"),Sorts!AN5,Sorts!AN29),"") -> X | HW5: NC | HY5: 2 | HZ5: =IF($AU$7<>0,IF($O$5="Illusionniste",Sorts!AO120,Sorts!AI76),"") | IM5: 0 | IO5: =IF($AU$7<>0,IF($O$5="Illusionniste",Sorts!AP120,Sorts!AJ76),"") | IQ5: =IF($AU$7<>0,IF($O$5="Illusionniste",Sorts!AQ120,Sorts!AK76),"") | IT5: =IF($AU$7<>0,IF($O$5="Illusionniste",Sorts!AR120,Sorts!AL76),"") | IU5: =IF($AU$7<>0,IF($O$5="Illusionniste",Sorts!AS120,Sorts!AM76),"") | IV5: =IF($AU$7<>0,IF($O$5="Illusionniste",Sorts!AT120,Sorts!AN76),"") | JY5: NC | KA5: 2 | KB5: =IF($AU$7<>0,IF($O$5="Illusionniste",Sorts!BA120,Sorts!AU76),"") | KO5: 0 | KQ5: =IF($AU$7<>0,IF($O$5="Illusionniste",Sorts!BA120,Sorts!AV76),"") | KS5: =IF($AU$7<>0,IF($O$5="Illusionniste",Sorts!BA120,Sorts!AW76),"") | KV5: =IF($AU$7<>0,IF($O$5="Illusionniste",Sorts!BA120,Sorts!AX76),"") | KW5: =IF($AU$7<>0,IF($O$5="Illusionniste",Sorts!BA120,Sorts!AY76),"") | KX5: =IF($AU$7<>0,IF($O$5="Illusionniste",Sorts!BA120,Sorts!AZ76),"")
M6: Race : | O6: HUMAIN | X6: Sexe : | AJ6: Age : | AR6: Magicien et Illusioniste | BD6: =IF(OR($O$5="MAGICIEN",$O$5="ILLUSIONISTE",$O$5="RANGER"),1,0) -> 0 | BJ6: C | BK6: : Ecrit & Connu ! | BQ6: E | BR6: : Ecrit | CB6: NC | CC6: : Non Connu | CS6: 3 | CT6: =IF($AU$5<>0,IF(OR($O$5="CLERC",$O$5="PALADIN"),Sorts!K6,Sorts!K30),"") -> Catalepsie | DG6: 0 | DI6: =IF($AU$5<>0,IF(OR($O$5="CLERC",$O$5="PALADIN"),Sorts!L6,Sorts!L30),"") -> 1'' | DL6: =IF($AU$5<>0,IF(OR($O$5="CLERC",$O$5="PALADIN"),Sorts!M6,Sorts!M30),"") -> 4r+2/n | DO6: =IF($AU$5<>0,IF(OR($O$5="CLERC",$O$5="PALADIN"),Sorts!N6,Sorts!N30),"") -> X | DP6: =IF($AU$5<>0,IF(OR($O$5="CLERC",$O$5="PALADIN"),Sorts!O6,Sorts!O30),"") -> X | DQ6: =IF($AU$5<>0,IF(OR($O$5="CLERC",$O$5="PALADIN"),Sorts!P6,Sorts!P30),"") -> X | DS6: NC | DU6: 3 | DV6: =IF($AU$7<>0,IF($O$5="Illusionniste",Sorts!Q121,Sorts!K77),"") | EI6: 0 | EK6: =IF($AU$7<>0,IF($O$5="Illusionniste",Sorts!R121,Sorts!L77),"") | EM6: =IF($AU$7<>0,IF($O$5="Illusionniste",Sorts!S121,Sorts!M77),"") | EP6: =IF($AU$7<>0,IF($O$5="Illusionniste",Sorts!T121,Sorts!N77),"") | EQ6: =IF($AU$7<>0,IF($O$5="Illusionniste",Sorts!U121,Sorts!O77),"") | ER6: =IF($AU$7<>0,IF($O$5="Illusionniste",Sorts!V121,Sorts!P77),"") | EU6: 3 | EV6: =IF($AU$5<>0,IF(OR($O$5="CLERC",$O$5="PALADIN"),Sorts!W6,Sorts!W30),"") -> Embrasement | FI6: 0 | FK6: =IF($AU$5<>0,IF(OR($O$5="CLERC",$O$5="PALADIN"),Sorts!X6,Sorts!X30),"") -> 4'' | FN6: =IF($AU$5<>0,IF(OR($O$5="CLERC",$O$5="PALADIN"),Sorts!Y6,Sorts!Y30),"") -> 1r | FQ6: =IF($AU$5<>0,IF(OR($O$5="CLERC",$O$5="PALADIN"),Sorts!Z6,Sorts!Z30),"") -> X | FR6: =IF($AU$5<>0,IF(OR($O$5="CLERC",$O$5="PALADIN"),Sorts!AA6,Sorts!AA30),"") -> X | FS6: =IF($AU$5<>0,IF(OR($O$5="CLERC",$O$5="PALADIN"),Sorts!AB6,Sorts!AB30),"") -> X | FU6: NC | FW6: 3 | FX6: =IF($AU$7<>0,IF($O$5="Illusionniste",Sorts!AC121,Sorts!W77),"") | GK6: 0 | GM6: =IF($AU$7<>0,IF($O$5="Illusionniste",Sorts!AD121,Sorts!X77),"") | GO6: =IF($AU$7<>0,IF($O$5="Illusionniste",Sorts!AE121,Sorts!Y77),"") | GR6: =IF($AU$7<>0,IF($O$5="Illusionniste",Sorts!AF121,Sorts!Z77),"") | GS6: =IF($AU$7<>0,IF($O$5="Illusionniste",Sorts!AG121,Sorts!AA77),"") | GT6: =IF($AU$7<>0,IF($O$5="Illusionniste",Sorts!AH121,Sorts!AB77),"") | GW6: 3 | GX6: =IF($AU$5<>0,IF(OR($O$5="CLERC",$O$5="PALADIN"),Sorts!AI6,Sorts!AI30),"") -> Débilité Mentale | HK6: 0 | HM6: =IF($AU$5<>0,IF(OR($O$5="CLERC",$O$5="PALADIN"),Sorts!AJ6,Sorts!AJ30),"") -> 16'' | HP6: =IF($AU$5<>0,IF(OR($O$5="CLERC",$O$5="PALADIN"),Sorts!AK6,Sorts!AK30),"") -> P | HS6: =IF($AU$5<>0,IF(OR($O$5="CLERC",$O$5="PALADIN"),Sorts!AL6,Sorts!AL30),"") -> X | HT6: =IF($AU$5<>0,IF(OR($O$5="CLERC",$O$5="PALADIN"),Sorts!AM6,Sorts!AM30),"") -> X | HU6: =IF($AU$5<>0,IF(OR($O$5="CLERC",$O$5="PALADIN"),Sorts!AN6,Sorts!AN30),"") -> / | HW6: NC | HY6: 3 | HZ6: =IF($AU$7<>0,IF($O$5="Illusionniste",Sorts!AO121,Sorts!AI77),"") | IM6: 0 | IO6: =IF($AU$7<>0,IF($O$5="Illusionniste",Sorts!AP121,Sorts!AJ77),"") | IQ6: =IF($AU$7<>0,IF($O$5="Illusionniste",Sorts!AQ121,Sorts!AK77),"") | IT6: =IF($AU$7<>0,IF($O$5="Illusionniste",Sorts!AR121,Sorts!AL77),"") | IU6: =IF($AU$7<>0,IF($O$5="Illusionniste",Sorts!AS121,Sorts!AM77),"") | IV6: =IF($AU$7<>0,IF($O$5="Illusionniste",Sorts!AT121,Sorts!AN77),"") | JY6: NC | KA6: 3 | KB6: =IF($AU$7<>0,IF($O$5="Illusionniste",Sorts!BA121,Sorts!AU77),"") | KO6: 0 | KQ6: =IF($AU$7<>0,IF($O$5="Illusionniste",Sorts!BA121,Sorts!AV77),"") | KS6: =IF($AU$7<>0,IF($O$5="Illusionniste",Sorts!BA121,Sorts!AW77),"") | KV6: =IF($AU$7<>0,IF($O$5="Illusionniste",Sorts!BA121,Sorts!AX77),"") | KW6: =IF($AU$7<>0,IF($O$5="Illusionniste",Sorts!BA121,Sorts!AY77),"") | KX6: =IF($AU$7<>0,IF($O$5="Illusionniste",Sorts!BA121,Sorts!AZ77),"")
M7: Dieu : | O7: Mailikki Déesse des Forêts | X7: Talent acquis : | AA7: Constructeur de navires | AG7: Taille/Poids : | AR7: Niv 1 | AU7: =IF(OR($O$5="MAGICIEN",$O$5="ILLUSIONNISTE",$O$5="RANGER"),IF($O$5="RANGER",INDEX(Niveaux!$A$782:$M$818,'Joueur 1'!$AM$5+1,13),INDEX(Niveaux!$A$782:$M$818,'Joueur 1'!$AM$5+1,MATCH('Joueur 1'!$O$5,Niveaux!$B$782:$L$782,0)+1)),0) -> 0 | AW7: Niv 2 | AZ7: =IF(OR($O$5="MAGICIEN",$O$5="ILLUSIONNISTE",$O$5="RANGER"),IF($O$5="RANGER",INDEX(Niveaux!$A$819:$M$885,'Joueur 1'!$AM$5+1,13),INDEX(Niveaux!$A$819:$M$885,'Joueur 1'!$AM$5+1,MATCH('Joueur 1'!$O$5,Niveaux!$B$819:$L$819,0)+1)),0) -> 0 | BB7: Niv 3 | BE7: =IF(OR($O$5="MAGICIEN",$O$5="ILLUSIONNISTE",$O$5="RANGER"),IF($O$5="RANGER",0,INDEX(Niveaux!$A$856:$M$892,'Joueur 1'!$AM$5+1,MATCH('Joueur 1'!$O$5,Niveaux!$B$856:$L$856,0)+1)),0) -> 0 | BG7: Niv 4 | BJ7: =IF(OR($O$5="MAGICIEN",$O$5="ILLUSIONNISTE",$O$5="RANGER"),INDEX(Niveaux!$A$893:$M$929,'Joueur 1'!$AM$5+1,MATCH('Joueur 1'!$O$5,Niveaux!$B$893:$L$893,0)+1),0) -> 0 | BL7: Niv 5 | BO7: =IF(OR($O$5="MAGICIEN",$O$5="ILLUSIONNISTE",$O$5="RANGER"),INDEX(Niveaux!$A$930:$M$966,'Joueur 1'!$AM$5+1,MATCH('Joueur 1'!$O$5,Niveaux!$B$930:$L$930,0)+1),0) -> 0 | BQ7: Niv 6 | BT7: =IF(OR($O$5="MAGICIEN",$O$5="ILLUSIONNISTE",$O$5="RANGER"),INDEX(Niveaux!$A$967:$M$1003,'Joueur 1'!$AM$5+1,MATCH('Joueur 1'!$O$5,Niveaux!$B$967:$L$967,0)+1),0) -> 0 | BV7: Niv 7 | BY7: =IF(OR($O$5="MAGICIEN",$O$5="ILLUSIONNISTE",$O$5="RANGER"),INDEX(Niveaux!$A$1004:$M$1040,'Joueur 1'!$AM$5+1,MATCH('Joueur 1'!$O$5,Niveaux!$B$1004:$L$1004,0)+1),0) -> 0 | CA7: Niv 8 | CD7: =INDEX(Niveaux!$A$1041:$M$1077,'Joueur 1'!$AM$5+1,MATCH('Joueur 1'!$O$5,Niveaux!$B$1041:$L$1041,0)+1) -> 0 | CF7: Niv 9 | CI7: =INDEX(Niveaux!$A$1078:$M$1114,'Joueur 1'!$AM$5+1,MATCH('Joueur 1'!$O$5,Niveaux!$B$1078:$L$1078,0)+1) -> 0 | CS7: 4 | CT7: =IF($AU$5<>0,IF(OR($O$5="CLERC",$O$5="PALADIN"),Sorts!K7,Sorts!K31),"") -> Charme-Personnes ou Mammifères | DG7: 0 | DI7: =IF($AU$5<>0,IF(OR($O$5="CLERC",$O$5="PALADIN"),Sorts!L7,Sorts!L31),"") -> 8'' | DL7: =IF($AU$5<>0,IF(OR($O$5="CLERC",$O$5="PALADIN"),Sorts!M7,Sorts!M31),"") -> S | DO7: =IF($AU$5<>0,IF(OR($O$5="CLERC",$O$5="PALADIN"),Sorts!N7,Sorts!N31),"") -> X | DP7: =IF($AU$5<>0,IF(OR($O$5="CLERC",$O$5="PALADIN"),Sorts!O7,Sorts!O31),"") -> X | DQ7: =IF($AU$5<>0,IF(OR($O$5="CLERC",$O$5="PALADIN"),Sorts!P7,Sorts!P31),"") -> / | DS7: NC | DU7: 4 | DV7: =IF($AU$7<>0,IF($O$5="Illusionniste",Sorts!Q122,Sorts!K78),"") | EI7: 0 | EK7: =IF($AU$7<>0,IF($O$5="Illusionniste",Sorts!R122,Sorts!L78),"") | EM7: =IF($AU$7<>0,IF($O$5="Illusionniste",Sorts!S122,Sorts!M78),"") | EP7: =IF($AU$7<>0,IF($O$5="Illusionniste",Sorts!T122,Sorts!N78),"") | EQ7: =IF($AU$7<>0,IF($O$5="Illusionniste",Sorts!U122,Sorts!O78),"") | ER7: =IF($AU$7<>0,IF($O$5="Illusionniste",Sorts!V122,Sorts!P78),"") | EU7: 4 | EV7: =IF($AU$5<>0,IF(OR($O$5="CLERC",$O$5="PALADIN"),Sorts!W7,Sorts!W31),"") -> Forêt Hallucinatoire | FI7: 0 | FK7: =IF($AU$5<>0,IF(OR($O$5="CLERC",$O$5="PALADIN"),Sorts!X7,Sorts!X31),"") -> 8'' | FN7: =IF($AU$5<>0,IF(OR($O$5="CLERC",$O$5="PALADIN"),Sorts!Y7,Sorts!Y31),"") -> P | FQ7: =IF($AU$5<>0,IF(OR($O$5="CLERC",$O$5="PALADIN"),Sorts!Z7,Sorts!Z31),"") -> X | FR7: =IF($AU$5<>0,IF(OR($O$5="CLERC",$O$5="PALADIN"),Sorts!AA7,Sorts!AA31),"") -> X | FS7: =IF($AU$5<>0,IF(OR($O$5="CLERC",$O$5="PALADIN"),Sorts!AB7,Sorts!AB31),"") -> X | FU7: NC | FW7: 4 | FX7: =IF($AU$7<>0,IF($O$5="Illusionniste",Sorts!AC122,Sorts!W78),"") | GK7: 0 | GM7: =IF($AU$7<>0,IF($O$5="Illusionniste",Sorts!AD122,Sorts!X78),"") | GO7: =IF($AU$7<>0,IF($O$5="Illusionniste",Sorts!AE122,Sorts!Y78),"") | GR7: =IF($AU$7<>0,IF($O$5="Illusionniste",Sorts!AF122,Sorts!Z78),"") | GS7: =IF($AU$7<>0,IF($O$5="Illusionniste",Sorts!AG122,Sorts!AA78),"") | GT7: =IF($AU$7<>0,IF($O$5="Illusionniste",Sorts!AH122,Sorts!AB78),"") | GW7: 4 | GX7: =IF($AU$5<>0,IF(OR($O$5="CLERC",$O$5="PALADIN"),Sorts!AI7,Sorts!AI31),"") -> Graines de Feu | HK7: 0 | HM7: =IF($AU$5<>0,IF(OR($O$5="CLERC",$O$5="PALADIN"),Sorts!AJ7,Sorts!AJ31),"") -> 4'' | HP7: =IF($AU$5<>0,IF(OR($O$5="CLERC",$O$5="PALADIN"),Sorts!AK7,Sorts!AK31),"") -> S | HS7: =IF($AU$5<>0,IF(OR($O$5="CLERC",$O$5="PALADIN"),Sorts!AL7,Sorts!AL31),"") -> X | HT7: =IF($AU$5<>0,IF(OR($O$5="CLERC",$O$5="PALADIN"),Sorts!AM7,Sorts!AM31),"") -> X | HU7: =IF($AU$5<>0,IF(OR($O$5="CLERC",$O$5="PALADIN"),Sorts!AN7,Sorts!AN31),"") -> X | HW7: NC | HY7: 4 | HZ7: =IF($AU$7<>0,IF($O$5="Illusionniste",Sorts!AO122,Sorts!AI78),"") | IM7: 0 | IO7: =IF($AU$7<>0,IF($O$5="Illusionniste",Sorts!AP122,Sorts!AJ78),"") | IQ7: =IF($AU$7<>0,IF($O$5="Illusionniste",Sorts!AQ122,Sorts!AK78),"") | IT7: =IF($AU$7<>0,IF($O$5="Illusionniste",Sorts!AR122,Sorts!AL78),"") | IU7: =IF($AU$7<>0,IF($O$5="Illusionniste",Sorts!AS122,Sorts!AM78),"") | IV7: =IF($AU$7<>0,IF($O$5="Illusionniste",Sorts!AT122,Sorts!AN78),"") | JY7: NC | KA7: 4 | KB7: =IF($AU$7<>0,IF($O$5="Illusionniste",Sorts!BA122,Sorts!AU78),"") | KO7: 0 | KQ7: =IF($AU$7<>0,IF($O$5="Illusionniste",Sorts!BA122,Sorts!AV78),"") | KS7: =IF($AU$7<>0,IF($O$5="Illusionniste",Sorts!BA122,Sorts!AW78),"") | KV7: =IF($AU$7<>0,IF($O$5="Illusionniste",Sorts!BA122,Sorts!AX78),"") | KW7: =IF($AU$7<>0,IF($O$5="Illusionniste",Sorts!BA122,Sorts!AY78),"") | KX7: =IF($AU$7<>0,IF($O$5="Illusionniste",Sorts!BA122,Sorts!AZ78),"")
C8: Couleur de peau : | H8: Halée | M8: Couleur des yeux : | R8: Noisette | X8: Couleur des cheveux : | AD8: Chatains | AQ8: Sortilèges de Niveau 1 | CS8: 5 | CT8: =IF($AU$5<>0,IF(OR($O$5="CLERC",$O$5="PALADIN"),Sorts!K8,Sorts!K32),"") -> Croc-en-Jambe | DG8: 0 | DI8: =IF($AU$5<>0,IF(OR($O$5="CLERC",$O$5="PALADIN"),Sorts!L8,Sorts!L32),"") -> T | DL8: =IF($AU$5<>0,IF(OR($O$5="CLERC",$O$5="PALADIN"),Sorts!M8,Sorts!M32),"") -> 1t/n | DO8: =IF($AU$5<>0,IF(OR($O$5="CLERC",$O$5="PALADIN"),Sorts!N8,Sorts!N32),"") -> X | DP8: =IF($AU$5<>0,IF(OR($O$5="CLERC",$O$5="PALADIN"),Sorts!O8,Sorts!O32),"") -> X | DQ8: =IF($AU$5<>0,IF(OR($O$5="CLERC",$O$5="PALADIN"),Sorts!P8,Sorts!P32),"") -> X | DS8: NC | DU8: 5 | DV8: =IF($AU$7<>0,IF($O$5="Illusionniste",Sorts!Q123,Sorts!K79),"") | EI8: 0 | EK8: =IF($AU$7<>0,IF($O$5="Illusionniste",Sorts!R123,Sorts!L79),"") | EM8: =IF($AU$7<>0,IF($O$5="Illusionniste",Sorts!S123,Sorts!M79),"") | EP8: =IF($AU$7<>0,IF($O$5="Illusionniste",Sorts!T123,Sorts!N79),"") | EQ8: =IF($AU$7<>0,IF($O$5="Illusionniste",Sorts!U123,Sorts!O79),"") | ER8: =IF($AU$7<>0,IF($O$5="Illusionniste",Sorts!V123,Sorts!P79),"") | EU8: 5 | EV8: =IF($AU$5<>0,IF(OR($O$5="CLERC",$O$5="PALADIN"),Sorts!W8,Sorts!W32),"") -> Invocation Animale I | FI8: 0 | FK8: =IF($AU$5<>0,IF(OR($O$5="CLERC",$O$5="PALADIN"),Sorts!X8,Sorts!X32),"") -> 4''/n | FN8: =IF($AU$5<>0,IF(OR($O$5="CLERC",$O$5="PALADIN"),Sorts!Y8,Sorts!Y32),"") -> S | FQ8: =IF($AU$5<>0,IF(OR($O$5="CLERC",$O$5="PALADIN"),Sorts!Z8,Sorts!Z32),"") -> X | FR8: =IF($AU$5<>0,IF(OR($O$5="CLERC",$O$5="PALADIN"),Sorts!AA8,Sorts!AA32),"") -> X | FS8: =IF($AU$5<>0,IF(OR($O$5="CLERC",$O$5="PALADIN"),Sorts!AB8,Sorts!AB32),"") -> X | FU8: NC | FW8: 5 | FX8: =IF($AU$7<>0,IF($O$5="Illusionniste",Sorts!AC123,Sorts!W79),"") | GK8: 0 | GM8: =IF($AU$7<>0,IF($O$5="Illusionniste",Sorts!AD123,Sorts!X79),"") | GO8: =IF($AU$7<>0,IF($O$5="Illusionniste",Sorts!AE123,Sorts!Y79),"") | GR8: =IF($AU$7<>0,IF($O$5="Illusionniste",Sorts!AF123,Sorts!Z79),"") | GS8: =IF($AU$7<>0,IF($O$5="Illusionniste",Sorts!AG123,Sorts!AA79),"") | GT8: =IF($AU$7<>0,IF($O$5="Illusionniste",Sorts!AH123,Sorts!AB79),"") | GW8: 5 | GX8: =IF($AU$5<>0,IF(OR($O$5="CLERC",$O$5="PALADIN"),Sorts!AI8,Sorts!AI32),"") -> Invocation Animale III | HK8: 0 | HM8: =IF($AU$5<>0,IF(OR($O$5="CLERC",$O$5="PALADIN"),Sorts!AJ8,Sorts!AJ32),"") -> 8''/n | HP8: =IF($AU$5<>0,IF(OR($O$5="CLERC",$O$5="PALADIN"),Sorts!AK8,Sorts!AK32),"") -> S | HS8: =IF($AU$5<>0,IF(OR($O$5="CLERC",$O$5="PALADIN"),Sorts!AL8,Sorts!AL32),"") -> X | HT8: =IF($AU$5<>0,IF(OR($O$5="CLERC",$O$5="PALADIN"),Sorts!AM8,Sorts!AM32),"") -> X | HU8: =IF($AU$5<>0,IF(OR($O$5="CLERC",$O$5="PALADIN"),Sorts!AN8,Sorts!AN32),"") -> X | HW8: NC | HY8: 5 | HZ8: =IF($AU$7<>0,IF($O$5="Illusionniste",Sorts!AO123,Sorts!AI79),"") | IM8: 0 | IO8: =IF($AU$7<>0,IF($O$5="Illusionniste",Sorts!AP123,Sorts!AJ79),"") | IQ8: =IF($AU$7<>0,IF($O$5="Illusionniste",Sorts!AQ123,Sorts!AK79),"") | IT8: =IF($AU$7<>0,IF($O$5="Illusionniste",Sorts!AR123,Sorts!AL79),"") | IU8: =IF($AU$7<>0,IF($O$5="Illusionniste",Sorts!AS123,Sorts!AM79),"") | IV8: =IF($AU$7<>0,IF($O$5="Illusionniste",Sorts!AT123,Sorts!AN79),"") | JY8: NC | KA8: 5 | KB8: =IF($AU$7<>0,IF($O$5="Illusionniste",Sorts!BA123,Sorts!AU79),"") | KO8: 0 | KQ8: =IF($AU$7<>0,IF($O$5="Illusionniste",Sorts!BA123,Sorts!AV79),"") | KS8: =IF($AU$7<>0,IF($O$5="Illusionniste",Sorts!BA123,Sorts!AW79),"") | KV8: =IF($AU$7<>0,IF($O$5="Illusionniste",Sorts!BA123,Sorts!AX79),"") | KW8: =IF($AU$7<>0,IF($O$5="Illusionniste",Sorts!BA123,Sorts!AY79),"") | KX8: =IF($AU$7<>0,IF($O$5="Illusionniste",Sorts!BA123,Sorts!AZ79),"")
C9: Signe particulier : | AQ9: # | AR9: Nom du sortilège Clerc / Druide | BE9: =SUM(BE10:BE49) -> 0 | BF9: M | BG9: Portée | BJ9: Durée | BM9: V | BN9: S | BO9: M | BQ9: =COUNTIF(BQ10:BR49,"C") -> 0 | BR9: C | BS9: # | BT9: Nom du sortilège Magicien / Illusioniste | CG9: =SUM(CG10:CG49) -> 0 | CH9: M | CI9: Portée | CL9: Durée | CN9: V | CO9: S | CP9: M | CS9: 6 | CT9: =IF($AU$5<>0,IF(OR($O$5="CLERC",$O$5="PALADIN"),Sorts!K9,Sorts!K33),"") -> Distorsion du Bois | DG9: 0 | DI9: =IF($AU$5<>0,IF(OR($O$5="CLERC",$O$5="PALADIN"),Sorts!L9,Sorts!L33),"") -> 1''/n | DL9: =IF($AU$5<>0,IF(OR($O$5="CLERC",$O$5="PALADIN"),Sorts!M9,Sorts!M33),"") -> P | DO9: =IF($AU$5<>0,IF(OR($O$5="CLERC",$O$5="PALADIN"),Sorts!N9,Sorts!N33),"") -> X | DP9: =IF($AU$5<>0,IF(OR($O$5="CLERC",$O$5="PALADIN"),Sorts!O9,Sorts!O33),"") -> X | DQ9: =IF($AU$5<>0,IF(OR($O$5="CLERC",$O$5="PALADIN"),Sorts!P9,Sorts!P33),"") -> X | DS9: NC | DU9: 6 | DV9: =IF($AU$7<>0,IF($O$5="Illusionniste",Sorts!Q124,Sorts!K80),"") | EI9: 0 | EK9: =IF($AU$7<>0,IF($O$5="Illusionniste",Sorts!R124,Sorts!L80),"") | EM9: =IF($AU$7<>0,IF($O$5="Illusionniste",Sorts!S124,Sorts!M80),"") | EP9: =IF($AU$7<>0,IF($O$5="Illusionniste",Sorts!T124,Sorts!N80),"") | EQ9: =IF($AU$7<>0,IF($O$5="Illusionniste",Sorts!U124,Sorts!O80),"") | ER9: =IF($AU$7<>0,IF($O$5="Illusionniste",Sorts!V124,Sorts!P80),"") | EU9: 6 | EV9: =IF($AU$5<>0,IF(OR($O$5="CLERC",$O$5="PALADIN"),Sorts!W9,Sorts!W33),"") -> Invocation des Créatures Sylvestres | FI9: 0 | FK9: =IF($AU$5<>0,IF(OR($O$5="CLERC",$O$5="PALADIN"),Sorts!X9,Sorts!X33),"") -> 12''+1/n | FN9: =IF($AU$5<>0,IF(OR($O$5="CLERC",$O$5="PALADIN"),Sorts!Y9,Sorts!Y33),"") -> S | FQ9: =IF($AU$5<>0,IF(OR($O$5="CLERC",$O$5="PALADIN"),Sorts!Z9,Sorts!Z33),"") -> X | FR9: =IF($AU$5<>0,IF(OR($O$5="CLERC",$O$5="PALADIN"),Sorts!AA9,Sorts!AA33),"") -> X | FS9: =IF($AU$5<>0,IF(OR($O$5="CLERC",$O$5="PALADIN"),Sorts!AB9,Sorts!AB33),"") -> X | FU9: NC | FW9: 6 | FX9: =IF($AU$7<>0,IF($O$5="Illusionniste",Sorts!AC124,Sorts!W80),"") | GK9: 0 | GM9: =IF($AU$7<>0,IF($O$5="Illusionniste",Sorts!AD124,Sorts!X80),"") | GO9: =IF($AU$7<>0,IF($O$5="Illusionniste",Sorts!AE124,Sorts!Y80),"") | GR9: =IF($AU$7<>0,IF($O$5="Illusionniste",Sorts!AF124,Sorts!Z80),"") | GS9: =IF($AU$7<>0,IF($O$5="Illusionniste",Sorts!AG124,Sorts!AA80),"") | GT9: =IF($AU$7<>0,IF($O$5="Illusionniste",Sorts!AH124,Sorts!AB80),"") | GW9: 6 | GX9: =IF($AU$5<>0,IF(OR($O$5="CLERC",$O$5="PALADIN"),Sorts!AI9,Sorts!AI33),"") -> Invocation d’un Élémental du Feu | HK9: 0 | HM9: =IF($AU$5<>0,IF(OR($O$5="CLERC",$O$5="PALADIN"),Sorts!AJ9,Sorts!AJ33),"") -> 8'' | HP9: =IF($AU$5<>0,IF(OR($O$5="CLERC",$O$5="PALADIN"),Sorts!AK9,Sorts!AK33),"") -> 1t/n | HS9: =IF($AU$5<>0,IF(OR($O$5="CLERC",$O$5="PALADIN"),Sorts!AL9,Sorts!AL33),"") -> X | HT9: =IF($AU$5<>0,IF(OR($O$5="CLERC",$O$5="PALADIN"),Sorts!AM9,Sorts!AM33),"") -> X | HU9: =IF($AU$5<>0,IF(OR($O$5="CLERC",$O$5="PALADIN"),Sorts!AN9,Sorts!AN33),"") -> X | HW9: NC | HY9: 6 | HZ9: =IF($AU$7<>0,IF($O$5="Illusionniste",Sorts!AO124,Sorts!AI80),"") | IM9: 0 | IO9: =IF($AU$7<>0,IF($O$5="Illusionniste",Sorts!AP124,Sorts!AJ80),"") | IQ9: =IF($AU$7<>0,IF($O$5="Illusionniste",Sorts!AQ124,Sorts!AK80),"") | IT9: =IF($AU$7<>0,IF($O$5="Illusionniste",Sorts!AR124,Sorts!AL80),"") | IU9: =IF($AU$7<>0,IF($O$5="Illusionniste",Sorts!AS124,Sorts!AM80),"") | IV9: =IF($AU$7<>0,IF($O$5="Illusionniste",Sorts!AT124,Sorts!AN80),"") | JY9: NC | KA9: 6 | KB9: =IF($AU$7<>0,IF($O$5="Illusionniste",Sorts!BA124,Sorts!AU80),"") | KO9: 0 | KQ9: =IF($AU$7<>0,IF($O$5="Illusionniste",Sorts!BA124,Sorts!AV80),"") | KS9: =IF($AU$7<>0,IF($O$5="Illusionniste",Sorts!BA124,Sorts!AW80),"") | KV9: =IF($AU$7<>0,IF($O$5="Illusionniste",Sorts!BA124,Sorts!AX80),"") | KW9: =IF($AU$7<>0,IF($O$5="Illusionniste",Sorts!BA124,Sorts!AY80),"") | KX9: =IF($AU$7<>0,IF($O$5="Illusionniste",Sorts!BA124,Sorts!AZ80),"")
AQ10: 1 | AR10: =IF($AU$5<>0,IF($O$5="CLERC",Sorts!E4,Sorts!E28),"") -> Amitié Animale | BE10: 0 | BG10: =IF($AU$5<>0,IF($O$5="CLERC",Sorts!F4,Sorts!F28),"") -> 1'' | BJ10: =IF($AU$5<>0,IF($O$5="CLERC",Sorts!G4,Sorts!G28),"") -> P | BM10: =IF($AU$5<>0,IF($O$5="CLERC",Sorts!H4,Sorts!H28),"") -> X | BN10: =IF($AU$5<>0,IF($O$5="CLERC",Sorts!I4,Sorts!I28),"") -> X | BO10: =IF($AU$5<>0,IF($O$5="CLERC",Sorts!J4,Sorts!J28),"") -> X | BQ10: NC | BS10: 1 | BT10: =IF($AU$7<>0,IF($O$5="ILLUSIONNISTE",Sorts!K119,Sorts!E75),"") | CG10: 0 | CI10: =IF($AU$7<>0,IF($O$5="ILLUSIONNISTE",Sorts!L119,Sorts!F75),"") | CK10: =IF($AU$7<>0,IF($O$5="ILLUSIONNISTE",Sorts!M119,Sorts!G75),"") | CN10: =IF($AU$7<>0,IF($O$5="ILLUSIONNISTE",Sorts!N119,Sorts!H75),"") | CO10: =IF($AU$7<>0,IF($O$5="ILLUSIONNISTE",Sorts!O119,Sorts!I75),"") | CP10: =IF($AU$7<>0,IF($O$5="ILLUSIONNISTE",Sorts!P119,Sorts!J75),"") | CS10: 7 | CT10: =IF($AU$5<>0,IF(OR($O$5="CLERC",$O$5="PALADIN"),Sorts!K10,Sorts!K34),"") -> Eau Divinatoire | DG10: 0 | DI10: =IF($AU$5<>0,IF(OR($O$5="CLERC",$O$5="PALADIN"),Sorts!L10,Sorts!L34),"") -> 1'' | DL10: =IF($AU$5<>0,IF(OR($O$5="CLERC",$O$5="PALADIN"),Sorts!M10,Sorts!M34),"") -> 1r/n | DO10: =IF($AU$5<>0,IF(OR($O$5="CLERC",$O$5="PALADIN"),Sorts!N10,Sorts!N34),"") -> X | DP10: =IF($AU$5<>0,IF(OR($O$5="CLERC",$O$5="PALADIN"),Sorts!O10,Sorts!O34),"") -> X | DQ10: =IF($AU$5<>0,IF(OR($O$5="CLERC",$O$5="PALADIN"),Sorts!P10,Sorts!P34),"") -> X | DS10: NC | DU10: 7 | DV10: =IF($AU$7<>0,IF($O$5="Illusionniste",Sorts!Q125,Sorts!K81),"") | EI10: 0 | EK10: =IF($AU$7<>0,IF($O$5="Illusionniste",Sorts!R125,Sorts!L81),"") | EM10: =IF($AU$7<>0,IF($O$5="Illusionniste",Sorts!S125,Sorts!M81),"") | EP10: =IF($AU$7<>0,IF($O$5="Illusionniste",Sorts!T125,Sorts!N81),"") | EQ10: =IF($AU$7<>0,IF($O$5="Illusionniste",Sorts!U125,Sorts!O81),"") | ER10: =IF($AU$7<>0,IF($O$5="Illusionniste",Sorts!V125,Sorts!P81),"") | EU10: 7 | EV10: =IF($AU$5<>0,IF(OR($O$5="CLERC",$O$5="PALADIN"),Sorts!W10,Sorts!W34),"") -> Langage des Plantes | FI10: 0 | FK10: =IF($AU$5<>0,IF(OR($O$5="CLERC",$O$5="PALADIN"),Sorts!X10,Sorts!X34),"") -> 0 | FN10: =IF($AU$5<>0,IF(OR($O$5="CLERC",$O$5="PALADIN"),Sorts!Y10,Sorts!Y34),"") -> 2r/n | FQ10: =IF($AU$5<>0,IF(OR($O$5="CLERC",$O$5="PALADIN"),Sorts!Z10,Sorts!Z34),"") -> X | FR10: =IF($AU$5<>0,IF(OR($O$5="CLERC",$O$5="PALADIN"),Sorts!AA10,Sorts!AA34),"") -> X | FS10: =IF($AU$5<>0,IF(OR($O$5="CLERC",$O$5="PALADIN"),Sorts!AB10,Sorts!AB34),"") -> X | FU10: NC | FW10: 7 | FX10: =IF($AU$7<>0,IF($O$5="Illusionniste",Sorts!AC125,Sorts!W81),"") | GK10: 0 | GM10: =IF($AU$7<>0,IF($O$5="Illusionniste",Sorts!AD125,Sorts!X81),"") | GO10: =IF($AU$7<>0,IF($O$5="Illusionniste",Sorts!AE125,Sorts!Y81),"") | GR10: =IF($AU$7<>0,IF($O$5="Illusionniste",Sorts!AF125,Sorts!Z81),"") | GS10: =IF($AU$7<>0,IF($O$5="Illusionniste",Sorts!AG125,Sorts!AA81),"") | GT10: =IF($AU$7<>0,IF($O$5="Illusionniste",Sorts!AH125,Sorts!AB81),"") | GW10: 7 | GX10: =IF($AU$5<>0,IF(OR($O$5="CLERC",$O$5="PALADIN"),Sorts!AI10,Sorts!AI34),"") -> Invocation du Temps | HK10: 0 | HM10: =IF($AU$5<>0,IF(OR($O$5="CLERC",$O$5="PALADIN"),Sorts!AJ10,Sorts!AJ34),"") -> 0 | HP10: =IF($AU$5<>0,IF(OR($O$5="CLERC",$O$5="PALADIN"),Sorts!AK10,Sorts!AK34),"") -> S | HS10: =IF($AU$5<>0,IF(OR($O$5="CLERC",$O$5="PALADIN"),Sorts!AL10,Sorts!AL34),"") -> X | HT10: =IF($AU$5<>0,IF(OR($O$5="CLERC",$O$5="PALADIN"),Sorts!AM10,Sorts!AM34),"") -> X | HU10: =IF($AU$5<>0,IF(OR($O$5="CLERC",$O$5="PALADIN"),Sorts!AN10,Sorts!AN34),"") -> X | HW10: NC | HY10: 7 | HZ10: =IF($AU$7<>0,IF($O$5="Illusionniste",Sorts!AO125,Sorts!AI81),"") | IM10: 0 | IO10: =IF($AU$7<>0,IF($O$5="Illusionniste",Sorts!AP125,Sorts!AJ81),"") | IQ10: =IF($AU$7<>0,IF($O$5="Illusionniste",Sorts!AQ125,Sorts!AK81),"") | IT10: =IF($AU$7<>0,IF($O$5="Illusionniste",Sorts!AR125,Sorts!AL81),"") | IU10: =IF($AU$7<>0,IF($O$5="Illusionniste",Sorts!AS125,Sorts!AM81),"") | IV10: =IF($AU$7<>0,IF($O$5="Illusionniste",Sorts!AT125,Sorts!AN81),"") | JY10: NC | KA10: 7 | KB10: =IF($AU$7<>0,IF($O$5="Illusionniste",Sorts!BA125,Sorts!AU81),"") | KO10: 0 | KQ10: =IF($AU$7<>0,IF($O$5="Illusionniste",Sorts!BA125,Sorts!AV81),"") | KS10: =IF($AU$7<>0,IF($O$5="Illusionniste",Sorts!BA125,Sorts!AW81),"") | KV10: =IF($AU$7<>0,IF($O$5="Illusionniste",Sorts!BA125,Sorts!AX81),"") | KW10: =IF($AU$7<>0,IF($O$5="Illusionniste",Sorts!BA125,Sorts!AY81),"") | KX10: =IF($AU$7<>0,IF($O$5="Illusionniste",Sorts!BA125,Sorts!AZ81),"")
B11: 17 | E11: FOR | G11: Toucher | I11: =IF($D$12=0,VLOOKUP('Joueur 1'!$B$11,Caractéristiques!$B$2:$G$27,2,FALSE),VLOOKUP('Joueur 1'!$D$11,Caractéristiques!$B$29:$G$130,2,FALSE)) -> 1 | L11: Dégats | N11: =IF($D$12=0,VLOOKUP('Joueur 1'!$B$11,Caractéristiques!$B$2:$G$27,3,FALSE),VLOOKUP('Joueur 1'!$D$11,Caractéristiques!$B$29:$G$130,3,FALSE)) -> 1 | Q11: Ajust | S11: =IF($D$12=0,VLOOKUP('Joueur 1'!$B$11,Caractéristiques!$B$2:$G$27,4,FALSE),VLOOKUP('Joueur 1'!$D$11,Caractéristiques!$B$29:$G$130,4,FALSE)) -> 500 | V11: Ouvert | X11: =IF($D$12=0,VLOOKUP('Joueur 1'!$B$11,Caractéristiques!$B$2:$G$27,5,FALSE),VLOOKUP('Joueur 1'!$D$11,Caractéristiques!$B$29:$G$130,5,FALSE)) -> 1 - 3 | AA11: Torsion | AC11: =IF($D$12=0,VLOOKUP('Joueur 1'!$B$11,Caractéristiques!$B$2:$G$27,6,FALSE),VLOOKUP('Joueur 1'!$D$11,Caractéristiques!$B$29:$G$130,6,FALSE)) -> 0.13 | AF11: VADE RETRO | AO11: =IF($AM$5>13,10,IF($AM$5>9,9,$AM$5)) -> 1 | AQ11: 2 | AR11: =IF($AU$5<>0,IF($O$5="CLERC",Sorts!E5,Sorts!E29),"") -> Aura Féérique | BE11: 0 | BG11: =IF($AU$5<>0,IF($O$5="CLERC",Sorts!F5,Sorts!F29),"") -> 8'' | BJ11: =IF($AU$5<>0,IF($O$5="CLERC",Sorts!G5,Sorts!G29),"") -> 4r/n | BM11: =IF($AU$5<>0,IF($O$5="CLERC",Sorts!H5,Sorts!H29),"") -> X | BN11: =IF($AU$5<>0,IF($O$5="CLERC",Sorts!I5,Sorts!I29),"") -> / | BO11: =IF($AU$5<>0,IF($O$5="CLERC",Sorts!J5,Sorts!J29),"") -> / | BQ11: NC | BS11: 2 | BT11: =IF($AU$7<>0,IF($O$5="ILLUSIONNISTE",Sorts!K120,Sorts!E76),"") | CG11: 0 | CI11: =IF($AU$7<>0,IF($O$5="ILLUSIONNISTE",Sorts!L120,Sorts!F76),"") | CK11: =IF($AU$7<>0,IF($O$5="ILLUSIONNISTE",Sorts!M120,Sorts!G76),"") | CN11: =IF($AU$7<>0,IF($O$5="ILLUSIONNISTE",Sorts!N120,Sorts!H76),"") | CO11: =IF($AU$7<>0,IF($O$5="ILLUSIONNISTE",Sorts!O120,Sorts!I76),"") | CP11: =IF($AU$7<>0,IF($O$5="ILLUSIONNISTE",Sorts!P120,Sorts!J76),"") | CS11: 8 | CT11: =IF($AU$5<>0,IF(OR($O$5="CLERC",$O$5="PALADIN"),Sorts!K11,Sorts!K35),"") -> Flamme | DG11: 0 | DI11: =IF($AU$5<>0,IF(OR($O$5="CLERC",$O$5="PALADIN"),Sorts!L11,Sorts!L35),"") -> 0 | DL11: =IF($AU$5<>0,IF(OR($O$5="CLERC",$O$5="PALADIN"),Sorts!M11,Sorts!M35),"") -> 2r/n | DO11: =IF($AU$5<>0,IF(OR($O$5="CLERC",$O$5="PALADIN"),Sorts!N11,Sorts!N35),"") -> X | DP11: =IF($AU$5<>0,IF(OR($O$5="CLERC",$O$5="PALADIN"),Sorts!O11,Sorts!O35),"") -> X | DQ11: =IF($AU$5<>0,IF(OR($O$5="CLERC",$O$5="PALADIN"),Sorts!P11,Sorts!P35),"") -> X | DS11: NC | DU11: 8 | DV11: =IF($AU$7<>0,IF($O$5="Illusionniste",Sorts!Q126,Sorts!K82),"") | EI11: 0 | EK11: =IF($AU$7<>0,IF($O$5="Illusionniste",Sorts!R126,Sorts!L82),"") | EM11: =IF($AU$7<>0,IF($O$5="Illusionniste",Sorts!S126,Sorts!M82),"") | EP11: =IF($AU$7<>0,IF($O$5="Illusionniste",Sorts!T126,Sorts!N82),"") | EQ11: =IF($AU$7<>0,IF($O$5="Illusionniste",Sorts!U126,Sorts!O82),"") | ER11: =IF($AU$7<>0,IF($O$5="Illusionniste",Sorts!V126,Sorts!P82),"") | EU11: 8 | EV11: =IF($AU$5<>0,IF(OR($O$5="CLERC",$O$5="PALADIN"),Sorts!W11,Sorts!W35),"") -> Paralysie Végétale | FI11: 0 | FK11: =IF($AU$5<>0,IF(OR($O$5="CLERC",$O$5="PALADIN"),Sorts!X11,Sorts!X35),"") -> 8'' | FN11: =IF($AU$5<>0,IF(OR($O$5="CLERC",$O$5="PALADIN"),Sorts!Y11,Sorts!Y35),"") -> 1r/n | FQ11: =IF($AU$5<>0,IF(OR($O$5="CLERC",$O$5="PALADIN"),Sorts!Z11,Sorts!Z35),"") -> X | FR11: =IF($AU$5<>0,IF(OR($O$5="CLERC",$O$5="PALADIN"),Sorts!AA11,Sorts!AA35),"") -> X | FS11: =IF($AU$5<>0,IF(OR($O$5="CLERC",$O$5="PALADIN"),Sorts!AB11,Sorts!AB35),"") -> X | FU11: NC | FW11: 8 | FX11: =IF($AU$7<>0,IF($O$5="Illusionniste",Sorts!AC126,Sorts!W82),"") | GK11: 0 | GM11: =IF($AU$7<>0,IF($O$5="Illusionniste",Sorts!AD126,Sorts!X82),"") | GO11: =IF($AU$7<>0,IF($O$5="Illusionniste",Sorts!AE126,Sorts!Y82),"") | GR11: =IF($AU$7<>0,IF($O$5="Illusionniste",Sorts!AF126,Sorts!Z82),"") | GS11: =IF($AU$7<>0,IF($O$5="Illusionniste",Sorts!AG126,Sorts!AA82),"") | GT11: =IF($AU$7<>0,IF($O$5="Illusionniste",Sorts!AH126,Sorts!AB82),"") | GW11: 8 | GX11: =IF($AU$5<>0,IF(OR($O$5="CLERC",$O$5="PALADIN"),Sorts!AI11,Sorts!AI35),"") -> Mur d’Épines | HK11: 0 | HM11: =IF($AU$5<>0,IF(OR($O$5="CLERC",$O$5="PALADIN"),Sorts!AJ11,Sorts!AJ35),"") -> 8'' | HP11: =IF($AU$5<>0,IF(OR($O$5="CLERC",$O$5="PALADIN"),Sorts!AK11,Sorts!AK35),"") -> P | HS11: =IF($AU$5<>0,IF(OR($O$5="CLERC",$O$5="PALADIN"),Sorts!AL11,Sorts!AL35),"") -> X | HT11: =IF($AU$5<>0,IF(OR($O$5="CLERC",$O$5="PALADIN"),Sorts!AM11,Sorts!AM35),"") -> X | HU11: =IF($AU$5<>0,IF(OR($O$5="CLERC",$O$5="PALADIN"),Sorts!AN11,Sorts!AN35),"") -> X | HW11: NC | HY11: 8 | HZ11: =IF($AU$7<>0,IF($O$5="Illusionniste",Sorts!AO126,Sorts!AI82),"") | IM11: 0 | IO11: =IF($AU$7<>0,IF($O$5="Illusionniste",Sorts!AP126,Sorts!AJ82),"") | IQ11: =IF($AU$7<>0,IF($O$5="Illusionniste",Sorts!AQ126,Sorts!AK82),"") | IT11: =IF($AU$7<>0,IF($O$5="Illusionniste",Sorts!AR126,Sorts!AL82),"") | IU11: =IF($AU$7<>0,IF($O$5="Illusionniste",Sorts!AS126,Sorts!AM82),"") | IV11: =IF($AU$7<>0,IF($O$5="Illusionniste",Sorts!AT126,Sorts!AN82),"") | JY11: NC | KA11: 8 | KB11: =IF($AU$7<>0,IF($O$5="Illusionniste",Sorts!BA126,Sorts!AU82),"") | KO11: 0 | KQ11: =IF($AU$7<>0,IF($O$5="Illusionniste",Sorts!BA126,Sorts!AV82),"") | KS11: =IF($AU$7<>0,IF($O$5="Illusionniste",Sorts!BA126,Sorts!AW82),"") | KV11: =IF($AU$7<>0,IF($O$5="Illusionniste",Sorts!BA126,Sorts!AX82),"") | KW11: =IF($AU$7<>0,IF($O$5="Illusionniste",Sorts!BA126,Sorts!AY82),"") | KX11: =IF($AU$7<>0,IF($O$5="Illusionniste",Sorts!BA126,Sorts!AZ82),"")
D12: =IF(OR($O$5="GUERRIER",$O$5="PALADIN",$O$5="RANGER",AND($O$5="BARDE",OR($Z$5="Vétéran",$Z$5="Guerrier",$Z$5="Maître d'Armes",$Z$5="Héros",)))*AND($B$11=18),1,0) -> 0 | Q12: Poids | V12: portes | AA12: Barreaux | AF12: Squelette | AK12: =INDEX(Niveaux!$A$1115:$L$1151,$AO$11+1+4,MATCH($O$5,Niveaux!$B$1115:$L$1115,0)+1) -> 0 | AQ12: 3 | AR12: =IF($AU$5<>0,IF($O$5="CLERC",Sorts!E6,Sorts!E30),"") -> Cérémonie | BE12: 0 | BG12: =IF($AU$5<>0,IF($O$5="CLERC",Sorts!F6,Sorts!F30),"") -> T | BJ12: =IF($AU$5<>0,IF($O$5="CLERC",Sorts!G6,Sorts!G30),"") -> P | BM12: =IF($AU$5<>0,IF($O$5="CLERC",Sorts!H6,Sorts!H30),"") -> X | BN12: =IF($AU$5<>0,IF($O$5="CLERC",Sorts!I6,Sorts!I30),"") -> X | BO12: =IF($AU$5<>0,IF($O$5="CLERC",Sorts!J6,Sorts!J30),"") -> X | BQ12: NC | BS12: 3 | BT12: =IF($AU$7<>0,IF($O$5="ILLUSIONNISTE",Sorts!K121,Sorts!E77),"") | CG12: 0 | CI12: =IF($AU$7<>0,IF($O$5="ILLUSIONNISTE",Sorts!L121,Sorts!F77),"") | CK12: =IF($AU$7<>0,IF($O$5="ILLUSIONNISTE",Sorts!M121,Sorts!G77),"") | CN12: =IF($AU$7<>0,IF($O$5="ILLUSIONNISTE",Sorts!N121,Sorts!H77),"") | CO12: =IF($AU$7<>0,IF($O$5="ILLUSIONNISTE",Sorts!O121,Sorts!I77),"") | CP12: =IF($AU$7<>0,IF($O$5="ILLUSIONNISTE",Sorts!P121,Sorts!J77),"") | CS12: 9 | CT12: =IF($AU$5<>0,IF(OR($O$5="CLERC",$O$5="PALADIN"),Sorts!K12,Sorts!K36),"") -> Lame de Feu | DG12: 0 | DI12: =IF($AU$5<>0,IF(OR($O$5="CLERC",$O$5="PALADIN"),Sorts!L12,Sorts!L36),"") -> 0 | DL12: =IF($AU$5<>0,IF(OR($O$5="CLERC",$O$5="PALADIN"),Sorts!M12,Sorts!M36),"") -> 1r/n | DO12: =IF($AU$5<>0,IF(OR($O$5="CLERC",$O$5="PALADIN"),Sorts!N12,Sorts!N36),"") -> X | DP12: =IF($AU$5<>0,IF(OR($O$5="CLERC",$O$5="PALADIN"),Sorts!O12,Sorts!O36),"") -> X | DQ12: =IF($AU$5<>0,IF(OR($O$5="CLERC",$O$5="PALADIN"),Sorts!P12,Sorts!P36),"") -> X | DS12: NC | DU12: 9 | DV12: =IF($AU$7<>0,IF($O$5="Illusionniste",Sorts!Q127,Sorts!K83),"") | EI12: 0 | EK12: =IF($AU$7<>0,IF($O$5="Illusionniste",Sorts!R127,Sorts!L83),"") | EM12: =IF($AU$7<>0,IF($O$5="Illusionniste",Sorts!S127,Sorts!M83),"") | EP12: =IF($AU$7<>0,IF($O$5="Illusionniste",Sorts!T127,Sorts!N83),"") | EQ12: =IF($AU$7<>0,IF($O$5="Illusionniste",Sorts!U127,Sorts!O83),"") | ER12: =IF($AU$7<>0,IF($O$5="Illusionniste",Sorts!V127,Sorts!P83),"") | EU12: 9 | EV12: =IF($AU$5<>0,IF(OR($O$5="CLERC",$O$5="PALADIN"),Sorts!W12,Sorts!W36),"") -> Porte Végétale | FI12: 0 | FK12: =IF($AU$5<>0,IF(OR($O$5="CLERC",$O$5="PALADIN"),Sorts!X12,Sorts!X36),"") -> T | FN12: =IF($AU$5<>0,IF(OR($O$5="CLERC",$O$5="PALADIN"),Sorts!Y12,Sorts!Y36),"") -> 1t/n | FQ12: =IF($AU$5<>0,IF(OR($O$5="CLERC",$O$5="PALADIN"),Sorts!Z12,Sorts!Z36),"") -> X | FR12: =IF($AU$5<>0,IF(OR($O$5="CLERC",$O$5="PALADIN"),Sorts!AA12,Sorts!AA36),"") -> X | FS12: =IF($AU$5<>0,IF(OR($O$5="CLERC",$O$5="PALADIN"),Sorts!AB12,Sorts!AB36),"") -> X | FU12: NC | FW12: 9 | FX12: =IF($AU$7<>0,IF($O$5="Illusionniste",Sorts!AC127,Sorts!W83),"") | GK12: 0 | GM12: =IF($AU$7<>0,IF($O$5="Illusionniste",Sorts!AD127,Sorts!X83),"") | GO12: =IF($AU$7<>0,IF($O$5="Illusionniste",Sorts!AE127,Sorts!Y83),"") | GR12: =IF($AU$7<>0,IF($O$5="Illusionniste",Sorts!AF127,Sorts!Z83),"") | GS12: =IF($AU$7<>0,IF($O$5="Illusionniste",Sorts!AG127,Sorts!AA83),"") | GT12: =IF($AU$7<>0,IF($O$5="Illusionniste",Sorts!AH127,Sorts!AB83),"") | GW12: 9 | GX12: =IF($AU$5<>0,IF(OR($O$5="CLERC",$O$5="PALADIN"),Sorts!AI12,Sorts!AI36),"") -> Répulsion du Bois | HK12: 0 | HM12: =IF($AU$5<>0,IF(OR($O$5="CLERC",$O$5="PALADIN"),Sorts!AJ12,Sorts!AJ36),"") -> 0 | HP12: =IF($AU$5<>0,IF(OR($O$5="CLERC",$O$5="PALADIN"),Sorts!AK12,Sorts!AK36),"") -> 4r/n | HS12: =IF($AU$5<>0,IF(OR($O$5="CLERC",$O$5="PALADIN"),Sorts!AL12,Sorts!AL36),"") -> X | HT12: =IF($AU$5<>0,IF(OR($O$5="CLERC",$O$5="PALADIN"),Sorts!AM12,Sorts!AM36),"") -> X | HU12: =IF($AU$5<>0,IF(OR($O$5="CLERC",$O$5="PALADIN"),Sorts!AN12,Sorts!AN36),"") -> X | HW12: NC | HY12: 9 | HZ12: =IF($AU$7<>0,IF($O$5="Illusionniste",Sorts!AO127,Sorts!AI83),"") | IM12: 0 | IO12: =IF($AU$7<>0,IF($O$5="Illusionniste",Sorts!AP127,Sorts!AJ83),"") | IQ12: =IF($AU$7<>0,IF($O$5="Illusionniste",Sorts!AQ127,Sorts!AK83),"") | IT12: =IF($AU$7<>0,IF($O$5="Illusionniste",Sorts!AR127,Sorts!AL83),"") | IU12: =IF($AU$7<>0,IF($O$5="Illusionniste",Sorts!AS127,Sorts!AM83),"") | IV12: =IF($AU$7<>0,IF($O$5="Illusionniste",Sorts!AT127,Sorts!AN83),"") | JY12: NC | KA12: 9 | KB12: =IF($AU$7<>0,IF($O$5="Illusionniste",Sorts!BA127,Sorts!AU83),"") | KO12: 0 | KQ12: =IF($AU$7<>0,IF($O$5="Illusionniste",Sorts!BA127,Sorts!AV83),"") | KS12: =IF($AU$7<>0,IF($O$5="Illusionniste",Sorts!BA127,Sorts!AW83),"") | KV12: =IF($AU$7<>0,IF($O$5="Illusionniste",Sorts!BA127,Sorts!AX83),"") | KW12: =IF($AU$7<>0,IF($O$5="Illusionniste",Sorts!BA127,Sorts!AY83),"") | KX12: =IF($AU$7<>0,IF($O$5="Illusionniste",Sorts!BA127,Sorts!AZ83),"")
B13: 14 | E13: INT | G13: Lang | I13: =VLOOKUP($B$13,Caractéristiques!$B$133:$F$160,2,FALSE) -> 4 | L13: Know | N13: =VLOOKUP($B$13,Caractéristiques!$B$133:$F$160,3,FALSE) -> 0.55 | Q13: Sorts | S13: =VLOOKUP($B$13,Caractéristiques!$B$133:$F$160,4,FALSE) -> 6 | V13: Sorts | X13: =VLOOKUP($B$13,Caractéristiques!$B$133:$F$160,5,FALSE) -> 9 | AF13: Zombie | AK13: =INDEX(Niveaux!$A$1115:$L$1151,$AO$11+1+3,MATCH($O$5,Niveaux!$B$1115:$L$1115,0)+1) -> 0 | AQ13: 4 | AR13: =IF($AU$5<>0,IF($O$5="CLERC",Sorts!E7,Sorts!E31),"") -> Détection de la Magie | BE13: 0 | BG13: =IF($AU$5<>0,IF($O$5="CLERC",Sorts!F7,Sorts!F31),"") -> 0 | BJ13: =IF($AU$5<>0,IF($O$5="CLERC",Sorts!G7,Sorts!G31),"") -> 12r | BM13: =IF($AU$5<>0,IF($O$5="CLERC",Sorts!H7,Sorts!H31),"") -> X | BN13: =IF($AU$5<>0,IF($O$5="CLERC",Sorts!I7,Sorts!I31),"") -> X | BO13: =IF($AU$5<>0,IF($O$5="CLERC",Sorts!J7,Sorts!J31),"") -> X | BQ13: NC | BS13: 4 | BT13: =IF($AU$7<>0,IF($O$5="ILLUSIONNISTE",Sorts!K122,Sorts!E78),"") | CG13: 0 | CI13: =IF($AU$7<>0,IF($O$5="ILLUSIONNISTE",Sorts!L122,Sorts!F78),"") | CK13: =IF($AU$7<>0,IF($O$5="ILLUSIONNISTE",Sorts!M122,Sorts!G78),"") | CN13: =IF($AU$7<>0,IF($O$5="ILLUSIONNISTE",Sorts!N122,Sorts!H78),"") | CO13: =IF($AU$7<>0,IF($O$5="ILLUSIONNISTE",Sorts!O122,Sorts!I78),"") | CP13: =IF($AU$7<>0,IF($O$5="ILLUSIONNISTE",Sorts!P122,Sorts!J78),"") | CS13: 10 | CT13: =IF($AU$5<>0,IF(OR($O$5="CLERC",$O$5="PALADIN"),Sorts!K13,Sorts!K37),"") -> Localisation des Plantes | DG13: 0 | DI13: =IF($AU$5<>0,IF(OR($O$5="CLERC",$O$5="PALADIN"),Sorts!L13,Sorts!L37),"") -> 0 | DL13: =IF($AU$5<>0,IF(OR($O$5="CLERC",$O$5="PALADIN"),Sorts!M13,Sorts!M37),"") -> 1t/n | DO13: =IF($AU$5<>0,IF(OR($O$5="CLERC",$O$5="PALADIN"),Sorts!N13,Sorts!N37),"") -> X | DP13: =IF($AU$5<>0,IF(OR($O$5="CLERC",$O$5="PALADIN"),Sorts!O13,Sorts!O37),"") -> X | DQ13: =IF($AU$5<>0,IF(OR($O$5="CLERC",$O$5="PALADIN"),Sorts!P13,Sorts!P37),"") -> X | DS13: NC | DU13: 10 | DV13: =IF($AU$7<>0,IF($O$5="Illusionniste",Sorts!Q128,Sorts!K84),"") | EI13: 0 | EK13: =IF($AU$7<>0,IF($O$5="Illusionniste",Sorts!R128,Sorts!L84),"") | EM13: =IF($AU$7<>0,IF($O$5="Illusionniste",Sorts!S128,Sorts!M84),"") | EP13: =IF($AU$7<>0,IF($O$5="Illusionniste",Sorts!T128,Sorts!N84),"") | EQ13: =IF($AU$7<>0,IF($O$5="Illusionniste",Sorts!U128,Sorts!O84),"") | ER13: =IF($AU$7<>0,IF($O$5="Illusionniste",Sorts!V128,Sorts!P84),"") | EU13: 10 | EV13: =IF($AU$5<>0,IF(OR($O$5="CLERC",$O$5="PALADIN"),Sorts!W13,Sorts!W37),"") -> Protection contre la Foudre | FI13: 0 | FK13: =IF($AU$5<>0,IF(OR($O$5="CLERC",$O$5="PALADIN"),Sorts!X13,Sorts!X37),"") -> T | FN13: =IF($AU$5<>0,IF(OR($O$5="CLERC",$O$5="PALADIN"),Sorts!Y13,Sorts!Y37),"") -> S | FQ13: =IF($AU$5<>0,IF(OR($O$5="CLERC",$O$5="PALADIN"),Sorts!Z13,Sorts!Z37),"") -> X | FR13: =IF($AU$5<>0,IF(OR($O$5="CLERC",$O$5="PALADIN"),Sorts!AA13,Sorts!AA37),"") -> X | FS13: =IF($AU$5<>0,IF(OR($O$5="CLERC",$O$5="PALADIN"),Sorts!AB13,Sorts!AB37),"") -> X | FU13: NC | FW13: 10 | FX13: =IF($AU$7<>0,IF($O$5="Illusionniste",Sorts!AC128,Sorts!W84),"") | GK13: 0 | GM13: =IF($AU$7<>0,IF($O$5="Illusionniste",Sorts!AD128,Sorts!X84),"") | GO13: =IF($AU$7<>0,IF($O$5="Illusionniste",Sorts!AE128,Sorts!Y84),"") | GR13: =IF($AU$7<>0,IF($O$5="Illusionniste",Sorts!AF128,Sorts!Z84),"") | GS13: =IF($AU$7<>0,IF($O$5="Illusionniste",Sorts!AG128,Sorts!AA84),"") | GT13: =IF($AU$7<>0,IF($O$5="Illusionniste",Sorts!AH128,Sorts!AB84),"") | GW13: 10 | GX13: =IF($AU$5<>0,IF(OR($O$5="CLERC",$O$5="PALADIN"),Sorts!AI13,Sorts!AI37),"") -> Soin Ultime | HK13: 0 | HM13: =IF($AU$5<>0,IF(OR($O$5="CLERC",$O$5="PALADIN"),Sorts!AJ13,Sorts!AJ37),"") -> T | HP13: =IF($AU$5<>0,IF(OR($O$5="CLERC",$O$5="PALADIN"),Sorts!AK13,Sorts!AK37),"") -> P | HS13: =IF($AU$5<>0,IF(OR($O$5="CLERC",$O$5="PALADIN"),Sorts!AL13,Sorts!AL37),"") -> X | HT13: =IF($AU$5<>0,IF(OR($O$5="CLERC",$O$5="PALADIN"),Sorts!AM13,Sorts!AM37),"") -> X | HU13: =IF($AU$5<>0,IF(OR($O$5="CLERC",$O$5="PALADIN"),Sorts!AN13,Sorts!AN37),"") -> X | HW13: NC | HY13: 10 | HZ13: =IF($AU$7<>0,IF($O$5="Illusionniste",Sorts!AO128,Sorts!AI84),"") | IM13: 0 | IO13: =IF($AU$7<>0,IF($O$5="Illusionniste",Sorts!AP128,Sorts!AJ84),"") | IQ13: =IF($AU$7<>0,IF($O$5="Illusionniste",Sorts!AQ128,Sorts!AK84),"") | IT13: =IF($AU$7<>0,IF($O$5="Illusionniste",Sorts!AR128,Sorts!AL84),"") | IU13: =IF($AU$7<>0,IF($O$5="Illusionniste",Sorts!AS128,Sorts!AM84),"") | IV13: =IF($AU$7<>0,IF($O$5="Illusionniste",Sorts!AT128,Sorts!AN84),"") | JY13: NC | KA13: 10 | KB13: =IF($AU$7<>0,IF($O$5="Illusionniste",Sorts!BA128,Sorts!AU84),"") | KO13: 0 | KQ13: =IF($AU$7<>0,IF($O$5="Illusionniste",Sorts!BA128,Sorts!AV84),"") | KS13: =IF($AU$7<>0,IF($O$5="Illusionniste",Sorts!BA128,Sorts!AW84),"") | KV13: =IF($AU$7<>0,IF($O$5="Illusionniste",Sorts!BA128,Sorts!AX84),"") | KW13: =IF($AU$7<>0,IF($O$5="Illusionniste",Sorts!BA128,Sorts!AY84),"") | KX13: =IF($AU$7<>0,IF($O$5="Illusionniste",Sorts!BA128,Sorts!AZ84),"")
G14: Add | L14: Spells | Q14: Min | V14: Max | AF14: Goule | AK14: =INDEX(Niveaux!$A$1115:$L$1151,$AO$11+1+2,MATCH($O$5,Niveaux!$B$1115:$L$1115,0)+1) -> 0 | AQ14: 5 | AR14: =IF($AU$5<>0,IF($O$5="CLERC",Sorts!E8,Sorts!E32),"") -> Détection des Pièges Sylvestres | BE14: 0 | BG14: =IF($AU$5<>0,IF($O$5="CLERC",Sorts!F8,Sorts!F32),"") -> 0 | BJ14: =IF($AU$5<>0,IF($O$5="CLERC",Sorts!G8,Sorts!G32),"") -> 4r/n | BM14: =IF($AU$5<>0,IF($O$5="CLERC",Sorts!H8,Sorts!H32),"") -> X | BN14: =IF($AU$5<>0,IF($O$5="CLERC",Sorts!I8,Sorts!I32),"") -> X | BO14: =IF($AU$5<>0,IF($O$5="CLERC",Sorts!J8,Sorts!J32),"") -> X | BQ14: NC | BS14: 5 | BT14: =IF($AU$7<>0,IF($O$5="ILLUSIONNISTE",Sorts!K123,Sorts!E79),"") | CG14: 0 | CI14: =IF($AU$7<>0,IF($O$5="ILLUSIONNISTE",Sorts!L123,Sorts!F79),"") | CK14: =IF($AU$7<>0,IF($O$5="ILLUSIONNISTE",Sorts!M123,Sorts!G79),"") | CN14: =IF($AU$7<>0,IF($O$5="ILLUSIONNISTE",Sorts!N123,Sorts!H79),"") | CO14: =IF($AU$7<>0,IF($O$5="ILLUSIONNISTE",Sorts!O123,Sorts!I79),"") | CP14: =IF($AU$7<>0,IF($O$5="ILLUSIONNISTE",Sorts!P123,Sorts!J79),"") | CS14: 11 | CT14: =IF($AU$5<>0,IF(OR($O$5="CLERC",$O$5="PALADIN"),Sorts!K14,Sorts!K38),"") -> Métal Brûlant | DG14: 0 | DI14: =IF($AU$5<>0,IF(OR($O$5="CLERC",$O$5="PALADIN"),Sorts!L14,Sorts!L38),"") -> 4'' | DL14: =IF($AU$5<>0,IF(OR($O$5="CLERC",$O$5="PALADIN"),Sorts!M14,Sorts!M38),"") -> 7r | DO14: =IF($AU$5<>0,IF(OR($O$5="CLERC",$O$5="PALADIN"),Sorts!N14,Sorts!N38),"") -> X | DP14: =IF($AU$5<>0,IF(OR($O$5="CLERC",$O$5="PALADIN"),Sorts!O14,Sorts!O38),"") -> X | DQ14: =IF($AU$5<>0,IF(OR($O$5="CLERC",$O$5="PALADIN"),Sorts!P14,Sorts!P38),"") -> X | DS14: NC | DU14: 11 | DV14: =IF($AU$7<>0,IF($O$5="Illusionniste",Sorts!Q129,Sorts!K85),"") | EI14: 0 | EK14: =IF($AU$7<>0,IF($O$5="Illusionniste",Sorts!R129,Sorts!L85),"") | EM14: =IF($AU$7<>0,IF($O$5="Illusionniste",Sorts!S129,Sorts!M85),"") | EP14: =IF($AU$7<>0,IF($O$5="Illusionniste",Sorts!T129,Sorts!N85),"") | EQ14: =IF($AU$7<>0,IF($O$5="Illusionniste",Sorts!U129,Sorts!O85),"") | ER14: =IF($AU$7<>0,IF($O$5="Illusionniste",Sorts!V129,Sorts!P85),"") | EU14: 11 | EV14: =IF($AU$5<>0,IF(OR($O$5="CLERC",$O$5="PALADIN"),Sorts!W14,Sorts!W38),"") -> Répulsion des Insectes | FI14: 0 | FK14: =IF($AU$5<>0,IF(OR($O$5="CLERC",$O$5="PALADIN"),Sorts!X14,Sorts!X38),"") -> 0 | FN14: =IF($AU$5<>0,IF(OR($O$5="CLERC",$O$5="PALADIN"),Sorts!Y14,Sorts!Y38),"") -> 1t/n | FQ14: =IF($AU$5<>0,IF(OR($O$5="CLERC",$O$5="PALADIN"),Sorts!Z14,Sorts!Z38),"") -> X | FR14: =IF($AU$5<>0,IF(OR($O$5="CLERC",$O$5="PALADIN"),Sorts!AA14,Sorts!AA38),"") -> X | FS14: =IF($AU$5<>0,IF(OR($O$5="CLERC",$O$5="PALADIN"),Sorts!AB14,Sorts!AB38),"") -> X | FU14: NC | FW14: 11 | FX14: =IF($AU$7<>0,IF($O$5="Illusionniste",Sorts!AC129,Sorts!W85),"") | GK14: 0 | GM14: =IF($AU$7<>0,IF($O$5="Illusionniste",Sorts!AD129,Sorts!X85),"") | GO14: =IF($AU$7<>0,IF($O$5="Illusionniste",Sorts!AE129,Sorts!Y85),"") | GR14: =IF($AU$7<>0,IF($O$5="Illusionniste",Sorts!AF129,Sorts!Z85),"") | GS14: =IF($AU$7<>0,IF($O$5="Illusionniste",Sorts!AG129,Sorts!AA85),"") | GT14: =IF($AU$7<>0,IF($O$5="Illusionniste",Sorts!AH129,Sorts!AB85),"") | GW14: 11 | GX14: =IF($AU$5<>0,IF(OR($O$5="CLERC",$O$5="PALADIN"),Sorts!AI14,Sorts!AI38),"") -> Transit Végétal | HK14: 0 | HM14: =IF($AU$5<>0,IF(OR($O$5="CLERC",$O$5="PALADIN"),Sorts!AJ14,Sorts!AJ38),"") -> T | HP14: =IF($AU$5<>0,IF(OR($O$5="CLERC",$O$5="PALADIN"),Sorts!AK14,Sorts!AK38),"") -> S | HS14: =IF($AU$5<>0,IF(OR($O$5="CLERC",$O$5="PALADIN"),Sorts!AL14,Sorts!AL38),"") -> X | HT14: =IF($AU$5<>0,IF(OR($O$5="CLERC",$O$5="PALADIN"),Sorts!AM14,Sorts!AM38),"") -> X | HU14: =IF($AU$5<>0,IF(OR($O$5="CLERC",$O$5="PALADIN"),Sorts!AN14,Sorts!AN38),"") -> / | HW14: NC | HY14: 11 | HZ14: =IF($AU$7<>0,IF($O$5="Illusionniste",Sorts!AO129,Sorts!AI85),"") | IM14: 0 | IO14: =IF($AU$7<>0,IF($O$5="Illusionniste",Sorts!AP129,Sorts!AJ85),"") | IQ14: =IF($AU$7<>0,IF($O$5="Illusionniste",Sorts!AQ129,Sorts!AK85),"") | IT14: =IF($AU$7<>0,IF($O$5="Illusionniste",Sorts!AR129,Sorts!AL85),"") | IU14: =IF($AU$7<>0,IF($O$5="Illusionniste",Sorts!AS129,Sorts!AM85),"") | IV14: =IF($AU$7<>0,IF($O$5="Illusionniste",Sorts!AT129,Sorts!AN85),"") | JY14: NC | KA14: 11 | KB14: =IF($AU$7<>0,IF($O$5="Illusionniste",Sorts!BA129,Sorts!AU85),"") | KO14: 0 | KQ14: =IF($AU$7<>0,IF($O$5="Illusionniste",Sorts!BA129,Sorts!AV85),"") | KS14: =IF($AU$7<>0,IF($O$5="Illusionniste",Sorts!BA129,Sorts!AW85),"") | KV14: =IF($AU$7<>0,IF($O$5="Illusionniste",Sorts!BA129,Sorts!AX85),"") | KW14: =IF($AU$7<>0,IF($O$5="Illusionniste",Sorts!BA129,Sorts!AY85),"") | KX14: =IF($AU$7<>0,IF($O$5="Illusionniste",Sorts!BA129,Sorts!AZ85),"")
B15: 17 | E15: SAG | G15: Ajust | I15: =VLOOKUP($B$15,Caractéristiques!$B$160:$L$184,2,FALSE) -> 3 | L15: Niveau | N15: 1 | O15: 2 | P15: 3 | Q15: 4 | S15: % Echec | U15: =IF(OR($O$5="CLERC",$O$5="DRUIDE",AND($O$5="BARDE",$AM$5>8)),VLOOKUP($B$15,Caractéristiques!$B$160:$L$184,7,FALSE),"no") -> 0 | V15: =IF(OR($O$5="CLERC",$O$5="DRUIDE"),VLOOKUP($B$15,Autres!#REF!,6,FALSE),"no") -> #REF! | X15: Ajust | Z15: =VLOOKUP($B$15,Caractéristiques!$B$160:$L$184,11,FALSE) -> -3 | AF15: Ombre | AK15: =INDEX(Niveaux!$A$1115:$L$1151,$AO$11+1+1,MATCH($O$5,Niveaux!$B$1115:$L$1115,0)+1) -> 0 | AQ15: 6 | AR15: =IF($AU$5<>0,IF($O$5="CLERC",Sorts!E9,Sorts!E33),"") -> Détection du Poison | BE15: 0 | BG15: =IF($AU$5<>0,IF($O$5="CLERC",Sorts!F9,Sorts!F33),"") -> 0 | BJ15: =IF($AU$5<>0,IF($O$5="CLERC",Sorts!G9,Sorts!G33),"") -> 1r/n | BM15: =IF($AU$5<>0,IF($O$5="CLERC",Sorts!H9,Sorts!H33),"") -> X | BN15: =IF($AU$5<>0,IF($O$5="CLERC",Sorts!I9,Sorts!I33),"") -> X | BO15: =IF($AU$5<>0,IF($O$5="CLERC",Sorts!J9,Sorts!J33),"") -> X | BQ15: NC | BS15: 6 | BT15: =IF($AU$7<>0,IF($O$5="ILLUSIONNISTE",Sorts!K124,Sorts!E80),"") | CG15: 0 | CI15: =IF($AU$7<>0,IF($O$5="ILLUSIONNISTE",Sorts!L124,Sorts!F80),"") | CK15: =IF($AU$7<>0,IF($O$5="ILLUSIONNISTE",Sorts!M124,Sorts!G80),"") | CN15: =IF($AU$7<>0,IF($O$5="ILLUSIONNISTE",Sorts!N124,Sorts!H80),"") | CO15: =IF($AU$7<>0,IF($O$5="ILLUSIONNISTE",Sorts!O124,Sorts!I80),"") | CP15: =IF($AU$7<>0,IF($O$5="ILLUSIONNISTE",Sorts!P124,Sorts!J80),"") | CS15: 12 | CT15: =IF($AU$5<>0,IF(OR($O$5="CLERC",$O$5="PALADIN"),Sorts!K15,Sorts!K39),"") -> Obscurcissement | DG15: 0 | DI15: =IF($AU$5<>0,IF(OR($O$5="CLERC",$O$5="PALADIN"),Sorts!L15,Sorts!L39),"") -> 0 | DL15: =IF($AU$5<>0,IF(OR($O$5="CLERC",$O$5="PALADIN"),Sorts!M15,Sorts!M39),"") -> 4r/n | DO15: =IF($AU$5<>0,IF(OR($O$5="CLERC",$O$5="PALADIN"),Sorts!N15,Sorts!N39),"") -> X | DP15: =IF($AU$5<>0,IF(OR($O$5="CLERC",$O$5="PALADIN"),Sorts!O15,Sorts!O39),"") -> X | DQ15: =IF($AU$5<>0,IF(OR($O$5="CLERC",$O$5="PALADIN"),Sorts!P15,Sorts!P39),"") -> / | DS15: NC | DU15: 12 | DV15: =IF($AU$7<>0,IF($O$5="Illusionniste",Sorts!Q130,Sorts!K86),"") | EI15: 0 | EK15: =IF($AU$7<>0,IF($O$5="Illusionniste",Sorts!R130,Sorts!L86),"") | EM15: =IF($AU$7<>0,IF($O$5="Illusionniste",Sorts!S130,Sorts!M86),"") | EP15: =IF($AU$7<>0,IF($O$5="Illusionniste",Sorts!T130,Sorts!N86),"") | EQ15: =IF($AU$7<>0,IF($O$5="Illusionniste",Sorts!U130,Sorts!O86),"") | ER15: =IF($AU$7<>0,IF($O$5="Illusionniste",Sorts!V130,Sorts!P86),"") | EU15: 12 | EV15: =IF($AU$5<>0,IF(OR($O$5="CLERC",$O$5="PALADIN"),Sorts!W15,Sorts!W39),"") -> Soins Majeurs | FI15: 0 | FK15: =IF($AU$5<>0,IF(OR($O$5="CLERC",$O$5="PALADIN"),Sorts!X15,Sorts!X39),"") -> T | FN15: =IF($AU$5<>0,IF(OR($O$5="CLERC",$O$5="PALADIN"),Sorts!Y15,Sorts!Y39),"") -> P | FQ15: =IF($AU$5<>0,IF(OR($O$5="CLERC",$O$5="PALADIN"),Sorts!Z15,Sorts!Z39),"") -> X | FR15: =IF($AU$5<>0,IF(OR($O$5="CLERC",$O$5="PALADIN"),Sorts!AA15,Sorts!AA39),"") -> X | FS15: =IF($AU$5<>0,IF(OR($O$5="CLERC",$O$5="PALADIN"),Sorts!AB15,Sorts!AB39),"") -> X | FU15: NC | FW15: 12 | FX15: =IF($AU$7<>0,IF($O$5="Illusionniste",Sorts!AC130,Sorts!W86),"") | GK15: 0 | GM15: =IF($AU$7<>0,IF($O$5="Illusionniste",Sorts!AD130,Sorts!X86),"") | GO15: =IF($AU$7<>0,IF($O$5="Illusionniste",Sorts!AE130,Sorts!Y86),"") | GR15: =IF($AU$7<>0,IF($O$5="Illusionniste",Sorts!AF130,Sorts!Z86),"") | GS15: =IF($AU$7<>0,IF($O$5="Illusionniste",Sorts!AG130,Sorts!AA86),"") | GT15: =IF($AU$7<>0,IF($O$5="Illusionniste",Sorts!AH130,Sorts!AB86),"") | GW15: 12 | GX15: =IF($AU$5<>0,IF(OR($O$5="CLERC",$O$5="PALADIN"),Sorts!AI15,Sorts!AI39),"") -> Transmutation d’Eau en Poussière | HK15: 0 | HM15: =IF($AU$5<>0,IF(OR($O$5="CLERC",$O$5="PALADIN"),Sorts!AJ15,Sorts!AJ39),"") -> 6'' | HP15: =IF($AU$5<>0,IF(OR($O$5="CLERC",$O$5="PALADIN"),Sorts!AK15,Sorts!AK39),"") -> P | HS15: =IF($AU$5<>0,IF(OR($O$5="CLERC",$O$5="PALADIN"),Sorts!AL15,Sorts!AL39),"") -> X | HT15: =IF($AU$5<>0,IF(OR($O$5="CLERC",$O$5="PALADIN"),Sorts!AM15,Sorts!AM39),"") -> X | HU15: =IF($AU$5<>0,IF(OR($O$5="CLERC",$O$5="PALADIN"),Sorts!AN15,Sorts!AN39),"") -> X | HW15: NC | HY15: 12 | HZ15: =IF($AU$7<>0,IF($O$5="Illusionniste",Sorts!AO130,Sorts!AI86),"") | IM15: 0 | IO15: =IF($AU$7<>0,IF($O$5="Illusionniste",Sorts!AP130,Sorts!AJ86),"") | IQ15: =IF($AU$7<>0,IF($O$5="Illusionniste",Sorts!AQ130,Sorts!AK86),"") | IT15: =IF($AU$7<>0,IF($O$5="Illusionniste",Sorts!AR130,Sorts!AL86),"") | IU15: =IF($AU$7<>0,IF($O$5="Illusionniste",Sorts!AS130,Sorts!AM86),"") | IV15: =IF($AU$7<>0,IF($O$5="Illusionniste",Sorts!AT130,Sorts!AN86),"") | JY15: NC | KA15: 12 | KB15: =IF($AU$7<>0,IF($O$5="Illusionniste",Sorts!BA130,Sorts!AU86),"") | KO15: 0 | KQ15: =IF($AU$7<>0,IF($O$5="Illusionniste",Sorts!BA130,Sorts!AV86),"") | KS15: =IF($AU$7<>0,IF($O$5="Illusionniste",Sorts!BA130,Sorts!AW86),"") | KV15: =IF($AU$7<>0,IF($O$5="Illusionniste",Sorts!BA130,Sorts!AX86),"") | KW15: =IF($AU$7<>0,IF($O$5="Illusionniste",Sorts!BA130,Sorts!AY86),"") | KX15: =IF($AU$7<>0,IF($O$5="Illusionniste",Sorts!BA130,Sorts!AZ86),"")
