Workbook
Name CB: Autres!$N$2:$N$6
Name CM: Autres!$O$2:$O$8
Name CN: Autres!$P$2:$P$8
Name Jets_de_dés_1: Basique!$B$46:$U$63
Name Jets_de_dés_2: Basique!$B$66:$U$83
Name Jets_de_dés_3: Basique!$B$86:$U$103
Name LB: Autres!$Q$2:$Q$6
Name liste_CB: Autres!$N$2:$N$6
Name liste_CM: Autres!$O$2:$O$8
Name liste_CN: Autres!$P$2:$P$8
Name liste_LB: Autres!$Q$2:$Q$6
Name liste_LM: Autres!$R$2:$R$6
Name liste_LN: Autres!$S$2:$S$6
Name liste_N: Autres!$T$2:$T$6
Name liste_NB: Autres!$U$2:$U$9
Name liste_NM: Autres!$V$2:$V$9
Name LM: Autres!$R$2:$R$6
Name LN: Autres!$S$2:$S$6
Name maggo1: #REF!
Name maggo1: #REF!
Name maggo1: #REF!
Name maggo1: #REF!
Name maggo2: #REF!
Name maggo2: #REF!
Name maggo2: #REF!
Name maggo2: #REF!
Name N: Autres!$T$2:$T$6
Name NB: Autres!$U$2:$U$9
Name NM: Autres!$V$2:$V$9

Sheet EXPLICATIONS
A1: EXPLICATION SUR L'UTILISATION DE LA FEUILLE DE PERSONNAGE V6
A3: Cette feuille reprend quasiment toutes les informations présentes dans la feuille originale de AD&D.
B5: NOUVEAUTES :
C6: * Améliorations sur l'interaction des objets sur la Classe d'armure
B8: SAISIE DES INFORMATIONS 3 CHOIX :
C9: * Saisir manuellement dans la cellule concernée
C10: * Choisir dans le menu déroulant de la cellule
C11: * Ne rien inscrire puisque la feuille calcule seule,
B13: LISTE DES SAISIES MANUELLES :
C14: Toutes les Cellules en :
D15: Nom du joueur, Date de création, NOM, niveau, age, taille/poids, signe particuliers
D16: Chiifre des caractéristiques + % de force (si nécessaire)
D17: Objets magiques
D18: Total PV et Total Xp
D19: Pièces d'or
C20: Possessions & Equipement + Notes
B22: SORTILEGES :
C23: Dans cette version, seul le nombre de sorts authorisés se calcule automatiquement,
C24: Les sorts doivent être inscrits manuellement
B26: IMPRESSION :
C27: La feuille est paramétrée pour une impression pleine page en Recto/Verrso
A30: En espérant que cela pourra rendre service à de nombreuses personnes.
A31: J'ai voulu créér une feuille de perso à l'image de l'originale,
A32: Avec toute mon amitié.
A33: MagicStef
A35: PS : | B35: Je conseille de faire une sauvegarde de la feuille avant toute utilisation (on ne sait jamais lol),
B36: De même, le présent onglet "EXPLICATIONS", peut ensuite être supprimé,

Sheet Joueur 1
B1: Feuille de personnage | AQ1: Sortilèges | CS1: Sortilèges | EU1: Sortilèges | GW1: Sortilèges | IY1: Sortilèges
AQ2: Nombre maximum de sorts autorisés | CS2: Sortilèges de Niveau 2 | EU2: Sortilèges de Niveau 4 | GW2: Sortilèges de Niveau 6 | IY2: Sortilèges de Niveau 8
B3: Nom du joueur : | AD3: Date de création : | CS3: # | CT3: Nom du sortilège Clerc / Druide | DG3: =SUM(DG4:DG39) -> 0 | DH3: M | DI3: Portée | DL3: Durée | DO3: V | DP3: S | DQ3: M | DS3: =COUNTIF(DS4:DT39,"C") -> 0 | DT3: C | DU3: # | DV3: Nom du sortilège Magicien / Illusionniste | EI3: =SUM(EI4:EI43) -> 0 | EJ3: M | EK3: Portée | EN3: Durée | EP3: V | EQ3: S | ER3: M | EU3: # | EV3: Nom du sortilège Clerc / Druide | FI3: =SUM(FI4:FI39) -> 0 | FJ3: M | FK3: Portée | FN3: Durée | FQ3: V | FR3: S | FS3: M | FU3: =COUNTIF(FU4:FV35,"C") -> 0 | FV3: C | FW3: # | FX3: Nom du sortilège Magicien / Illusionniste | GK3: =SUM(GK4:GK39) -> 0 | GL3: M | GM3: Portée | GP3: Durée | GR3: V | GS3: S | GT3: M | GW3: # | GX3: Nom du sortilège Clerc / Druide | HK3: =SUM(HK4:HK37) -> 0 | HL3: M | HM3: Portée | HP3: Durée | HS3: V | HT3: S | HU3: M | HW3: =COUNTIF(HW4:HX33,"C") -> 0 | HX3: C | HY3: # | HZ3: Nom du sortilège Magicien / Illusionniste | IM3: =SUM(IM4:IM37) -> 0 | IN3: M | IO3: Portée | IR3: Durée | IT3: V | IU3: S | IV3: M | JY3: =COUNTIF(JY4:JZ23,"C") -> 0 | JZ3: C | KA3: # | KB3: Nom du sortilège Magicien | KO3: =SUM(KO4:KO37) -> 0 | KP3: M | KQ3: Portée | KT3: Durée | KV3: V | KW3: S | KX3: M
AR4: Clerc et Druide | AZ4: =IF(OR($O$5="CLERC",$O$5="DRUIDE",$O$5="RANGER",$O$5="PALADIN",$O$5="BARDE"),1,0) -> 1 | CS4: 1 | CT4: =IF($AU$5<>0,IF(OR($O$5="CLERC",$O$5="PALADIN"),Sorts!K4,Sorts!K28),"") -> Aquagenèse | DG4: 0 | DI4: =IF($AU$5<>0,IF(OR($O$5="CLERC",$O$5="PALADIN"),Sorts!L4,Sorts!L28),"") -> 1'' | DL4: =IF($AU$5<>0,IF(OR($O$5="CLERC",$O$5="PALADIN"),Sorts!M4,Sorts!M28),"") -> P | DO4: =IF($AU$5<>0,IF(OR($O$5="CLERC",$O$5="PALADIN"),Sorts!N4,Sorts!N28),"") -> X | DP4: =IF($AU$5<>0,IF(OR($O$5="CLERC",$O$5="PALADIN"),Sorts!O4,Sorts!O28),"") -> X | DQ4: =IF($AU$5<>0,IF(OR($O$5="CLERC",$O$5="PALADIN"),Sorts!P4,Sorts!P28),"") -> / | DS4: NC | DU4: 1 | DV4: =IF($AU$7<>0,IF($O$5="Illusionniste",Sorts!Q119,Sorts!K75),"") | EI4: 0 | EK4: =IF($AU$7<>0,IF($O$5="Illusionniste",Sorts!R119,Sorts!L75),"") | EM4: =IF($AU$7<>0,IF($O$5="Illusionniste",Sorts!S119,Sorts!M75),"") | EP4: =IF($AU$7<>0,IF($O$5="Illusionniste",Sorts!T119,Sorts!N75),"") | EQ4: =IF($AU$7<>0,IF($O$5="Illusionniste",Sorts!U119,Sorts!O75),"") | ER4: =IF($AU$7<>0,IF($O$5="Illusionniste",Sorts!V119,Sorts!P75),"") | EU4: 1 | EV4: =IF($AU$5<>0,IF(OR($O$5="CLERC",$O$5="PALADIN"),Sorts!W4,Sorts!W28),"") -> Contrôle de la Température sur 3 mètres | FI4: 0 | FK4: =IF($AU$5<>0,IF(OR($O$5="CLERC",$O$5="PALADIN"),Sorts!X4,Sorts!X28),"") -> 0 | FN4: =IF($AU$5<>0,IF(OR($O$5="CLERC",$O$5="PALADIN"),Sorts!Y4,Sorts!Y28),"") -> 4t+1/n | FQ4: =IF($AU$5<>0,IF(OR($O$5="CLERC",$O$5="PALADIN"),Sorts!Z4,Sorts!Z28),"") -> X | FR4: =IF($AU$5<>0,IF(OR($O$5="CLERC",$O$5="PALADIN"),Sorts!AA4,Sorts!AA28),"") -> X | FS4: =IF($AU$5<>0,IF(OR($O$5="CLERC",$O$5="PALADIN"),Sorts!AB4,Sorts!AB28),"") -> / | FU4: NC | FW4: 1 | FX4: =IF($AU$7<>0,IF($O$5="Illusionniste",Sorts!AC119,Sorts!W75),"") | GK4: 0 | GM4: =IF($AU$7<>0,IF($O$5="Illusionniste",Sorts!AD119,Sorts!X75),"") | GO4: =IF($AU$7<>0,IF($O$5="Illusionniste",Sorts!AE119,Sorts!Y75),"") | GR4: =IF($AU$7<>0,IF($O$5="Illusionniste",Sorts!AF119,Sorts!Z75),"") | GS4: =IF($AU$7<>0,IF($O$5="Illusionniste",Sorts!AG119,Sorts!AA75),"") | GT4: =IF($AU$7<>0,IF($O$5="Illusionniste",Sorts!AH119,Sorts!AB75),"") | GW4: 1 | GX4: =IF($AU$5<>0,IF(OR($O$5="CLERC",$O$5="PALADIN"),Sorts!AI4,Sorts!AI28),"") -> Bouclier Anti-Animal | HK4: 0 | HM4: =IF($AU$5<>0,IF(OR($O$5="CLERC",$O$5="PALADIN"),Sorts!AJ4,Sorts!AJ28),"") -> 0 | HP4: =IF($AU$5<>0,IF(OR($O$5="CLERC",$O$5="PALADIN"),Sorts!AK4,Sorts!AK28),"") -> 1t/n | HS4: =IF($AU$5<>0,IF(OR($O$5="CLERC",$O$5="PALADIN"),Sorts!AL4,Sorts!AL28),"") -> X | HT4: =IF($AU$5<>0,IF(OR($O$5="CLERC",$O$5="PALADIN"),Sorts!AM4,Sorts!AM28),"") -> X | HU4: =IF($AU$5<>0,IF(OR($O$5="CLERC",$O$5="PALADIN"),Sorts!AN4,Sorts!AN28),"") -> X | HW4: NC | HY4: 1 | HZ4: =IF($AU$7<>0,IF($O$5="Illusionniste",Sorts!AO119,Sorts!AI75),"") | IM4: 0 | IO4: =IF($AU$7<>0,IF($O$5="Illusionniste",Sorts!AP119,Sorts!AJ75),"") | IQ4: =IF($AU$7<>0,IF($O$5="Illusionniste",Sorts!AQ119,Sorts!AK75),"") | IT4: =IF($AU$7<>0,IF($O$5="Illusionniste",Sorts!AR119,Sorts!AL75),"") | IU4: =IF($AU$7<>0,IF($O$5="Illusionniste",Sorts!AS119,Sorts!AM75),"") | IV4: =IF($AU$7<>0,IF($O$5="Illusionniste",Sorts!AT119,Sorts!AN75),"") | JY4: NC | KA4: 1 | KB4: =IF($AU$7<>0,IF($O$5="Illusionniste",Sorts!BA119,Sorts!AU75),"") | KO4: 0 | KQ4: =IF($AU$7<>0,IF($O$5="Illusionniste",Sorts!BA119,Sorts!AV75),"") | KS4: =IF($AU$7<>0,IF($O$5="Illusionniste",Sorts!BA119,Sorts!AW75),"") | KV4: =IF($AU$7<>0,IF($O$5="Illusionniste",Sorts!BA119,Sorts!AX75),"") | KW4: =IF($AU$7<>0,IF($O$5="Illusionniste",Sorts!BA119,Sorts!AY75),"") | KX4: =IF($AU$7<>0,IF($O$5="Illusionniste",Sorts!BA119,Sorts!AZ75),"")
B5: Joueur 1 | M5: Classe : | O5: DRUIDE | X5: Titre : | Z5: =INDEX(Niveaux!A3:L39,MATCH('Joueur 1'!$AM$5,Niveaux!A4:A39,0)+1,MATCH('Joueur 1'!$O$5,Niveaux!B2:L2,0)+1) -> Novice | AJ5: Niveau : | AM5: 1 | AR5: Niv 1 | AU5: =IF(OR($O$5="CLERC",$O$5="DRUIDE",$O$5="RANGER",$O$5="PALADIN",$O$5="BARDE"),INDEX(Niveaux!$A$782:$M$818,'Joueur 1'!$AM$5+1,MATCH('Joueur 1'!$O$5,Niveaux!$B$782:$L$782,0)+1),0)+$N$16 -> 4 | AW5: Niv 2 | AZ5: =IF(OR($O$5="CLERC",$O$5="DRUIDE",$O$5="RANGER",$O$5="PALADIN",$O$5="BARDE"),INDEX(Niveaux!$A$819:$M$885,'Joueur 1'!$AM$5+1,MATCH('Joueur 1'!$O$5,Niveaux!$B$819:$L$819,0)+1),0)+$O$16 -> 2 | BB5: Niv 3 | BE5: =IF(OR($O$5="CLERC",$O$5="DRUIDE",$O$5="RANGER",$O$5="PALADIN",$O$5="BARDE"),INDEX(Niveaux!$A$856:$M$892,'Joueur 1'!$AM$5+1,MATCH('Joueur 1'!$O$5,Niveaux!$B$856:$L$856,0)+1),0)+$P$16 -> 1 | BG5: Niv 4 | BJ5: =IF(OR($O$5="CLERC",$O$5="DRUIDE",$O$5="RANGER",$O$5="PALADIN",$O$5="BARDE"),INDEX(Niveaux!$A$893:$M$929,'Joueur 1'!$AM$5+1,MATCH('Joueur 1'!$O$5,Niveaux!$B$893:$L$893,0)+1),0)+$Q$16 -> 0 | BL5: Niv 5 | BO5: =IF(OR($O$5="CLERC",$O$5="DRUIDE",$O$5="RANGER",$O$5="PALADIN",$O$5="BARDE"),INDEX(Niveaux!$A$930:$M$966,'Joueur 1'!$AM$5+1,MATCH('Joueur 1'!$O$5,Niveaux!$B$930:$L$930,0)+1),0) -> 0 | BQ5: Niv 6 | BT5: =IF(OR($O$5="CLERC",$O$5="DRUIDE",$O$5="RANGER",$O$5="PALADIN",$O$5="BARDE"),INDEX(Niveaux!$A$967:$M$1003,'Joueur 1'!$AM$5+1,MATCH('Joueur 1'!$O$5,Niveaux!$B$967:$L$967,0)+1),0) -> 0 | BV5: Niv 7 | BY5: =IF(OR($O$5="CLERC",$O$5="DRUIDE",$O$5="RANGER",$O$5="PALADIN",$O$5="BARDE"),INDEX(Niveaux!$A$1004:$M$1040,'Joueur 1'!$AM$5+1,MATCH('Joueur 1'!$O$5,Niveaux!$B$1004:$L$1004,0)+1),0) -> 0 | CS5: 2 | CT5: =IF($AU$5<>0,IF(OR($O$5="CLERC",$O$5="PALADIN"),Sorts!K5,Sorts!K29),"") -> Baie Magique | DG5: 0 | DI5: =IF($AU$5<>0,IF(OR($O$5="CLERC",$O$5="PALADIN"),Sorts!L5,Sorts!L29),"") -> T | DL5: =IF($AU$5<>0,IF(OR($O$5="CLERC",$O$5="PALADIN"),Sorts!M5,Sorts!M29),"") -> 1j/n | DO5: =IF($AU$5<>0,IF(OR($O$5="CLERC",$O$5="PALADIN"),Sorts!N5,Sorts!N29),"") -> X | DP5: =IF($AU$5<>0,IF(OR($O$5="CLERC",$O$5="PALADIN"),Sorts!O5,Sorts!O29),"") -> X | DQ5: =IF($AU$5<>0,IF(OR($O$5="CLERC",$O$5="PALADIN"),Sorts!P5,Sorts!P29),"") -> X | DS5: NC | DU5: 2 | DV5: =IF($AU$7<>0,IF($O$5="Illusionniste",Sorts!Q120,Sorts!K76),"") | EI5: 0 | EK5: =IF($AU$7<>0,IF($O$5="Illusionniste",Sorts!R120,Sorts!L76),"") | EM5: =IF($AU$7<>0,IF($O$5="Illusionniste",Sorts!S120,Sorts!M76),"") | EP5: =IF($AU$7<>0,IF($O$5="Illusionniste",Sorts!T120,Sorts!N76),"") | EQ5: =IF($AU$7<>0,IF($O$5="Illusionniste",Sorts!U120,Sorts!O76),"") | ER5: =IF($AU$7<>0,IF($O$5="Illusionniste",Sorts!V120,Sorts!P76),"") | EU5: 2 | EV5: =IF($AU$5<>0,IF(OR($O$5="CLERC",$O$5="PALADIN"),Sorts!W5,Sorts!W29),"") -> Dissipation de la Magie | FI5: 0 | FK5: =IF($AU$5<>0,IF(OR($O$5="CLERC",$O$5="PALADIN"),Sorts!X5,Sorts!X29),"") -> 8'' | FN5: =IF($AU$5<>0,IF(OR($O$5="CLERC",$O$5="PALADIN"),Sorts!Y5,Sorts!Y29),"") -> P | FQ5: =IF($AU$5<>0,IF(OR($O$5="CLERC",$O$5="PALADIN"),Sorts!Z5,Sorts!Z29),"") -> X | FR5: =IF($AU$5<>0,IF(OR($O$5="CLERC",$O$5="PALADIN"),Sorts!AA5,Sorts!AA29),"") -> X | FS5: =IF($AU$5<>0,IF(OR($O$5="CLERC",$O$5="PALADIN"),Sorts!AB5,Sorts!AB29),"") -> X | FU5: NC | FW5: 2 | FX5: =IF($AU$7<>0,IF($O$5="Illusionniste",Sorts!AC120,Sorts!W76),"") | GK5: 0 | GM5: =IF($AU$7<>0,IF($O$5="Illusionniste",Sorts!AD120,Sorts!X76),"") | GO5: =IF($AU$7<>0,IF($O$5="Illusionniste",Sorts!AE120,Sorts!Y76),"") | GR5: =IF($AU$7<>0,IF($O$5="Illusionniste",Sorts!AF120,Sorts!Z76),"") | GS5: =IF($AU$7<>0,IF($O$5="Illusionniste",Sorts!AG120,Sorts!AA76),"") | GT5: =IF($AU$7<>0,IF($O$5="Illusionniste",Sorts!AH120,Sorts!AB76),"") | GW5: 2 | GX5: =IF($AU$5<>0,IF(OR($O$5="CLERC",$O$5="PALADIN"),Sorts!AI5,Sorts!AI29),"") -> Chêne Vivant | HK5: 0 | HM5: =IF($AU$5<>0,IF(OR($O$5="CLERC",$O$5="PALADIN"),Sorts!AJ5,Sorts!AJ29),"") -> T | HP5: =IF($AU$5<>0,IF(OR($O$5="CLERC",$O$5="PALADIN"),Sorts!AK5,Sorts!AK29),"") -> 1j/n | HS5: =IF($AU$5<>0,IF(OR($O$5="CLERC",$O$5="PALADIN"),Sorts!AL5,Sorts!AL29),"") -> X | HT5: =IF($AU$5<>0,IF(OR($O$5="CLERC",$O$5="PALADIN"),Sorts!AM5,Sorts!AM29),"") -> X | HU5: =IF($AU$5<>0,IF(OR($O$5="CLERC",$O$5="PALADIN"),Sorts!AN5,Sorts!AN29),"") -> X | HW5: NC | HY5: 2 | HZ5: =IF($AU$7<>0,IF($O$5="Illusionniste",Sorts!AO120,Sorts!AI76),"") | IM5: 0 | IO5: =IF($AU$7<>0,IF($O$5="Illusionniste",Sorts!AP120,Sorts!AJ76),"") | IQ5: =IF($AU$7<>0,IF($O$5="Illusionniste",Sorts!AQ120,Sorts!AK76),"") | IT5: =IF($AU$7<>0,IF($O$5="Illusionniste",Sorts!AR120,Sorts!AL76),"") | IU5: =IF($AU$7<>0,IF($O$5="Illusionniste",Sorts!AS120,Sorts!AM76),"") | IV5: =IF($AU$7<>0,IF($O$5="Illusionniste",Sorts!AT120,Sorts!AN76),"") | JY5: NC | KA5: 2 | KB5: =IF($AU$7<>0,IF($O$5="Illusionniste",Sorts!BA120,Sorts!AU76),"") | KO5: 0 | KQ5: =IF($AU$7<>0,IF($O$5="Illusionniste",Sorts!BA120,Sorts!AV76),"") | KS5: =IF($AU$7<>0,IF($O$5="Illusionniste",Sorts!BA120,Sorts!AW76),"") | KV5: =IF($AU$7<>0,IF($O$5="Illusionniste",Sorts!BA120,Sorts!AX76),"") | KW5: =IF($AU$7<>0,IF($O$5="Illusionniste",Sorts!BA120,Sorts!AY76),"") | KX5: =IF($AU$7<>0,IF($O$5="Illusionniste",Sorts!BA120,Sorts!AZ76),"")
M6: Race : | O6: HUMAIN | X6: Sexe : | AJ6: Age : | AR6: Magicien et Illusioniste | BD6: =IF(OR($O$5="MAGICIEN",$O$5="ILLUSIONISTE",$O$5="RANGER"),1,0) -> 0 | BJ6: C | BK6: : Ecrit & Connu ! | BQ6: E | BR6: : Ecrit | CB6: NC | CC6: : Non Connu | CS6: 3 | CT6: =IF($AU$5<>0,IF(OR($O$5="CLERC",$O$5="PALADIN"),Sorts!K6,Sorts!K30),"") -> Catalepsie | DG6: 0 | DI6: =IF($AU$5<>0,IF(OR($O$5="CLERC",$O$5="PALADIN"),Sorts!L6,Sorts!L30),"") -> 1'' | DL6: =IF($AU$5<>0,IF(OR($O$5="CLERC",$O$5="PALADIN"),Sorts!M6,Sorts!M30),"") -> 4r+2/n | DO6: =IF($AU$5<>0,IF(OR($O$5="CLERC",$O$5="PALADIN"),Sorts!N6,Sorts!N30),"") -> X | DP6: =IF($AU$5<>0,IF(OR($O$5="CLERC",$O$5="PALADIN"),Sorts!O6,Sorts!O30),"") -> X | DQ6: =IF($AU$5<>0,IF(OR($O$5="CLERC",$O$5="PALADIN"),Sorts!P6,Sorts!P30),"") -> X | DS6: NC | DU6: 3 | DV6: =IF($AU$7<>0,IF($O$5="Illusionniste",Sorts!Q121,Sorts!K77),"") | EI6: 0 | EK6: =IF($AU$7<>0,IF($O$5="Illusionniste",Sorts!R121,Sorts!L77),"") | EM6: =IF($AU$7<>0,IF($O$5="Illusionniste",Sorts!S121,Sorts!M77),"") | EP6: =IF($AU$7<>0,IF($O$5="Illusionniste",Sorts!T121,Sorts!N77),"") | EQ6: =IF($AU$7<>0,IF($O$5="Illusionniste",Sorts!U121,Sorts!O77),"") | ER6: =IF($AU$7<>0,IF($O$5="Illusionniste",Sorts!V121,Sorts!P77),"") | EU6: 3 | EV6: =IF($AU$5<>0,IF(OR($O$5="CLERC",$O$5="PALADIN"),Sorts!W6,Sorts!W30),"") -> Embrasement | FI6: 0 | FK6: =IF($AU$5<>0,IF(OR($O$5="CLERC",$O$5="PALADIN"),Sorts!X6,Sorts!X30),"") -> 4'' | FN6: =IF($AU$5<>0,IF(OR($O$5="CLERC",$O$5="PALADIN"),Sorts!Y6,Sorts!Y30),"") -> 1r | FQ6: =IF($AU$5<>0,IF(OR($O$5="CLERC",$O$5="PALADIN"),Sorts!Z6,Sorts!Z30),"") -> X | FR6: =IF($AU$5<>0,IF(OR($O$5="CLERC",$O$5="PALADIN"),Sorts!AA6,Sorts!AA30),"") -> X | FS6: =IF($AU$5<>0,IF(OR($O$5="CLERC",$O$5="PALADIN"),Sorts!AB6,Sorts!AB30),"") -> X | FU6: NC | FW6: 3 | FX6: =IF($AU$7<>0,IF($O$5="Illusionniste",Sorts!AC121,Sorts!W77),"") | GK6: 0 | GM6: =IF($AU$7<>0,IF($O$5="Illusionniste",Sorts!AD121,Sorts!X77),"") | GO6: =IF($AU$7<>0,IF($O$5="Illusionniste",Sorts!AE121,Sorts!Y77),"") | GR6: =IF($AU$7<>0,IF($O$5="Illusionniste",Sorts!AF121,Sorts!Z77),"") | GS6: =IF($AU$7<>0,IF($O$5="Illusionniste",Sorts!AG121,Sorts!AA77),"") | GT6: =IF($AU$7<>0,IF($O$5="Illusionniste",Sorts!AH121,Sorts!AB77),"") | GW6: 3 | GX6: =IF($AU$5<>0,IF(OR($O$5="CLERC",$O$5="PALADIN"),Sorts!AI6,Sorts!AI30),"") -> Débilité Mentale | HK6: 0 | HM6: =IF($AU$5<>0,IF(OR($O$5="CLERC",$O$5="PALADIN"),Sorts!AJ6,Sorts!AJ30),"") -> 16'' | HP6: =IF($AU$5<>0,IF(OR($O$5="CLERC",$O$5="PALADIN"),Sorts!AK6,Sorts!AK30),"") -> P | HS6: =IF($AU$5<>0,IF(OR($O$5="CLERC",$O$5="PALADIN"),Sorts!AL6,Sorts!AL30),"") -> X | HT6: =IF($AU$5<>0,IF(OR($O$5="CLERC",$O$5="PALADIN"),Sorts!AM6,Sorts!AM30),"") -> X | HU6: =IF($AU$5<>0,IF(OR($O$5="CLERC",$O$5="PALADIN"),Sorts!AN6,Sorts!AN30),"") -> / | HW6: NC | HY6: 3 | HZ6: =IF($AU$7<>0,IF($O$5="Illusionniste",Sorts!AO121,Sorts!AI77),"") | IM6: 0 | IO6: =IF($AU$7<>0,IF($O$5="Illusionniste",Sorts!AP121,Sorts!AJ77),"") | IQ6: =IF($AU$7<>0,IF($O$5="Illusionniste",Sorts!AQ121,Sorts!AK77),"") | IT6: =IF($AU$7<>0,IF($O$5="Illusionniste",Sorts!AR121,Sorts!AL77),"") | IU6: =IF($AU$7<>0,IF($O$5="Illusionniste",Sorts!AS121,Sorts!AM77),"") | IV6: =IF($AU$7<>0,IF($O$5="Illusionniste",Sorts!AT121,Sorts!AN77),"") | JY6: NC | KA6: 3 | KB6: =IF($AU$7<>0,IF($O$5="Illusionniste",Sorts!BA121,Sorts!AU77),"") | KO6: 0 | KQ6: =IF($AU$7<>0,IF($O$5="Illusionniste",Sorts!BA121,Sorts!AV77),"") | KS6: =IF($AU$7<>0,IF($O$5="Illusionniste",Sorts!BA121,Sorts!AW77),"") | KV6: =IF($AU$7<>0,IF($O$5="Illusionniste",Sorts!BA121,Sorts!AX77),"") | KW6: =IF($AU$7<>0,IF($O$5="Illusionniste",Sorts!BA121,Sorts!AY77),"") | KX6: =IF($AU$7<>0,IF($O$5="Illusionniste",Sorts!BA121,Sorts!AZ77),"")
M7: Dieu : | O7: Mailikki Déesse des Forêts | X7: Talent acquis : | AA7: Constructeur de navires | AG7: Taille/Poids : | AR7: Niv 1 | AU7: =IF(OR($O$5="MAGICIEN",$O$5="ILLUSIONNISTE",$O$5="RANGER"),IF($O$5="RANGER",INDEX(Niveaux!$A$782:$M$818,'Joueur 1'!$AM$5+1,13),INDEX(Niveaux!$A$782:$M$818,'Joueur 1'!$AM$5+1,MATCH('Joueur 1'!$O$5,Niveaux!$B$782:$L$782,0)+1)),0) -> 0 | AW7: Niv 2 | AZ7: =IF(OR($O$5="MAGICIEN",$O$5="ILLUSIONNISTE",$O$5="RANGER"),IF($O$5="RANGER",INDEX(Niveaux!$A$819:$M$885,'Joueur 1'!$AM$5+1,13),INDEX(Niveaux!$A$819:$M$885,'Joueur 1'!$AM$5+1,MATCH('Joueur 1'!$O$5,Niveaux!$B$819:$L$819,0)+1)),0) -> 0 | BB7: Niv 3 | BE7: =IF(OR($O$5="MAGICIEN",$O$5="ILLUSIONNISTE",$O$5="RANGER"),IF($O$5="RANGER",0,INDEX(Niveaux!$A$856:$M$892,'Joueur 1'!$AM$5+1,MATCH('Joueur 1'!$O$5,Niveaux!$B$856:$L$856,0)+1)),0) -> 0 | BG7: Niv 4 | BJ7: =IF(OR($O$5="MAGICIEN",$O$5="ILLUSIONNISTE",$O$5="RANGER"),INDEX(Niveaux!$A$893:$M$929,'Joueur 1'!$AM$5+1,MATCH('Joueur 1'!$O$5,Niveaux!$B$893:$L$893,0)+1),0) -> 0 | BL7: Niv 5 | BO7: =IF(OR($O$5="MAGICIEN",$O$5="ILLUSIONNISTE",$O$5="RANGER"),INDEX(Niveaux!$A$930:$M$966,'Joueur 1'!$AM$5+1,MATCH('Joueur 1'!$O$5,Niveaux!$B$930:$L$930,0)+1),0) -> 0 | BQ7: Niv 6 | BT7: =IF(OR($O$5="MAGICIEN",$O$5="ILLUSIONNISTE",$O$5="RANGER"),INDEX(Niveaux!$A$967:$M$1003,'Joueur 1'!$AM$5+1,MATCH('Joueur 1'!$O$5,Niveaux!$B$967:$L$967,0)+1),0) -> 0 | BV7: Niv 7 | BY7: =IF(OR($O$5="MAGICIEN",$O$5="ILLUSIONNISTE",$O$5="RANGER"),INDEX(Niveaux!$A$1004:$M$1040,'Joueur 1'!$AM$5+1,MATCH('Joueur 1'!$O$5,Niveaux!$B$1004:$L$1004,0)+1),0) -> 0 | CA7: Niv 8 | CD7: =INDEX(Niveaux!$A$1041:$M$1077,'Joueur 1'!$AM$5+1,MATCH('Joueur 1'!$O$5,Niveaux!$B$1041:$L$1041,0)+1) -> 0 | CF7: Niv 9 | CI7: =INDEX(Niveaux!$A$1078:$M$1114,'Joueur 1'!$AM$5+1,MATCH('Joueur 1'!$O$5,Niveaux!$B$1078:$L$1078,0)+1) -> 0 | CS7: 4 | CT7: =IF($AU$5<>0,IF(OR($O$5="CLERC",$O$5="PALADIN"),Sorts!K7,Sorts!K31),"") -> Charme-Personnes ou Mammifères | DG7: 0 | DI7: =IF($AU$5<>0,IF(OR($O$5="CLERC",$O$5="PALADIN"),Sorts!L7,Sorts!L31),"") -> 8'' | DL7: =IF($AU$5<>0,IF(OR($O$5="CLERC",$O$5="PALADIN"),Sorts!M7,Sorts!M31),"") -> S | DO7: =IF($AU$5<>0,IF(OR($O$5="CLERC",$O$5="PALADIN"),Sorts!N7,Sorts!N31),"") -> X | DP7: =IF($AU$5<>0,IF(OR($O$5="CLERC",$O$5="PALADIN"),Sorts!O7,Sorts!O31),"") -> X | DQ7: =IF($AU$5<>0,IF(OR($O$5="CLERC",$O$5="PALADIN"),Sorts!P7,Sorts!P31),"") -> / | DS7: NC | DU7: 4 | DV7: =IF($AU$7<>0,IF($O$5="Illusionniste",Sorts!Q122,Sorts!K78),"") | EI7: 0 | EK7: =IF($AU$7<>0,IF($O$5="Illusionniste",Sorts!R122,Sorts!L78),"") | EM7: =IF($AU$7<>0,IF($O$5="Illusionniste",Sorts!S122,Sorts!M78),"") | EP7: =IF($AU$7<>0,IF($O$5="Illusionniste",Sorts!T122,Sorts!N78),"") | EQ7: =IF($AU$7<>0,IF($O$5="Illusionniste",Sorts!U122,Sorts!O78),"") | ER7: =IF($AU$7<>0,IF($O$5="Illusionniste",Sorts!V122,Sorts!P78),"") | EU7: 4 | EV7: =IF($AU$5<>0,IF(OR($O$5="CLERC",$O$5="PALADIN"),Sorts!W7,Sorts!W31),"") -> Forêt Hallucinatoire | FI7: 0 | FK7: =IF($AU$5<>0,IF(OR($O$5="CLERC",$O$5="PALADIN"),Sorts!X7,Sorts!X31),"") -> 8'' | FN7: =IF($AU$5<>0,IF(OR($O$5="CLERC",$O$5="PALADIN"),Sorts!Y7,Sorts!Y31),"") -> P | FQ7: =IF($AU$5<>0,IF(OR($O$5="CLERC",$O$5="PALADIN"),Sorts!Z7,Sorts!Z31),"") -> X | FR7: =IF($AU$5<>0,IF(OR($O$5="CLERC",$O$5="PALADIN"),Sorts!AA7,Sorts!AA31),"") -> X | FS7: =IF($AU$5<>0,IF(OR($O$5="CLERC",$O$5="PALADIN"),Sorts!AB7,Sorts!AB31),"") -> X | FU7: NC | FW7: 4 | FX7: =IF($AU$7<>0,IF($O$5="Illusionniste",Sorts!AC122,Sorts!W78),"") | GK7: 0 | GM7: =IF($AU$7<>0,IF($O$5="Illusionniste",Sorts!AD122,Sorts!X78),"") | GO7: =IF($AU$7<>0,IF($O$5="Illusionniste",Sorts!AE122,Sorts!Y78),"") | GR7: =IF($AU$7<>0,IF($O$5="Illusionniste",Sorts!AF122,Sorts!Z78),"") | GS7: =IF($AU$7<>0,IF($O$5="Illusionniste",Sorts!AG122,Sorts!AA78),"") | GT7: =IF($AU$7<>0,IF($O$5="Illusionniste",Sorts!AH122,Sorts!AB78),"") | GW7: 4 | GX7: =IF($AU$5<>0,IF(OR($O$5="CLERC",$O$5="PALADIN"),Sorts!AI7,Sorts!AI31),"") -> Graines de Feu | HK7: 0 | HM7: =IF($AU$5<>0,IF(OR($O$5="CLERC",$O$5="PALADIN"),Sorts!AJ7,Sorts!AJ31),"") -> 4'' | HP7: =IF($AU$5<>0,IF(OR($O$5="CLERC",$O$5="PALADIN"),Sorts!AK7,Sorts!AK31),"") -> S | HS7: =IF($AU$5<>0,IF(OR($O$5="CLERC",$O$5="PALADIN"),Sorts!AL7,Sorts!AL31),"") -> X | HT7: =IF($AU$5<>0,IF(OR($O$5="CLERC",$O$5="PALADIN"),Sorts!AM7,Sorts!AM31),"") -> X | HU7: =IF($AU$5<>0,IF(OR($O$5="CLERC",$O$5="PALADIN"),Sorts!AN7,Sorts!AN31),"") -> X | HW7: NC | HY7: 4 | HZ7: =IF($AU$7<>0,IF($O$5="Illusionniste",Sorts!AO122,Sorts!AI78),"") | IM7: 0 | IO7: =IF($AU$7<>0,IF($O$5="Illusionniste",Sorts!AP122,Sorts!AJ78),"") | IQ7: =IF($AU$7<>0,IF($O$5="Illusionniste",Sorts!AQ122,Sorts!AK78),"") | IT7: =IF($AU$7<>0,IF($O$5="Illusionniste",Sorts!AR122,Sorts!AL78),"") | IU7: =IF($AU$7<>0,IF($O$5="Illusionniste",Sorts!AS122,Sorts!AM78),"") | IV7: =IF($AU$7<>0,IF($O$5="Illusionniste",Sorts!AT122,Sorts!AN78),"") | JY7: NC | KA7: 4 | KB7: =IF($AU$7<>0,IF($O$5="Illusionniste",Sorts!BA122,Sorts!AU78),"") | KO7: 0 | KQ7: =IF($AU$7<>0,IF($O$5="Illusionniste",Sorts!BA122,Sorts!AV78),"") | KS7: =IF($AU$7<>0,IF($O$5="Illusionniste",Sorts!BA122,Sorts!AW78),"") | KV7: =IF($AU$7<>0,IF($O$5="Illusionniste",Sorts!BA122,Sorts!AX78),"") | KW7: =IF($AU$7<>0,IF($O$5="Illusionniste",Sorts!BA122,Sorts!AY78),"") | KX7: =IF($AU$7<>0,IF($O$5="Illusionniste",Sorts!BA122,Sorts!AZ78),"")
C8: Couleur de peau : | H8: Halée | M8: Couleur des yeux : | R8: Noisette | X8: Couleur des cheveux : | AD8: Chatains | AQ8: Sortilèges de Niveau 1 | CS8: 5 | CT8: =IF($AU$5<>0,IF(OR($O$5="CLERC",$O$5="PALADIN"),Sorts!K8,Sorts!K32),"") -> Croc-en-Jambe | DG8: 0 | DI8: =IF($AU$5<>0,IF(OR($O$5="CLERC",$O$5="PALADIN"),Sorts!L8,Sorts!L32),"") -> T | DL8: =IF($AU$5<>0,IF(OR($O$5="CLERC",$O$5="PALADIN"),Sorts!M8,Sorts!M32),"") -> 1t/n | DO8: =IF($AU$5<>0,IF(OR($O$5="CLERC",$O$5="PALADIN"),Sorts!N8,Sorts!N32),"") -> X | DP8: =IF($AU$5<>0,IF(OR($O$5="CLERC",$O$5="PALADIN"),Sorts!O8,Sorts!O32),"") -> X | DQ8: =IF($AU$5<>0,IF(OR($O$5="CLERC",$O$5="PALADIN"),Sorts!P8,Sorts!P32),"") -> X | DS8: NC | DU8: 5 | DV8: =IF($AU$7<>0,IF($O$5="Illusionniste",Sorts!Q123,Sorts!K79),"") | EI8: 0 | EK8: =IF($AU$7<>0,IF($O$5="Illusionniste",Sorts!R123,Sorts!L79),"") | EM8: =IF($AU$7<>0,IF($O$5="Illusionniste",Sorts!S123,Sorts!M79),"") | EP8: =IF($AU$7<>0,IF($O$5="Illusionniste",Sorts!T123,Sorts!N79),"") | EQ8: =IF($AU$7<>0,IF($O$5="Illusionniste",Sorts!U123,Sorts!O79),"") | ER8: =IF($AU$7<>0,IF($O$5="Illusionniste",Sorts!V123,Sorts!P79),"") | EU8: 5 | EV8: =IF($AU$5<>0,IF(OR($O$5="CLERC",$O$5="PALADIN"),Sorts!W8,Sorts!W32),"") -> Invocation Animale I | FI8: 0 | FK8: =IF($AU$5<>0,IF(OR($O$5="CLERC",$O$5="PALADIN"),Sorts!X8,Sorts!X32),"") -> 4''/n | FN8: =IF($AU$5<>0,IF(OR($O$5="CLERC",$O$5="PALADIN"),Sorts!Y8,Sorts!Y32),"") -> S | FQ8: =IF($AU$5<>0,IF(OR($O$5="CLERC",$O$5="PALADIN"),Sorts!Z8,Sorts!Z32),"") -> X | FR8: =IF($AU$5<>0,IF(OR($O$5="CLERC",$O$5="PALADIN"),Sorts!AA8,Sorts!AA32),"") -> X | FS8: =IF($AU$5<>0,IF(OR($O$5="CLERC",$O$5="PALADIN"),Sorts!AB8,Sorts!AB32),"") -> X | FU8: NC | FW8: 5 | FX8: =IF($AU$7<>0,IF($O$5="Illusionniste",Sorts!AC123,Sorts!W79),"") | GK8: 0 | GM8: =IF($AU$7<>0,IF($O$5="Illusionniste",Sorts!AD123,Sorts!X79),"") | GO8: =IF($AU$7<>0,IF($O$5="Illusionniste",Sorts!AE123,Sorts!Y79),"") | GR8: =IF($AU$7<>0,IF($O$5="Illusionniste",Sorts!AF123,Sorts!Z79),"") | GS8: =IF($AU$7<>0,IF($O$5="Illusionniste",Sorts!AG123,Sorts!AA79),"") | GT8: =IF($AU$7<>0,IF($O$5="Illusionniste",Sorts!AH123,Sorts!AB79),"") | GW8: 5 | GX8: =IF($AU$5<>0,IF(OR($O$5="CLERC",$O$5="PALADIN"),Sorts!AI8,Sorts!AI32),"") -> Invocation Animale III | HK8: 0 | HM8: =IF($AU$5<>0,IF(OR($O$5="CLERC",$O$5="PALADIN"),Sorts!AJ8,Sorts!AJ32),"") -> 8''/n | HP8: =IF($AU$5<>0,IF(OR($O$5="CLERC",$O$5="PALADIN"),Sorts!AK8,Sorts!AK32),"") -> S | HS8: =IF($AU$5<>0,IF(OR($O$5="CLERC",$O$5="PALADIN"),Sorts!AL8,Sorts!AL32),"") -> X | HT8: =IF($AU$5<>0,IF(OR($O$5="CLERC",$O$5="PALADIN"),Sorts!AM8,Sorts!AM32),"") -> X | HU8: =IF($AU$5<>0,IF(OR($O$5="CLERC",$O$5="PALADIN"),Sorts!AN8,Sorts!AN32),"") -> X | HW8: NC | HY8: 5 | HZ8: =IF($AU$7<>0,IF($O$5="Illusionniste",Sorts!AO123,Sorts!AI79),"") | IM8: 0 | IO8: =IF($AU$7<>0,IF($O$5="Illusionniste",Sorts!AP123,Sorts!AJ79),"") | IQ8: =IF($AU$7<>0,IF($O$5="Illusionniste",Sorts!AQ123,Sorts!AK79),"") | IT8: =IF($AU$7<>0,IF($O$5="Illusionniste",Sorts!AR123,Sorts!AL79),"") | IU8: =IF($AU$7<>0,IF($O$5="Illusionniste",Sorts!AS123,Sorts!AM79),"") | IV8: =IF($AU$7<>0,IF($O$5="Illusionniste",Sorts!AT123,Sorts!AN79),"") | JY8: NC | KA8: 5 | KB8: =IF($AU$7<>0,IF($O$5="Illusionniste",Sorts!BA123,Sorts!AU79),"") | KO8: 0 | KQ8: =IF($AU$7<>0,IF($O$5="Illusionniste",Sorts!BA123,Sorts!AV79),"") | KS8: =IF($AU$7<>0,IF($O$5="Illusionniste",Sorts!BA123,Sorts!AW79),"") | KV8: =IF($AU$7<>0,IF($O$5="Illusionniste",Sorts!BA123,Sorts!AX79),"") | KW8: =IF($AU$7<>0,IF($O$5="Illusionniste",Sorts!BA123,Sorts!AY79),"") | KX8: =IF($AU$7<>0,IF($O$5="Illusionniste",Sorts!BA123,Sorts!AZ79),"")
C9: Signe particulier : | AQ9: # | AR9: Nom du sortilège Clerc / Druide | BE9: =SUM(BE10:BE49) -> 0 | BF9: M | BG9: Portée | BJ9: Durée | BM9: V | BN9: S | BO9: M | BQ9: =COUNTIF(BQ10:BR49,"C") -> 0 | BR9: C | BS9: # | BT9: Nom du sortilège Magicien / Illusioniste | CG9: =SUM(CG10:CG49) -> 0 | CH9: M | CI9: Portée | CL9: Durée | CN9: V | CO9: S | CP9: M | CS9: 6 | CT9: =IF($AU$5<>0,IF(OR($O$5="CLERC",$O$5="PALADIN"),Sorts!K9,Sorts!K33),"") -> Distorsion du Bois | DG9: 0 | DI9: =IF($AU$5<>0,IF(OR($O$5="CLERC",$O$5="PALADIN"),Sorts!L9,Sorts!L33),"") -> 1''/n | DL9: =IF($AU$5<>0,IF(OR($O$5="CLERC",$O$5="PALADIN"),Sorts!M9,Sorts!M33),"") -> P | DO9: =IF($AU$5<>0,IF(OR($O$5="CLERC",$O$5="PALADIN"),Sorts!N9,Sorts!N33),"") -> X | DP9: =IF($AU$5<>0,IF(OR($O$5="CLERC",$O$5="PALADIN"),Sorts!O9,Sorts!O33),"") -> X | DQ9: =IF($AU$5<>0,IF(OR($O$5="CLERC",$O$5="PALADIN"),Sorts!P9,Sorts!P33),"") -> X | DS9: NC | DU9: 6 | DV9: =IF($AU$7<>0,IF($O$5="Illusionniste",Sorts!Q124,Sorts!K80),"") | EI9: 0 | EK9: =IF($AU$7<>0,IF($O$5="Illusionniste",Sorts!R124,Sorts!L80),"") | EM9: =IF($AU$7<>0,IF($O$5="Illusionniste",Sorts!S124,Sorts!M80),"") | EP9: =IF($AU$7<>0,IF($O$5="Illusionniste",Sorts!T124,Sorts!N80),"") | EQ9: =IF($AU$7<>0,IF($O$5="Illusionniste",Sorts!U124,Sorts!O80),"") | ER9: =IF($AU$7<>0,IF($O$5="Illusionniste",Sorts!V124,Sorts!P80),"") | EU9: 6 | EV9: =IF($AU$5<>0,IF(OR($O$5="CLERC",$O$5="PALADIN"),Sorts!W9,Sorts!W33),"") -> Invocation des Créatures Sylvestres | FI9: 0 | FK9: =IF($AU$5<>0,IF(OR($O$5="CLERC",$O$5="PALADIN"),Sorts!X9,Sorts!X33),"") -> 12''+1/n | FN9: =IF($AU$5<>0,IF(OR($O$5="CLERC",$O$5="PALADIN"),Sorts!Y9,Sorts!Y33),"") -> S | FQ9: =IF($AU$5<>0,IF(OR($O$5="CLERC",$O$5="PALADIN"),Sorts!Z9,Sorts!Z33),"") -> X | FR9: =IF($AU$5<>0,IF(OR($O$5="CLERC",$O$5="PALADIN"),Sorts!AA9,Sorts!AA33),"") -> X | FS9: =IF($AU$5<>0,IF(OR($O$5="CLERC",$O$5="PALADIN"),Sorts!AB9,Sorts!AB33),"") -> X | FU9: NC | FW9: 6 | FX9: =IF($AU$7<>0,IF($O$5="Illusionniste",Sorts!AC124,Sorts!W80),"") | GK9: 0 | GM9: =IF($AU$7<>0,IF($O$5="Illusionniste",Sorts!AD124,Sorts!X80),"") | GO9: =IF($AU$7<>0,IF($O$5="Illusionniste",Sorts!AE124,Sorts!Y80),"") | GR9: =IF($AU$7<>0,IF($O$5="Illusionniste",Sorts!AF124,Sorts!Z80),"") | GS9: =IF($AU$7<>0,IF($O$5="Illusionniste",Sorts!AG124,Sorts!AA80),"") | GT9: =IF($AU$7<>0,IF($O$5="Illusionniste",Sorts!AH124,Sorts!AB80),"") | GW9: 6 | GX9: =IF($AU$5<>0,IF(OR($O$5="CLERC",$O$5="PALADIN"),Sorts!AI9,Sorts!AI33),"") -> Invocation d’un Élémental du Feu | HK9: 0 | HM9: =IF($AU$5<>0,IF(OR($O$5="CLERC",$O$5="PALADIN"),Sorts!AJ9,Sorts!AJ33),"") -> 8'' | HP9: =IF($AU$5<>0,IF(OR($O$5="CLERC",$O$5="PALADIN"),Sorts!AK9,Sorts!AK33),"") -> 1t/n | HS9: =IF($AU$5<>0,IF(OR($O$5="CLERC",$O$5="PALADIN"),Sorts!AL9,Sorts!AL33),"") -> X | HT9: =IF($AU$5<>0,IF(OR($O$5="CLERC",$O$5="PALADIN"),Sorts!AM9,Sorts!AM33),"") -> X | HU9: =IF($AU$5<>0,IF(OR($O$5="CLERC",$O$5="PALADIN"),Sorts!AN9,Sorts!AN33),"") -> X | HW9: NC | HY9: 6 | HZ9: =IF($AU$7<>0,IF($O$5="Illusionniste",Sorts!AO124,Sorts!AI80),"") | IM9: 0 | IO9: =IF($AU$7<>0,IF($O$5="Illusionniste",Sorts!AP124,Sorts!AJ80),"") | IQ9: =IF($AU$7<>0,IF($O$5="Illusionniste",Sorts!AQ124,Sorts!AK80),"") | IT9: =IF($AU$7<>0,IF($O$5="Illusionniste",Sorts!AR124,Sorts!AL80),"") | IU9: =IF($AU$7<>0,IF($O$5="Illusionniste",Sorts!AS124,Sorts!AM80),"") | IV9: =IF($AU$7<>0,IF($O$5="Illusionniste",Sorts!AT124,Sorts!AN80),"") | JY9: NC | KA9: 6 | KB9: =IF($AU$7<>0,IF($O$5="Illusionniste",Sorts!BA124,Sorts!AU80),"") | KO9: 0 | KQ9: =IF($AU$7<>0,IF($O$5="Illusionniste",Sorts!BA124,Sorts!AV80),"") | KS9: =IF($AU$7<>0,IF($O$5="Illusionniste",Sorts!BA124,Sorts!AW80),"") | KV9: =IF($AU$7<>0,IF($O$5="Illusionniste",Sorts!BA124,Sorts!AX80),"") | KW9: =IF($AU$7<>0,IF($O$5="Illusionniste",Sorts!BA124,Sorts!AY80),"") | KX9: =IF($AU$7<>0,IF($O$5="Illusionniste",Sorts!BA124,Sorts!AZ80),"")
AQ10: 1 | AR10: =IF($AU$5<>0,IF($O$5="CLERC",Sorts!E4,Sorts!E28),"") -> Amitié Animale | BE10: 0 | BG10: =IF($AU$5<>0,IF($O$5="CLERC",Sorts!F4,Sorts!F28),"") -> 1'' | BJ10: =IF($AU$5<>0,IF($O$5="CLERC",Sorts!G4,Sorts!G28),"") -> P | BM10: =IF($AU$5<>0,IF($O$5="CLERC",Sorts!H4,Sorts!H28),"") -> X | BN10: =IF($AU$5<>0,IF($O$5="CLERC",Sorts!I4,Sorts!I28),"") -> X | BO10: =IF($AU$5<>0,IF($O$5="CLERC",Sorts!J4,Sorts!J28),"") -> X | BQ10: NC | BS10: 1 | BT10: =IF($AU$7<>0,IF($O$5="ILLUSIONNISTE",Sorts!K119,Sorts!E75),"") | CG10: 0 | CI10: =IF($AU$7<>0,IF($O$5="ILLUSIONNISTE",Sorts!L119,Sorts!F75),"") | CK10: =IF($AU$7<>0,IF($O$5="ILLUSIONNISTE",Sorts!M119,Sorts!G75),"") | CN10: =IF($AU$7<>0,IF($O$5="ILLUSIONNISTE",Sorts!N119,Sorts!H75),"") | CO10: =IF($AU$7<>0,IF($O$5="ILLUSIONNISTE",Sorts!O119,Sorts!I75),"") | CP10: =IF($AU$7<>0,IF($O$5="ILLUSIONNISTE",Sorts!P119,Sorts!J75),"") | CS10: 7 | CT10: =IF($AU$5<>0,IF(OR($O$5="CLERC",$O$5="PALADIN"),Sorts!K10,Sorts!K34),"") -> Eau Divinatoire | DG10: 0 | DI10: =IF($AU$5<>0,IF(OR($O$5="CLERC",$O$5="PALADIN"),Sorts!L10,Sorts!L34),"") -> 1'' | DL10: =IF($AU$5<>0,IF(OR($O$5="CLERC",$O$5="PALADIN"),Sorts!M10,Sorts!M34),"") -> 1r/n | DO10: =IF($AU$5<>0,IF(OR($O$5="CLERC",$O$5="PALADIN"),Sorts!N10,Sorts!N34),"") -> X | DP10: =IF($AU$5<>0,IF(OR($O$5="CLERC",$O$5="PALADIN"),Sorts!O10,Sorts!O34),"") -> X | DQ10: =IF($AU$5<>0,IF(OR($O$5="CLERC",$O$5="PALADIN"),Sorts!P10,Sorts!P34),"") -> X | DS10: NC | DU10: 7 | DV10: =IF($AU$7<>0,IF($O$5="Illusionniste",Sorts!Q125,Sorts!K81),"") | EI10: 0 | EK10: =IF($AU$7<>0,IF($O$5="Illusionniste",Sorts!R125,Sorts!L81),"") | EM10: =IF($AU$7<>0,IF($O$5="Illusionniste",Sorts!S125,Sorts!M81),"") | EP10: =IF($AU$7<>0,IF($O$5="Illusionniste",Sorts!T125,Sorts!N81),"") | EQ10: =IF($AU$7<>0,IF($O$5="Illusionniste",Sorts!U125,Sorts!O81),"") | ER10: =IF($AU$7<>0,IF($O$5="Illusionniste",Sorts!V125,Sorts!P81),"") | EU10: 7 | EV10: =IF($AU$5<>0,IF(OR($O$5="CLERC",$O$5="PALADIN"),Sorts!W10,Sorts!W34),"") -> Langage des Plantes | FI10: 0 | FK10: =IF($AU$5<>0,IF(OR($O$5="CLERC",$O$5="PALADIN"),Sorts!X10,Sorts!X34),"") -> 0 | FN10: =IF($AU$5<>0,IF(OR($O$5="CLERC",$O$5="PALADIN"),Sorts!Y10,Sorts!Y34),"") -> 2r/n | FQ10: =IF($AU$5<>0,IF(OR($O$5="CLERC",$O$5="PALADIN"),Sorts!Z10,Sorts!Z34),"") -> X | FR10: =IF($AU$5<>0,IF(OR($O$5="CLERC",$O$5="PALADIN"),Sorts!AA10,Sorts!AA34),"") -> X | FS10: =IF($AU$5<>0,IF(OR($O$5="CLERC",$O$5="PALADIN"),Sorts!AB10,Sorts!AB34),"") -> X | FU10: NC | FW10: 7 | FX10: =IF($AU$7<>0,IF($O$5="Illusionniste",Sorts!AC125,Sorts!W81),"") | GK10: 0 | GM10: =IF($AU$7<>0,IF($O$5="Illusionniste",Sorts!AD125,Sorts!X81),"") | GO10: =IF($AU$7<>0,IF($O$5="Illusionniste",Sorts!AE125,Sorts!Y81),"") | GR10: =IF($AU$7<>0,IF($O$5="Illusionniste",Sorts!AF125,Sorts!Z81),"") | GS10: =IF($AU$7<>0,IF($O$5="Illusionniste",Sorts!AG125,Sorts!AA81),"") | GT10: =IF($AU$7<>0,IF($O$5="Illusionniste",Sorts!AH125,Sorts!AB81),"") | GW10: 7 | GX10: =IF($AU$5<>0,IF(OR($O$5="CLERC",$O$5="PALADIN"),Sorts!AI10,Sorts!AI34),"") -> Invocation du Temps | HK10: 0 | HM10: =IF($AU$5<>0,IF(OR($O$5="CLERC",$O$5="PALADIN"),Sorts!AJ10,Sorts!AJ34),"") -> 0 | HP10: =IF($AU$5<>0,IF(OR($O$5="CLERC",$O$5="PALADIN"),Sorts!AK10,Sorts!AK34),"") -> S | HS10: =IF($AU$5<>0,IF(OR($O$5="CLERC",$O$5="PALADIN"),Sorts!AL10,Sorts!AL34),"") -> X | HT10: =IF($AU$5<>0,IF(OR($O$5="CLERC",$O$5="PALADIN"),Sorts!AM10,Sorts!AM34),"") -> X | HU10: =IF($AU$5<>0,IF(OR($O$5="CLERC",$O$5="PALADIN"),Sorts!AN10,Sorts!AN34),"") -> X | HW10: NC | HY10: 7 | HZ10: =IF($AU$7<>0,IF($O$5="Illusionniste",Sorts!AO125,Sorts!AI81),"") | IM10: 0 | IO10: =IF($AU$7<>0,IF($O$5="Illusionniste",Sorts!AP125,Sorts!AJ81),"") | IQ10: =IF($AU$7<>0,IF($O$5="Illusionniste",Sorts!AQ125,Sorts!AK81),"") | IT10: =IF($AU$7<>0,IF($O$5="Illusionniste",Sorts!AR125,Sorts!AL81),"") | IU10: =IF($AU$7<>0,IF($O$5="Illusionniste",Sorts!AS125,Sorts!AM81),"") | IV10: =IF($AU$7<>0,IF($O$5="Illusionniste",Sorts!AT125,Sorts!AN81),"") | JY10: NC | KA10: 7 | KB10: =IF($AU$7<>0,IF($O$5="Illusionniste",Sorts!BA125,Sorts!AU81),"") | KO10: 0 | KQ10: =IF($AU$7<>0,IF($O$5="Illusionniste",Sorts!BA125,Sorts!AV81),"") | KS10: =IF($AU$7<>0,IF($O$5="Illusionniste",Sorts!BA125,Sorts!AW81),"") | KV10: =IF($AU$7<>0,IF($O$5="Illusionniste",Sorts!BA125,Sorts!AX81),"") | KW10: =IF($AU$7<>0,IF($O$5="Illusionniste",Sorts!BA125,Sorts!AY81),"") | KX10: =IF($AU$7<>0,IF($O$5="Illusionniste",Sorts!BA125,Sorts!AZ81),"")
B11: 17 | E11: FOR | G11: Toucher | I11: =IF($D$12=0,VLOOKUP('Joueur 1'!$B$11,Caractéristiques!$B$2:$G$27,2,FALSE),VLOOKUP('Joueur 1'!$D$11,Caractéristiques!$B$29:$G$130,2,FALSE)) -> 1 | L11: Dégats | N11: =IF($D$12=0,VLOOKUP('Joueur 1'!$B$11,Caractéristiques!$B$2:$G$27,3,FALSE),VLOOKUP('Joueur 1'!$D$11,Caractéristiques!$B$29:$G$130,3,FALSE)) -> 1 | Q11: Ajust | S11: =IF($D$12=0,VLOOKUP('Joueur 1'!$B$11,Caractéristiques!$B$2:$G$27,4,FALSE),VLOOKUP('Joueur 1'!$D$11,Caractéristiques!$B$29:$G$130,4,FALSE)) -> 500 | V11: Ouvert | X11: =IF($D$12=0,VLOOKUP('Joueur 1'!$B$11,Caractéristiques!$B$2:$G$27,5,FALSE),VLOOKUP('Joueur 1'!$D$11,Caractéristiques!$B$29:$G$130,5,FALSE)) -> 1 - 3 | AA11: Torsion | AC11: =IF($D$12=0,VLOOKUP('Joueur 1'!$B$11,Caractéristiques!$B$2:$G$27,6,FALSE),VLOOKUP('Joueur 1'!$D$11,Caractéristiques!$B$29:$G$130,6,FALSE)) -> 0.13 | AF11: VADE RETRO | AO11: =IF($AM$5>13,10,IF($AM$5>9,9,$AM$5)) -> 1 | AQ11: 2 | AR11: =IF($AU$5<>0,IF($O$5="CLERC",Sorts!E5,Sorts!E29),"") -> Aura Féérique | BE11: 0 | BG11: =IF($AU$5<>0,IF($O$5="CLERC",Sorts!F5,Sorts!F29),"") -> 8'' | BJ11: =IF($AU$5<>0,IF($O$5="CLERC",Sorts!G5,Sorts!G29),"") -> 4r/n | BM11: =IF($AU$5<>0,IF($O$5="CLERC",Sorts!H5,Sorts!H29),"") -> X | BN11: =IF($AU$5<>0,IF($O$5="CLERC",Sorts!I5,Sorts!I29),"") -> / | BO11: =IF($AU$5<>0,IF($O$5="CLERC",Sorts!J5,Sorts!J29),"") -> / | BQ11: NC | BS11: 2 | BT11: =IF($AU$7<>0,IF($O$5="ILLUSIONNISTE",Sorts!K120,Sorts!E76),"") | CG11: 0 | CI11: =IF($AU$7<>0,IF($O$5="ILLUSIONNISTE",Sorts!L120,Sorts!F76),"") | CK11: =IF($AU$7<>0,IF($O$5="ILLUSIONNISTE",Sorts!M120,Sorts!G76),"") | CN11: =IF($AU$7<>0,IF($O$5="ILLUSIONNISTE",Sorts!N120,Sorts!H76),"") | CO11: =IF($AU$7<>0,IF($O$5="ILLUSIONNISTE",Sorts!O120,Sorts!I76),"") | CP11: =IF($AU$7<>0,IF($O$5="ILLUSIONNISTE",Sorts!P120,Sorts!J76),"") | CS11: 8 | CT11: =IF($AU$5<>0,IF(OR($O$5="CLERC",$O$5="PALADIN"),Sorts!K11,Sorts!K35),"") -> Flamme | DG11: 0 | DI11: =IF($AU$5<>0,IF(OR($O$5="CLERC",$O$5="PALADIN"),Sorts!L11,Sorts!L35),"") -> 0 | DL11: =IF($AU$5<>0,IF(OR($O$5="CLERC",$O$5="PALADIN"),Sorts!M11,Sorts!M35),"") -> 2r/n | DO11: =IF($AU$5<>0,IF(OR($O$5="CLERC",$O$5="PALADIN"),Sorts!N11,Sorts!N35),"") -> X | DP11: =IF($AU$5<>0,IF(OR($O$5="CLERC",$O$5="PALADIN"),Sorts!O11,Sorts!O35),"") -> X | DQ11: =IF($AU$5<>0,IF(OR($O$5="CLERC",$O$5="PALADIN"),Sorts!P11,Sorts!P35),"") -> X | DS11: NC | DU11: 8 | DV11: =IF($AU$7<>0,IF($O$5="Illusionniste",Sorts!Q126,Sorts!K82),"") | EI11: 0 | EK11: =IF($AU$7<>0,IF($O$5="Illusionniste",Sorts!R126,Sorts!L82),"") | EM11: =IF($AU$7<>0,IF($O$5="Illusionniste",Sorts!S126,Sorts!M82),"") | EP11: =IF($AU$7<>0,IF($O$5="Illusionniste",Sorts!T126,Sorts!N82),"") | EQ11: =IF($AU$7<>0,IF($O$5="Illusionniste",Sorts!U126,Sorts!O82),"") | ER11: =IF($AU$7<>0,IF($O$5="Illusionniste",Sorts!V126,Sorts!P82),"") | EU11: 8 | EV11: =IF($AU$5<>0,IF(OR($O$5="CLERC",$O$5="PALADIN"),Sorts!W11,Sorts!W35),"") -> Paralysie Végétale | FI11: 0 | FK11: =IF($AU$5<>0,IF(OR($O$5="CLERC",$O$5="PALADIN"),Sorts!X11,Sorts!X35),"") -> 8'' | FN11: =IF($AU$5<>0,IF(OR($O$5="CLERC",$O$5="PALADIN"),Sorts!Y11,Sorts!Y35),"") -> 1r/n | FQ11: =IF($AU$5<>0,IF(OR($O$5="CLERC",$O$5="PALADIN"),Sorts!Z11,Sorts!Z35),"") -> X | FR11: =IF($AU$5<>0,IF(OR($O$5="CLERC",$O$5="PALADIN"),Sorts!AA11,Sorts!AA35),"") -> X | FS11: =IF($AU$5<>0,IF(OR($O$5="CLERC",$O$5="PALADIN"),Sorts!AB11,Sorts!AB35),"") -> X | FU11: NC | FW11: 8 | FX11: =IF($AU$7<>0,IF($O$5="Illusionniste",Sorts!AC126,Sorts!W82),"") | GK11: 0 | GM11: =IF($AU$7<>0,IF($O$5="Illusionniste",Sorts!AD126,Sorts!X82),"") | GO11: =IF($AU$7<>0,IF($O$5="Illusionniste",Sorts!AE126,Sorts!Y82),"") | GR11: =IF($AU$7<>0,IF($O$5="Illusionniste",Sorts!AF126,Sorts!Z82),"") | GS11: =IF($AU$7<>0,IF($O$5="Illusionniste",Sorts!AG126,Sorts!AA82),"") | GT11: =IF($AU$7<>0,IF($O$5="Illusionniste",Sorts!AH126,Sorts!AB82),"") | GW11: 8 | GX11: =IF($AU$5<>0,IF(OR($O$5="CLERC",$O$5="PALADIN"),Sorts!AI11,Sorts!AI35),"") -> Mur d’Épines | HK11: 0 | HM11: =IF($AU$5<>0,IF(OR($O$5="CLERC",$O$5="PALADIN"),Sorts!AJ11,Sorts!AJ35),"") -> 8'' | HP11: =IF($AU$5<>0,IF(OR($O$5="CLERC",$O$5="PALADIN"),Sorts!AK11,Sorts!AK35),"") -> P | HS11: =IF($AU$5<>0,IF(OR($O$5="CLERC",$O$5="PALADIN"),Sorts!AL11,Sorts!AL35),"") -> X | HT11: =IF($AU$5<>0,IF(OR($O$5="CLERC",$O$5="PALADIN"),Sorts!AM11,Sorts!AM35),"") -> X | HU11: =IF($AU$5<>0,IF(OR($O$5="CLERC",$O$5="PALADIN"),Sorts!AN11,Sorts!AN35),"") -> X | HW11: NC | HY11: 8 | HZ11: =IF($AU$7<>0,IF($O$5="Illusionniste",Sorts!AO126,Sorts!AI82),"") | IM11: 0 | IO11: =IF($AU$7<>0,IF($O$5="Illusionniste",Sorts!AP126,Sorts!AJ82),"") | IQ11: =IF($AU$7<>0,IF($O$5="Illusionniste",Sorts!AQ126,Sorts!AK82),"") | IT11: =IF($AU$7<>0,IF($O$5="Illusionniste",Sorts!AR126,Sorts!AL82),"") | IU11: =IF($AU$7<>0,IF($O$5="Illusionniste",Sorts!AS126,Sorts!AM82),"") | IV11: =IF($AU$7<>0,IF($O$5="Illusionniste",Sorts!AT126,Sorts!AN82),"") | JY11: NC | KA11: 8 | KB11: =IF($AU$7<>0,IF($O$5="Illusionniste",Sorts!BA126,Sorts!AU82),"") | KO11: 0 | KQ11: =IF($AU$7<>0,IF($O$5="Illusionniste",Sorts!BA126,Sorts!AV82),"") | KS11: =IF($AU$7<>0,IF($O$5="Illusionniste",Sorts!BA126,Sorts!AW82),"") | KV11: =IF($AU$7<>0,IF($O$5="Illusionniste",Sorts!BA126,Sorts!AX82),"") | KW11: =IF($AU$7<>0,IF($O$5="Illusionniste",Sorts!BA126,Sorts!AY82),"") | KX11: =IF($AU$7<>0,IF($O$5="Illusionniste",Sorts!BA126,Sorts!AZ82),"")
D12: =IF(OR($O$5="GUERRIER",$O$5="PALADIN",$O$5="RANGER",AND($O$5="BARDE",OR($Z$5="Vétéran",$Z$5="Guerrier",$Z$5="Maître d'Armes",$Z$5="Héros",)))*AND($B$11=18),1,0) -> 0 | Q12: Poids | V12: portes | AA12: Barreaux | AF12: Squelette | AK12: =INDEX(Niveaux!$A$1115:$L$1151,$AO$11+1+4,MATCH($O$5,Niveaux!$B$1115:$L$1115,0)+1) -> 0 | AQ12: 3 | AR12: =IF($AU$5<>0,IF($O$5="CLERC",Sorts!E6,Sorts!E30),"") -> Cérémonie | BE12: 0 | BG12: =IF($AU$5<>0,IF($O$5="CLERC",Sorts!F6,Sorts!F30),"") -> T | BJ12: =IF($AU$5<>0,IF($O$5="CLERC",Sorts!G6,Sorts!G30),"") -> P | BM12: =IF($AU$5<>0,IF($O$5="CLERC",Sorts!H6,Sorts!H30),"") -> X | BN12: =IF($AU$5<>0,IF($O$5="CLERC",Sorts!I6,Sorts!I30),"") -> X | BO12: =IF($AU$5<>0,IF($O$5="CLERC",Sorts!J6,Sorts!J30),"") -> X | BQ12: NC | BS12: 3 | BT12: =IF($AU$7<>0,IF($O$5="ILLUSIONNISTE",Sorts!K121,Sorts!E77),"") | CG12: 0 | CI12: =IF($AU$7<>0,IF($O$5="ILLUSIONNISTE",Sorts!L121,Sorts!F77),"") | CK12: =IF($AU$7<>0,IF($O$5="ILLUSIONNISTE",Sorts!M121,Sorts!G77),"") | CN12: =IF($AU$7<>0,IF($O$5="ILLUSIONNISTE",Sorts!N121,Sorts!H77),"") | CO12: =IF($AU$7<>0,IF($O$5="ILLUSIONNISTE",Sorts!O121,Sorts!I77),"") | CP12: =IF($AU$7<>0,IF($O$5="ILLUSIONNISTE",Sorts!P121,Sorts!J77),"") | CS12: 9 | CT12: =IF($AU$5<>0,IF(OR($O$5="CLERC",$O$5="PALADIN"),Sorts!K12,Sorts!K36),"") -> Lame de Feu | DG12: 0 | DI12: =IF($AU$5<>0,IF(OR($O$5="CLERC",$O$5="PALADIN"),Sorts!L12,Sorts!L36),"") -> 0 | DL12: =IF($AU$5<>0,IF(OR($O$5="CLERC",$O$5="PALADIN"),Sorts!M12,Sorts!M36),"") -> 1r/n | DO12: =IF($AU$5<>0,IF(OR($O$5="CLERC",$O$5="PALADIN"),Sorts!N12,Sorts!N36),"") -> X | DP12: =IF($AU$5<>0,IF(OR($O$5="CLERC",$O$5="PALADIN"),Sorts!O12,Sorts!O36),"") -> X | DQ12: =IF($AU$5<>0,IF(OR($O$5="CLERC",$O$5="PALADIN"),Sorts!P12,Sorts!P36),"") -> X | DS12: NC | DU12: 9 | DV12: =IF($AU$7<>0,IF($O$5="Illusionniste",Sorts!Q127,Sorts!K83),"") | EI12: 0 | EK12: =IF($AU$7<>0,IF($O$5="Illusionniste",Sorts!R127,Sorts!L83),"") | EM12: =IF($AU$7<>0,IF($O$5="Illusionniste",Sorts!S127,Sorts!M83),"") | EP12: =IF($AU$7<>0,IF($O$5="Illusionniste",Sorts!T127,Sorts!N83),"") | EQ12: =IF($AU$7<>0,IF($O$5="Illusionniste",Sorts!U127,Sorts!O83),"") | ER12: =IF($AU$7<>0,IF($O$5="Illusionniste",Sorts!V127,Sorts!P83),"") | EU12: 9 | EV12: =IF($AU$5<>0,IF(OR($O$5="CLERC",$O$5="PALADIN"),Sorts!W12,Sorts!W36),"") -> Porte Végétale | FI12: 0 | FK12: =IF($AU$5<>0,IF(OR($O$5="CLERC",$O$5="PALADIN"),Sorts!X12,Sorts!X36),"") -> T | FN12: =IF($AU$5<>0,IF(OR($O$5="CLERC",$O$5="PALADIN"),Sorts!Y12,Sorts!Y36),"") -> 1t/n | FQ12: =IF($AU$5<>0,IF(OR($O$5="CLERC",$O$5="PALADIN"),Sorts!Z12,Sorts!Z36),"") -> X | FR12: =IF($AU$5<>0,IF(OR($O$5="CLERC",$O$5="PALADIN"),Sorts!AA12,Sorts!AA36),"") -> X | FS12: =IF($AU$5<>0,IF(OR($O$5="CLERC",$O$5="PALADIN"),Sorts!AB12,Sorts!AB36),"") -> X | FU12: NC | FW12: 9 | FX12: =IF($AU$7<>0,IF($O$5="Illusionniste",Sorts!AC127,Sorts!W83),"") | GK12: 0 | GM12: =IF($AU$7<>0,IF($O$5="Illusionniste",Sorts!AD127,Sorts!X83),"") | GO12: =IF($AU$7<>0,IF($O$5="Illusionniste",Sorts!AE127,Sorts!Y83),"") | GR12: =IF($AU$7<>0,IF($O$5="Illusionniste",Sorts!AF127,Sorts!Z83),"") | GS12: =IF($AU$7<>0,IF($O$5="Illusionniste",Sorts!AG127,Sorts!AA83),"") | GT12: =IF($AU$7<>0,IF($O$5="Illusionniste",Sorts!AH127,Sorts!AB83),"") | GW12: 9 | GX12: =IF($AU$5<>0,IF(OR($O$5="CLERC",$O$5="PALADIN"),Sorts!AI12,Sorts!AI36),"") -> Répulsion du Bois | HK12: 0 | HM12: =IF($AU$5<>0,IF(OR($O$5="CLERC",$O$5="PALADIN"),Sorts!AJ12,Sorts!AJ36),"") -> 0 | HP12: =IF($AU$5<>0,IF(OR($O$5="CLERC",$O$5="PALADIN"),Sorts!AK12,Sorts!AK36),"") -> 4r/n | HS12: =IF($AU$5<>0,IF(OR($O$5="CLERC",$O$5="PALADIN"),Sorts!AL12,Sorts!AL36),"") -> X | HT12: =IF($AU$5<>0,IF(OR($O$5="CLERC",$O$5="PALADIN"),Sorts!AM12,Sorts!AM36),"") -> X | HU12: =IF($AU$5<>0,IF(OR($O$5="CLERC",$O$5="PALADIN"),Sorts!AN12,Sorts!AN36),"") -> X | HW12: NC | HY12: 9 | HZ12: =IF($AU$7<>0,IF($O$5="Illusionniste",Sorts!AO127,Sorts!AI83),"") | IM12: 0 | IO12: =IF($AU$7<>0,IF($O$5="Illusionniste",Sorts!AP127,Sorts!AJ83),"") | IQ12: =IF($AU$7<>0,IF($O$5="Illusionniste",Sorts!AQ127,Sorts!AK83),"") | IT12: =IF($AU$7<>0,IF($O$5="Illusionniste",Sorts!AR127,Sorts!AL83),"") | IU12: =IF($AU$7<>0,IF($O$5="Illusionniste",Sorts!AS127,Sorts!AM83),"") | IV12: =IF($AU$7<>0,IF($O$5="Illusionniste",Sorts!AT127,Sorts!AN83),"") | JY12: NC | KA12: 9 | KB12: =IF($AU$7<>0,IF($O$5="Illusionniste",Sorts!BA127,Sorts!AU83),"") | KO12: 0 | KQ12: =IF($AU$7<>0,IF($O$5="Illusionniste",Sorts!BA127,Sorts!AV83),"") | KS12: =IF($AU$7<>0,IF($O$5="Illusionniste",Sorts!BA127,Sorts!AW83),"") | KV12: =IF($AU$7<>0,IF($O$5="Illusionniste",Sorts!BA127,Sorts!AX83),"") | KW12: =IF($AU$7<>0,IF($O$5="Illusionniste",Sorts!BA127,Sorts!AY83),"") | KX12: =IF($AU$7<>0,IF($O$5="Illusionniste",Sorts!BA127,Sorts!AZ83),"")
B13: 14 | E13: INT | G13: Lang | I13: =VLOOKUP($B$13,Caractéristiques!$B$133:$F$160,2,FALSE) -> 4 | L13: Know | N13: =VLOOKUP($B$13,Caractéristiques!$B$133:$F$160,3,FALSE) -> 0.55 | Q13: Sorts | S13: =VLOOKUP($B$13,Caractéristiques!$B$133:$F$160,4,FALSE) -> 6 | V13: Sorts | X13: =VLOOKUP($B$13,Caractéristiques!$B$133:$F$160,5,FALSE) -> 9 | AF13: Zombie | AK13: =INDEX(Niveaux!$A$1115:$L$1151,$AO$11+1+3,MATCH($O$5,Niveaux!$B$1115:$L$1115,0)+1) -> 0 | AQ13: 4 | AR13: =IF($AU$5<>0,IF($O$5="CLERC",Sorts!E7,Sorts!E31),"") -> Détection de la Magie | BE13: 0 | BG13: =IF($AU$5<>0,IF($O$5="CLERC",Sorts!F7,Sorts!F31),"") -> 0 | BJ13: =IF($AU$5<>0,IF($O$5="CLERC",Sorts!G7,Sorts!G31),"") -> 12r | BM13: =IF($AU$5<>0,IF($O$5="CLERC",Sorts!H7,Sorts!H31),"") -> X | BN13: =IF($AU$5<>0,IF($O$5="CLERC",Sorts!I7,Sorts!I31),"") -> X | BO13: =IF($AU$5<>0,IF($O$5="CLERC",Sorts!J7,Sorts!J31),"") -> X | BQ13: NC | BS13: 4 | BT13: =IF($AU$7<>0,IF($O$5="ILLUSIONNISTE",Sorts!K122,Sorts!E78),"") | CG13: 0 | CI13: =IF($AU$7<>0,IF($O$5="ILLUSIONNISTE",Sorts!L122,Sorts!F78),"") | CK13: =IF($AU$7<>0,IF($O$5="ILLUSIONNISTE",Sorts!M122,Sorts!G78),"") | CN13: =IF($AU$7<>0,IF($O$5="ILLUSIONNISTE",Sorts!N122,Sorts!H78),"") | CO13: =IF($AU$7<>0,IF($O$5="ILLUSIONNISTE",Sorts!O122,Sorts!I78),"") | CP13: =IF($AU$7<>0,IF($O$5="ILLUSIONNISTE",Sorts!P122,Sorts!J78),"") | CS13: 10 | CT13: =IF($AU$5<>0,IF(OR($O$5="CLERC",$O$5="PALADIN"),Sorts!K13,Sorts!K37),"") -> Localisation des Plantes | DG13: 0 | DI13: =IF($AU$5<>0,IF(OR($O$5="CLERC",$O$5="PALADIN"),Sorts!L13,Sorts!L37),"") -> 0 | DL13: =IF($AU$5<>0,IF(OR($O$5="CLERC",$O$5="PALADIN"),Sorts!M13,Sorts!M37),"") -> 1t/n | DO13: =IF($AU$5<>0,IF(OR($O$5="CLERC",$O$5="PALADIN"),Sorts!N13,Sorts!N37),"") -> X | DP13: =IF($AU$5<>0,IF(OR($O$5="CLERC",$O$5="PALADIN"),Sorts!O13,Sorts!O37),"") -> X | DQ13: =IF($AU$5<>0,IF(OR($O$5="CLERC",$O$5="PALADIN"),Sorts!P13,Sorts!P37),"") -> X | DS13: NC | DU13: 10 | DV13: =IF($AU$7<>0,IF($O$5="Illusionniste",Sorts!Q128,Sorts!K84),"") | EI13: 0 | EK13: =IF($AU$7<>0,IF($O$5="Illusionniste",Sorts!R128,Sorts!L84),"") | EM13: =IF($AU$7<>0,IF($O$5="Illusionniste",Sorts!S128,Sorts!M84),"") | EP13: =IF($AU$7<>0,IF($O$5="Illusionniste",Sorts!T128,Sorts!N84),"") | EQ13: =IF($AU$7<>0,IF($O$5="Illusionniste",Sorts!U128,Sorts!O84),"") | ER13: =IF($AU$7<>0,IF($O$5="Illusionniste",Sorts!V128,Sorts!P84),"") | EU13: 10 | EV13: =IF($AU$5<>0,IF(OR($O$5="CLERC",$O$5="PALADIN"),Sorts!W13,Sorts!W37),"") -> Protection contre la Foudre | FI13: 0 | FK13: =IF($AU$5<>0,IF(OR($O$5="CLERC",$O$5="PALADIN"),Sorts!X13,Sorts!X37),"") -> T | FN13: =IF($AU$5<>0,IF(OR($O$5="CLERC",$O$5="PALADIN"),Sorts!Y13,Sorts!Y37),"") -> S | FQ13: =IF($AU$5<>0,IF(OR($O$5="CLERC",$O$5="PALADIN"),Sorts!Z13,Sorts!Z37),"") -> X | FR13: =IF($AU$5<>0,IF(OR($O$5="CLERC",$O$5="PALADIN"),Sorts!AA13,Sorts!AA37),"") -> X | FS13: =IF($AU$5<>0,IF(OR($O$5="CLERC",$O$5="PALADIN"),Sorts!AB13,Sorts!AB37),"") -> X | FU13: NC | FW13: 10 | FX13: =IF($AU$7<>0,IF($O$5="Illusionniste",Sorts!AC128,Sorts!W84),"") | GK13: 0 | GM13: =IF($AU$7<>0,IF($O$5="Illusionniste",Sorts!AD128,Sorts!X84),"") | GO13: =IF($AU$7<>0,IF($O$5="Illusionniste",Sorts!AE128,Sorts!Y84),"") | GR13: =IF($AU$7<>0,IF($O$5="Illusionniste",Sorts!AF128,Sorts!Z84),"") | GS13: =IF($AU$7<>0,IF($O$5="Illusionniste",Sorts!AG128,Sorts!AA84),"") | GT13: =IF($AU$7<>0,IF($O$5="Illusionniste",Sorts!AH128,Sorts!AB84),"") | GW13: 10 | GX13: =IF($AU$5<>0,IF(OR($O$5="CLERC",$O$5="PALADIN"),Sorts!AI13,Sorts!AI37),"") -> Soin Ultime | HK13: 0 | HM13: =IF($AU$5<>0,IF(OR($O$5="CLERC",$O$5="PALADIN"),Sorts!AJ13,Sorts!AJ37),"") -> T | HP13: =IF($AU$5<>0,IF(OR($O$5="CLERC",$O$5="PALADIN"),Sorts!AK13,Sorts!AK37),"") -> P | HS13: =IF($AU$5<>0,IF(OR($O$5="CLERC",$O$5="PALADIN"),Sorts!AL13,Sorts!AL37),"") -> X | HT13: =IF($AU$5<>0,IF(OR($O$5="CLERC",$O$5="PALADIN"),Sorts!AM13,Sorts!AM37),"") -> X | HU13: =IF($AU$5<>0,IF(OR($O$5="CLERC",$O$5="PALADIN"),Sorts!AN13,Sorts!AN37),"") -> X | HW13: NC | HY13: 10 | HZ13: =IF($AU$7<>0,IF($O$5="Illusionniste",Sorts!AO128,Sorts!AI84),"") | IM13: 0 | IO13: =IF($AU$7<>0,IF($O$5="Illusionniste",Sorts!AP128,Sorts!AJ84),"") | IQ13: =IF($AU$7<>0,IF($O$5="Illusionniste",Sorts!AQ128,Sorts!AK84),"") | IT13: =IF($AU$7<>0,IF($O$5="Illusionniste",Sorts!AR128,Sorts!AL84),"") | IU13: =IF($AU$7<>0,IF($O$5="Illusionniste",Sorts!AS128,Sorts!AM84),"") | IV13: =IF($AU$7<>0,IF($O$5="Illusionniste",Sorts!AT128,Sorts!AN84),"") | JY13: NC | KA13: 10 | KB13: =IF($AU$7<>0,IF($O$5="Illusionniste",Sorts!BA128,Sorts!AU84),"") | KO13: 0 | KQ13: =IF($AU$7<>0,IF($O$5="Illusionniste",Sorts!BA128,Sorts!AV84),"") | KS13: =IF($AU$7<>0,IF($O$5="Illusionniste",Sorts!BA128,Sorts!AW84),"") | KV13: =IF($AU$7<>0,IF($O$5="Illusionniste",Sorts!BA128,Sorts!AX84),"") | KW13: =IF($AU$7<>0,IF($O$5="Illusionniste",Sorts!BA128,Sorts!AY84),"") | KX13: =IF($AU$7<>0,IF($O$5="Illusionniste",Sorts!BA128,Sorts!AZ84),"")
G14: Add | L14: Spells | Q14: Min | V14: Max | AF14: Goule | AK14: =INDEX(Niveaux!$A$1115:$L$1151,$AO$11+1+2,MATCH($O$5,Niveaux!$B$1115:$L$1115,0)+1) -> 0 | AQ14: 5 | AR14: =IF($AU$5<>0,IF($O$5="CLERC",Sorts!E8,Sorts!E32),"") -> Détection des Pièges Sylvestres | BE14: 0 | BG14: =IF($AU$5<>0,IF($O$5="CLERC",Sorts!F8,Sorts!F32),"") -> 0 | BJ14: =IF($AU$5<>0,IF($O$5="CLERC",Sorts!G8,Sorts!G32),"") -> 4r/n | BM14: =IF($AU$5<>0,IF($O$5="CLERC",Sorts!H8,Sorts!H32),"") -> X | BN14: =IF($AU$5<>0,IF($O$5="CLERC",Sorts!I8,Sorts!I32),"") -> X | BO14: =IF($AU$5<>0,IF($O$5="CLERC",Sorts!J8,Sorts!J32),"") -> X | BQ14: NC | BS14: 5 | BT14: =IF($AU$7<>0,IF($O$5="ILLUSIONNISTE",Sorts!K123,Sorts!E79),"") | CG14: 0 | CI14: =IF($AU$7<>0,IF($O$5="ILLUSIONNISTE",Sorts!L123,Sorts!F79),"") | CK14: =IF($AU$7<>0,IF($O$5="ILLUSIONNISTE",Sorts!M123,Sorts!G79),"") | CN14: =IF($AU$7<>0,IF($O$5="ILLUSIONNISTE",Sorts!N123,Sorts!H79),"") | CO14: =IF($AU$7<>0,IF($O$5="ILLUSIONNISTE",Sorts!O123,Sorts!I79),"") | CP14: =IF($AU$7<>0,IF($O$5="ILLUSIONNISTE",Sorts!P123,Sorts!J79),"") | CS14: 11 | CT14: =IF($AU$5<>0,IF(OR($O$5="CLERC",$O$5="PALADIN"),Sorts!K14,Sorts!K38),"") -> Métal Brûlant | DG14: 0 | DI14: =IF($AU$5<>0,IF(OR($O$5="CLERC",$O$5="PALADIN"),Sorts!L14,Sorts!L38),"") -> 4'' | DL14: =IF($AU$5<>0,IF(OR($O$5="CLERC",$O$5="PALADIN"),Sorts!M14,Sorts!M38),"") -> 7r | DO14: =IF($AU$5<>0,IF(OR($O$5="CLERC",$O$5="PALADIN"),Sorts!N14,Sorts!N38),"") -> X | DP14: =IF($AU$5<>0,IF(OR($O$5="CLERC",$O$5="PALADIN"),Sorts!O14,Sorts!O38),"") -> X | DQ14: =IF($AU$5<>0,IF(OR($O$5="CLERC",$O$5="PALADIN"),Sorts!P14,Sorts!P38),"") -> X | DS14: NC | DU14: 11 | DV14: =IF($AU$7<>0,IF($O$5="Illusionniste",Sorts!Q129,Sorts!K85),"") | EI14: 0 | EK14: =IF($AU$7<>0,IF($O$5="Illusionniste",Sorts!R129,Sorts!L85),"") | EM14: =IF($AU$7<>0,IF($O$5="Illusionniste",Sorts!S129,Sorts!M85),"") | EP14: =IF($AU$7<>0,IF($O$5="Illusionniste",Sorts!T129,Sorts!N85),"") | EQ14: =IF($AU$7<>0,IF($O$5="Illusionniste",Sorts!U129,Sorts!O85),"") | ER14: =IF($AU$7<>0,IF($O$5="Illusionniste",Sorts!V129,Sorts!P85),"") | EU14: 11 | EV14: =IF($AU$5<>0,IF(OR($O$5="CLERC",$O$5="PALADIN"),Sorts!W14,Sorts!W38),"") -> Répulsion des Insectes | FI14: 0 | FK14: =IF($AU$5<>0,IF(OR($O$5="CLERC",$O$5="PALADIN"),Sorts!X14,Sorts!X38),"") -> 0 | FN14: =IF($AU$5<>0,IF(OR($O$5="CLERC",$O$5="PALADIN"),Sorts!Y14,Sorts!Y38),"") -> 1t/n | FQ14: =IF($AU$5<>0,IF(OR($O$5="CLERC",$O$5="PALADIN"),Sorts!Z14,Sorts!Z38),"") -> X | FR14: =IF($AU$5<>0,IF(OR($O$5="CLERC",$O$5="PALADIN"),Sorts!AA14,Sorts!AA38),"") -> X | FS14: =IF($AU$5<>0,IF(OR($O$5="CLERC",$O$5="PALADIN"),Sorts!AB14,Sorts!AB38),"") -> X | FU14: NC | FW14: 11 | FX14: =IF($AU$7<>0,IF($O$5="Illusionniste",Sorts!AC129,Sorts!W85),"") | GK14: 0 | GM14: =IF($AU$7<>0,IF($O$5="Illusionniste",Sorts!AD129,Sorts!X85),"") | GO14: =IF($AU$7<>0,IF($O$5="Illusionniste",Sorts!AE129,Sorts!Y85),"") | GR14: =IF($AU$7<>0,IF($O$5="Illusionniste",Sorts!AF129,Sorts!Z85),"") | GS14: =IF($AU$7<>0,IF($O$5="Illusionniste",Sorts!AG129,Sorts!AA85),"") | GT14: =IF($AU$7<>0,IF($O$5="Illusionniste",Sorts!AH129,Sorts!AB85),"") | GW14: 11 | GX14: =IF($AU$5<>0,IF(OR($O$5="CLERC",$O$5="PALADIN"),Sorts!AI14,Sorts!AI38),"") -> Transit Végétal | HK14: 0 | HM14: =IF($AU$5<>0,IF(OR($O$5="CLERC",$O$5="PALADIN"),Sorts!AJ14,Sorts!AJ38),"") -> T | HP14: =IF($AU$5<>0,IF(OR($O$5="CLERC",$O$5="PALADIN"),Sorts!AK14,Sorts!AK38),"") -> S | HS14: =IF($AU$5<>0,IF(OR($O$5="CLERC",$O$5="PALADIN"),Sorts!AL14,Sorts!AL38),"") -> X | HT14: =IF($AU$5<>0,IF(OR($O$5="CLERC",$O$5="PALADIN"),Sorts!AM14,Sorts!AM38),"") -> X | HU14: =IF($AU$5<>0,IF(OR($O$5="CLERC",$O$5="PALADIN"),Sorts!AN14,Sorts!AN38),"") -> / | HW14: NC | HY14: 11 | HZ14: =IF($AU$7<>0,IF($O$5="Illusionniste",Sorts!AO129,Sorts!AI85),"") | IM14: 0 | IO14: =IF($AU$7<>0,IF($O$5="Illusionniste",Sorts!AP129,Sorts!AJ85),"") | IQ14: =IF($AU$7<>0,IF($O$5="Illusionniste",Sorts!AQ129,Sorts!AK85),"") | IT14: =IF($AU$7<>0,IF($O$5="Illusionniste",Sorts!AR129,Sorts!AL85),"") | IU14: =IF($AU$7<>0,IF($O$5="Illusionniste",Sorts!AS129,Sorts!AM85),"") | IV14: =IF($AU$7<>0,IF($O$5="Illusionniste",Sorts!AT129,Sorts!AN85),"") | JY14: NC | KA14: 11 | KB14: =IF($AU$7<>0,IF($O$5="Illusionniste",Sorts!BA129,Sorts!AU85),"") | KO14: 0 | KQ14: =IF($AU$7<>0,IF($O$5="Illusionniste",Sorts!BA129,Sorts!AV85),"") | KS14: =IF($AU$7<>0,IF($O$5="Illusionniste",Sorts!BA129,Sorts!AW85),"") | KV14: =IF($AU$7<>0,IF($O$5="Illusionniste",Sorts!BA129,Sorts!AX85),"") | KW14: =IF($AU$7<>0,IF($O$5="Illusionniste",Sorts!BA129,Sorts!AY85),"") | KX14: =IF($AU$7<>0,IF($O$5="Illusionniste",Sorts!BA129,Sorts!AZ85),"")
B15: 17 | E15: SAG | G15: Ajust | I15: =VLOOKUP($B$15,Caractéristiques!$B$160:$L$184,2,FALSE) -> 3 | L15: Niveau | N15: 1 | O15: 2 | P15: 3 | Q15: 4 | S15: % Echec | U15: =IF(OR($O$5="CLERC",$O$5="DRUIDE",AND($O$5="BARDE",$AM$5>8)),VLOOKUP($B$15,Caractéristiques!$B$160:$L$184,7,FALSE),"no") -> 0 | V15: =IF(OR($O$5="CLERC",$O$5="DRUIDE"),VLOOKUP($B$15,Autres!#REF!,6,FALSE),"no") -> #REF! | X15: Ajust | Z15: =VLOOKUP($B$15,Caractéristiques!$B$160:$L$184,11,FALSE) -> -3 | AF15: Ombre | AK15: =INDEX(Niveaux!$A$1115:$L$1151,$AO$11+1+1,MATCH($O$5,Niveaux!$B$1115:$L$1115,0)+1) -> 0 | AQ15: 6 | AR15: =IF($AU$5<>0,IF($O$5="CLERC",Sorts!E9,Sorts!E33),"") -> Détection du Poison | BE15: 0 | BG15: =IF($AU$5<>0,IF($O$5="CLERC",Sorts!F9,Sorts!F33),"") -> 0 | BJ15: =IF($AU$5<>0,IF($O$5="CLERC",Sorts!G9,Sorts!G33),"") -> 1r/n | BM15: =IF($AU$5<>0,IF($O$5="CLERC",Sorts!H9,Sorts!H33),"") -> X | BN15: =IF($AU$5<>0,IF($O$5="CLERC",Sorts!I9,Sorts!I33),"") -> X | BO15: =IF($AU$5<>0,IF($O$5="CLERC",Sorts!J9,Sorts!J33),"") -> X | BQ15: NC | BS15: 6 | BT15: =IF($AU$7<>0,IF($O$5="ILLUSIONNISTE",Sorts!K124,Sorts!E80),"") | CG15: 0 | CI15: =IF($AU$7<>0,IF($O$5="ILLUSIONNISTE",Sorts!L124,Sorts!F80),"") | CK15: =IF($AU$7<>0,IF($O$5="ILLUSIONNISTE",Sorts!M124,Sorts!G80),"") | CN15: =IF($AU$7<>0,IF($O$5="ILLUSIONNISTE",Sorts!N124,Sorts!H80),"") | CO15: =IF($AU$7<>0,IF($O$5="ILLUSIONNISTE",Sorts!O124,Sorts!I80),"") | CP15: =IF($AU$7<>0,IF($O$5="ILLUSIONNISTE",Sorts!P124,Sorts!J80),"") | CS15: 12 | CT15: =IF($AU$5<>0,IF(OR($O$5="CLERC",$O$5="PALADIN"),Sorts!K15,Sorts!K39),"") -> Obscurcissement | DG15: 0 | DI15: =IF($AU$5<>0,IF(OR($O$5="CLERC",$O$5="PALADIN"),Sorts!L15,Sorts!L39),"") -> 0 | DL15: =IF($AU$5<>0,IF(OR($O$5="CLERC",$O$5="PALADIN"),Sorts!M15,Sorts!M39),"") -> 4r/n | DO15: =IF($AU$5<>0,IF(OR($O$5="CLERC",$O$5="PALADIN"),Sorts!N15,Sorts!N39),"") -> X | DP15: =IF($AU$5<>0,IF(OR($O$5="CLERC",$O$5="PALADIN"),Sorts!O15,Sorts!O39),"") -> X | DQ15: =IF($AU$5<>0,IF(OR($O$5="CLERC",$O$5="PALADIN"),Sorts!P15,Sorts!P39),"") -> / | DS15: NC | DU15: 12 | DV15: =IF($AU$7<>0,IF($O$5="Illusionniste",Sorts!Q130,Sorts!K86),"") | EI15: 0 | EK15: =IF($AU$7<>0,IF($O$5="Illusionniste",Sorts!R130,Sorts!L86),"") | EM15: =IF($AU$7<>0,IF($O$5="Illusionniste",Sorts!S130,Sorts!M86),"") | EP15: =IF($AU$7<>0,IF($O$5="Illusionniste",Sorts!T130,Sorts!N86),"") | EQ15: =IF($AU$7<>0,IF($O$5="Illusionniste",Sorts!U130,Sorts!O86),"") | ER15: =IF($AU$7<>0,IF($O$5="Illusionniste",Sorts!V130,Sorts!P86),"") | EU15: 12 | EV15: =IF($AU$5<>0,IF(OR($O$5="CLERC",$O$5="PALADIN"),Sorts!W15,Sorts!W39),"") -> Soins Majeurs | FI15: 0 | FK15: =IF($AU$5<>0,IF(OR($O$5="CLERC",$O$5="PALADIN"),Sorts!X15,Sorts!X39),"") -> T | FN15: =IF($AU$5<>0,IF(OR($O$5="CLERC",$O$5="PALADIN"),Sorts!Y15,Sorts!Y39),"") -> P | FQ15: =IF($AU$5<>0,IF(OR($O$5="CLERC",$O$5="PALADIN"),Sorts!Z15,Sorts!Z39),"") -> X | FR15: =IF($AU$5<>0,IF(OR($O$5="CLERC",$O$5="PALADIN"),Sorts!AA15,Sorts!AA39),"") -> X | FS15: =IF($AU$5<>0,IF(OR($O$5="CLERC",$O$5="PALADIN"),Sorts!AB15,Sorts!AB39),"") -> X | FU15: NC | FW15: 12 | FX15: =IF($AU$7<>0,IF($O$5="Illusionniste",Sorts!AC130,Sorts!W86),"") | GK15: 0 | GM15: =IF($AU$7<>0,IF($O$5="Illusionniste",Sorts!AD130,Sorts!X86),"") | GO15: =IF($AU$7<>0,IF($O$5="Illusionniste",Sorts!AE130,Sorts!Y86),"") | GR15: =IF($AU$7<>0,IF($O$5="Illusionniste",Sorts!AF130,Sorts!Z86),"") | GS15: =IF($AU$7<>0,IF($O$5="Illusionniste",Sorts!AG130,Sorts!AA86),"") | GT15: =IF($AU$7<>0,IF($O$5="Illusionniste",Sorts!AH130,Sorts!AB86),"") | GW15: 12 | GX15: =IF($AU$5<>0,IF(OR($O$5="CLERC",$O$5="PALADIN"),Sorts!AI15,Sorts!AI39),"") -> Transmutation d’Eau en Poussière | HK15: 0 | HM15: =IF($AU$5<>0,IF(OR($O$5="CLERC",$O$5="PALADIN"),Sorts!AJ15,Sorts!AJ39),"") -> 6'' | HP15: =IF($AU$5<>0,IF(OR($O$5="CLERC",$O$5="PALADIN"),Sorts!AK15,Sorts!AK39),"") -> P | HS15: =IF($AU$5<>0,IF(OR($O$5="CLERC",$O$5="PALADIN"),Sorts!AL15,Sorts!AL39),"") -> X | HT15: =IF($AU$5<>0,IF(OR($O$5="CLERC",$O$5="PALADIN"),Sorts!AM15,Sorts!AM39),"") -> X | HU15: =IF($AU$5<>0,IF(OR($O$5="CLERC",$O$5="PALADIN"),Sorts!AN15,Sorts!AN39),"") -> X | HW15: NC | HY15: 12 | HZ15: =IF($AU$7<>0,IF($O$5="Illusionniste",Sorts!AO130,Sorts!AI86),"") | IM15: 0 | IO15: =IF($AU$7<>0,IF($O$5="Illusionniste",Sorts!AP130,Sorts!AJ86),"") | IQ15: =IF($AU$7<>0,IF($O$5="Illusionniste",Sorts!AQ130,Sorts!AK86),"") | IT15: =IF($AU$7<>0,IF($O$5="Illusionniste",Sorts!AR130,Sorts!AL86),"") | IU15: =IF($AU$7<>0,IF($O$5="Illusionniste",Sorts!AS130,Sorts!AM86),"") | IV15: =IF($AU$7<>0,IF($O$5="Illusionniste",Sorts!AT130,Sorts!AN86),"") | JY15: NC | KA15: 12 | KB15: =IF($AU$7<>0,IF($O$5="Illusionniste",Sorts!BA130,Sorts!AU86),"") | KO15: 0 | KQ15: =IF($AU$7<>0,IF($O$5="Illusionniste",Sorts!BA130,Sorts!AV86),"") | KS15: =IF($AU$7<>0,IF($O$5="Illusionniste",Sorts!BA130,Sorts!AW86),"") | KV15: =IF($AU$7<>0,IF($O$5="Illusionniste",Sorts!BA130,Sorts!AX86),"") | KW15: =IF($AU$7<>0,IF($O$5="Illusionniste",Sorts!BA130,Sorts!AY86),"") | KX15: =IF($AU$7<>0,IF($O$5="Illusionniste",Sorts!BA130,Sorts!AZ86),"")
G16: Magie | L16: Sort | N16: =IF(OR($O$5="CLERC",$O$5="DRUIDE",AND($O$5="BARDE",$AM$5>10)),VLOOKUP($B$15,Caractéristiques!$B$160:$L$184,3,FALSE),0) -> 2 | O16: =IF(OR($O$5="CLERC",$O$5="DRUIDE",AND($O$5="BARDE",$AM$5>10)),VLOOKUP($B$15,Caractéristiques!$B$160:$L$184,4,FALSE),0) -> 2 | P16: =IF(OR($O$5="CLERC",$O$5="DRUIDE",AND($O$5="BARDE",$AM$5>10)),VLOOKUP($B$15,Caractéristiques!$B$160:$L$184,5,FALSE),0) -> 1 | Q16: =IF(OR($O$5="CLERC",$O$5="DRUIDE",AND($O$5="BARDE",$AM$5>10)),VLOOKUP($B$15,Caractéristiques!$B$160:$L$184,6,FALSE),0) -> 0 | S16: aux sorts | U16: =IF(OR($O$5="CLERC",$O$5="DRUIDE"),VLOOKUP($B$15,Autres!#REF!,6,FALSE),"no") -> #REF! | V16: =IF(OR($O$5="CLERC",$O$5="DRUIDE"),VLOOKUP($B$15,Autres!#REF!,6,FALSE),"no") -> #REF! | X16: Jp/Sorts | AF16: Nécrophage | AK16: =INDEX(Niveaux!$A$1115:$L$1151,$AO$11+1,MATCH($O$5,Niveaux!$B$1115:$L$1115,0)+1) -> 0 | AQ16: 7 | AR16: =IF($AU$5<>0,IF($O$5="CLERC",Sorts!E10,Sorts!E34),"") -> Enchevêtrement | BE16: 0 | BG16: =IF($AU$5<>0,IF($O$5="CLERC",Sorts!F10,Sorts!F34),"") -> 8'' | BJ16: =IF($AU$5<>0,IF($O$5="CLERC",Sorts!G10,Sorts!G34),"") -> 1t | BM16: =IF($AU$5<>0,IF($O$5="CLERC",Sorts!H10,Sorts!H34),"") -> X | BN16: =IF($AU$5<>0,IF($O$5="CLERC",Sorts!I10,Sorts!I34),"") -> X | BO16: =IF($AU$5<>0,IF($O$5="CLERC",Sorts!J10,Sorts!J34),"") -> X | BQ16: NC | BS16: 7 | BT16: =IF($AU$7<>0,IF($O$5="ILLUSIONNISTE",Sorts!K125,Sorts!E81),"") | CG16: 0 | CI16: =IF($AU$7<>0,IF($O$5="ILLUSIONNISTE",Sorts!L125,Sorts!F81),"") | CK16: =IF($AU$7<>0,IF($O$5="ILLUSIONNISTE",Sorts!M125,Sorts!G81),"") | CN16: =IF($AU$7<>0,IF($O$5="ILLUSIONNISTE",Sorts!N125,Sorts!H81),"") | CO16: =IF($AU$7<>0,IF($O$5="ILLUSIONNISTE",Sorts!O125,Sorts!I81),"") | CP16: =IF($AU$7<>0,IF($O$5="ILLUSIONNISTE",Sorts!P125,Sorts!J81),"") | CS16: 13 | CT16: =IF($AU$5<>0,IF(OR($O$5="CLERC",$O$5="PALADIN"),Sorts!K16,Sorts!K40),"") -> Peau d’Écorce | DG16: 0 | DI16: =IF($AU$5<>0,IF(OR($O$5="CLERC",$O$5="PALADIN"),Sorts!L16,Sorts!L40),"") -> T | DL16: =IF($AU$5<>0,IF(OR($O$5="CLERC",$O$5="PALADIN"),Sorts!M16,Sorts!M40),"") -> 4r+1/n | DO16: =IF($AU$5<>0,IF(OR($O$5="CLERC",$O$5="PALADIN"),Sorts!N16,Sorts!N40),"") -> X | DP16: =IF($AU$5<>0,IF(OR($O$5="CLERC",$O$5="PALADIN"),Sorts!O16,Sorts!O40),"") -> X | DQ16: =IF($AU$5<>0,IF(OR($O$5="CLERC",$O$5="PALADIN"),Sorts!P16,Sorts!P40),"") -> X | DS16: NC | DU16: 13 | DV16: =IF($AU$7<>0,IF($O$5="Illusionniste",Sorts!Q131,Sorts!K87),"") | EI16: 0 | EK16: =IF($AU$7<>0,IF($O$5="Illusionniste",Sorts!R131,Sorts!L87),"") | EM16: =IF($AU$7<>0,IF($O$5="Illusionniste",Sorts!S131,Sorts!M87),"") | EP16: =IF($AU$7<>0,IF($O$5="Illusionniste",Sorts!T131,Sorts!N87),"") | EQ16: =IF($AU$7<>0,IF($O$5="Illusionniste",Sorts!U131,Sorts!O87),"") | ER16: =IF($AU$7<>0,IF($O$5="Illusionniste",Sorts!V131,Sorts!P87),"") | EU16: 13 | EV16: =IF($AU$5<>0,IF(OR($O$5="CLERC",$O$5="PALADIN"),Sorts!W16,Sorts!W40),"") -> 0 | FI16: 0 | FK16: =IF($AU$5<>0,IF(OR($O$5="CLERC",$O$5="PALADIN"),Sorts!X16,Sorts!X40),"") -> 0 | FN16: =IF($AU$5<>0,IF(OR($O$5="CLERC",$O$5="PALADIN"),Sorts!Y16,Sorts!Y40),"") -> 0 | FQ16: =IF($AU$5<>0,IF(OR($O$5="CLERC",$O$5="PALADIN"),Sorts!Z16,Sorts!Z40),"") -> 0 | FR16: =IF($AU$5<>0,IF(OR($O$5="CLERC",$O$5="PALADIN"),Sorts!AA16,Sorts!AA40),"") -> 0 | FS16: =IF($AU$5<>0,IF(OR($O$5="CLERC",$O$5="PALADIN"),Sorts!AB16,Sorts!AB40),"") -> 0 | FU16: NC | FW16: 13 | FX16: =IF($AU$7<>0,IF($O$5="Illusionniste",Sorts!AC131,Sorts!W87),"") | GK16: 0 | GM16: =IF($AU$7<>0,IF($O$5="Illusionniste",Sorts!AD131,Sorts!X87),"") | GO16: =IF($AU$7<>0,IF($O$5="Illusionniste",Sorts!AE131,Sorts!Y87),"") | GR16: =IF($AU$7<>0,IF($O$5="Illusionniste",Sorts!AF131,Sorts!Z87),"") | GS16: =IF($AU$7<>0,IF($O$5="Illusionniste",Sorts!AG131,Sorts!AA87),"") | GT16: =IF($AU$7<>0,IF($O$5="Illusionniste",Sorts!AH131,Sorts!AB87),"") | GW16: 13 | HW16: NC | HY16: 13 | HZ16: =IF($AU$7<>0,IF($O$5="Illusionniste",Sorts!AO131,Sorts!AI87),"") | IM16: 0 | IO16: =IF($AU$7<>0,IF($O$5="Illusionniste",Sorts!AP131,Sorts!AJ87),"") | IQ16: =IF($AU$7<>0,IF($O$5="Illusionniste",Sorts!AQ131,Sorts!AK87),"") | IT16: =IF($AU$7<>0,IF($O$5="Illusionniste",Sorts!AR131,Sorts!AL87),"") | IU16: =IF($AU$7<>0,IF($O$5="Illusionniste",Sorts!AS131,Sorts!AM87),"") | IV16: =IF($AU$7<>0,IF($O$5="Illusionniste",Sorts!AT131,Sorts!AN87),"") | JY16: NC | KA16: 13 | KB16: =IF($AU$7<>0,IF($O$5="Illusionniste",Sorts!BA131,Sorts!AU87),"") | KO16: 0 | KQ16: =IF($AU$7<>0,IF($O$5="Illusionniste",Sorts!BA131,Sorts!AV87),"") | KS16: =IF($AU$7<>0,IF($O$5="Illusionniste",Sorts!BA131,Sorts!AW87),"") | KV16: =IF($AU$7<>0,IF($O$5="Illusionniste",Sorts!BA131,Sorts!AX87),"") | KW16: =IF($AU$7<>0,IF($O$5="Illusionniste",Sorts!BA131,Sorts!AY87),"") | KX16: =IF($AU$7<>0,IF($O$5="Illusionniste",Sorts!BA131,Sorts!AZ87),"")
B17: 15 | E17: DEX | G17: Ajust | I17: =VLOOKUP($B$17,Caractéristiques!$B$187:$E$211,2,FALSE) -> 0 | L17: Ajustement | Q17: =VLOOKUP($B$17,Caractéristiques!$B$187:$E$211,3,FALSE) -> 0 | T17: Ajustement Classe d'Armure | AA17: =VLOOKUP($B$17,Caractéristiques!$B$187:$E$211,4,FALSE) -> -1 | AF17: Ghast | AK17: =IF($AO$11<2,"-",INDEX(Niveaux!$A$1115:$L$1151,$AO$11+1-1,MATCH($O$5,Niveaux!$B$1115:$L$1115,0)+1)) -> - | AQ17: 8 | AR17: =IF($AU$5<>0,IF($O$5="CLERC",Sorts!E11,Sorts!E35),"") -> Invisibilité aux Animaux | BE17: 0 | BG17: =IF($AU$5<>0,IF($O$5="CLERC",Sorts!F11,Sorts!F35),"") -> T | BJ17: =IF($AU$5<>0,IF($O$5="CLERC",Sorts!G11,Sorts!G35),"") -> 1t+1r/n | BM17: =IF($AU$5<>0,IF($O$5="CLERC",Sorts!H11,Sorts!H35),"") -> / | BN17: =IF($AU$5<>0,IF($O$5="CLERC",Sorts!I11,Sorts!I35),"") -> X | BO17: =IF($AU$5<>0,IF($O$5="CLERC",Sorts!J11,Sorts!J35),"") -> X | BQ17: NC | BS17: 8 | BT17: =IF($AU$7<>0,IF($O$5="ILLUSIONNISTE",Sorts!K126,Sorts!E82),"") | CG17: 0 | CI17: =IF($AU$7<>0,IF($O$5="ILLUSIONNISTE",Sorts!L126,Sorts!F82),"") | CK17: =IF($AU$7<>0,IF($O$5="ILLUSIONNISTE",Sorts!M126,Sorts!G82),"") | CN17: =IF($AU$7<>0,IF($O$5="ILLUSIONNISTE",Sorts!N126,Sorts!H82),"") | CO17: =IF($AU$7<>0,IF($O$5="ILLUSIONNISTE",Sorts!O126,Sorts!I82),"") | CP17: =IF($AU$7<>0,IF($O$5="ILLUSIONNISTE",Sorts!P126,Sorts!J82),"") | CS17: 14 | CT17: =IF($AU$5<>0,IF(OR($O$5="CLERC",$O$5="PALADIN"),Sorts!K17,Sorts!K41),"") -> Piège à Feu | DG17: 0 | DI17: =IF($AU$5<>0,IF(OR($O$5="CLERC",$O$5="PALADIN"),Sorts!L17,Sorts!L41),"") -> T | DL17: =IF($AU$5<>0,IF(OR($O$5="CLERC",$O$5="PALADIN"),Sorts!M17,Sorts!M41),"") -> P+S | DO17: =IF($AU$5<>0,IF(OR($O$5="CLERC",$O$5="PALADIN"),Sorts!N17,Sorts!N41),"") -> X | DP17: =IF($AU$5<>0,IF(OR($O$5="CLERC",$O$5="PALADIN"),Sorts!O17,Sorts!O41),"") -> X | DQ17: =IF($AU$5<>0,IF(OR($O$5="CLERC",$O$5="PALADIN"),Sorts!P17,Sorts!P41),"") -> X | DS17: NC | DU17: 14 | DV17: =IF($AU$7<>0,IF($O$5="Illusionniste",Sorts!Q132,Sorts!K88),"") | EI17: 0 | EK17: =IF($AU$7<>0,IF($O$5="Illusionniste",Sorts!R132,Sorts!L88),"") | EM17: =IF($AU$7<>0,IF($O$5="Illusionniste",Sorts!S132,Sorts!M88),"") | EP17: =IF($AU$7<>0,IF($O$5="Illusionniste",Sorts!T132,Sorts!N88),"") | EQ17: =IF($AU$7<>0,IF($O$5="Illusionniste",Sorts!U132,Sorts!O88),"") | ER17: =IF($AU$7<>0,IF($O$5="Illusionniste",Sorts!V132,Sorts!P88),"") | EU17: 14 | EV17: =IF($AU$5<>0,IF(OR($O$5="CLERC",$O$5="PALADIN"),Sorts!W17,Sorts!W41),"") -> 0 | FI17: 0 | FK17: =IF($AU$5<>0,IF(OR($O$5="CLERC",$O$5="PALADIN"),Sorts!X17,Sorts!X41),"") -> 0 | FN17: =IF($AU$5<>0,IF(OR($O$5="CLERC",$O$5="PALADIN"),Sorts!Y17,Sorts!Y41),"") -> 0 | FQ17: =IF($AU$5<>0,IF(OR($O$5="CLERC",$O$5="PALADIN"),Sorts!Z17,Sorts!Z41),"") -> 0 | FR17: =IF($AU$5<>0,IF(OR($O$5="CLERC",$O$5="PALADIN"),Sorts!AA17,Sorts!AA41),"") -> 0 | FS17: =IF($AU$5<>0,IF(OR($O$5="CLERC",$O$5="PALADIN"),Sorts!AB17,Sorts!AB41),"") -> 0 | FU17: NC | FW17: 14 | FX17: =IF($AU$7<>0,IF($O$5="Illusionniste",Sorts!AC132,Sorts!W88),"") | GK17: 0 | GM17: =IF($AU$7<>0,IF($O$5="Illusionniste",Sorts!AD132,Sorts!X88),"") | GO17: =IF($AU$7<>0,IF($O$5="Illusionniste",Sorts!AE132,Sorts!Y88),"") | GR17: =IF($AU$7<>0,IF($O$5="Illusionniste",Sorts!AF132,Sorts!Z88),"") | GS17: =IF($AU$7<>0,IF($O$5="Illusionniste",Sorts!AG132,Sorts!AA88),"") | GT17: =IF($AU$7<>0,IF($O$5="Illusionniste",Sorts!AH132,Sorts!AB88),"") | GW17: 14 | HW17: NC | HY17: 14 | HZ17: =IF($AU$7<>0,IF($O$5="Illusionniste",Sorts!AO132,Sorts!AI88),"") | IM17: 0 | IO17: =IF($AU$7<>0,IF($O$5="Illusionniste",Sorts!AP132,Sorts!AJ88),"") | IQ17: =IF($AU$7<>0,IF($O$5="Illusionniste",Sorts!AQ132,Sorts!AK88),"") | IT17: =IF($AU$7<>0,IF($O$5="Illusionniste",Sorts!AR132,Sorts!AL88),"") | IU17: =IF($AU$7<>0,IF($O$5="Illusionniste",Sorts!AS132,Sorts!AM88),"") | IV17: =IF($AU$7<>0,IF($O$5="Illusionniste",Sorts!AT132,Sorts!AN88),"") | JY17: NC | KA17: 14 | KB17: =IF($AU$7<>0,IF($O$5="Illusionniste",Sorts!BA132,Sorts!AU88),"") | KO17: 0 | KQ17: =IF($AU$7<>0,IF($O$5="Illusionniste",Sorts!BA132,Sorts!AV88),"") | KS17: =IF($AU$7<>0,IF($O$5="Illusionniste",Sorts!BA132,Sorts!AW88),"") | KV17: =IF($AU$7<>0,IF($O$5="Illusionniste",Sorts!BA132,Sorts!AX88),"") | KW17: =IF($AU$7<>0,IF($O$5="Illusionniste",Sorts!BA132,Sorts!AY88),"") | KX17: =IF($AU$7<>0,IF($O$5="Illusionniste",Sorts!BA132,Sorts!AZ88),"")
G18: Surprise | L18: Toucher Projectiles | T18: Jp / Baguettes et Souffle | AF18: Ame en peine | AK18: =IF($AO$11<3,"-",INDEX(Niveaux!$A$1115:$L$1151,$AO$11+1-2,MATCH($O$5,Niveaux!$B$1115:$L$1115,0)+1)) -> - | AQ18: 9 | AR18: =IF($AU$5<>0,IF($O$5="CLERC",Sorts!E12,Sorts!E36),"") -> Langage Animal | BE18: 0 | BG18: =IF($AU$5<>0,IF($O$5="CLERC",Sorts!F12,Sorts!F36),"") -> 0 | BJ18: =IF($AU$5<>0,IF($O$5="CLERC",Sorts!G12,Sorts!G36),"") -> 2r/n | BM18: =IF($AU$5<>0,IF($O$5="CLERC",Sorts!H12,Sorts!H36),"") -> X | BN18: =IF($AU$5<>0,IF($O$5="CLERC",Sorts!I12,Sorts!I36),"") -> X | BO18: =IF($AU$5<>0,IF($O$5="CLERC",Sorts!J12,Sorts!J36),"") -> / | BQ18: NC | BS18: 9 | BT18: =IF($AU$7<>0,IF($O$5="ILLUSIONNISTE",Sorts!K127,Sorts!E83),"") | CG18: 0 | CI18: =IF($AU$7<>0,IF($O$5="ILLUSIONNISTE",Sorts!L127,Sorts!F83),"") | CK18: =IF($AU$7<>0,IF($O$5="ILLUSIONNISTE",Sorts!M127,Sorts!G83),"") | CN18: =IF($AU$7<>0,IF($O$5="ILLUSIONNISTE",Sorts!N127,Sorts!H83),"") | CO18: =IF($AU$7<>0,IF($O$5="ILLUSIONNISTE",Sorts!O127,Sorts!I83),"") | CP18: =IF($AU$7<>0,IF($O$5="ILLUSIONNISTE",Sorts!P127,Sorts!J83),"") | CS18: 15 | CT18: =IF($AU$5<>0,IF(OR($O$5="CLERC",$O$5="PALADIN"),Sorts!K18,Sorts!K42),"") -> Retardement du Poison | DG18: 0 | DI18: =IF($AU$5<>0,IF(OR($O$5="CLERC",$O$5="PALADIN"),Sorts!L18,Sorts!L42),"") -> T | DL18: =IF($AU$5<>0,IF(OR($O$5="CLERC",$O$5="PALADIN"),Sorts!M18,Sorts!M42),"") -> 1h/n | DO18: =IF($AU$5<>0,IF(OR($O$5="CLERC",$O$5="PALADIN"),Sorts!N18,Sorts!N42),"") -> X | DP18: =IF($AU$5<>0,IF(OR($O$5="CLERC",$O$5="PALADIN"),Sorts!O18,Sorts!O42),"") -> X | DQ18: =IF($AU$5<>0,IF(OR($O$5="CLERC",$O$5="PALADIN"),Sorts!P18,Sorts!P42),"") -> X | DS18: NC | DU18: 15 | DV18: =IF($AU$7<>0,IF($O$5="Illusionniste",Sorts!Q133,Sorts!K89),"") | EI18: 0 | EK18: =IF($AU$7<>0,IF($O$5="Illusionniste",Sorts!R133,Sorts!L89),"") | EM18: =IF($AU$7<>0,IF($O$5="Illusionniste",Sorts!S133,Sorts!M89),"") | EP18: =IF($AU$7<>0,IF($O$5="Illusionniste",Sorts!T133,Sorts!N89),"") | EQ18: =IF($AU$7<>0,IF($O$5="Illusionniste",Sorts!U133,Sorts!O89),"") | ER18: =IF($AU$7<>0,IF($O$5="Illusionniste",Sorts!V133,Sorts!P89),"") | EU18: 15 | EV18: =IF($AU$5<>0,IF(OR($O$5="CLERC",$O$5="PALADIN"),Sorts!W18,Sorts!W42),"") -> 0 | FI18: 0 | FK18: =IF($AU$5<>0,IF(OR($O$5="CLERC",$O$5="PALADIN"),Sorts!X18,Sorts!X42),"") -> 0 | FN18: =IF($AU$5<>0,IF(OR($O$5="CLERC",$O$5="PALADIN"),Sorts!Y18,Sorts!Y42),"") -> 0 | FQ18: =IF($AU$5<>0,IF(OR($O$5="CLERC",$O$5="PALADIN"),Sorts!Z18,Sorts!Z42),"") -> 0 | FR18: =IF($AU$5<>0,IF(OR($O$5="CLERC",$O$5="PALADIN"),Sorts!AA18,Sorts!AA42),"") -> 0 | FS18: =IF($AU$5<>0,IF(OR($O$5="CLERC",$O$5="PALADIN"),Sorts!AB18,Sorts!AB42),"") -> 0 | FU18: NC | FW18: 15 | FX18: =IF($AU$7<>0,IF($O$5="Illusionniste",Sorts!AC133,Sorts!W89),"") | GK18: 0 | GM18: =IF($AU$7<>0,IF($O$5="Illusionniste",Sorts!AD133,Sorts!X89),"") | GO18: =IF($AU$7<>0,IF($O$5="Illusionniste",Sorts!AE133,Sorts!Y89),"") | GR18: =IF($AU$7<>0,IF($O$5="Illusionniste",Sorts!AF133,Sorts!Z89),"") | GS18: =IF($AU$7<>0,IF($O$5="Illusionniste",Sorts!AG133,Sorts!AA89),"") | GT18: =IF($AU$7<>0,IF($O$5="Illusionniste",Sorts!AH133,Sorts!AB89),"") | GW18: 15 | HW18: NC | HY18: 15 | HZ18: =IF($AU$7<>0,IF($O$5="Illusionniste",Sorts!AO133,Sorts!AI89),"") | IM18: 0 | IO18: =IF($AU$7<>0,IF($O$5="Illusionniste",Sorts!AP133,Sorts!AJ89),"") | IQ18: =IF($AU$7<>0,IF($O$5="Illusionniste",Sorts!AQ133,Sorts!AK89),"") | IT18: =IF($AU$7<>0,IF($O$5="Illusionniste",Sorts!AR133,Sorts!AL89),"") | IU18: =IF($AU$7<>0,IF($O$5="Illusionniste",Sorts!AS133,Sorts!AM89),"") | IV18: =IF($AU$7<>0,IF($O$5="Illusionniste",Sorts!AT133,Sorts!AN89),"") | JY18: NC | KA18: 15 | KB18: =IF($AU$7<>0,IF($O$5="Illusionniste",Sorts!BA133,Sorts!AU89),"") | KO18: 0 | KQ18: =IF($AU$7<>0,IF($O$5="Illusionniste",Sorts!BA133,Sorts!AV89),"") | KS18: =IF($AU$7<>0,IF($O$5="Illusionniste",Sorts!BA133,Sorts!AW89),"") | KV18: =IF($AU$7<>0,IF($O$5="Illusionniste",Sorts!BA133,Sorts!AX89),"") | KW18: =IF($AU$7<>0,IF($O$5="Illusionniste",Sorts!BA133,Sorts!AY89),"") | KX18: =IF($AU$7<>0,IF($O$5="Illusionniste",Sorts!BA133,Sorts!AZ89),"")
B19: 16 | E19: CON | G19: Ajustement | J19: =VLOOKUP($B$19,Caractéristiques!$B$214:$F$238,2,FALSE) -> 2 | M19: Choc | O19: =VLOOKUP($B$19,Caractéristiques!$B$214:$F$238,3,FALSE) -> 0.95 | R19: % de | U19: =VLOOKUP($B$19,Caractéristiques!$B$214:$F$238,4,FALSE) -> 0.96 | X19: Ajust JP | AC19: =VLOOKUP($B$19,Caractéristiques!$B$214:$F$238,5,FALSE) -> -2 | AF19: Momie | AK19: =IF($AO$11<4,"-",INDEX(Niveaux!$A$1115:$L$1151,$AO$11+1-3,MATCH($O$5,Niveaux!$B$1115:$L$1115,0)+1)) -> - | AQ19: 10 | AR19: =IF($AU$5<>0,IF($O$5="CLERC",Sorts!E13,Sorts!E37),"") -> Localisation des Animaux | BE19: 0 | BG19: =IF($AU$5<>0,IF($O$5="CLERC",Sorts!F13,Sorts!F37),"") -> 0 | BJ19: =IF($AU$5<>0,IF($O$5="CLERC",Sorts!G13,Sorts!G37),"") -> 1r/n | BM19: =IF($AU$5<>0,IF($O$5="CLERC",Sorts!H13,Sorts!H37),"") -> X | BN19: =IF($AU$5<>0,IF($O$5="CLERC",Sorts!I13,Sorts!I37),"") -> X | BO19: =IF($AU$5<>0,IF($O$5="CLERC",Sorts!J13,Sorts!J37),"") -> X | BQ19: NC | BS19: 10 | BT19: =IF($AU$7<>0,IF($O$5="ILLUSIONNISTE",Sorts!K128,Sorts!E84),"") | CG19: 0 | CI19: =IF($AU$7<>0,IF($O$5="ILLUSIONNISTE",Sorts!L128,Sorts!F84),"") | CK19: =IF($AU$7<>0,IF($O$5="ILLUSIONNISTE",Sorts!M128,Sorts!G84),"") | CN19: =IF($AU$7<>0,IF($O$5="ILLUSIONNISTE",Sorts!N128,Sorts!H84),"") | CO19: =IF($AU$7<>0,IF($O$5="ILLUSIONNISTE",Sorts!O128,Sorts!I84),"") | CP19: =IF($AU$7<>0,IF($O$5="ILLUSIONNISTE",Sorts!P128,Sorts!J84),"") | CS19: 16 | CT19: =IF($AU$5<>0,IF(OR($O$5="CLERC",$O$5="PALADIN"),Sorts!K19,Sorts!K43),"") -> Soins Mineurs | DG19: 0 | DI19: =IF($AU$5<>0,IF(OR($O$5="CLERC",$O$5="PALADIN"),Sorts!L19,Sorts!L43),"") -> T | DL19: =IF($AU$5<>0,IF(OR($O$5="CLERC",$O$5="PALADIN"),Sorts!M19,Sorts!M43),"") -> P | DO19: =IF($AU$5<>0,IF(OR($O$5="CLERC",$O$5="PALADIN"),Sorts!N19,Sorts!N43),"") -> X | DP19: =IF($AU$5<>0,IF(OR($O$5="CLERC",$O$5="PALADIN"),Sorts!O19,Sorts!O43),"") -> X | DQ19: =IF($AU$5<>0,IF(OR($O$5="CLERC",$O$5="PALADIN"),Sorts!P19,Sorts!P43),"") -> X | DS19: NC | DU19: 16 | DV19: =IF($AU$7<>0,IF($O$5="Illusionniste",Sorts!Q134,Sorts!K90),"") | EI19: 0 | EK19: =IF($AU$7<>0,IF($O$5="Illusionniste",Sorts!R134,Sorts!L90),"") | EM19: =IF($AU$7<>0,IF($O$5="Illusionniste",Sorts!S134,Sorts!M90),"") | EP19: =IF($AU$7<>0,IF($O$5="Illusionniste",Sorts!T134,Sorts!N90),"") | EQ19: =IF($AU$7<>0,IF($O$5="Illusionniste",Sorts!U134,Sorts!O90),"") | ER19: =IF($AU$7<>0,IF($O$5="Illusionniste",Sorts!V134,Sorts!P90),"") | EU19: 16 | EV19: =IF($AU$5<>0,IF(OR($O$5="CLERC",$O$5="PALADIN"),Sorts!W19,Sorts!W43),"") -> 0 | FI19: 0 | FK19: =IF($AU$5<>0,IF(OR($O$5="CLERC",$O$5="PALADIN"),Sorts!X19,Sorts!X43),"") -> 0 | FN19: =IF($AU$5<>0,IF(OR($O$5="CLERC",$O$5="PALADIN"),Sorts!Y19,Sorts!Y43),"") -> 0 | FQ19: =IF($AU$5<>0,IF(OR($O$5="CLERC",$O$5="PALADIN"),Sorts!Z19,Sorts!Z43),"") -> 0 | FR19: =IF($AU$5<>0,IF(OR($O$5="CLERC",$O$5="PALADIN"),Sorts!AA19,Sorts!AA43),"") -> 0 | FS19: =IF($AU$5<>0,IF(OR($O$5="CLERC",$O$5="PALADIN"),Sorts!AB19,Sorts!AB43),"") -> 0 | FU19: NC | FW19: 16 | FX19: =IF($AU$7<>0,IF($O$5="Illusionniste",Sorts!AC134,Sorts!W90),"") | GK19: 0 | GM19: =IF($AU$7<>0,IF($O$5="Illusionniste",Sorts!AD134,Sorts!X90),"") | GO19: =IF($AU$7<>0,IF($O$5="Illusionniste",Sorts!AE134,Sorts!Y90),"") | GR19: =IF($AU$7<>0,IF($O$5="Illusionniste",Sorts!AF134,Sorts!Z90),"") | GS19: =IF($AU$7<>0,IF($O$5="Illusionniste",Sorts!AG134,Sorts!AA90),"") | GT19: =IF($AU$7<>0,IF($O$5="Illusionniste",Sorts!AH134,Sorts!AB90),"") | GW19: 16 | HW19: NC | HY19: 16 | HZ19: =IF($AU$7<>0,IF($O$5="Illusionniste",Sorts!AO134,Sorts!AI90),"") | IM19: 0 | IO19: =IF($AU$7<>0,IF($O$5="Illusionniste",Sorts!AP134,Sorts!AJ90),"") | IQ19: =IF($AU$7<>0,IF($O$5="Illusionniste",Sorts!AQ134,Sorts!AK90),"") | IT19: =IF($AU$7<>0,IF($O$5="Illusionniste",Sorts!AR134,Sorts!AL90),"") | IU19: =IF($AU$7<>0,IF($O$5="Illusionniste",Sorts!AS134,Sorts!AM90),"") | IV19: =IF($AU$7<>0,IF($O$5="Illusionniste",Sorts!AT134,Sorts!AN90),"") | JY19: NC | KA19: 16 | KB19: =IF($AU$7<>0,IF($O$5="Illusionniste",Sorts!BA134,Sorts!AU90),"") | KO19: 0 | KQ19: =IF($AU$7<>0,IF($O$5="Illusionniste",Sorts!BA134,Sorts!AV90),"") | KS19: =IF($AU$7<>0,IF($O$5="Illusionniste",Sorts!BA134,Sorts!AW90),"") | KV19: =IF($AU$7<>0,IF($O$5="Illusionniste",Sorts!BA134,Sorts!AX90),"") | KW19: =IF($AU$7<>0,IF($O$5="Illusionniste",Sorts!BA134,Sorts!AY90),"") | KX19: =IF($AU$7<>0,IF($O$5="Illusionniste",Sorts!BA134,Sorts!AZ90),"")
G20: Points de vie | M20: Metab | R20: Resurrection | X20: Potion / Pétrification | AF20: Spectre | AK20: =IF($AO$11<5,"-",INDEX(Niveaux!$A$1115:$L$1151,$AO$11+1-4,MATCH($O$5,Niveaux!$B$1115:$L$1115,0)+1)) -> - | AQ20: 11 | AR20: =IF($AU$5<>0,IF($O$5="CLERC",Sorts!E14,Sorts!E38),"") -> Passage sans Trace | BE20: 0 | BG20: =IF($AU$5<>0,IF($O$5="CLERC",Sorts!F14,Sorts!F38),"") -> T | BJ20: =IF($AU$5<>0,IF($O$5="CLERC",Sorts!G14,Sorts!G38),"") -> 1t/n | BM20: =IF($AU$5<>0,IF($O$5="CLERC",Sorts!H14,Sorts!H38),"") -> X | BN20: =IF($AU$5<>0,IF($O$5="CLERC",Sorts!I14,Sorts!I38),"") -> X | BO20: =IF($AU$5<>0,IF($O$5="CLERC",Sorts!J14,Sorts!J38),"") -> X | BQ20: NC | BS20: 11 | BT20: =IF($AU$7<>0,IF($O$5="ILLUSIONNISTE",Sorts!K129,Sorts!E85),"") | CG20: 0 | CI20: =IF($AU$7<>0,IF($O$5="ILLUSIONNISTE",Sorts!L129,Sorts!F85),"") | CK20: =IF($AU$7<>0,IF($O$5="ILLUSIONNISTE",Sorts!M129,Sorts!G85),"") | CN20: =IF($AU$7<>0,IF($O$5="ILLUSIONNISTE",Sorts!N129,Sorts!H85),"") | CO20: =IF($AU$7<>0,IF($O$5="ILLUSIONNISTE",Sorts!O129,Sorts!I85),"") | CP20: =IF($AU$7<>0,IF($O$5="ILLUSIONNISTE",Sorts!P129,Sorts!J85),"") | CS20: 17 | CT20: =IF($AU$5<>0,IF(OR($O$5="CLERC",$O$5="PALADIN"),Sorts!K20,Sorts!K44),"") -> 0 | DG20: 0 | DI20: =IF($AU$5<>0,IF(OR($O$5="CLERC",$O$5="PALADIN"),Sorts!L20,Sorts!L44),"") -> 0 | DL20: =IF($AU$5<>0,IF(OR($O$5="CLERC",$O$5="PALADIN"),Sorts!M20,Sorts!M44),"") -> 0 | DO20: =IF($AU$5<>0,IF(OR($O$5="CLERC",$O$5="PALADIN"),Sorts!N20,Sorts!N44),"") -> 0 | DP20: =IF($AU$5<>0,IF(OR($O$5="CLERC",$O$5="PALADIN"),Sorts!O20,Sorts!O44),"") -> 0 | DQ20: =IF($AU$5<>0,IF(OR($O$5="CLERC",$O$5="PALADIN"),Sorts!P20,Sorts!P44),"") -> 0 | DS20: NC | DU20: 17 | DV20: =IF($AU$7<>0,IF($O$5="Illusionniste",Sorts!Q135,Sorts!K91),"") | EI20: 0 | EK20: =IF($AU$7<>0,IF($O$5="Illusionniste",Sorts!R135,Sorts!L91),"") | EM20: =IF($AU$7<>0,IF($O$5="Illusionniste",Sorts!S135,Sorts!M91),"") | EP20: =IF($AU$7<>0,IF($O$5="Illusionniste",Sorts!T135,Sorts!N91),"") | EQ20: =IF($AU$7<>0,IF($O$5="Illusionniste",Sorts!U135,Sorts!O91),"") | ER20: =IF($AU$7<>0,IF($O$5="Illusionniste",Sorts!V135,Sorts!P91),"") | EU20: 17 | FU20: NC | FW20: 17 | FX20: =IF($AU$7<>0,IF($O$5="Illusionniste",Sorts!AC135,Sorts!W91),"") | GK20: 0 | GM20: =IF($AU$7<>0,IF($O$5="Illusionniste",Sorts!AD135,Sorts!X91),"") | GO20: =IF($AU$7<>0,IF($O$5="Illusionniste",Sorts!AE135,Sorts!Y91),"") | GR20: =IF($AU$7<>0,IF($O$5="Illusionniste",Sorts!AF135,Sorts!Z91),"") | GS20: =IF($AU$7<>0,IF($O$5="Illusionniste",Sorts!AG135,Sorts!AA91),"") | GT20: =IF($AU$7<>0,IF($O$5="Illusionniste",Sorts!AH135,Sorts!AB91),"") | GW20: 17 | HW20: NC | HY20: 17 | HZ20: =IF($AU$7<>0,IF($O$5="Illusionniste",Sorts!AO135,Sorts!AI91),"") | IM20: 0 | IO20: =IF($AU$7<>0,IF($O$5="Illusionniste",Sorts!AP135,Sorts!AJ91),"") | IQ20: =IF($AU$7<>0,IF($O$5="Illusionniste",Sorts!AQ135,Sorts!AK91),"") | IT20: =IF($AU$7<>0,IF($O$5="Illusionniste",Sorts!AR135,Sorts!AL91),"") | IU20: =IF($AU$7<>0,IF($O$5="Illusionniste",Sorts!AS135,Sorts!AM91),"") | IV20: =IF($AU$7<>0,IF($O$5="Illusionniste",Sorts!AT135,Sorts!AN91),"") | JY20: NC | KA20: 17 | KB20: =IF($AU$7<>0,IF($O$5="Illusionniste",Sorts!BA135,Sorts!AU91),"") | KO20: 0 | KQ20: =IF($AU$7<>0,IF($O$5="Illusionniste",Sorts!BA135,Sorts!AV91),"") | KS20: =IF($AU$7<>0,IF($O$5="Illusionniste",Sorts!BA135,Sorts!AW91),"") | KV20: =IF($AU$7<>0,IF($O$5="Illusionniste",Sorts!BA135,Sorts!AX91),"") | KW20: =IF($AU$7<>0,IF($O$5="Illusionniste",Sorts!BA135,Sorts!AY91),"") | KX20: =IF($AU$7<>0,IF($O$5="Illusionniste",Sorts!BA135,Sorts!AZ91),"")
B21: 14 | E21: CHA | G21: Nbr Max | J21: =VLOOKUP($B$21,Caractéristiques!$B$241:$F$265,2,FALSE) -> 6 | M21: Ajustement | P21: =VLOOKUP($B$21,Caractéristiques!$B$241:$F$265,3,FALSE) -> 0.05 | S21: Ajustement | V21: =VLOOKUP($B$21,Caractéristiques!$B$241:$F$265,4,FALSE) -> 0.1 | AF21: Vampire | AK21: =IF($AO$11<6,"-",INDEX(Niveaux!$A$1115:$L$1151,$AO$11+1-5,MATCH($O$5,Niveaux!$B$1115:$L$1115,0)+1)) -> - | AQ21: 12 | AR21: =IF($AU$5<>0,IF($O$5="CLERC",Sorts!E15,Sorts!E39),"") -> Perception de l’Équilibre | BE21: 0 | BG21: =IF($AU$5<>0,IF($O$5="CLERC",Sorts!F15,Sorts!F39),"") -> 6'' | BJ21: =IF($AU$5<>0,IF($O$5="CLERC",Sorts!G15,Sorts!G39),"") -> 1r/n | BM21: =IF($AU$5<>0,IF($O$5="CLERC",Sorts!H15,Sorts!H39),"") -> X | BN21: =IF($AU$5<>0,IF($O$5="CLERC",Sorts!I15,Sorts!I39),"") -> X | BO21: =IF($AU$5<>0,IF($O$5="CLERC",Sorts!J15,Sorts!J39),"") -> X | BQ21: NC | BS21: 12 | BT21: =IF($AU$7<>0,IF($O$5="ILLUSIONNISTE",Sorts!K130,Sorts!E86),"") | CG21: 0 | CI21: =IF($AU$7<>0,IF($O$5="ILLUSIONNISTE",Sorts!L130,Sorts!F86),"") | CK21: =IF($AU$7<>0,IF($O$5="ILLUSIONNISTE",Sorts!M130,Sorts!G86),"") | CN21: =IF($AU$7<>0,IF($O$5="ILLUSIONNISTE",Sorts!N130,Sorts!H86),"") | CO21: =IF($AU$7<>0,IF($O$5="ILLUSIONNISTE",Sorts!O130,Sorts!I86),"") | CP21: =IF($AU$7<>0,IF($O$5="ILLUSIONNISTE",Sorts!P130,Sorts!J86),"") | CS21: 18 | CT21: =IF($AU$5<>0,IF(OR($O$5="CLERC",$O$5="PALADIN"),Sorts!K21,Sorts!K45),"") -> 0 | DG21: 0 | DI21: =IF($AU$5<>0,IF(OR($O$5="CLERC",$O$5="PALADIN"),Sorts!L21,Sorts!L45),"") -> 0 | DL21: =IF($AU$5<>0,IF(OR($O$5="CLERC",$O$5="PALADIN"),Sorts!M21,Sorts!M45),"") -> 0 | DO21: =IF($AU$5<>0,IF(OR($O$5="CLERC",$O$5="PALADIN"),Sorts!N21,Sorts!N45),"") -> 0 | DP21: =IF($AU$5<>0,IF(OR($O$5="CLERC",$O$5="PALADIN"),Sorts!O21,Sorts!O45),"") -> 0 | DQ21: =IF($AU$5<>0,IF(OR($O$5="CLERC",$O$5="PALADIN"),Sorts!P21,Sorts!P45),"") -> 0 | DS21: NC | DU21: 18 | DV21: =IF($AU$7<>0,IF($O$5="Illusionniste",Sorts!Q136,Sorts!K92),"") | EI21: 0 | EK21: =IF($AU$7<>0,IF($O$5="Illusionniste",Sorts!R136,Sorts!L92),"") | EM21: =IF($AU$7<>0,IF($O$5="Illusionniste",Sorts!S136,Sorts!M92),"") | EP21: =IF($AU$7<>0,IF($O$5="Illusionniste",Sorts!T136,Sorts!N92),"") | EQ21: =IF($AU$7<>0,IF($O$5="Illusionniste",Sorts!U136,Sorts!O92),"") | ER21: =IF($AU$7<>0,IF($O$5="Illusionniste",Sorts!V136,Sorts!P92),"") | EU21: 18 | FU21: NC | FW21: 18 | FX21: =IF($AU$7<>0,IF($O$5="Illusionniste",Sorts!AC136,Sorts!W92),"") | GK21: 0 | GM21: =IF($AU$7<>0,IF($O$5="Illusionniste",Sorts!AD136,Sorts!X92),"") | GO21: =IF($AU$7<>0,IF($O$5="Illusionniste",Sorts!AE136,Sorts!Y92),"") | GR21: =IF($AU$7<>0,IF($O$5="Illusionniste",Sorts!AF136,Sorts!Z92),"") | GS21: =IF($AU$7<>0,IF($O$5="Illusionniste",Sorts!AG136,Sorts!AA92),"") | GT21: =IF($AU$7<>0,IF($O$5="Illusionniste",Sorts!AH136,Sorts!AB92),"") | GW21: 18 | HW21: NC | HY21: 18 | HZ21: =IF($AU$7<>0,IF($O$5="Illusionniste",Sorts!AO136,Sorts!AI92),"") | IM21: 0 | IO21: =IF($AU$7<>0,IF($O$5="Illusionniste",Sorts!AP136,Sorts!AJ92),"") | IQ21: =IF($AU$7<>0,IF($O$5="Illusionniste",Sorts!AQ136,Sorts!AK92),"") | IT21: =IF($AU$7<>0,IF($O$5="Illusionniste",Sorts!AR136,Sorts!AL92),"") | IU21: =IF($AU$7<>0,IF($O$5="Illusionniste",Sorts!AS136,Sorts!AM92),"") | IV21: =IF($AU$7<>0,IF($O$5="Illusionniste",Sorts!AT136,Sorts!AN92),"") | JY21: NC | KA21: 18 | KB21: =IF($AU$7<>0,IF($O$5="Illusionniste",Sorts!BA136,Sorts!AU92),"") | KO21: 0 | KQ21: =IF($AU$7<>0,IF($O$5="Illusionniste",Sorts!BA136,Sorts!AV92),"") | KS21: =IF($AU$7<>0,IF($O$5="Illusionniste",Sorts!BA136,Sorts!AW92),"") | KV21: =IF($AU$7<>0,IF($O$5="Illusionniste",Sorts!BA136,Sorts!AX92),"") | KW21: =IF($AU$7<>0,IF($O$5="Illusionniste",Sorts!BA136,Sorts!AY92),"") | KX21: =IF($AU$7<>0,IF($O$5="Illusionniste",Sorts!BA136,Sorts!AZ92),"")
G22: Suivants | M22: Loyauté | S22: Réactions | AF22: Fantôme | AK22: =IF($AO$11<7,"-",INDEX(Niveaux!$A$1115:$L$1151,$AO$11+1-6,MATCH($O$5,Niveaux!$B$1115:$L$1115,0)+1)) -> - | AQ22: 13 | AR22: =IF($AU$5<>0,IF($O$5="CLERC",Sorts!E16,Sorts!E40),"") -> Pluie | BE22: 0 | BG22: =IF($AU$5<>0,IF($O$5="CLERC",Sorts!F16,Sorts!F40),"") -> 1/n | BJ22: =IF($AU$5<>0,IF($O$5="CLERC",Sorts!G16,Sorts!G40),"") -> 1s/n | BM22: =IF($AU$5<>0,IF($O$5="CLERC",Sorts!H16,Sorts!H40),"") -> X | BN22: =IF($AU$5<>0,IF($O$5="CLERC",Sorts!I16,Sorts!I40),"") -> X | BO22: =IF($AU$5<>0,IF($O$5="CLERC",Sorts!J16,Sorts!J40),"") -> X | BQ22: NC | BS22: 13 | BT22: =IF($AU$7<>0,IF($O$5="ILLUSIONNISTE",Sorts!K131,Sorts!E87),"") | CG22: 0 | CI22: =IF($AU$7<>0,IF($O$5="ILLUSIONNISTE",Sorts!L131,Sorts!F87),"") | CK22: =IF($AU$7<>0,IF($O$5="ILLUSIONNISTE",Sorts!M131,Sorts!G87),"") | CN22: =IF($AU$7<>0,IF($O$5="ILLUSIONNISTE",Sorts!N131,Sorts!H87),"") | CO22: =IF($AU$7<>0,IF($O$5="ILLUSIONNISTE",Sorts!O131,Sorts!I87),"") | CP22: =IF($AU$7<>0,IF($O$5="ILLUSIONNISTE",Sorts!P131,Sorts!J87),"") | CS22: 19 | CT22: =IF($AU$5<>0,IF(OR($O$5="CLERC",$O$5="PALADIN"),Sorts!K22,Sorts!K46),"") -> 0 | DG22: 0 | DI22: =IF($AU$5<>0,IF(OR($O$5="CLERC",$O$5="PALADIN"),Sorts!L22,Sorts!L46),"") -> 0 | DL22: =IF($AU$5<>0,IF(OR($O$5="CLERC",$O$5="PALADIN"),Sorts!M22,Sorts!M46),"") -> 0 | DO22: =IF($AU$5<>0,IF(OR($O$5="CLERC",$O$5="PALADIN"),Sorts!N22,Sorts!N46),"") -> 0 | DP22: =IF($AU$5<>0,IF(OR($O$5="CLERC",$O$5="PALADIN"),Sorts!O22,Sorts!O46),"") -> 0 | DQ22: =IF($AU$5<>0,IF(OR($O$5="CLERC",$O$5="PALADIN"),Sorts!P22,Sorts!P46),"") -> 0 | DS22: NC | DU22: 19 | DV22: =IF($AU$7<>0,IF($O$5="Illusionniste",Sorts!Q137,Sorts!K93),"") | EI22: 0 | EK22: =IF($AU$7<>0,IF($O$5="Illusionniste",Sorts!R137,Sorts!L93),"") | EM22: =IF($AU$7<>0,IF($O$5="Illusionniste",Sorts!S137,Sorts!M93),"") | EP22: =IF($AU$7<>0,IF($O$5="Illusionniste",Sorts!T137,Sorts!N93),"") | EQ22: =IF($AU$7<>0,IF($O$5="Illusionniste",Sorts!U137,Sorts!O93),"") | ER22: =IF($AU$7<>0,IF($O$5="Illusionniste",Sorts!V137,Sorts!P93),"") | EU22: 19 | FU22: NC | FW22: 19 | FX22: =IF($AU$7<>0,IF($O$5="Illusionniste",Sorts!AC137,Sorts!W93),"") | GK22: 0 | GM22: =IF($AU$7<>0,IF($O$5="Illusionniste",Sorts!AD137,Sorts!X93),"") | GO22: =IF($AU$7<>0,IF($O$5="Illusionniste",Sorts!AE137,Sorts!Y93),"") | GR22: =IF($AU$7<>0,IF($O$5="Illusionniste",Sorts!AF137,Sorts!Z93),"") | GS22: =IF($AU$7<>0,IF($O$5="Illusionniste",Sorts!AG137,Sorts!AA93),"") | GT22: =IF($AU$7<>0,IF($O$5="Illusionniste",Sorts!AH137,Sorts!AB93),"") | GW22: 19 | HW22: NC | HY22: 19 | HZ22: =IF($AU$7<>0,IF($O$5="Illusionniste",Sorts!AO137,Sorts!AI93),"") | IM22: 0 | IO22: =IF($AU$7<>0,IF($O$5="Illusionniste",Sorts!AP137,Sorts!AJ93),"") | IQ22: =IF($AU$7<>0,IF($O$5="Illusionniste",Sorts!AQ137,Sorts!AK93),"") | IT22: =IF($AU$7<>0,IF($O$5="Illusionniste",Sorts!AR137,Sorts!AL93),"") | IU22: =IF($AU$7<>0,IF($O$5="Illusionniste",Sorts!AS137,Sorts!AM93),"") | IV22: =IF($AU$7<>0,IF($O$5="Illusionniste",Sorts!AT137,Sorts!AN93),"") | JY22: NC | KA22: 19 | KB22: =IF($AU$7<>0,IF($O$5="Illusionniste",Sorts!BA137,Sorts!AU93),"") | KO22: 0 | KQ22: =IF($AU$7<>0,IF($O$5="Illusionniste",Sorts!BA137,Sorts!AV93),"") | KS22: =IF($AU$7<>0,IF($O$5="Illusionniste",Sorts!BA137,Sorts!AW93),"") | KV22: =IF($AU$7<>0,IF($O$5="Illusionniste",Sorts!BA137,Sorts!AX93),"") | KW22: =IF($AU$7<>0,IF($O$5="Illusionniste",Sorts!BA137,Sorts!AY93),"") | KX22: =IF($AU$7<>0,IF($O$5="Illusionniste",Sorts!BA137,Sorts!AZ93),"")
AF23: Liche | AK23: =IF($AO$11<8,"-",INDEX(Niveaux!$A$1115:$L$1151,$AO$11+1-7,MATCH($O$5,Niveaux!$B$1115:$L$1115,0)+1)) -> - | AQ23: 14 | AR23: =IF($AU$5<>0,IF($O$5="CLERC",Sorts!E17,Sorts!E41),"") -> Prévision du Temps | BE23: 0 | BG23: =IF($AU$5<>0,IF($O$5="CLERC",Sorts!F17,Sorts!F41),"") -> 0 | BJ23: =IF($AU$5<>0,IF($O$5="CLERC",Sorts!G17,Sorts!G41),"") -> 2h/n | BM23: =IF($AU$5<>0,IF($O$5="CLERC",Sorts!H17,Sorts!H41),"") -> X | BN23: =IF($AU$5<>0,IF($O$5="CLERC",Sorts!I17,Sorts!I41),"") -> X | BO23: =IF($AU$5<>0,IF($O$5="CLERC",Sorts!J17,Sorts!J41),"") -> X | BQ23: NC | BS23: 14 | BT23: =IF($AU$7<>0,IF($O$5="ILLUSIONNISTE",Sorts!K132,Sorts!E88),"") | CG23: 0 | CI23: =IF($AU$7<>0,IF($O$5="ILLUSIONNISTE",Sorts!L132,Sorts!F88),"") | CK23: =IF($AU$7<>0,IF($O$5="ILLUSIONNISTE",Sorts!M132,Sorts!G88),"") | CN23: =IF($AU$7<>0,IF($O$5="ILLUSIONNISTE",Sorts!N132,Sorts!H88),"") | CO23: =IF($AU$7<>0,IF($O$5="ILLUSIONNISTE",Sorts!O132,Sorts!I88),"") | CP23: =IF($AU$7<>0,IF($O$5="ILLUSIONNISTE",Sorts!P132,Sorts!J88),"") | CS23: 20 | CT23: =IF($AU$5<>0,IF(OR($O$5="CLERC",$O$5="PALADIN"),Sorts!K23,Sorts!K47),"") -> 0 | DG23: 0 | DI23: =IF($AU$5<>0,IF(OR($O$5="CLERC",$O$5="PALADIN"),Sorts!L23,Sorts!L47),"") -> 0 | DL23: =IF($AU$5<>0,IF(OR($O$5="CLERC",$O$5="PALADIN"),Sorts!M23,Sorts!M47),"") -> 0 | DO23: =IF($AU$5<>0,IF(OR($O$5="CLERC",$O$5="PALADIN"),Sorts!N23,Sorts!N47),"") -> 0 | DP23: =IF($AU$5<>0,IF(OR($O$5="CLERC",$O$5="PALADIN"),Sorts!O23,Sorts!O47),"") -> 0 | DQ23: =IF($AU$5<>0,IF(OR($O$5="CLERC",$O$5="PALADIN"),Sorts!P23,Sorts!P47),"") -> 0 | DS23: NC | DU23: 20 | DV23: =IF($AU$7<>0,IF($O$5="Illusionniste",Sorts!Q138,Sorts!K94),"") | EI23: 0 | EK23: =IF($AU$7<>0,IF($O$5="Illusionniste",Sorts!R138,Sorts!L94),"") | EM23: =IF($AU$7<>0,IF($O$5="Illusionniste",Sorts!S138,Sorts!M94),"") | EP23: =IF($AU$7<>0,IF($O$5="Illusionniste",Sorts!T138,Sorts!N94),"") | EQ23: =IF($AU$7<>0,IF($O$5="Illusionniste",Sorts!U138,Sorts!O94),"") | ER23: =IF($AU$7<>0,IF($O$5="Illusionniste",Sorts!V138,Sorts!P94),"") | EU23: 20 | FU23: NC | FW23: 20 | FX23: =IF($AU$7<>0,IF($O$5="Illusionniste",Sorts!AC138,Sorts!W94),"") | GK23: 0 | GM23: =IF($AU$7<>0,IF($O$5="Illusionniste",Sorts!AD138,Sorts!X94),"") | GO23: =IF($AU$7<>0,IF($O$5="Illusionniste",Sorts!AE138,Sorts!Y94),"") | GR23: =IF($AU$7<>0,IF($O$5="Illusionniste",Sorts!AF138,Sorts!Z94),"") | GS23: =IF($AU$7<>0,IF($O$5="Illusionniste",Sorts!AG138,Sorts!AA94),"") | GT23: =IF($AU$7<>0,IF($O$5="Illusionniste",Sorts!AH138,Sorts!AB94),"") | GW23: 20 | HW23: NC | HY23: 20 | HZ23: =IF($AU$7<>0,IF($O$5="Illusionniste",Sorts!AO138,Sorts!AI94),"") | IM23: 0 | IO23: =IF($AU$7<>0,IF($O$5="Illusionniste",Sorts!AP138,Sorts!AJ94),"") | IQ23: =IF($AU$7<>0,IF($O$5="Illusionniste",Sorts!AQ138,Sorts!AK94),"") | IT23: =IF($AU$7<>0,IF($O$5="Illusionniste",Sorts!AR138,Sorts!AL94),"") | IU23: =IF($AU$7<>0,IF($O$5="Illusionniste",Sorts!AS138,Sorts!AM94),"") | IV23: =IF($AU$7<>0,IF($O$5="Illusionniste",Sorts!AT138,Sorts!AN94),"") | JY23: NC | KA23: 20 | KB23: =IF($AU$7<>0,IF($O$5="Illusionniste",Sorts!BA138,Sorts!AU94),"") | KO23: 0 | KQ23: =IF($AU$7<>0,IF($O$5="Illusionniste",Sorts!BA138,Sorts!AV94),"") | KS23: =IF($AU$7<>0,IF($O$5="Illusionniste",Sorts!BA138,Sorts!AW94),"") | KV23: =IF($AU$7<>0,IF($O$5="Illusionniste",Sorts!BA138,Sorts!AX94),"") | KW23: =IF($AU$7<>0,IF($O$5="Illusionniste",Sorts!BA138,Sorts!AY94),"") | KX23: =IF($AU$7<>0,IF($O$5="Illusionniste",Sorts!BA138,Sorts!AZ94),"")
B24: Type | G24: Description | N24: Bonus | S24: Talents de voleur | AF24: Spéciale | AK24: =IF($AO$11<9,"-",INDEX(Niveaux!$A$1115:$L$1151,$AO$11+1-8,MATCH($O$5,Niveaux!$B$1115:$L$1115,0)+1)) -> - | AQ24: 15 | AR24: =IF($AU$5<>0,IF($O$5="CLERC",Sorts!E18,Sorts!E42),"") -> Purification de l’Eau | BE24: 0 | BG24: =IF($AU$5<>0,IF($O$5="CLERC",Sorts!F18,Sorts!F42),"") -> 4'' | BJ24: =IF($AU$5<>0,IF($O$5="CLERC",Sorts!G18,Sorts!G42),"") -> P | BM24: =IF($AU$5<>0,IF($O$5="CLERC",Sorts!H18,Sorts!H42),"") -> X | BN24: =IF($AU$5<>0,IF($O$5="CLERC",Sorts!I18,Sorts!I42),"") -> X | BO24: =IF($AU$5<>0,IF($O$5="CLERC",Sorts!J18,Sorts!J42),"") -> X | BQ24: NC | BS24: 15 | BT24: =IF($AU$7<>0,IF($O$5="ILLUSIONNISTE",Sorts!K133,Sorts!E89),"") | CG24: 0 | CI24: =IF($AU$7<>0,IF($O$5="ILLUSIONNISTE",Sorts!L133,Sorts!F89),"") | CK24: =IF($AU$7<>0,IF($O$5="ILLUSIONNISTE",Sorts!M133,Sorts!G89),"") | CN24: =IF($AU$7<>0,IF($O$5="ILLUSIONNISTE",Sorts!N133,Sorts!H89),"") | CO24: =IF($AU$7<>0,IF($O$5="ILLUSIONNISTE",Sorts!O133,Sorts!I89),"") | CP24: =IF($AU$7<>0,IF($O$5="ILLUSIONNISTE",Sorts!P133,Sorts!J89),"") | CS24: 21 | DS24: NC | DU24: 21 | DV24: =IF($AU$7<>0,IF($O$5="Illusionniste",Sorts!Q139,Sorts!K95),"") | EI24: 0 | EK24: =IF($AU$7<>0,IF($O$5="Illusionniste",Sorts!R139,Sorts!L95),"") | EM24: =IF($AU$7<>0,IF($O$5="Illusionniste",Sorts!S139,Sorts!M95),"") | EP24: =IF($AU$7<>0,IF($O$5="Illusionniste",Sorts!T139,Sorts!N95),"") | EQ24: =IF($AU$7<>0,IF($O$5="Illusionniste",Sorts!U139,Sorts!O95),"") | ER24: =IF($AU$7<>0,IF($O$5="Illusionniste",Sorts!V139,Sorts!P95),"") | EU24: 21 | FU24: NC | FW24: 21 | FX24: =IF($AU$7<>0,IF($O$5="Illusionniste",Sorts!AC139,Sorts!W95),"") | GK24: 0 | GM24: =IF($AU$7<>0,IF($O$5="Illusionniste",Sorts!AD139,Sorts!X95),"") | GO24: =IF($AU$7<>0,IF($O$5="Illusionniste",Sorts!AE139,Sorts!Y95),"") | GR24: =IF($AU$7<>0,IF($O$5="Illusionniste",Sorts!AF139,Sorts!Z95),"") | GS24: =IF($AU$7<>0,IF($O$5="Illusionniste",Sorts!AG139,Sorts!AA95),"") | GT24: =IF($AU$7<>0,IF($O$5="Illusionniste",Sorts!AH139,Sorts!AB95),"") | GW24: 21 | HW24: NC | HY24: 21 | HZ24: =IF($AU$7<>0,IF($O$5="Illusionniste",Sorts!AO139,Sorts!AI95),"") | IM24: 0 | IO24: =IF($AU$7<>0,IF($O$5="Illusionniste",Sorts!AP139,Sorts!AJ95),"") | IQ24: =IF($AU$7<>0,IF($O$5="Illusionniste",Sorts!AQ139,Sorts!AK95),"") | IT24: =IF($AU$7<>0,IF($O$5="Illusionniste",Sorts!AR139,Sorts!AL95),"") | IU24: =IF($AU$7<>0,IF($O$5="Illusionniste",Sorts!AS139,Sorts!AM95),"") | IV24: =IF($AU$7<>0,IF($O$5="Illusionniste",Sorts!AT139,Sorts!AN95),"") | IY24: INFORMATIONS DIVERSES
L25: Protect | N25: Magie | S25: Classe+DEX+Race | AQ25: 16 | AR25: =IF($AU$5<>0,IF($O$5="CLERC",Sorts!E19,Sorts!E43),"") -> Shillelagh | BE25: 0 | BG25: =IF($AU$5<>0,IF($O$5="CLERC",Sorts!F19,Sorts!F43),"") -> T | BJ25: =IF($AU$5<>0,IF($O$5="CLERC",Sorts!G19,Sorts!G43),"") -> 1r/n | BM25: =IF($AU$5<>0,IF($O$5="CLERC",Sorts!H19,Sorts!H43),"") -> X | BN25: =IF($AU$5<>0,IF($O$5="CLERC",Sorts!I19,Sorts!I43),"") -> X | BO25: =IF($AU$5<>0,IF($O$5="CLERC",Sorts!J19,Sorts!J43),"") -> X | BQ25: NC | BS25: 16 | BT25: =IF($AU$7<>0,IF($O$5="ILLUSIONNISTE",Sorts!K134,Sorts!E90),"") | CG25: 0 | CI25: =IF($AU$7<>0,IF($O$5="ILLUSIONNISTE",Sorts!L134,Sorts!F90),"") | CK25: =IF($AU$7<>0,IF($O$5="ILLUSIONNISTE",Sorts!M134,Sorts!G90),"") | CN25: =IF($AU$7<>0,IF($O$5="ILLUSIONNISTE",Sorts!N134,Sorts!H90),"") | CO25: =IF($AU$7<>0,IF($O$5="ILLUSIONNISTE",Sorts!O134,Sorts!I90),"") | CP25: =IF($AU$7<>0,IF($O$5="ILLUSIONNISTE",Sorts!P134,Sorts!J90),"") | CS25: 22 | DS25: NC | DU25: 22 | DV25: =IF($AU$7<>0,IF($O$5="Illusionniste",Sorts!Q140,Sorts!K96),"") | EI25: 0 | EK25: =IF($AU$7<>0,IF($O$5="Illusionniste",Sorts!R140,Sorts!L96),"") | EM25: =IF($AU$7<>0,IF($O$5="Illusionniste",Sorts!S140,Sorts!M96),"") | EP25: =IF($AU$7<>0,IF($O$5="Illusionniste",Sorts!T140,Sorts!N96),"") | EQ25: =IF($AU$7<>0,IF($O$5="Illusionniste",Sorts!U140,Sorts!O96),"") | ER25: =IF($AU$7<>0,IF($O$5="Illusionniste",Sorts!V140,Sorts!P96),"") | EU25: 22 | FU25: NC | FW25: 22 | FX25: =IF($AU$7<>0,IF($O$5="Illusionniste",Sorts!AC140,Sorts!W96),"") | GK25: 0 | GM25: =IF($AU$7<>0,IF($O$5="Illusionniste",Sorts!AD140,Sorts!X96),"") | GO25: =IF($AU$7<>0,IF($O$5="Illusionniste",Sorts!AE140,Sorts!Y96),"") | GR25: =IF($AU$7<>0,IF($O$5="Illusionniste",Sorts!AF140,Sorts!Z96),"") | GS25: =IF($AU$7<>0,IF($O$5="Illusionniste",Sorts!AG140,Sorts!AA96),"") | GT25: =IF($AU$7<>0,IF($O$5="Illusionniste",Sorts!AH140,Sorts!AB96),"") | GW25: 22 | HW25: NC | HY25: 22 | HZ25: =IF($AU$7<>0,IF($O$5="Illusionniste",Sorts!AO140,Sorts!AI96),"") | IM25: 0 | IO25: =IF($AU$7<>0,IF($O$5="Illusionniste",Sorts!AP140,Sorts!AJ96),"") | IQ25: =IF($AU$7<>0,IF($O$5="Illusionniste",Sorts!AQ140,Sorts!AK96),"") | IT25: =IF($AU$7<>0,IF($O$5="Illusionniste",Sorts!AR140,Sorts!AL96),"") | IU25: =IF($AU$7<>0,IF($O$5="Illusionniste",Sorts!AS140,Sorts!AM96),"") | IV25: =IF($AU$7<>0,IF($O$5="Illusionniste",Sorts!AT140,Sorts!AN96),"")
B26: Armure | D26: Aucune | L26: =VLOOKUP($D$26,Basique!$F$3:$I$12,4,FALSE) -> 10 | N26: 0 | S26: Pick Pocket | W26: =INDEX(Niveaux!$A$41:$L$77,'Joueur 1'!$AM$5+1,MATCH('Joueur 1'!$O$5,Niveaux!$B$41:$L$41,0)+1)+VLOOKUP($B$17,Caractéristiques!$B$187:$J$211,5,FALSE)+VLOOKUP($O$6,Caractéristiques!$B$267:$J$274,2,FALSE)+INDEX(Caractéristiques!$L$268:$S$277,MATCH('Joueur 1'!$D$26,Caractéristiques!L268:L277,0),2) -> -0.85 | Y26: Dissimulation dans l'ombre | AC26: =INDEX(Niveaux!$A$189:$L$225,'Joueur 1'!$AM$5+1,MATCH('Joueur 1'!$O$5,Niveaux!$B$189:$L$189,0)+1)+VLOOKUP($B$17,Caractéristiques!$B$187:$J$211,9,FALSE)+VLOOKUP($O$6,Caractéristiques!$B$267:$J$274,6,FALSE)+INDEX(Caractéristiques!$L$268:$S$277,MATCH('Joueur 1'!$D$26,Caractéristiques!L268:L277,0),6) -> -0.9 | AF26: Jets de Protection | AN26: MAGIE | AQ26: 17 | AR26: =IF($AU$5<>0,IF($O$5="CLERC",Sorts!E20,Sorts!E44),"") -> 0 | BE26: 0 | BG26: =IF($AU$5<>0,IF($O$5="CLERC",Sorts!F20,Sorts!F44),"") -> 0 | BJ26: =IF($AU$5<>0,IF($O$5="CLERC",Sorts!G20,Sorts!G44),"") -> 0 | BM26: =IF($AU$5<>0,IF($O$5="CLERC",Sorts!H20,Sorts!H44),"") -> 0 | BN26: =IF($AU$5<>0,IF($O$5="CLERC",Sorts!I20,Sorts!I44),"") -> 0 | BO26: =IF($AU$5<>0,IF($O$5="CLERC",Sorts!J20,Sorts!J44),"") -> 0 | BQ26: NC | BS26: 17 | BT26: =IF($AU$7<>0,IF($O$5="ILLUSIONNISTE",Sorts!K135,Sorts!E91),"") | CG26: 0 | CI26: =IF($AU$7<>0,IF($O$5="ILLUSIONNISTE",Sorts!L135,Sorts!F91),"") | CK26: =IF($AU$7<>0,IF($O$5="ILLUSIONNISTE",Sorts!M135,Sorts!G91),"") | CN26: =IF($AU$7<>0,IF($O$5="ILLUSIONNISTE",Sorts!N135,Sorts!H91),"") | CO26: =IF($AU$7<>0,IF($O$5="ILLUSIONNISTE",Sorts!O135,Sorts!I91),"") | CP26: =IF($AU$7<>0,IF($O$5="ILLUSIONNISTE",Sorts!P135,Sorts!J91),"") | CS26: 23 | DS26: NC | DU26: 23 | DV26: =IF($AU$7<>0,IF($O$5="Illusionniste",Sorts!Q141,Sorts!K97),"") | EI26: 0 | EK26: =IF($AU$7<>0,IF($O$5="Illusionniste",Sorts!R141,Sorts!L97),"") | EM26: =IF($AU$7<>0,IF($O$5="Illusionniste",Sorts!S141,Sorts!M97),"") | EP26: =IF($AU$7<>0,IF($O$5="Illusionniste",Sorts!T141,Sorts!N97),"") | EQ26: =IF($AU$7<>0,IF($O$5="Illusionniste",Sorts!U141,Sorts!O97),"") | ER26: =IF($AU$7<>0,IF($O$5="Illusionniste",Sorts!V141,Sorts!P97),"") | EU26: 23 | FU26: NC | FW26: 23 | FX26: =IF($AU$7<>0,IF($O$5="Illusionniste",Sorts!AC141,Sorts!W97),"") | GK26: 0 | GM26: =IF($AU$7<>0,IF($O$5="Illusionniste",Sorts!AD141,Sorts!X97),"") | GO26: =IF($AU$7<>0,IF($O$5="Illusionniste",Sorts!AE141,Sorts!Y97),"") | GR26: =IF($AU$7<>0,IF($O$5="Illusionniste",Sorts!AF141,Sorts!Z97),"") | GS26: =IF($AU$7<>0,IF($O$5="Illusionniste",Sorts!AG141,Sorts!AA97),"") | GT26: =IF($AU$7<>0,IF($O$5="Illusionniste",Sorts!AH141,Sorts!AB97),"") | GW26: 23 | HW26: NC | HY26: 23 | HZ26: =IF($AU$7<>0,IF($O$5="Illusionniste",Sorts!AO141,Sorts!AI97),"") | IM26: 0 | IO26: =IF($AU$7<>0,IF($O$5="Illusionniste",Sorts!AP141,Sorts!AJ97),"") | IQ26: =IF($AU$7<>0,IF($O$5="Illusionniste",Sorts!AQ141,Sorts!AK97),"") | IT26: =IF($AU$7<>0,IF($O$5="Illusionniste",Sorts!AR141,Sorts!AL97),"") | IU26: =IF($AU$7<>0,IF($O$5="Illusionniste",Sorts!AS141,Sorts!AM97),"") | IV26: =IF($AU$7<>0,IF($O$5="Illusionniste",Sorts!AT141,Sorts!AN97),"")
AF27: Classe+CAR+Race | AN27: =SUM($N$30:$O$37) -> 0 | AQ27: 18 | AR27: =IF($AU$5<>0,IF($O$5="CLERC",Sorts!E21,Sorts!E45),"") -> 0 | BE27: 0 | BG27: =IF($AU$5<>0,IF($O$5="CLERC",Sorts!F21,Sorts!F45),"") -> 0 | BJ27: =IF($AU$5<>0,IF($O$5="CLERC",Sorts!G21,Sorts!G45),"") -> 0 | BM27: =IF($AU$5<>0,IF($O$5="CLERC",Sorts!H21,Sorts!H45),"") -> 0 | BN27: =IF($AU$5<>0,IF($O$5="CLERC",Sorts!I21,Sorts!I45),"") -> 0 | BO27: =IF($AU$5<>0,IF($O$5="CLERC",Sorts!J21,Sorts!J45),"") -> 0 | BQ27: NC | BS27: 18 | BT27: =IF($AU$7<>0,IF($O$5="ILLUSIONNISTE",Sorts!K136,Sorts!E92),"") | CG27: 0 | CI27: =IF($AU$7<>0,IF($O$5="ILLUSIONNISTE",Sorts!L136,Sorts!F92),"") | CK27: =IF($AU$7<>0,IF($O$5="ILLUSIONNISTE",Sorts!M136,Sorts!G92),"") | CN27: =IF($AU$7<>0,IF($O$5="ILLUSIONNISTE",Sorts!N136,Sorts!H92),"") | CO27: =IF($AU$7<>0,IF($O$5="ILLUSIONNISTE",Sorts!O136,Sorts!I92),"") | CP27: =IF($AU$7<>0,IF($O$5="ILLUSIONNISTE",Sorts!P136,Sorts!J92),"") | CS27: 24 | DS27: NC | DU27: 24 | DV27: =IF($AU$7<>0,IF($O$5="Illusionniste",Sorts!Q142,Sorts!K98),"") | EI27: 0 | EK27: =IF($AU$7<>0,IF($O$5="Illusionniste",Sorts!R142,Sorts!L98),"") | EM27: =IF($AU$7<>0,IF($O$5="Illusionniste",Sorts!S142,Sorts!M98),"") | EP27: =IF($AU$7<>0,IF($O$5="Illusionniste",Sorts!T142,Sorts!N98),"") | EQ27: =IF($AU$7<>0,IF($O$5="Illusionniste",Sorts!U142,Sorts!O98),"") | ER27: =IF($AU$7<>0,IF($O$5="Illusionniste",Sorts!V142,Sorts!P98),"") | EU27: 24 | FU27: NC | FW27: 24 | FX27: =IF($AU$7<>0,IF($O$5="Illusionniste",Sorts!AC142,Sorts!W98),"") | GK27: 0 | GM27: =IF($AU$7<>0,IF($O$5="Illusionniste",Sorts!AD142,Sorts!X98),"") | GO27: =IF($AU$7<>0,IF($O$5="Illusionniste",Sorts!AE142,Sorts!Y98),"") | GR27: =IF($AU$7<>0,IF($O$5="Illusionniste",Sorts!AF142,Sorts!Z98),"") | GS27: =IF($AU$7<>0,IF($O$5="Illusionniste",Sorts!AG142,Sorts!AA98),"") | GT27: =IF($AU$7<>0,IF($O$5="Illusionniste",Sorts!AH142,Sorts!AB98),"") | GW27: 24 | HW27: NC | HY27: 24 | HZ27: =IF($AU$7<>0,IF($O$5="Illusionniste",Sorts!AO142,Sorts!AI98),"") | IM27: 0 | IO27: =IF($AU$7<>0,IF($O$5="Illusionniste",Sorts!AP142,Sorts!AJ98),"") | IQ27: =IF($AU$7<>0,IF($O$5="Illusionniste",Sorts!AQ142,Sorts!AK98),"") | IT27: =IF($AU$7<>0,IF($O$5="Illusionniste",Sorts!AR142,Sorts!AL98),"") | IU27: =IF($AU$7<>0,IF($O$5="Illusionniste",Sorts!AS142,Sorts!AM98),"") | IV27: =IF($AU$7<>0,IF($O$5="Illusionniste",Sorts!AT142,Sorts!AN98),"")
B28: Bracelet | D28: Pas de bracelet | L28: =VLOOKUP($D$28,Basique!$O$3:$P$10,2,FALSE) -> 10 | N28: 0 | S28: Crochetage | W28: =INDEX(Niveaux!$A$78:$L$114,'Joueur 1'!$AM$5+1,MATCH('Joueur 1'!$O$5,Niveaux!$B$78:$L$78,0)+1)+VLOOKUP($B$17,Caractéristiques!$B$187:$J$211,6,FALSE)+VLOOKUP($O$6,Caractéristiques!$B$267:$J$274,3,FALSE)+INDEX(Caractéristiques!$L$268:$S$277,MATCH('Joueur 1'!$D$26,Caractéristiques!L268:L277,0),3) -> -1 | Y28: Ecoute aux portes | AC28: =INDEX(Niveaux!$A$226:$L$262,'Joueur 1'!$AM$5+1,MATCH('Joueur 1'!$O$5,Niveaux!$B$226:$L$226,0)+1)+INDEX(Caractéristiques!$L$268:$S$277,MATCH('Joueur 1'!$D$26,Caractéristiques!L268:L277,0),7) -> -1 | AF28: Paralysie/Poison | AK28: =INDEX(Niveaux!$A$412:$L$448,$AM$5+1,MATCH($O$5,Niveaux!$B$412:$L$412,0)+1)+$AC$19+$AN$27 -> 8 | AQ28: 19 | AR28: =IF($AU$5<>0,IF($O$5="CLERC",Sorts!E22,Sorts!E46),"") -> 0 | BE28: 0 | BG28: =IF($AU$5<>0,IF($O$5="CLERC",Sorts!F22,Sorts!F46),"") -> 0 | BJ28: =IF($AU$5<>0,IF($O$5="CLERC",Sorts!G22,Sorts!G46),"") -> 0 | BM28: =IF($AU$5<>0,IF($O$5="CLERC",Sorts!H22,Sorts!H46),"") -> 0 | BN28: =IF($AU$5<>0,IF($O$5="CLERC",Sorts!I22,Sorts!I46),"") -> 0 | BO28: =IF($AU$5<>0,IF($O$5="CLERC",Sorts!J22,Sorts!J46),"") -> 0 | BQ28: NC | BS28: 19 | BT28: =IF($AU$7<>0,IF($O$5="ILLUSIONNISTE",Sorts!K137,Sorts!E93),"") | CG28: 0 | CI28: =IF($AU$7<>0,IF($O$5="ILLUSIONNISTE",Sorts!L137,Sorts!F93),"") | CK28: =IF($AU$7<>0,IF($O$5="ILLUSIONNISTE",Sorts!M137,Sorts!G93),"") | CN28: =IF($AU$7<>0,IF($O$5="ILLUSIONNISTE",Sorts!N137,Sorts!H93),"") | CO28: =IF($AU$7<>0,IF($O$5="ILLUSIONNISTE",Sorts!O137,Sorts!I93),"") | CP28: =IF($AU$7<>0,IF($O$5="ILLUSIONNISTE",Sorts!P137,Sorts!J93),"") | CS28: 25 | DS28: NC | DU28: 25 | DV28: =IF($AU$7<>0,IF($O$5="Illusionniste",Sorts!Q143,Sorts!K99),"") | EI28: 0 | EK28: =IF($AU$7<>0,IF($O$5="Illusionniste",Sorts!R143,Sorts!L99),"") | EM28: =IF($AU$7<>0,IF($O$5="Illusionniste",Sorts!S143,Sorts!M99),"") | EP28: =IF($AU$7<>0,IF($O$5="Illusionniste",Sorts!T143,Sorts!N99),"") | EQ28: =IF($AU$7<>0,IF($O$5="Illusionniste",Sorts!U143,Sorts!O99),"") | ER28: =IF($AU$7<>0,IF($O$5="Illusionniste",Sorts!V143,Sorts!P99),"") | EU28: 25 | FU28: NC | FW28: 25 | FX28: =IF($AU$7<>0,IF($O$5="Illusionniste",Sorts!AC143,Sorts!W99),"") | GK28: 0 | GM28: =IF($AU$7<>0,IF($O$5="Illusionniste",Sorts!AD143,Sorts!X99),"") | GO28: =IF($AU$7<>0,IF($O$5="Illusionniste",Sorts!AE143,Sorts!Y99),"") | GR28: =IF($AU$7<>0,IF($O$5="Illusionniste",Sorts!AF143,Sorts!Z99),"") | GS28: =IF($AU$7<>0,IF($O$5="Illusionniste",Sorts!AG143,Sorts!AA99),"") | GT28: =IF($AU$7<>0,IF($O$5="Illusionniste",Sorts!AH143,Sorts!AB99),"") | GW28: 25 | HW28: NC | HY28: 25 | HZ28: =IF($AU$7<>0,IF($O$5="Illusionniste",Sorts!AO143,Sorts!AI99),"") | IM28: 0 | IO28: =IF($AU$7<>0,IF($O$5="Illusionniste",Sorts!AP143,Sorts!AJ99),"") | IQ28: =IF($AU$7<>0,IF($O$5="Illusionniste",Sorts!AQ143,Sorts!AK99),"") | IT28: =IF($AU$7<>0,IF($O$5="Illusionniste",Sorts!AR143,Sorts!AL99),"") | IU28: =IF($AU$7<>0,IF($O$5="Illusionniste",Sorts!AS143,Sorts!AM99),"") | IV28: =IF($AU$7<>0,IF($O$5="Illusionniste",Sorts!AT143,Sorts!AN99),"")
AF29: Mort magique | AN29: CON | AQ29: 20 | AR29: =IF($AU$5<>0,IF($O$5="CLERC",Sorts!E23,Sorts!E47),"") -> 0 | BE29: 0 | BG29: =IF($AU$5<>0,IF($O$5="CLERC",Sorts!F23,Sorts!F47),"") -> 0 | BJ29: =IF($AU$5<>0,IF($O$5="CLERC",Sorts!G23,Sorts!G47),"") -> 0 | BM29: =IF($AU$5<>0,IF($O$5="CLERC",Sorts!H23,Sorts!H47),"") -> 0 | BN29: =IF($AU$5<>0,IF($O$5="CLERC",Sorts!I23,Sorts!I47),"") -> 0 | BO29: =IF($AU$5<>0,IF($O$5="CLERC",Sorts!J23,Sorts!J47),"") -> 0 | BQ29: NC | BS29: 20 | BT29: =IF($AU$7<>0,IF($O$5="ILLUSIONNISTE",Sorts!K138,Sorts!E94),"") | CG29: 0 | CI29: =IF($AU$7<>0,IF($O$5="ILLUSIONNISTE",Sorts!L138,Sorts!F94),"") | CK29: =IF($AU$7<>0,IF($O$5="ILLUSIONNISTE",Sorts!M138,Sorts!G94),"") | CN29: =IF($AU$7<>0,IF($O$5="ILLUSIONNISTE",Sorts!N138,Sorts!H94),"") | CO29: =IF($AU$7<>0,IF($O$5="ILLUSIONNISTE",Sorts!O138,Sorts!I94),"") | CP29: =IF($AU$7<>0,IF($O$5="ILLUSIONNISTE",Sorts!P138,Sorts!J94),"") | CS29: 26 | DS29: NC | DU29: 26 | DV29: =IF($AU$7<>0,IF($O$5="Illusionniste",Sorts!Q144,Sorts!K100),"") | EI29: 0 | EK29: =IF($AU$7<>0,IF($O$5="Illusionniste",Sorts!R144,Sorts!L100),"") | EM29: =IF($AU$7<>0,IF($O$5="Illusionniste",Sorts!S144,Sorts!M100),"") | EP29: =IF($AU$7<>0,IF($O$5="Illusionniste",Sorts!T144,Sorts!N100),"") | EQ29: =IF($AU$7<>0,IF($O$5="Illusionniste",Sorts!U144,Sorts!O100),"") | ER29: =IF($AU$7<>0,IF($O$5="Illusionniste",Sorts!V144,Sorts!P100),"") | EU29: 26 | FU29: NC | FW29: 26 | FX29: =IF($AU$7<>0,IF($O$5="Illusionniste",Sorts!AC144,Sorts!W100),"") | GK29: 0 | GM29: =IF($AU$7<>0,IF($O$5="Illusionniste",Sorts!AD144,Sorts!X100),"") | GO29: =IF($AU$7<>0,IF($O$5="Illusionniste",Sorts!AE144,Sorts!Y100),"") | GR29: =IF($AU$7<>0,IF($O$5="Illusionniste",Sorts!AF144,Sorts!Z100),"") | GS29: =IF($AU$7<>0,IF($O$5="Illusionniste",Sorts!AG144,Sorts!AA100),"") | GT29: =IF($AU$7<>0,IF($O$5="Illusionniste",Sorts!AH144,Sorts!AB100),"") | GW29: 26 | HW29: NC | HY29: 26 | HZ29: =IF($AU$7<>0,IF($O$5="Illusionniste",Sorts!AO144,Sorts!AI100),"") | IM29: 0 | IO29: =IF($AU$7<>0,IF($O$5="Illusionniste",Sorts!AP144,Sorts!AJ100),"") | IQ29: =IF($AU$7<>0,IF($O$5="Illusionniste",Sorts!AQ144,Sorts!AK100),"") | IT29: =IF($AU$7<>0,IF($O$5="Illusionniste",Sorts!AR144,Sorts!AL100),"") | IU29: =IF($AU$7<>0,IF($O$5="Illusionniste",Sorts!AS144,Sorts!AM100),"") | IV29: =IF($AU$7<>0,IF($O$5="Illusionniste",Sorts!AT144,Sorts!AN100),"")
B30: Bouclier | D30: Aucun | L30: =VLOOKUP($D$30,Basique!$K$3:$M$6,3,FALSE) -> 0 | N30: 0 | S30: Repérage et Désamorçage | W30: =INDEX(Niveaux!$A$115:$L$151,'Joueur 1'!$AM$5+1,MATCH('Joueur 1'!$O$5,Niveaux!$B$115:$L$115,0)+1)+VLOOKUP($B$17,Caractéristiques!$B$187:$J$211,7,FALSE)+VLOOKUP($O$6,Caractéristiques!$B$267:$J$274,4,FALSE)+INDEX(Caractéristiques!$L$268:$S$277,MATCH('Joueur 1'!$D$26,Caractéristiques!L268:L277,0),4) -> -1 | Y30: Escalade | AC30: =INDEX(Niveaux!$A$263:$L$299,'Joueur 1'!$AM$5+1,MATCH('Joueur 1'!$O$5,Niveaux!$B$263:$L$263,0)+1)+INDEX(Caractéristiques!$L$268:$S$277,MATCH('Joueur 1'!$D$26,Caractéristiques!L268:L277,0),8) -> -0.9 | AF30: Pétrification | AK30: =INDEX(Niveaux!$A$449:$L$485,$AM$5+1,MATCH($O$5,Niveaux!$B$449:$L$449,0)+1)+$AC$19+$AN$27 -> 11 | AN30: =AC19 -> -2 | AQ30: 21 | BE30: 0 | BQ30: NC | BS30: 21 | BT30: =IF($AU$7<>0,IF($O$5="ILLUSIONNISTE",Sorts!K139,Sorts!E95),"") | CG30: 0 | CI30: =IF($AU$7<>0,IF($O$5="ILLUSIONNISTE",Sorts!L139,Sorts!F95),"") | CK30: =IF($AU$7<>0,IF($O$5="ILLUSIONNISTE",Sorts!M139,Sorts!G95),"") | CN30: =IF($AU$7<>0,IF($O$5="ILLUSIONNISTE",Sorts!N139,Sorts!H95),"") | CO30: =IF($AU$7<>0,IF($O$5="ILLUSIONNISTE",Sorts!O139,Sorts!I95),"") | CP30: =IF($AU$7<>0,IF($O$5="ILLUSIONNISTE",Sorts!P139,Sorts!J95),"") | CS30: 27 | DS30: NC | DU30: 27 | DV30: =IF($AU$7<>0,IF($O$5="Illusionniste",Sorts!Q145,Sorts!K101),"") | EI30: 0 | EK30: =IF($AU$7<>0,IF($O$5="Illusionniste",Sorts!R145,Sorts!L101),"") | EM30: =IF($AU$7<>0,IF($O$5="Illusionniste",Sorts!S145,Sorts!M101),"") | EP30: =IF($AU$7<>0,IF($O$5="Illusionniste",Sorts!T145,Sorts!N101),"") | EQ30: =IF($AU$7<>0,IF($O$5="Illusionniste",Sorts!U145,Sorts!O101),"") | ER30: =IF($AU$7<>0,IF($O$5="Illusionniste",Sorts!V145,Sorts!P101),"") | EU30: 27 | FU30: NC | FW30: 27 | FX30: =IF($AU$7<>0,IF($O$5="Illusionniste",Sorts!AC145,Sorts!W101),"") | GK30: 0 | GM30: =IF($AU$7<>0,IF($O$5="Illusionniste",Sorts!AD145,Sorts!X101),"") | GO30: =IF($AU$7<>0,IF($O$5="Illusionniste",Sorts!AE145,Sorts!Y101),"") | GR30: =IF($AU$7<>0,IF($O$5="Illusionniste",Sorts!AF145,Sorts!Z101),"") | GS30: =IF($AU$7<>0,IF($O$5="Illusionniste",Sorts!AG145,Sorts!AA101),"") | GT30: =IF($AU$7<>0,IF($O$5="Illusionniste",Sorts!AH145,Sorts!AB101),"") | GW30: 27 | HW30: NC | HY30: 27 | HZ30: =IF($AU$7<>0,IF($O$5="Illusionniste",Sorts!AO145,Sorts!AI101),"") | IM30: 0 | IO30: =IF($AU$7<>0,IF($O$5="Illusionniste",Sorts!AP145,Sorts!AJ101),"") | IQ30: =IF($AU$7<>0,IF($O$5="Illusionniste",Sorts!AQ145,Sorts!AK101),"") | IT30: =IF($AU$7<>0,IF($O$5="Illusionniste",Sorts!AR145,Sorts!AL101),"") | IU30: =IF($AU$7<>0,IF($O$5="Illusionniste",Sorts!AS145,Sorts!AM101),"") | IV30: =IF($AU$7<>0,IF($O$5="Illusionniste",Sorts!AT145,Sorts!AN101),"")
AF31: Polymorphose | AN31: DEX | AQ31: 22 | BE31: 0 | BQ31: NC | BS31: 22 | BT31: =IF($AU$7<>0,IF($O$5="ILLUSIONNISTE",Sorts!K140,Sorts!E96),"") | CG31: 0 | CI31: =IF($AU$7<>0,IF($O$5="ILLUSIONNISTE",Sorts!L140,Sorts!F96),"") | CK31: =IF($AU$7<>0,IF($O$5="ILLUSIONNISTE",Sorts!M140,Sorts!G96),"") | CN31: =IF($AU$7<>0,IF($O$5="ILLUSIONNISTE",Sorts!N140,Sorts!H96),"") | CO31: =IF($AU$7<>0,IF($O$5="ILLUSIONNISTE",Sorts!O140,Sorts!I96),"") | CP31: =IF($AU$7<>0,IF($O$5="ILLUSIONNISTE",Sorts!P140,Sorts!J96),"") | CS31: 28 | DS31: NC | DU31: 28 | DV31: =IF($AU$7<>0,IF($O$5="Illusionniste",Sorts!Q146,Sorts!K102),"") | EI31: 0 | EK31: =IF($AU$7<>0,IF($O$5="Illusionniste",Sorts!R146,Sorts!L102),"") | EM31: =IF($AU$7<>0,IF($O$5="Illusionniste",Sorts!S146,Sorts!M102),"") | EP31: =IF($AU$7<>0,IF($O$5="Illusionniste",Sorts!T146,Sorts!N102),"") | EQ31: =IF($AU$7<>0,IF($O$5="Illusionniste",Sorts!U146,Sorts!O102),"") | ER31: =IF($AU$7<>0,IF($O$5="Illusionniste",Sorts!V146,Sorts!P102),"") | EU31: 28 | FU31: NC | FW31: 28 | FX31: =IF($AU$7<>0,IF($O$5="Illusionniste",Sorts!AC146,Sorts!W102),"") | GK31: 0 | GM31: =IF($AU$7<>0,IF($O$5="Illusionniste",Sorts!AD146,Sorts!X102),"") | GO31: =IF($AU$7<>0,IF($O$5="Illusionniste",Sorts!AE146,Sorts!Y102),"") | GR31: =IF($AU$7<>0,IF($O$5="Illusionniste",Sorts!AF146,Sorts!Z102),"") | GS31: =IF($AU$7<>0,IF($O$5="Illusionniste",Sorts!AG146,Sorts!AA102),"") | GT31: =IF($AU$7<>0,IF($O$5="Illusionniste",Sorts!AH146,Sorts!AB102),"") | GW31: 28 | HW31: NC | HY31: 28 | HZ31: =IF($AU$7<>0,IF($O$5="Illusionniste",Sorts!AO146,Sorts!AI102),"") | IM31: 0 | IO31: =IF($AU$7<>0,IF($O$5="Illusionniste",Sorts!AP146,Sorts!AJ102),"") | IQ31: =IF($AU$7<>0,IF($O$5="Illusionniste",Sorts!AQ146,Sorts!AK102),"") | IT31: =IF($AU$7<>0,IF($O$5="Illusionniste",Sorts!AR146,Sorts!AL102),"") | IU31: =IF($AU$7<>0,IF($O$5="Illusionniste",Sorts!AS146,Sorts!AM102),"") | IV31: =IF($AU$7<>0,IF($O$5="Illusionniste",Sorts!AT146,Sorts!AN102),"")
B32: Anneau / Cape | D32: Pas d'anneau ni Cape | L32: =IF(D32<>"",0,0) -> 0 | N32: 0 | S32: Déplacement silencieux | W32: =INDEX(Niveaux!$A$152:$L$188,'Joueur 1'!$AM$5+1,MATCH('Joueur 1'!$O$5,Niveaux!$B$152:$L$152,0)+1)+VLOOKUP($B$17,Caractéristiques!$B$187:$J$211,8,FALSE)+VLOOKUP($O$6,Caractéristiques!$B$267:$J$274,5,FALSE)+INDEX(Caractéristiques!$L$268:$S$277,MATCH('Joueur 1'!$D$26,Caractéristiques!L268:L277,0),5) -> -0.9 | Y32: Lecture des Langages | AC32: =INDEX(Niveaux!$A$300:$L$336,'Joueur 1'!$AM$5+1,MATCH('Joueur 1'!$O$5,Niveaux!$B$300:$L$300,0)+1) -> -1 | AF32: Baguette | AK32: =INDEX(Niveaux!$A$486:$L$522,$AM$5+1,MATCH($O$5,Niveaux!$B$486:$L$486,0)+1)+$AA$17+IF(OR($O$6="NAIN",$O$6="GNOME",$O$6="PETITE-GENS"),-ROUND($B$19/3.5,0)-$AA$17,0)+$AN$27 -> 13 | AN32: =AA17 -> -1 | AQ32: 23 | BE32: 0 | BQ32: NC | BS32: 23 | BT32: =IF($AU$7<>0,IF($O$5="ILLUSIONNISTE",Sorts!K141,Sorts!E97),"") | CG32: 0 | CI32: =IF($AU$7<>0,IF($O$5="ILLUSIONNISTE",Sorts!L141,Sorts!F97),"") | CK32: =IF($AU$7<>0,IF($O$5="ILLUSIONNISTE",Sorts!M141,Sorts!G97),"") | CN32: =IF($AU$7<>0,IF($O$5="ILLUSIONNISTE",Sorts!N141,Sorts!H97),"") | CO32: =IF($AU$7<>0,IF($O$5="ILLUSIONNISTE",Sorts!O141,Sorts!I97),"") | CP32: =IF($AU$7<>0,IF($O$5="ILLUSIONNISTE",Sorts!P141,Sorts!J97),"") | CS32: 29 | DS32: NC | DU32: 29 | DV32: =IF($AU$7<>0,IF($O$5="Illusionniste",Sorts!Q147,Sorts!K103),"") | EI32: 0 | EK32: =IF($AU$7<>0,IF($O$5="Illusionniste",Sorts!R147,Sorts!L103),"") | EM32: =IF($AU$7<>0,IF($O$5="Illusionniste",Sorts!S147,Sorts!M103),"") | EP32: =IF($AU$7<>0,IF($O$5="Illusionniste",Sorts!T147,Sorts!N103),"") | EQ32: =IF($AU$7<>0,IF($O$5="Illusionniste",Sorts!U147,Sorts!O103),"") | ER32: =IF($AU$7<>0,IF($O$5="Illusionniste",Sorts!V147,Sorts!P103),"") | EU32: 29 | FU32: NC | FW32: 29 | FX32: =IF($AU$7<>0,IF($O$5="Illusionniste",Sorts!AC147,Sorts!W103),"") | GK32: 0 | GM32: =IF($AU$7<>0,IF($O$5="Illusionniste",Sorts!AD147,Sorts!X103),"") | GO32: =IF($AU$7<>0,IF($O$5="Illusionniste",Sorts!AE147,Sorts!Y103),"") | GR32: =IF($AU$7<>0,IF($O$5="Illusionniste",Sorts!AF147,Sorts!Z103),"") | GS32: =IF($AU$7<>0,IF($O$5="Illusionniste",Sorts!AG147,Sorts!AA103),"") | GT32: =IF($AU$7<>0,IF($O$5="Illusionniste",Sorts!AH147,Sorts!AB103),"") | GW32: 29 | HW32: NC | HY32: 29 | HZ32: =IF($AU$7<>0,IF($O$5="Illusionniste",Sorts!AO147,Sorts!AI103),"") | IM32: 0 | IO32: =IF($AU$7<>0,IF($O$5="Illusionniste",Sorts!AP147,Sorts!AJ103),"") | IQ32: =IF($AU$7<>0,IF($O$5="Illusionniste",Sorts!AQ147,Sorts!AK103),"") | IT32: =IF($AU$7<>0,IF($O$5="Illusionniste",Sorts!AR147,Sorts!AL103),"") | IU32: =IF($AU$7<>0,IF($O$5="Illusionniste",Sorts!AS147,Sorts!AM103),"") | IV32: =IF($AU$7<>0,IF($O$5="Illusionniste",Sorts!AT147,Sorts!AN103),"")
AF33: Baton magique | AN33: SAG | AQ33: 24 | BE33: 0 | BQ33: NC | BS33: 24 | BT33: =IF($AU$7<>0,IF($O$5="ILLUSIONNISTE",Sorts!K142,Sorts!E98),"") | CG33: 0 | CI33: =IF($AU$7<>0,IF($O$5="ILLUSIONNISTE",Sorts!L142,Sorts!F98),"") | CK33: =IF($AU$7<>0,IF($O$5="ILLUSIONNISTE",Sorts!M142,Sorts!G98),"") | CN33: =IF($AU$7<>0,IF($O$5="ILLUSIONNISTE",Sorts!N142,Sorts!H98),"") | CO33: =IF($AU$7<>0,IF($O$5="ILLUSIONNISTE",Sorts!O142,Sorts!I98),"") | CP33: =IF($AU$7<>0,IF($O$5="ILLUSIONNISTE",Sorts!P142,Sorts!J98),"") | CS33: 30 | DS33: NC | DU33: 30 | DV33: =IF($AU$7<>0,IF($O$5="Illusionniste",Sorts!Q148,Sorts!K104),"") | EI33: 0 | EK33: =IF($AU$7<>0,IF($O$5="Illusionniste",Sorts!R148,Sorts!L104),"") | EM33: =IF($AU$7<>0,IF($O$5="Illusionniste",Sorts!S148,Sorts!M104),"") | EP33: =IF($AU$7<>0,IF($O$5="Illusionniste",Sorts!T148,Sorts!N104),"") | EQ33: =IF($AU$7<>0,IF($O$5="Illusionniste",Sorts!U148,Sorts!O104),"") | ER33: =IF($AU$7<>0,IF($O$5="Illusionniste",Sorts!V148,Sorts!P104),"") | EU33: 30 | FU33: NC | FW33: 30 | FX33: =IF($AU$7<>0,IF($O$5="Illusionniste",Sorts!AC148,Sorts!W104),"") | GK33: 0 | GM33: =IF($AU$7<>0,IF($O$5="Illusionniste",Sorts!AD148,Sorts!X104),"") | GO33: =IF($AU$7<>0,IF($O$5="Illusionniste",Sorts!AE148,Sorts!Y104),"") | GR33: =IF($AU$7<>0,IF($O$5="Illusionniste",Sorts!AF148,Sorts!Z104),"") | GS33: =IF($AU$7<>0,IF($O$5="Illusionniste",Sorts!AG148,Sorts!AA104),"") | GT33: =IF($AU$7<>0,IF($O$5="Illusionniste",Sorts!AH148,Sorts!AB104),"") | GW33: 30 | HW33: NC | HY33: 30 | HZ33: =IF($AU$7<>0,IF($O$5="Illusionniste",Sorts!AO148,Sorts!AI104),"") | IM33: 0 | IO33: =IF($AU$7<>0,IF($O$5="Illusionniste",Sorts!AP148,Sorts!AJ104),"") | IQ33: =IF($AU$7<>0,IF($O$5="Illusionniste",Sorts!AQ148,Sorts!AK104),"") | IT33: =IF($AU$7<>0,IF($O$5="Illusionniste",Sorts!AR148,Sorts!AL104),"") | IU33: =IF($AU$7<>0,IF($O$5="Illusionniste",Sorts!AS148,Sorts!AM104),"") | IV33: =IF($AU$7<>0,IF($O$5="Illusionniste",Sorts!AT148,Sorts!AN104),"")
B34: Autre | D34: Aucun | L34: =IF(D34<>"",0,0) -> 0 | N34: 0 | AF34: Souffle | AK34: =INDEX(Niveaux!$A$523:$L$559,$AM$5+1,MATCH($O$5,Niveaux!$B$523:$L$523,0)+1)+$AA$17+$AN$27 -> 15 | AN34: =Z15 -> -3 | AQ34: 25 | BE34: 0 | BQ34: NC | BS34: 25 | BT34: =IF($AU$7<>0,IF($O$5="ILLUSIONNISTE",Sorts!K143,Sorts!E99),"") | CG34: 0 | CI34: =IF($AU$7<>0,IF($O$5="ILLUSIONNISTE",Sorts!L143,Sorts!F99),"") | CK34: =IF($AU$7<>0,IF($O$5="ILLUSIONNISTE",Sorts!M143,Sorts!G99),"") | CN34: =IF($AU$7<>0,IF($O$5="ILLUSIONNISTE",Sorts!N143,Sorts!H99),"") | CO34: =IF($AU$7<>0,IF($O$5="ILLUSIONNISTE",Sorts!O143,Sorts!I99),"") | CP34: =IF($AU$7<>0,IF($O$5="ILLUSIONNISTE",Sorts!P143,Sorts!J99),"") | CS34: 31 | DS34: NC | DU34: 31 | DV34: =IF($AU$7<>0,IF($O$5="Illusionniste",Sorts!Q149,Sorts!K105),"") | EI34: 0 | EK34: =IF($AU$7<>0,IF($O$5="Illusionniste",Sorts!R149,Sorts!L105),"") | EM34: =IF($AU$7<>0,IF($O$5="Illusionniste",Sorts!S149,Sorts!M105),"") | EP34: =IF($AU$7<>0,IF($O$5="Illusionniste",Sorts!T149,Sorts!N105),"") | EQ34: =IF($AU$7<>0,IF($O$5="Illusionniste",Sorts!U149,Sorts!O105),"") | ER34: =IF($AU$7<>0,IF($O$5="Illusionniste",Sorts!V149,Sorts!P105),"") | EU34: 31 | FU34: NC | FW34: 31 | FX34: =IF($AU$7<>0,IF($O$5="Illusionniste",Sorts!AC149,Sorts!W105),"") | GK34: 0 | GM34: =IF($AU$7<>0,IF($O$5="Illusionniste",Sorts!AD149,Sorts!X105),"") | GO34: =IF($AU$7<>0,IF($O$5="Illusionniste",Sorts!AE149,Sorts!Y105),"") | GR34: =IF($AU$7<>0,IF($O$5="Illusionniste",Sorts!AF149,Sorts!Z105),"") | GS34: =IF($AU$7<>0,IF($O$5="Illusionniste",Sorts!AG149,Sorts!AA105),"") | GT34: =IF($AU$7<>0,IF($O$5="Illusionniste",Sorts!AH149,Sorts!AB105),"") | GW34: Sortilèges de Niveau 7 | IY34: Sortilèges de Niveau 9
R35: Expérience | AQ35: 26 | BE35: 0 | BQ35: NC | BS35: 26 | BT35: =IF($AU$7<>0,IF($O$5="ILLUSIONNISTE",Sorts!K144,Sorts!E100),"") | CG35: 0 | CI35: =IF($AU$7<>0,IF($O$5="ILLUSIONNISTE",Sorts!L144,Sorts!F100),"") | CK35: =IF($AU$7<>0,IF($O$5="ILLUSIONNISTE",Sorts!M144,Sorts!G100),"") | CN35: =IF($AU$7<>0,IF($O$5="ILLUSIONNISTE",Sorts!N144,Sorts!H100),"") | CO35: =IF($AU$7<>0,IF($O$5="ILLUSIONNISTE",Sorts!O144,Sorts!I100),"") | CP35: =IF($AU$7<>0,IF($O$5="ILLUSIONNISTE",Sorts!P144,Sorts!J100),"") | CS35: 32 | DS35: NC | DU35: 32 | DV35: =IF($AU$7<>0,IF($O$5="Illusionniste",Sorts!Q150,Sorts!K106),"") | EI35: 0 | EK35: =IF($AU$7<>0,IF($O$5="Illusionniste",Sorts!R150,Sorts!L106),"") | EM35: =IF($AU$7<>0,IF($O$5="Illusionniste",Sorts!S150,Sorts!M106),"") | EP35: =IF($AU$7<>0,IF($O$5="Illusionniste",Sorts!T150,Sorts!N106),"") | EQ35: =IF($AU$7<>0,IF($O$5="Illusionniste",Sorts!U150,Sorts!O106),"") | ER35: =IF($AU$7<>0,IF($O$5="Illusionniste",Sorts!V150,Sorts!P106),"") | EU35: 32 | FU35: NC | FW35: 32 | FX35: =IF($AU$7<>0,IF($O$5="Illusionniste",Sorts!AC150,Sorts!W106),"") | GK35: 0 | GM35: =IF($AU$7<>0,IF($O$5="Illusionniste",Sorts!AD150,Sorts!X106),"") | GO35: =IF($AU$7<>0,IF($O$5="Illusionniste",Sorts!AE150,Sorts!Y106),"") | GR35: =IF($AU$7<>0,IF($O$5="Illusionniste",Sorts!AF150,Sorts!Z106),"") | GS35: =IF($AU$7<>0,IF($O$5="Illusionniste",Sorts!AG150,Sorts!AA106),"") | GT35: =IF($AU$7<>0,IF($O$5="Illusionniste",Sorts!AH150,Sorts!AB106),"") | GW35: # | GX35: Nom du sortilège Clerc / Druide | HK35: =SUM(HK36:HK81) -> 0 | HL35: M | HM35: Portée | HP35: Durée | HS35: V | HT35: S | HU35: M | HW35: =COUNTIF(HW36:HX59,"C") -> 0 | HX35: C | HY35: # | HZ35: Nom du sortilège Magicien / Illusionniste | IM35: =SUM(IM36:IM81) -> 0 | IN35: M | IO35: Portée | IR35: Durée | IT35: V | IU35: S | IV35: M | JY35: =COUNTIF(JY36:JZ51,"C") -> 0 | JZ35: C | KA35: # | KB35: Nom du sortilège Magicien | KO35: =SUM(KO36:KO81) -> 0 | KP35: M | KQ35: Portée | KT35: Durée | KV35: V | KW35: S | KX35: M
B36: Autre | D36: Aucun | L36: =IF(D36<>"",0,0) -> 0 | N36: 0 | R36: XP MIN : | U36: =INDEX(Niveaux!$A$745:$L$781,'Joueur 1'!$AM$5+1,MATCH('Joueur 1'!$O$5,Niveaux!$B$745:$L$745,0)+1) -> 0 | Z36: =IF(AM5>0,"Niv "&(AM5+1),SUM(U37-U36)) -> Niv 2 | AB36: =SUM(U37-AA39+1) -> 2001 | AF36: Sortilèges | AK36: =INDEX(Niveaux!$A$560:$L$596,$AM$5+1,MATCH($O$5,Niveaux!$B$560:$L$560,0)+1)+$Z$15+IF(OR($O$6="NAIN",$O$6="GNOME",$O$6="PETITE-GENS"),-ROUND($B$19/3.5,0)-$Z$15,0)+$AN$27 -> 12 | AN36: RACE | AQ36: 27 | BE36: 0 | BQ36: NC | BS36: 27 | BT36: =IF($AU$7<>0,IF($O$5="ILLUSIONNISTE",Sorts!K145,Sorts!E101),"") | CG36: 0 | CI36: =IF($AU$7<>0,IF($O$5="ILLUSIONNISTE",Sorts!L145,Sorts!F101),"") | CK36: =IF($AU$7<>0,IF($O$5="ILLUSIONNISTE",Sorts!M145,Sorts!G101),"") | CN36: =IF($AU$7<>0,IF($O$5="ILLUSIONNISTE",Sorts!N145,Sorts!H101),"") | CO36: =IF($AU$7<>0,IF($O$5="ILLUSIONNISTE",Sorts!O145,Sorts!I101),"") | CP36: =IF($AU$7<>0,IF($O$5="ILLUSIONNISTE",Sorts!P145,Sorts!J101),"") | CS36: 33 | DS36: NC | DU36: 33 | DV36: =IF($AU$7<>0,IF($O$5="Illusionniste",Sorts!Q151,Sorts!K107),"") | EI36: 0 | EK36: =IF($AU$7<>0,IF($O$5="Illusionniste",Sorts!R151,Sorts!L107),"") | EM36: =IF($AU$7<>0,IF($O$5="Illusionniste",Sorts!S151,Sorts!M107),"") | EP36: =IF($AU$7<>0,IF($O$5="Illusionniste",Sorts!T151,Sorts!N107),"") | EQ36: =IF($AU$7<>0,IF($O$5="Illusionniste",Sorts!U151,Sorts!O107),"") | ER36: =IF($AU$7<>0,IF($O$5="Illusionniste",Sorts!V151,Sorts!P107),"") | EU36: Sortilèges de Niveau 5 | GW36: 1 | GX36: =IF($AU$5<>0,IF(OR($O$5="CLERC",$O$5="PALADIN"),Sorts!AO4,Sorts!AO28),"") -> Animation de la Roche | HK36: 0 | HM36: =IF($AU$5<>0,IF(OR($O$5="CLERC",$O$5="PALADIN"),Sorts!AP4,Sorts!AO28),"") -> Animation de la Roche | HP36: =IF($AU$5<>0,IF(OR($O$5="CLERC",$O$5="PALADIN"),Sorts!AQ4,Sorts!AO28),"") -> Animation de la Roche | HS36: =IF($AU$5<>0,IF(OR($O$5="CLERC",$O$5="PALADIN"),Sorts!AR4,Sorts!AO28),"") -> Animation de la Roche | HT36: =IF($AU$5<>0,IF(OR($O$5="CLERC",$O$5="PALADIN"),Sorts!AS4,Sorts!AO28),"") -> Animation de la Roche | HU36: =IF($AU$5<>0,IF(OR($O$5="CLERC",$O$5="PALADIN"),Sorts!AT4,Sorts!AO28),"") -> Animation de la Roche | HW36: NC | HY36: 1 | HZ36: =IF($AU$7<>0,IF($O$5="Illusionniste",Sorts!AU119,Sorts!AO75),"") | IM36: 0 | IO36: =IF($AU$7<>0,IF($O$5="Illusionniste",Sorts!AV119,Sorts!AP75),"") | IQ36: =IF($AU$7<>0,IF($O$5="Illusionniste",Sorts!AW119,Sorts!AQ75),"") | IT36: =IF($AU$7<>0,IF($O$5="Illusionniste",Sorts!AX119,Sorts!AR75),"") | IU36: =IF($AU$7<>0,IF($O$5="Illusionniste",Sorts!AY119,Sorts!AS75),"") | IV36: =IF($AU$7<>0,IF($O$5="Illusionniste",Sorts!AZ119,Sorts!AT75),"") | JY36: NC | KA36: 1 | KB36: =IF($AU$7<>0,IF($O$5="Illusionniste",Sorts!BB119,Sorts!BA75),"") | KO36: 0 | KQ36: =IF($AU$7<>0,IF($O$5="Illusionniste",Sorts!BB119,Sorts!BB75),"") | KS36: =IF($AU$7<>0,IF($O$5="Illusionniste",Sorts!BB119,Sorts!BC75),"") | KV36: =IF($AU$7<>0,IF($O$5="Illusionniste",Sorts!BB119,Sorts!BD75),"") | KW36: =IF($AU$7<>0,IF($O$5="Illusionniste",Sorts!BB119,Sorts!BE75),"") | KX36: =IF($AU$7<>0,IF($O$5="Illusionniste",Sorts!BB119,Sorts!BF75),"")
R37: XP MAX : | U37: =INDEX(Niveaux!$A$745:$L$781,'Joueur 1'!$AM$5+2,MATCH('Joueur 1'!$O$5,Niveaux!$B$745:$L$745,0)+1)-1 -> 2000 | AN37: =IF(OR($O$6="NAIN",$O$6="GNOME",$O$6="PETITE-GENS"),-ROUND($B$19/3.5,0),0) -> 0 | AQ37: 28 | BE37: 0 | BQ37: NC | BS37: 28 | BT37: =IF($AU$7<>0,IF($O$5="ILLUSIONNISTE",Sorts!K146,Sorts!E102),"") | CG37: 0 | CI37: =IF($AU$7<>0,IF($O$5="ILLUSIONNISTE",Sorts!L146,Sorts!F102),"") | CK37: =IF($AU$7<>0,IF($O$5="ILLUSIONNISTE",Sorts!M146,Sorts!G102),"") | CN37: =IF($AU$7<>0,IF($O$5="ILLUSIONNISTE",Sorts!N146,Sorts!H102),"") | CO37: =IF($AU$7<>0,IF($O$5="ILLUSIONNISTE",Sorts!O146,Sorts!I102),"") | CP37: =IF($AU$7<>0,IF($O$5="ILLUSIONNISTE",Sorts!P146,Sorts!J102),"") | CS37: 34 | DS37: NC | DU37: 34 | DV37: =IF($AU$7<>0,IF($O$5="Illusionniste",Sorts!Q152,Sorts!K108),"") | EI37: 0 | EK37: =IF($AU$7<>0,IF($O$5="Illusionniste",Sorts!R152,Sorts!L108),"") | EM37: =IF($AU$7<>0,IF($O$5="Illusionniste",Sorts!S152,Sorts!M108),"") | EP37: =IF($AU$7<>0,IF($O$5="Illusionniste",Sorts!T152,Sorts!N108),"") | EQ37: =IF($AU$7<>0,IF($O$5="Illusionniste",Sorts!U152,Sorts!O108),"") | ER37: =IF($AU$7<>0,IF($O$5="Illusionniste",Sorts!V152,Sorts!P108),"") | EU37: # | EV37: Nom du sortilège Clerc / Druide | FI37: =SUM(FI38:FI81) -> 0 | FJ37: M | FK37: Portée | FN37: Durée | FQ37: V | FR37: S | FS37: M | FU37: =COUNTIF(FU38:FV67,"C") -> 0 | FV37: C | FW37: # | FX37: Nom du sortilège Magicien / Illusionniste | GK37: =SUM(GK38:GK81) -> 0 | GL37: M | GM37: Portée | GP37: Durée | GR37: V | GS37: S | GT37: M | GW37: 2 | GX37: =IF($AU$5<>0,IF(OR($O$5="CLERC",$O$5="PALADIN"),Sorts!AO5,Sorts!AO29),"") -> Bâton Sylvanien | HK37: 0 | HM37: =IF($AU$5<>0,IF(OR($O$5="CLERC",$O$5="PALADIN"),Sorts!AP5,Sorts!AO29),"") -> Bâton Sylvanien | HP37: =IF($AU$5<>0,IF(OR($O$5="CLERC",$O$5="PALADIN"),Sorts!AQ5,Sorts!AO29),"") -> Bâton Sylvanien | HS37: =IF($AU$5<>0,IF(OR($O$5="CLERC",$O$5="PALADIN"),Sorts!AR5,Sorts!AO29),"") -> Bâton Sylvanien | HT37: =IF($AU$5<>0,IF(OR($O$5="CLERC",$O$5="PALADIN"),Sorts!AS5,Sorts!AO29),"") -> Bâton Sylvanien | HU37: =IF($AU$5<>0,IF(OR($O$5="CLERC",$O$5="PALADIN"),Sorts!AT5,Sorts!AO29),"") -> Bâton Sylvanien | HW37: NC | HY37: 2 | HZ37: =IF($AU$7<>0,IF($O$5="Illusionniste",Sorts!AU120,Sorts!AO76),"") | IM37: 0 | IO37: =IF($AU$7<>0,IF($O$5="Illusionniste",Sorts!AV120,Sorts!AP76),"") | IQ37: =IF($AU$7<>0,IF($O$5="Illusionniste",Sorts!AW120,Sorts!AQ76),"") | IT37: =IF($AU$7<>0,IF($O$5="Illusionniste",Sorts!AX120,Sorts!AR76),"") | IU37: =IF($AU$7<>0,IF($O$5="Illusionniste",Sorts!AY120,Sorts!AS76),"") | IV37: =IF($AU$7<>0,IF($O$5="Illusionniste",Sorts!AZ120,Sorts!AT76),"") | JY37: NC | KA37: 2 | KB37: =IF($AU$7<>0,IF($O$5="Illusionniste",Sorts!BB120,Sorts!BA76),"") | KO37: 0 | KQ37: =IF($AU$7<>0,IF($O$5="Illusionniste",Sorts!BB120,Sorts!BB76),"") | KS37: =IF($AU$7<>0,IF($O$5="Illusionniste",Sorts!BB120,Sorts!BC76),"") | KV37: =IF($AU$7<>0,IF($O$5="Illusionniste",Sorts!BB120,Sorts!BD76),"") | KW37: =IF($AU$7<>0,IF($O$5="Illusionniste",Sorts!BB120,Sorts!BE76),"") | KX37: =IF($AU$7<>0,IF($O$5="Illusionniste",Sorts!BB120,Sorts!BF76),"")
I38: Dos | M38: FACE | AA38: TOTAL | AQ38: 29 | BE38: 0 | BQ38: NC | BS38: 29 | BT38: =IF($AU$7<>0,IF($O$5="ILLUSIONNISTE",Sorts!K147,Sorts!E103),"") | CG38: 0 | CI38: =IF($AU$7<>0,IF($O$5="ILLUSIONNISTE",Sorts!L147,Sorts!F103),"") | CK38: =IF($AU$7<>0,IF($O$5="ILLUSIONNISTE",Sorts!M147,Sorts!G103),"") | CN38: =IF($AU$7<>0,IF($O$5="ILLUSIONNISTE",Sorts!N147,Sorts!H103),"") | CO38: =IF($AU$7<>0,IF($O$5="ILLUSIONNISTE",Sorts!O147,Sorts!I103),"") | CP38: =IF($AU$7<>0,IF($O$5="ILLUSIONNISTE",Sorts!P147,Sorts!J103),"") | CS38: 35 | DS38: NC | DU38: 35 | DV38: =IF($AU$7<>0,IF($O$5="Illusionniste",Sorts!Q153,Sorts!K109),"") | EI38: 0 | EK38: =IF($AU$7<>0,IF($O$5="Illusionniste",Sorts!R153,Sorts!L109),"") | EM38: =IF($AU$7<>0,IF($O$5="Illusionniste",Sorts!S153,Sorts!M109),"") | EP38: =IF($AU$7<>0,IF($O$5="Illusionniste",Sorts!T153,Sorts!N109),"") | EQ38: =IF($AU$7<>0,IF($O$5="Illusionniste",Sorts!U153,Sorts!O109),"") | ER38: =IF($AU$7<>0,IF($O$5="Illusionniste",Sorts!V153,Sorts!P109),"") | EU38: 1 | EV38: =IF($AU$5<>0,IF(OR($O$5="CLERC",$O$5="PALADIN"),Sorts!AC4,Sorts!AC28),"") -> Bâtons à Serpents | FI38: 0 | FK38: =IF($AU$5<>0,IF(OR($O$5="CLERC",$O$5="PALADIN"),Sorts!AD4,Sorts!AD28),"") -> 4'' | FN38: =IF($AU$5<>0,IF(OR($O$5="CLERC",$O$5="PALADIN"),Sorts!AE4,Sorts!AE28),"") -> 2r/n | FQ38: =IF($AU$5<>0,IF(OR($O$5="CLERC",$O$5="PALADIN"),Sorts!AF4,Sorts!AF28),"") -> X | FR38: =IF($AU$5<>0,IF(OR($O$5="CLERC",$O$5="PALADIN"),Sorts!AG4,Sorts!AG28),"") -> X | FS38: =IF($AU$5<>0,IF(OR($O$5="CLERC",$O$5="PALADIN"),Sorts!AH4,Sorts!AH28),"") -> X | FU38: NC | FW38: 1 | FX38: =IF($AU$7<>0,IF($O$5="Illusionniste",Sorts!AI119,Sorts!AC75),"") | GK38: 0 | GM38: =IF($AU$7<>0,IF($O$5="Illusionniste",Sorts!AJ119,Sorts!AD75),"") | GO38: =IF($AU$7<>0,IF($O$5="Illusionniste",Sorts!AK119,Sorts!AE75),"") | GR38: =IF($AU$7<>0,IF($O$5="Illusionniste",Sorts!AL119,Sorts!AF75),"") | GS38: =IF($AU$7<>0,IF($O$5="Illusionniste",Sorts!AM119,Sorts!AG75),"") | GT38: =IF($AU$7<>0,IF($O$5="Illusionniste",Sorts!AN119,Sorts!AH75),"") | GW38: 3 | GX38: =IF($AU$5<>0,IF(OR($O$5="CLERC",$O$5="PALADIN"),Sorts!AO6,Sorts!AO30),"") -> Chariot de Sustarre | HK38: 0 | HM38: =IF($AU$5<>0,IF(OR($O$5="CLERC",$O$5="PALADIN"),Sorts!AP6,Sorts!AO30),"") -> Chariot de Sustarre | HP38: =IF($AU$5<>0,IF(OR($O$5="CLERC",$O$5="PALADIN"),Sorts!AQ6,Sorts!AO30),"") -> Chariot de Sustarre | HS38: =IF($AU$5<>0,IF(OR($O$5="CLERC",$O$5="PALADIN"),Sorts!AR6,Sorts!AO30),"") -> Chariot de Sustarre | HT38: =IF($AU$5<>0,IF(OR($O$5="CLERC",$O$5="PALADIN"),Sorts!AS6,Sorts!AO30),"") -> Chariot de Sustarre | HU38: =IF($AU$5<>0,IF(OR($O$5="CLERC",$O$5="PALADIN"),Sorts!AT6,Sorts!AO30),"") -> Chariot de Sustarre | HW38: NC | HY38: 3 | HZ38: =IF($AU$7<>0,IF($O$5="Illusionniste",Sorts!AU121,Sorts!AO77),"") | IM38: 0 | IO38: =IF($AU$7<>0,IF($O$5="Illusionniste",Sorts!AV121,Sorts!AP77),"") | IQ38: =IF($AU$7<>0,IF($O$5="Illusionniste",Sorts!AW121,Sorts!AQ77),"") | IT38: =IF($AU$7<>0,IF($O$5="Illusionniste",Sorts!AX121,Sorts!AR77),"") | IU38: =IF($AU$7<>0,IF($O$5="Illusionniste",Sorts!AY121,Sorts!AS77),"") | IV38: =IF($AU$7<>0,IF($O$5="Illusionniste",Sorts!AZ121,Sorts!AT77),"") | JY38: NC | KA38: 3 | KB38: =IF($AU$7<>0,IF($O$5="Illusionniste",Sorts!BB121,Sorts!BA77),"") | KO38: 0 | KQ38: =IF($AU$7<>0,IF($O$5="Illusionniste",Sorts!BB121,Sorts!BB77),"") | KS38: =IF($AU$7<>0,IF($O$5="Illusionniste",Sorts!BB121,Sorts!BC77),"") | KV38: =IF($AU$7<>0,IF($O$5="Illusionniste",Sorts!BB121,Sorts!BD77),"") | KW38: =IF($AU$7<>0,IF($O$5="Illusionniste",Sorts!BB121,Sorts!BE77),"") | KX38: =IF($AU$7<>0,IF($O$5="Illusionniste",Sorts!BB121,Sorts!BF77),"")
B39: DEXT | D39: =+$AA$17 -> -1 | G39: CA | I39: =+M39+4 -> 13 | M39: =IF($O$5="MOINE",VLOOKUP($AM$5,Caractéristiques!$B$301:$E$321,4,FALSE)+$D$39+SUM($N$32:$O$37),MIN($L$26+$N$26,$L$28)+$L$30+SUM($N$30:$O$37)+$D$39) -> 9 | R39: Bonus 10% : | U39: =VLOOKUP(O5,Basique!E17:G28,3,FALSE) -> SAG/CHAR > 15 | AF39: Vitesse | AQ39: 30 | BE39: 0 | BQ39: NC | BS39: 30 | BT39: =IF($AU$7<>0,IF($O$5="ILLUSIONNISTE",Sorts!K148,Sorts!E104),"") | CG39: 0 | CI39: =IF($AU$7<>0,IF($O$5="ILLUSIONNISTE",Sorts!L148,Sorts!F104),"") | CK39: =IF($AU$7<>0,IF($O$5="ILLUSIONNISTE",Sorts!M148,Sorts!G104),"") | CN39: =IF($AU$7<>0,IF($O$5="ILLUSIONNISTE",Sorts!N148,Sorts!H104),"") | CO39: =IF($AU$7<>0,IF($O$5="ILLUSIONNISTE",Sorts!O148,Sorts!I104),"") | CP39: =IF($AU$7<>0,IF($O$5="ILLUSIONNISTE",Sorts!P148,Sorts!J104),"") | CS39: 36 | DS39: NC | DU39: 36 | DV39: =IF($AU$7<>0,IF($O$5="Illusionniste",Sorts!Q154,Sorts!K110),"") | EI39: 0 | EK39: =IF($AU$7<>0,IF($O$5="Illusionniste",Sorts!R154,Sorts!L110),"") | EM39: =IF($AU$7<>0,IF($O$5="Illusionniste",Sorts!S154,Sorts!M110),"") | EP39: =IF($AU$7<>0,IF($O$5="Illusionniste",Sorts!T154,Sorts!N110),"") | EQ39: =IF($AU$7<>0,IF($O$5="Illusionniste",Sorts!U154,Sorts!O110),"") | ER39: =IF($AU$7<>0,IF($O$5="Illusionniste",Sorts!V154,Sorts!P110),"") | EU39: 2 | EV39: =IF($AU$5<>0,IF(OR($O$5="CLERC",$O$5="PALADIN"),Sorts!AC5,Sorts!AC29),"") -> Bouclier Anti-Plantes | FI39: 0 | FK39: =IF($AU$5<>0,IF(OR($O$5="CLERC",$O$5="PALADIN"),Sorts!AD5,Sorts!AD29),"") -> 0 | FN39: =IF($AU$5<>0,IF(OR($O$5="CLERC",$O$5="PALADIN"),Sorts!AE5,Sorts!AE29),"") -> 1t/n | FQ39: =IF($AU$5<>0,IF(OR($O$5="CLERC",$O$5="PALADIN"),Sorts!AF5,Sorts!AF29),"") -> X | FR39: =IF($AU$5<>0,IF(OR($O$5="CLERC",$O$5="PALADIN"),Sorts!AG5,Sorts!AG29),"") -> X | FS39: =IF($AU$5<>0,IF(OR($O$5="CLERC",$O$5="PALADIN"),Sorts!AH5,Sorts!AH29),"") -> X | FU39: NC | FW39: 2 | FX39: =IF($AU$7<>0,IF($O$5="Illusionniste",Sorts!AI120,Sorts!AC76),"") | GK39: 0 | GM39: =IF($AU$7<>0,IF($O$5="Illusionniste",Sorts!AJ120,Sorts!AD76),"") | GO39: =IF($AU$7<>0,IF($O$5="Illusionniste",Sorts!AK120,Sorts!AE76),"") | GR39: =IF($AU$7<>0,IF($O$5="Illusionniste",Sorts!AL120,Sorts!AF76),"") | GS39: =IF($AU$7<>0,IF($O$5="Illusionniste",Sorts!AM120,Sorts!AG76),"") | GT39: =IF($AU$7<>0,IF($O$5="Illusionniste",Sorts!AN120,Sorts!AH76),"") | GW39: 4 | GX39: =IF($AU$5<>0,IF(OR($O$5="CLERC",$O$5="PALADIN"),Sorts!AO7,Sorts!AO31),"") -> Confusion | HK39: 0 | HM39: =IF($AU$5<>0,IF(OR($O$5="CLERC",$O$5="PALADIN"),Sorts!AP7,Sorts!AO31),"") -> Confusion | HP39: =IF($AU$5<>0,IF(OR($O$5="CLERC",$O$5="PALADIN"),Sorts!AQ7,Sorts!AO31),"") -> Confusion | HS39: =IF($AU$5<>0,IF(OR($O$5="CLERC",$O$5="PALADIN"),Sorts!AR7,Sorts!AO31),"") -> Confusion | HT39: =IF($AU$5<>0,IF(OR($O$5="CLERC",$O$5="PALADIN"),Sorts!AS7,Sorts!AO31),"") -> Confusion | HU39: =IF($AU$5<>0,IF(OR($O$5="CLERC",$O$5="PALADIN"),Sorts!AT7,Sorts!AO31),"") -> Confusion | HW39: NC | HY39: 4 | HZ39: =IF($AU$7<>0,IF($O$5="Illusionniste",Sorts!AU122,Sorts!AO78),"") | IM39: 0 | IO39: =IF($AU$7<>0,IF($O$5="Illusionniste",Sorts!AV122,Sorts!AP78),"") | IQ39: =IF($AU$7<>0,IF($O$5="Illusionniste",Sorts!AW122,Sorts!AQ78),"") | IT39: =IF($AU$7<>0,IF($O$5="Illusionniste",Sorts!AX122,Sorts!AR78),"") | IU39: =IF($AU$7<>0,IF($O$5="Illusionniste",Sorts!AY122,Sorts!AS78),"") | IV39: =IF($AU$7<>0,IF($O$5="Illusionniste",Sorts!AZ122,Sorts!AT78),"") | JY39: NC | KA39: 4 | KB39: =IF($AU$7<>0,IF($O$5="Illusionniste",Sorts!BB122,Sorts!BA78),"") | KO39: 0 | KQ39: =IF($AU$7<>0,IF($O$5="Illusionniste",Sorts!BB122,Sorts!BB78),"") | KS39: =IF($AU$7<>0,IF($O$5="Illusionniste",Sorts!BB122,Sorts!BC78),"") | KV39: =IF($AU$7<>0,IF($O$5="Illusionniste",Sorts!BB122,Sorts!BD78),"") | KW39: =IF($AU$7<>0,IF($O$5="Illusionniste",Sorts!BB122,Sorts!BE78),"") | KX39: =IF($AU$7<>0,IF($O$5="Illusionniste",Sorts!BB122,Sorts!BF78),"")
AF40: =IF($O$5="MOINE",11+$AM$5,MIN(12,(VLOOKUP($D$26,Basique!F2:H12,3,FALSE))-N26))&" "&"""" -> 12 " | AQ40: 31 | BE40: 0 | BQ40: NC | BS40: 31 | BT40: =IF($AU$7<>0,IF($O$5="ILLUSIONNISTE",Sorts!K149,Sorts!E105),"") | CG40: 0 | CI40: =IF($AU$7<>0,IF($O$5="ILLUSIONNISTE",Sorts!L149,Sorts!F105),"") | CK40: =IF($AU$7<>0,IF($O$5="ILLUSIONNISTE",Sorts!M149,Sorts!G105),"") | CN40: =IF($AU$7<>0,IF($O$5="ILLUSIONNISTE",Sorts!N149,Sorts!H105),"") | CO40: =IF($AU$7<>0,IF($O$5="ILLUSIONNISTE",Sorts!O149,Sorts!I105),"") | CP40: =IF($AU$7<>0,IF($O$5="ILLUSIONNISTE",Sorts!P149,Sorts!J105),"") | CS40: Sortilèges de Niveau 3 | EU40: 3 | EV40: =IF($AU$5<>0,IF(OR($O$5="CLERC",$O$5="PALADIN"),Sorts!AC6,Sorts!AC30),"") -> Communion avec la Nature | FI40: 0 | FK40: =IF($AU$5<>0,IF(OR($O$5="CLERC",$O$5="PALADIN"),Sorts!AD6,Sorts!AD30),"") -> 0 | FN40: =IF($AU$5<>0,IF(OR($O$5="CLERC",$O$5="PALADIN"),Sorts!AE6,Sorts!AE30),"") -> S | FQ40: =IF($AU$5<>0,IF(OR($O$5="CLERC",$O$5="PALADIN"),Sorts!AF6,Sorts!AF30),"") -> X | FR40: =IF($AU$5<>0,IF(OR($O$5="CLERC",$O$5="PALADIN"),Sorts!AG6,Sorts!AG30),"") -> X | FS40: =IF($AU$5<>0,IF(OR($O$5="CLERC",$O$5="PALADIN"),Sorts!AH6,Sorts!AH30),"") -> X | FU40: NC | FW40: 3 | FX40: =IF($AU$7<>0,IF($O$5="Illusionniste",Sorts!AI121,Sorts!AC77),"") | GK40: 0 | GM40: =IF($AU$7<>0,IF($O$5="Illusionniste",Sorts!AJ121,Sorts!AD77),"") | GO40: =IF($AU$7<>0,IF($O$5="Illusionniste",Sorts!AK121,Sorts!AE77),"") | GR40: =IF($AU$7<>0,IF($O$5="Illusionniste",Sorts!AL121,Sorts!AF77),"") | GS40: =IF($AU$7<>0,IF($O$5="Illusionniste",Sorts!AM121,Sorts!AG77),"") | GT40: =IF($AU$7<>0,IF($O$5="Illusionniste",Sorts!AN121,Sorts!AH77),"") | GW40: 5 | GX40: =IF($AU$5<>0,IF(OR($O$5="CLERC",$O$5="PALADIN"),Sorts!AO8,Sorts!AO32),"") -> Contrôle du Climat | HK40: 0 | HM40: =IF($AU$5<>0,IF(OR($O$5="CLERC",$O$5="PALADIN"),Sorts!AP8,Sorts!AO32),"") -> Contrôle du Climat | HP40: =IF($AU$5<>0,IF(OR($O$5="CLERC",$O$5="PALADIN"),Sorts!AQ8,Sorts!AO32),"") -> Contrôle du Climat | HS40: =IF($AU$5<>0,IF(OR($O$5="CLERC",$O$5="PALADIN"),Sorts!AR8,Sorts!AO32),"") -> Contrôle du Climat | HT40: =IF($AU$5<>0,IF(OR($O$5="CLERC",$O$5="PALADIN"),Sorts!AS8,Sorts!AO32),"") -> Contrôle du Climat | HU40: =IF($AU$5<>0,IF(OR($O$5="CLERC",$O$5="PALADIN"),Sorts!AT8,Sorts!AO32),"") -> Contrôle du Climat | HW40: NC | HY40: 5 | HZ40: =IF($AU$7<>0,IF($O$5="Illusionniste",Sorts!AU123,Sorts!AO79),"") | IM40: 0 | IO40: =IF($AU$7<>0,IF($O$5="Illusionniste",Sorts!AV123,Sorts!AP79),"") | IQ40: =IF($AU$7<>0,IF($O$5="Illusionniste",Sorts!AW123,Sorts!AQ79),"") | IT40: =IF($AU$7<>0,IF($O$5="Illusionniste",Sorts!AX123,Sorts!AR79),"") | IU40: =IF($AU$7<>0,IF($O$5="Illusionniste",Sorts!AY123,Sorts!AS79),"") | IV40: =IF($AU$7<>0,IF($O$5="Illusionniste",Sorts!AZ123,Sorts!AT79),"") | JY40: NC | KA40: 5 | KB40: =IF($AU$7<>0,IF($O$5="Illusionniste",Sorts!BB123,Sorts!BA79),"") | KO40: 0 | KQ40: =IF($AU$7<>0,IF($O$5="Illusionniste",Sorts!BB123,Sorts!BB79),"") | KS40: =IF($AU$7<>0,IF($O$5="Illusionniste",Sorts!BB123,Sorts!BC79),"") | KV40: =IF($AU$7<>0,IF($O$5="Illusionniste",Sorts!BB123,Sorts!BD79),"") | KW40: =IF($AU$7<>0,IF($O$5="Illusionniste",Sorts!BB123,Sorts!BE79),"") | KX40: =IF($AU$7<>0,IF($O$5="Illusionniste",Sorts!BB123,Sorts!BF79),"")
AQ41: 32 | BE41: 0 | BQ41: NC | BS41: 32 | BT41: =IF($AU$7<>0,IF($O$5="ILLUSIONNISTE",Sorts!K150,Sorts!E106),"") | CG41: 0 | CI41: =IF($AU$7<>0,IF($O$5="ILLUSIONNISTE",Sorts!L150,Sorts!F106),"") | CK41: =IF($AU$7<>0,IF($O$5="ILLUSIONNISTE",Sorts!M150,Sorts!G106),"") | CN41: =IF($AU$7<>0,IF($O$5="ILLUSIONNISTE",Sorts!N150,Sorts!H106),"") | CO41: =IF($AU$7<>0,IF($O$5="ILLUSIONNISTE",Sorts!O150,Sorts!I106),"") | CP41: =IF($AU$7<>0,IF($O$5="ILLUSIONNISTE",Sorts!P150,Sorts!J106),"") | CS41: # | CT41: Nom du sortilège Clerc / Druide | DG41: =SUM(DG42:DG81) -> 0 | DH41: M | DI41: Portée | DL41: Durée | DO41: V | DP41: S | DQ41: M | DS41: =COUNTIF(DS42:DT73,"C") -> 0 | DT41: C | DU41: # | DV41: Nom du sortilège Magicien / Illusionniste | EI41: =SUM(EI42:EI81) -> 0 | EJ41: M | EK41: Portée | EN41: Durée | EP41: V | EQ41: S | ER41: M | EU41: 4 | EV41: =IF($AU$5<>0,IF(OR($O$5="CLERC",$O$5="PALADIN"),Sorts!AC7,Sorts!AC31),"") -> Contrôle des Vents | FI41: 0 | FK41: =IF($AU$5<>0,IF(OR($O$5="CLERC",$O$5="PALADIN"),Sorts!AD7,Sorts!AD31),"") -> 0 | FN41: =IF($AU$5<>0,IF(OR($O$5="CLERC",$O$5="PALADIN"),Sorts!AE7,Sorts!AE31),"") -> 1t/n | FQ41: =IF($AU$5<>0,IF(OR($O$5="CLERC",$O$5="PALADIN"),Sorts!AF7,Sorts!AF31),"") -> X | FR41: =IF($AU$5<>0,IF(OR($O$5="CLERC",$O$5="PALADIN"),Sorts!AG7,Sorts!AG31),"") -> X | FS41: =IF($AU$5<>0,IF(OR($O$5="CLERC",$O$5="PALADIN"),Sorts!AH7,Sorts!AH31),"") -> X | FU41: NC | FW41: 4 | FX41: =IF($AU$7<>0,IF($O$5="Illusionniste",Sorts!AI122,Sorts!AC78),"") | GK41: 0 | GM41: =IF($AU$7<>0,IF($O$5="Illusionniste",Sorts!AJ122,Sorts!AD78),"") | GO41: =IF($AU$7<>0,IF($O$5="Illusionniste",Sorts!AK122,Sorts!AE78),"") | GR41: =IF($AU$7<>0,IF($O$5="Illusionniste",Sorts!AL122,Sorts!AF78),"") | GS41: =IF($AU$7<>0,IF($O$5="Illusionniste",Sorts!AM122,Sorts!AG78),"") | GT41: =IF($AU$7<>0,IF($O$5="Illusionniste",Sorts!AN122,Sorts!AH78),"") | GW41: 6 | GX41: =IF($AU$5<>0,IF(OR($O$5="CLERC",$O$5="PALADIN"),Sorts!AO9,Sorts!AO33),"") -> Doigt de Mort | HK41: 0 | HM41: =IF($AU$5<>0,IF(OR($O$5="CLERC",$O$5="PALADIN"),Sorts!AP9,Sorts!AO33),"") -> Doigt de Mort | HP41: =IF($AU$5<>0,IF(OR($O$5="CLERC",$O$5="PALADIN"),Sorts!AQ9,Sorts!AO33),"") -> Doigt de Mort | HS41: =IF($AU$5<>0,IF(OR($O$5="CLERC",$O$5="PALADIN"),Sorts!AR9,Sorts!AO33),"") -> Doigt de Mort | HT41: =IF($AU$5<>0,IF(OR($O$5="CLERC",$O$5="PALADIN"),Sorts!AS9,Sorts!AO33),"") -> Doigt de Mort | HU41: =IF($AU$5<>0,IF(OR($O$5="CLERC",$O$5="PALADIN"),Sorts!AT9,Sorts!AO33),"") -> Doigt de Mort | HW41: NC | HY41: 6 | HZ41: =IF($AU$7<>0,IF($O$5="Illusionniste",Sorts!AU124,Sorts!AO80),"") | IM41: 0 | IO41: =IF($AU$7<>0,IF($O$5="Illusionniste",Sorts!AV124,Sorts!AP80),"") | IQ41: =IF($AU$7<>0,IF($O$5="Illusionniste",Sorts!AW124,Sorts!AQ80),"") | IT41: =IF($AU$7<>0,IF($O$5="Illusionniste",Sorts!AX124,Sorts!AR80),"") | IU41: =IF($AU$7<>0,IF($O$5="Illusionniste",Sorts!AY124,Sorts!AS80),"") | IV41: =IF($AU$7<>0,IF($O$5="Illusionniste",Sorts!AZ124,Sorts!AT80),"") | JY41: NC | KA41: 6 | KB41: =IF($AU$7<>0,IF($O$5="Illusionniste",Sorts!BB124,Sorts!BA80),"") | KO41: 0 | KQ41: =IF($AU$7<>0,IF($O$5="Illusionniste",Sorts!BB124,Sorts!BB80),"") | KS41: =IF($AU$7<>0,IF($O$5="Illusionniste",Sorts!BB124,Sorts!BC80),"") | KV41: =IF($AU$7<>0,IF($O$5="Illusionniste",Sorts!BB124,Sorts!BD80),"") | KW41: =IF($AU$7<>0,IF($O$5="Illusionniste",Sorts!BB124,Sorts!BE80),"") | KX41: =IF($AU$7<>0,IF($O$5="Illusionniste",Sorts!BB124,Sorts!BF80),"")
B42: TABLEAU DES ARMES | AQ42: 33 | BE42: 0 | BQ42: NC | BS42: 33 | BT42: =IF($AU$7<>0,IF($O$5="ILLUSIONNISTE",Sorts!K151,Sorts!E107),"") | CG42: 0 | CI42: =IF($AU$7<>0,IF($O$5="ILLUSIONNISTE",Sorts!L151,Sorts!F107),"") | CK42: =IF($AU$7<>0,IF($O$5="ILLUSIONNISTE",Sorts!M151,Sorts!G107),"") | CN42: =IF($AU$7<>0,IF($O$5="ILLUSIONNISTE",Sorts!N151,Sorts!H107),"") | CO42: =IF($AU$7<>0,IF($O$5="ILLUSIONNISTE",Sorts!O151,Sorts!I107),"") | CP42: =IF($AU$7<>0,IF($O$5="ILLUSIONNISTE",Sorts!P151,Sorts!J107),"") | CS42: 1 | CT42: =IF($AU$5<>0,IF(OR($O$5="CLERC",$O$5="PALADIN"),Sorts!Q4,Sorts!Q28),"") -> Arbre | DG42: 0 | DI42: =IF($AU$5<>0,IF(OR($O$5="CLERC",$O$5="PALADIN"),Sorts!R4,Sorts!R28),"") -> 0 | DL42: =IF($AU$5<>0,IF(OR($O$5="CLERC",$O$5="PALADIN"),Sorts!S4,Sorts!S28),"") -> 6t+1/n | DO42: =IF($AU$5<>0,IF(OR($O$5="CLERC",$O$5="PALADIN"),Sorts!T4,Sorts!T28),"") -> X | DP42: =IF($AU$5<>0,IF(OR($O$5="CLERC",$O$5="PALADIN"),Sorts!U4,Sorts!U28),"") -> X | DQ42: =IF($AU$5<>0,IF(OR($O$5="CLERC",$O$5="PALADIN"),Sorts!V4,Sorts!V28),"") -> X | DS42: NC | DU42: 1 | DV42: =IF($AU$7<>0,IF($O$5="Illusionniste",Sorts!W119,Sorts!Q75),"") | EI42: 0 | EK42: =IF($AU$7<>0,IF($O$5="Illusionniste",Sorts!X119,Sorts!R75),"") | EM42: =IF($AU$7<>0,IF($O$5="Illusionniste",Sorts!Y119,Sorts!S75),"") | EP42: =IF($AU$7<>0,IF($O$5="Illusionniste",Sorts!Z119,Sorts!T75),"") | EQ42: =IF($AU$7<>0,IF($O$5="Illusionniste",Sorts!AA119,Sorts!U75),"") | ER42: =IF($AU$7<>0,IF($O$5="Illusionniste",Sorts!AB119,Sorts!V75),"") | EU42: 5 | EV42: =IF($AU$5<>0,IF(OR($O$5="CLERC",$O$5="PALADIN"),Sorts!AC8,Sorts!AC32),"") -> Croissance animale | FI42: 0 | FK42: =IF($AU$5<>0,IF(OR($O$5="CLERC",$O$5="PALADIN"),Sorts!AD8,Sorts!AD32),"") -> 8'' | FN42: =IF($AU$5<>0,IF(OR($O$5="CLERC",$O$5="PALADIN"),Sorts!AE8,Sorts!AE32),"") -> 2r/n | FQ42: =IF($AU$5<>0,IF(OR($O$5="CLERC",$O$5="PALADIN"),Sorts!AF8,Sorts!AF32),"") -> X | FR42: =IF($AU$5<>0,IF(OR($O$5="CLERC",$O$5="PALADIN"),Sorts!AG8,Sorts!AG32),"") -> X | FS42: =IF($AU$5<>0,IF(OR($O$5="CLERC",$O$5="PALADIN"),Sorts!AH8,Sorts!AH32),"") -> X | FU42: NC | FW42: 5 | FX42: =IF($AU$7<>0,IF($O$5="Illusionniste",Sorts!AI123,Sorts!AC79),"") | GK42: 0 | GM42: =IF($AU$7<>0,IF($O$5="Illusionniste",Sorts!AJ123,Sorts!AD79),"") | GO42: =IF($AU$7<>0,IF($O$5="Illusionniste",Sorts!AK123,Sorts!AE79),"") | GR42: =IF($AU$7<>0,IF($O$5="Illusionniste",Sorts!AL123,Sorts!AF79),"") | GS42: =IF($AU$7<>0,IF($O$5="Illusionniste",Sorts!AM123,Sorts!AG79),"") | GT42: =IF($AU$7<>0,IF($O$5="Illusionniste",Sorts!AN123,Sorts!AH79),"") | GW42: 7 | GX42: =IF($AU$5<>0,IF(OR($O$5="CLERC",$O$5="PALADIN"),Sorts!AO10,Sorts!AO34),"") -> Invocation d’un Élémental de Terre | HK42: 0 | HM42: =IF($AU$5<>0,IF(OR($O$5="CLERC",$O$5="PALADIN"),Sorts!AP10,Sorts!AO34),"") -> Invocation d’un Élémental de Terre | HP42: =IF($AU$5<>0,IF(OR($O$5="CLERC",$O$5="PALADIN"),Sorts!AQ10,Sorts!AO34),"") -> Invocation d’un Élémental de Terre | HS42: =IF($AU$5<>0,IF(OR($O$5="CLERC",$O$5="PALADIN"),Sorts!AR10,Sorts!AO34),"") -> Invocation d’un Élémental de Terre | HT42: =IF($AU$5<>0,IF(OR($O$5="CLERC",$O$5="PALADIN"),Sorts!AS10,Sorts!AO34),"") -> Invocation d’un Élémental de Terre | HU42: =IF($AU$5<>0,IF(OR($O$5="CLERC",$O$5="PALADIN"),Sorts!AT10,Sorts!AO34),"") -> Invocation d’un Élémental de Terre | HW42: NC | HY42: 7 | HZ42: =IF($AU$7<>0,IF($O$5="Illusionniste",Sorts!AU125,Sorts!AO81),"") | IM42: 0 | IO42: =IF($AU$7<>0,IF($O$5="Illusionniste",Sorts!AV125,Sorts!AP81),"") | IQ42: =IF($AU$7<>0,IF($O$5="Illusionniste",Sorts!AW125,Sorts!AQ81),"") | IT42: =IF($AU$7<>0,IF($O$5="Illusionniste",Sorts!AX125,Sorts!AR81),"") | IU42: =IF($AU$7<>0,IF($O$5="Illusionniste",Sorts!AY125,Sorts!AS81),"") | IV42: =IF($AU$7<>0,IF($O$5="Illusionniste",Sorts!AZ125,Sorts!AT81),"") | JY42: NC | KA42: 7 | KB42: =IF($AU$7<>0,IF($O$5="Illusionniste",Sorts!BB125,Sorts!BA81),"") | KO42: 0 | KQ42: =IF($AU$7<>0,IF($O$5="Illusionniste",Sorts!BB125,Sorts!BB81),"") | KS42: =IF($AU$7<>0,IF($O$5="Illusionniste",Sorts!BB125,Sorts!BC81),"") | KV42: =IF($AU$7<>0,IF($O$5="Illusionniste",Sorts!BB125,Sorts!BD81),"") | KW42: =IF($AU$7<>0,IF($O$5="Illusionniste",Sorts!BB125,Sorts!BE81),"") | KX42: =IF($AU$7<>0,IF($O$5="Illusionniste",Sorts!BB125,Sorts!BF81),"")
F43: Maîtrise | S43: TOUCHER | W43: DOMMAGES | AE43: Rapidité | AK43: Notes | AQ43: 34 | BE43: 0 | BQ43: NC | BS43: 34 | BT43: =IF($AU$7<>0,IF($O$5="ILLUSIONNISTE",Sorts!K152,Sorts!E108),"") | CG43: 0 | CI43: =IF($AU$7<>0,IF($O$5="ILLUSIONNISTE",Sorts!L152,Sorts!F108),"") | CK43: =IF($AU$7<>0,IF($O$5="ILLUSIONNISTE",Sorts!M152,Sorts!G108),"") | CN43: =IF($AU$7<>0,IF($O$5="ILLUSIONNISTE",Sorts!N152,Sorts!H108),"") | CO43: =IF($AU$7<>0,IF($O$5="ILLUSIONNISTE",Sorts!O152,Sorts!I108),"") | CP43: =IF($AU$7<>0,IF($O$5="ILLUSIONNISTE",Sorts!P152,Sorts!J108),"") | CS43: 2 | CT43: =IF($AU$5<>0,IF(OR($O$5="CLERC",$O$5="PALADIN"),Sorts!Q5,Sorts!Q29),"") -> Contre-Poison | DG43: 0 | DI43: =IF($AU$5<>0,IF(OR($O$5="CLERC",$O$5="PALADIN"),Sorts!R5,Sorts!R29),"") -> T | DL43: =IF($AU$5<>0,IF(OR($O$5="CLERC",$O$5="PALADIN"),Sorts!S5,Sorts!S29),"") -> P | DO43: =IF($AU$5<>0,IF(OR($O$5="CLERC",$O$5="PALADIN"),Sorts!T5,Sorts!T29),"") -> X | DP43: =IF($AU$5<>0,IF(OR($O$5="CLERC",$O$5="PALADIN"),Sorts!U5,Sorts!U29),"") -> X | DQ43: =IF($AU$5<>0,IF(OR($O$5="CLERC",$O$5="PALADIN"),Sorts!V5,Sorts!V29),"") -> / | DS43: NC | DU43: 2 | DV43: =IF($AU$7<>0,IF($O$5="Illusionniste",Sorts!W120,Sorts!Q76),"") | EI43: 0 | EK43: =IF($AU$7<>0,IF($O$5="Illusionniste",Sorts!X120,Sorts!R76),"") | EM43: =IF($AU$7<>0,IF($O$5="Illusionniste",Sorts!Y120,Sorts!S76),"") | EP43: =IF($AU$7<>0,IF($O$5="Illusionniste",Sorts!Z120,Sorts!T76),"") | EQ43: =IF($AU$7<>0,IF($O$5="Illusionniste",Sorts!AA120,Sorts!U76),"") | ER43: =IF($AU$7<>0,IF($O$5="Illusionniste",Sorts!AB120,Sorts!V76),"") | EU43: 6 | EV43: =IF($AU$5<>0,IF(OR($O$5="CLERC",$O$5="PALADIN"),Sorts!AC9,Sorts!AC33),"") -> Fléau d’Insectes | FI43: 0 | FK43: =IF($AU$5<>0,IF(OR($O$5="CLERC",$O$5="PALADIN"),Sorts!AD9,Sorts!AD33),"") -> 32'' | FN43: =IF($AU$5<>0,IF(OR($O$5="CLERC",$O$5="PALADIN"),Sorts!AE9,Sorts!AE33),"") -> 1t/n | FQ43: =IF($AU$5<>0,IF(OR($O$5="CLERC",$O$5="PALADIN"),Sorts!AF9,Sorts!AF33),"") -> X | FR43: =IF($AU$5<>0,IF(OR($O$5="CLERC",$O$5="PALADIN"),Sorts!AG9,Sorts!AG33),"") -> X | FS43: =IF($AU$5<>0,IF(OR($O$5="CLERC",$O$5="PALADIN"),Sorts!AH9,Sorts!AH33),"") -> X | FU43: NC | FW43: 6 | FX43: =IF($AU$7<>0,IF($O$5="Illusionniste",Sorts!AI124,Sorts!AC80),"") | GK43: 0 | GM43: =IF($AU$7<>0,IF($O$5="Illusionniste",Sorts!AJ124,Sorts!AD80),"") | GO43: =IF($AU$7<>0,IF($O$5="Illusionniste",Sorts!AK124,Sorts!AE80),"") | GR43: =IF($AU$7<>0,IF($O$5="Illusionniste",Sorts!AL124,Sorts!AF80),"") | GS43: =IF($AU$7<>0,IF($O$5="Illusionniste",Sorts!AM124,Sorts!AG80),"") | GT43: =IF($AU$7<>0,IF($O$5="Illusionniste",Sorts!AN124,Sorts!AH80),"") | GW43: 8 | GX43: =IF($AU$5<>0,IF(OR($O$5="CLERC",$O$5="PALADIN"),Sorts!AO11,Sorts!AO35),"") -> Mort Rampante | HK43: 0 | HM43: =IF($AU$5<>0,IF(OR($O$5="CLERC",$O$5="PALADIN"),Sorts!AP11,Sorts!AO35),"") -> Mort Rampante | HP43: =IF($AU$5<>0,IF(OR($O$5="CLERC",$O$5="PALADIN"),Sorts!AQ11,Sorts!AO35),"") -> Mort Rampante | HS43: =IF($AU$5<>0,IF(OR($O$5="CLERC",$O$5="PALADIN"),Sorts!AR11,Sorts!AO35),"") -> Mort Rampante | HT43: =IF($AU$5<>0,IF(OR($O$5="CLERC",$O$5="PALADIN"),Sorts!AS11,Sorts!AO35),"") -> Mort Rampante | HU43: =IF($AU$5<>0,IF(OR($O$5="CLERC",$O$5="PALADIN"),Sorts!AT11,Sorts!AO35),"") -> Mort Rampante | HW43: NC | HY43: 8 | HZ43: =IF($AU$7<>0,IF($O$5="Illusionniste",Sorts!AU126,Sorts!AO82),"") | IM43: 0 | IO43: =IF($AU$7<>0,IF($O$5="Illusionniste",Sorts!AV126,Sorts!AP82),"") | IQ43: =IF($AU$7<>0,IF($O$5="Illusionniste",Sorts!AW126,Sorts!AQ82),"") | IT43: =IF($AU$7<>0,IF($O$5="Illusionniste",Sorts!AX126,Sorts!AR82),"") | IU43: =IF($AU$7<>0,IF($O$5="Illusionniste",Sorts!AY126,Sorts!AS82),"") | IV43: =IF($AU$7<>0,IF($O$5="Illusionniste",Sorts!AZ126,Sorts!AT82),"") | JY43: NC | KA43: 8 | KB43: =IF($AU$7<>0,IF($O$5="Illusionniste",Sorts!BB126,Sorts!BA82),"") | KO43: 0 | KQ43: =IF($AU$7<>0,IF($O$5="Illusionniste",Sorts!BB126,Sorts!BB82),"") | KS43: =IF($AU$7<>0,IF($O$5="Illusionniste",Sorts!BB126,Sorts!BC82),"") | KV43: =IF($AU$7<>0,IF($O$5="Illusionniste",Sorts!BB126,Sorts!BD82),"") | KW43: =IF($AU$7<>0,IF($O$5="Illusionniste",Sorts!BB126,Sorts!BE82),"") | KX43: =IF($AU$7<>0,IF($O$5="Illusionniste",Sorts!BB126,Sorts!BF82),"")
C44: TACO | F44: Initiale | I44: =VLOOKUP($O$5,Basique!$B$30:$E$41,2,FALSE) -> 2 | L44: TYPE | R44: M | S44: F | T44: Mag | U44: TACO | W44: P/M | Y44: G | AA44: F | AB44: Mag | AC44: Tot | AE44: Cadence | AF44: Rap | AH44: Init | AK44: Spécialisation | AQ44: 35 | BE44: 0 | BQ44: NC | BS44: 35 | BT44: =IF($AU$7<>0,IF($O$5="ILLUSIONNISTE",Sorts!K153,Sorts!E109),"") | CG44: 0 | CI44: =IF($AU$7<>0,IF($O$5="ILLUSIONNISTE",Sorts!L153,Sorts!F109),"") | CK44: =IF($AU$7<>0,IF($O$5="ILLUSIONNISTE",Sorts!M153,Sorts!G109),"") | CN44: =IF($AU$7<>0,IF($O$5="ILLUSIONNISTE",Sorts!N153,Sorts!H109),"") | CO44: =IF($AU$7<>0,IF($O$5="ILLUSIONNISTE",Sorts!O153,Sorts!I109),"") | CP44: =IF($AU$7<>0,IF($O$5="ILLUSIONNISTE",Sorts!P153,Sorts!J109),"") | CS44: 3 | CT44: =IF($AU$5<>0,IF(OR($O$5="CLERC",$O$5="PALADIN"),Sorts!Q6,Sorts!Q30),"") -> Croissance d’Épines | DG44: 0 | DI44: =IF($AU$5<>0,IF(OR($O$5="CLERC",$O$5="PALADIN"),Sorts!R6,Sorts!R30),"") -> 6'' | DL44: =IF($AU$5<>0,IF(OR($O$5="CLERC",$O$5="PALADIN"),Sorts!S6,Sorts!S30),"") -> 3-12t+1/n | DO44: =IF($AU$5<>0,IF(OR($O$5="CLERC",$O$5="PALADIN"),Sorts!T6,Sorts!T30),"") -> X | DP44: =IF($AU$5<>0,IF(OR($O$5="CLERC",$O$5="PALADIN"),Sorts!U6,Sorts!U30),"") -> X | DQ44: =IF($AU$5<>0,IF(OR($O$5="CLERC",$O$5="PALADIN"),Sorts!V6,Sorts!V30),"") -> X | DS44: NC | DU44: 3 | DV44: =IF($AU$7<>0,IF($O$5="Illusionniste",Sorts!W121,Sorts!Q77),"") | EI44: 0 | EK44: =IF($AU$7<>0,IF($O$5="Illusionniste",Sorts!X121,Sorts!R77),"") | EM44: =IF($AU$7<>0,IF($O$5="Illusionniste",Sorts!Y121,Sorts!S77),"") | EP44: =IF($AU$7<>0,IF($O$5="Illusionniste",Sorts!Z121,Sorts!T77),"") | EQ44: =IF($AU$7<>0,IF($O$5="Illusionniste",Sorts!AA121,Sorts!U77),"") | ER44: =IF($AU$7<>0,IF($O$5="Illusionniste",Sorts!AB121,Sorts!V77),"") | EU44: 7 | EV44: =IF($AU$5<>0,IF(OR($O$5="CLERC",$O$5="PALADIN"),Sorts!AC10,Sorts!AC34),"") -> Invocation Animale II | FI44: 0 | FK44: =IF($AU$5<>0,IF(OR($O$5="CLERC",$O$5="PALADIN"),Sorts!AD10,Sorts!AD34),"") -> 6''/n | FN44: =IF($AU$5<>0,IF(OR($O$5="CLERC",$O$5="PALADIN"),Sorts!AE10,Sorts!AE34),"") -> S | FQ44: =IF($AU$5<>0,IF(OR($O$5="CLERC",$O$5="PALADIN"),Sorts!AF10,Sorts!AF34),"") -> X | FR44: =IF($AU$5<>0,IF(OR($O$5="CLERC",$O$5="PALADIN"),Sorts!AG10,Sorts!AG34),"") -> X | FS44: =IF($AU$5<>0,IF(OR($O$5="CLERC",$O$5="PALADIN"),Sorts!AH10,Sorts!AH34),"") -> X | FU44: NC | FW44: 7 | FX44: =IF($AU$7<>0,IF($O$5="Illusionniste",Sorts!AI125,Sorts!AC81),"") | GK44: 0 | GM44: =IF($AU$7<>0,IF($O$5="Illusionniste",Sorts!AJ125,Sorts!AD81),"") | GO44: =IF($AU$7<>0,IF($O$5="Illusionniste",Sorts!AK125,Sorts!AE81),"") | GR44: =IF($AU$7<>0,IF($O$5="Illusionniste",Sorts!AL125,Sorts!AF81),"") | GS44: =IF($AU$7<>0,IF($O$5="Illusionniste",Sorts!AM125,Sorts!AG81),"") | GT44: =IF($AU$7<>0,IF($O$5="Illusionniste",Sorts!AN125,Sorts!AH81),"") | GW44: 9 | GX44: =IF($AU$5<>0,IF(OR($O$5="CLERC",$O$5="PALADIN"),Sorts!AO12,Sorts!AO36),"") -> Rayon de Soleil | HK44: 0 | HM44: =IF($AU$5<>0,IF(OR($O$5="CLERC",$O$5="PALADIN"),Sorts!AP12,Sorts!AO36),"") -> Rayon de Soleil | HP44: =IF($AU$5<>0,IF(OR($O$5="CLERC",$O$5="PALADIN"),Sorts!AQ12,Sorts!AO36),"") -> Rayon de Soleil | HS44: =IF($AU$5<>0,IF(OR($O$5="CLERC",$O$5="PALADIN"),Sorts!AR12,Sorts!AO36),"") -> Rayon de Soleil | HT44: =IF($AU$5<>0,IF(OR($O$5="CLERC",$O$5="PALADIN"),Sorts!AS12,Sorts!AO36),"") -> Rayon de Soleil | HU44: =IF($AU$5<>0,IF(OR($O$5="CLERC",$O$5="PALADIN"),Sorts!AT12,Sorts!AO36),"") -> Rayon de Soleil | HW44: NC | HY44: 9 | HZ44: =IF($AU$7<>0,IF($O$5="Illusionniste",Sorts!AU127,Sorts!AO83),"") | IM44: 0 | IO44: =IF($AU$7<>0,IF($O$5="Illusionniste",Sorts!AV127,Sorts!AP83),"") | IQ44: =IF($AU$7<>0,IF($O$5="Illusionniste",Sorts!AW127,Sorts!AQ83),"") | IT44: =IF($AU$7<>0,IF($O$5="Illusionniste",Sorts!AX127,Sorts!AR83),"") | IU44: =IF($AU$7<>0,IF($O$5="Illusionniste",Sorts!AY127,Sorts!AS83),"") | IV44: =IF($AU$7<>0,IF($O$5="Illusionniste",Sorts!AZ127,Sorts!AT83),"") | JY44: NC | KA44: 9 | KB44: =IF($AU$7<>0,IF($O$5="Illusionniste",Sorts!BB127,Sorts!BA83),"") | KO44: 0 | KQ44: =IF($AU$7<>0,IF($O$5="Illusionniste",Sorts!BB127,Sorts!BB83),"") | KS44: =IF($AU$7<>0,IF($O$5="Illusionniste",Sorts!BB127,Sorts!BC83),"") | KV44: =IF($AU$7<>0,IF($O$5="Illusionniste",Sorts!BB127,Sorts!BD83),"") | KW44: =IF($AU$7<>0,IF($O$5="Illusionniste",Sorts!BB127,Sorts!BE83),"") | KX44: =IF($AU$7<>0,IF($O$5="Illusionniste",Sorts!BB127,Sorts!BF83),"")
C45: =INDEX(Niveaux!$A$597:$L$633,'Joueur 1'!$AM$5+1,MATCH('Joueur 1'!$O$5,Niveaux!$B$597:$L$597,0)+1) -> 20 | F45: Tranche | H45: =VLOOKUP($O$5,Basique!$B$30:$E$41,3,FALSE) -> 5 | I45: niv | K45: Coprs à corps | R45: S | S45: =+$I$11 -> 1 | T45: 0 | U45: =$C$45-IF($R45="N",$I$47,0)-IF($R45="S",1,0)-S45-T45 -> 18 | W45: =IF(AND($O$5="MOINE",L45="Mains Nues"),VLOOKUP($AM$5,Caractéristiques!$B$301:$C$317,2,FALSE),VLOOKUP(L45,Basique!$O$17:$P$41,2,FALSE)) -> #N/A | Y45: =IF(AND($O$5="MOINE",L45="Mains Nues"),VLOOKUP($AM$5,Caractéristiques!$B$301:$D$321,3,FALSE),VLOOKUP(L45,Basique!$O$17:$Q$41,3,FALSE)) -> #N/A | AA45: =IF($O$5="MOINE",$AM$5/2,+$N$11) -> 1 | AB45: =T45 -> 0 | AC45: =AA45+AB45+IF($R45="N",$I$47,0)+IF($R45="S",2,0) -> 3 | AE45: =IF($R45="S",INDEX(Niveaux!$A$671:$L$707,MATCH($AM$5,Niveaux!$A$671:$A$707,0),MATCH($O$5,Niveaux!$B$671:$L$671,0)+1),INDEX(Niveaux!$A$634:$L$670,MATCH($AM$5,Niveaux!$A$634:$A$670,0),MATCH($O$5,Niveaux!$B$634:$L$634,0)+1)) -> 1 | AF45: =VLOOKUP(L45,Basique!$O$17:$R$41,4,FALSE) -> #N/A | AH45: =INT(AF45/AE45)+10-$L$26+$N$26+$D$39-$L$30 -> #N/A | AK45: Maîtrise | AQ45: 36 | BE45: 0 | BQ45: NC | BS45: 36 | BT45: =IF($AU$7<>0,IF($O$5="ILLUSIONNISTE",Sorts!K154,Sorts!E110),"") | CG45: 0 | CI45: =IF($AU$7<>0,IF($O$5="ILLUSIONNISTE",Sorts!L154,Sorts!F110),"") | CK45: =IF($AU$7<>0,IF($O$5="ILLUSIONNISTE",Sorts!M154,Sorts!G110),"") | CN45: =IF($AU$7<>0,IF($O$5="ILLUSIONNISTE",Sorts!N154,Sorts!H110),"") | CO45: =IF($AU$7<>0,IF($O$5="ILLUSIONNISTE",Sorts!O154,Sorts!I110),"") | CP45: =IF($AU$7<>0,IF($O$5="ILLUSIONNISTE",Sorts!P154,Sorts!J110),"") | CS45: 4 | CT45: =IF($AU$5<>0,IF(OR($O$5="CLERC",$O$5="PALADIN"),Sorts!Q7,Sorts!Q31),"") -> Embroussaillement | DG45: 0 | DI45: =IF($AU$5<>0,IF(OR($O$5="CLERC",$O$5="PALADIN"),Sorts!R7,Sorts!R31),"") -> 16'' | DL45: =IF($AU$5<>0,IF(OR($O$5="CLERC",$O$5="PALADIN"),Sorts!S7,Sorts!S31),"") -> P | DO45: =IF($AU$5<>0,IF(OR($O$5="CLERC",$O$5="PALADIN"),Sorts!T7,Sorts!T31),"") -> X | DP45: =IF($AU$5<>0,IF(OR($O$5="CLERC",$O$5="PALADIN"),Sorts!U7,Sorts!U31),"") -> X | DQ45: =IF($AU$5<>0,IF(OR($O$5="CLERC",$O$5="PALADIN"),Sorts!V7,Sorts!V31),"") -> X | DS45: NC | DU45: 4 | DV45: =IF($AU$7<>0,IF($O$5="Illusionniste",Sorts!W122,Sorts!Q78),"") | EI45: 0 | EK45: =IF($AU$7<>0,IF($O$5="Illusionniste",Sorts!X122,Sorts!R78),"") | EM45: =IF($AU$7<>0,IF($O$5="Illusionniste",Sorts!Y122,Sorts!S78),"") | EP45: =IF($AU$7<>0,IF($O$5="Illusionniste",Sorts!Z122,Sorts!T78),"") | EQ45: =IF($AU$7<>0,IF($O$5="Illusionniste",Sorts!AA122,Sorts!U78),"") | ER45: =IF($AU$7<>0,IF($O$5="Illusionniste",Sorts!AB122,Sorts!V78),"") | EU45: 8 | EV45: =IF($AU$5<>0,IF(OR($O$5="CLERC",$O$5="PALADIN"),Sorts!AC11,Sorts!AC35),"") -> Mur de Feu | FI45: 0 | FK45: =IF($AU$5<>0,IF(OR($O$5="CLERC",$O$5="PALADIN"),Sorts!AD11,Sorts!AD35),"") -> 8'' | FN45: =IF($AU$5<>0,IF(OR($O$5="CLERC",$O$5="PALADIN"),Sorts!AE11,Sorts!AE35),"") -> S | FQ45: =IF($AU$5<>0,IF(OR($O$5="CLERC",$O$5="PALADIN"),Sorts!AF11,Sorts!AF35),"") -> X | FR45: =IF($AU$5<>0,IF(OR($O$5="CLERC",$O$5="PALADIN"),Sorts!AG11,Sorts!AG35),"") -> X | FS45: =IF($AU$5<>0,IF(OR($O$5="CLERC",$O$5="PALADIN"),Sorts!AH11,Sorts!AH35),"") -> X | FU45: NC | FW45: 8 | FX45: =IF($AU$7<>0,IF($O$5="Illusionniste",Sorts!AI126,Sorts!AC82),"") | GK45: 0 | GM45: =IF($AU$7<>0,IF($O$5="Illusionniste",Sorts!AJ126,Sorts!AD82),"") | GO45: =IF($AU$7<>0,IF($O$5="Illusionniste",Sorts!AK126,Sorts!AE82),"") | GR45: =IF($AU$7<>0,IF($O$5="Illusionniste",Sorts!AL126,Sorts!AF82),"") | GS45: =IF($AU$7<>0,IF($O$5="Illusionniste",Sorts!AM126,Sorts!AG82),"") | GT45: =IF($AU$7<>0,IF($O$5="Illusionniste",Sorts!AN126,Sorts!AH82),"") | GW45: 10 | GX45: =IF($AU$5<>0,IF(OR($O$5="CLERC",$O$5="PALADIN"),Sorts!AO13,Sorts!AO37),"") -> Réincarnation | HK45: 0 | HM45: =IF($AU$5<>0,IF(OR($O$5="CLERC",$O$5="PALADIN"),Sorts!AP13,Sorts!AO37),"") -> Réincarnation | HP45: =IF($AU$5<>0,IF(OR($O$5="CLERC",$O$5="PALADIN"),Sorts!AQ13,Sorts!AO37),"") -> Réincarnation | HS45: =IF($AU$5<>0,IF(OR($O$5="CLERC",$O$5="PALADIN"),Sorts!AR13,Sorts!AO37),"") -> Réincarnation | HT45: =IF($AU$5<>0,IF(OR($O$5="CLERC",$O$5="PALADIN"),Sorts!AS13,Sorts!AO37),"") -> Réincarnation | HU45: =IF($AU$5<>0,IF(OR($O$5="CLERC",$O$5="PALADIN"),Sorts!AT13,Sorts!AO37),"") -> Réincarnation | HW45: NC | HY45: 10 | HZ45: =IF($AU$7<>0,IF($O$5="Illusionniste",Sorts!AU128,Sorts!AO84),"") | IM45: 0 | IO45: =IF($AU$7<>0,IF($O$5="Illusionniste",Sorts!AV128,Sorts!AP84),"") | IQ45: =IF($AU$7<>0,IF($O$5="Illusionniste",Sorts!AW128,Sorts!AQ84),"") | IT45: =IF($AU$7<>0,IF($O$5="Illusionniste",Sorts!AX128,Sorts!AR84),"") | IU45: =IF($AU$7<>0,IF($O$5="Illusionniste",Sorts!AY128,Sorts!AS84),"") | IV45: =IF($AU$7<>0,IF($O$5="Illusionniste",Sorts!AZ128,Sorts!AT84),"") | JY45: NC | KA45: 10 | KB45: =IF($AU$7<>0,IF($O$5="Illusionniste",Sorts!BB128,Sorts!BA84),"") | KO45: 0 | KQ45: =IF($AU$7<>0,IF($O$5="Illusionniste",Sorts!BB128,Sorts!BB84),"") | KS45: =IF($AU$7<>0,IF($O$5="Illusionniste",Sorts!BB128,Sorts!BC84),"") | KV45: =IF($AU$7<>0,IF($O$5="Illusionniste",Sorts!BB128,Sorts!BD84),"") | KW45: =IF($AU$7<>0,IF($O$5="Illusionniste",Sorts!BB128,Sorts!BE84),"") | KX45: =IF($AU$7<>0,IF($O$5="Illusionniste",Sorts!BB128,Sorts!BF84),"")
F46: Total | I46: =$I$44+ROUNDDOWN($AM$5/$H$45,0) -> 2 | R46: M | S46: =+$I$11 -> 1 | T46: 0 | U46: =$C$45-IF($R46="N",$I$47,0)-IF($R46="S",1,0)-S46-T46 -> 19 | W46: =IF(AND($O$5="MOINE",L46="Mains Nues"),VLOOKUP($AM$5,Caractéristiques!$B$301:$C$317,2,FALSE),VLOOKUP(L46,Basique!$O$17:$P$41,2,FALSE)) -> #N/A | Y46: =IF(AND($O$5="MOINE",L46="Mains Nues"),VLOOKUP($AM$5,Caractéristiques!$B$301:$D$321,3,FALSE),VLOOKUP(L46,Basique!$O$17:$Q$41,3,FALSE)) -> #N/A | AA46: =IF($O$5="MOINE",$AM$5/2,+$N$11) -> 1 | AB46: =T46 -> 0 | AC46: =AA46+AB46+IF($R46="N",$I$47,0)+IF($R46="S",2,0) -> 1 | AE46: =IF($R46="S",INDEX(Niveaux!$A$671:$L$707,MATCH($AM$5,Niveaux!$A$671:$A$707,0),MATCH($O$5,Niveaux!$B$671:$L$671,0)+1),INDEX(Niveaux!$A$634:$L$670,MATCH($AM$5,Niveaux!$A$634:$A$670,0),MATCH($O$5,Niveaux!$B$634:$L$634,0)+1)) -> 1 | AF46: =VLOOKUP(L46,Basique!$O$17:$R$41,4,FALSE) -> #N/A | AH46: =INT(AF46/AE46)+10-$L$26+$N$26+$D$39-$L$30 -> #N/A | AQ46: 37 | BE46: 0 | BQ46: NC | BS46: 37 | BT46: =IF($AU$7<>0,IF($O$5="ILLUSIONNISTE",Sorts!K155,Sorts!E111),"") | CG46: 0 | CI46: =IF($AU$7<>0,IF($O$5="ILLUSIONNISTE",Sorts!L155,Sorts!F111),"") | CK46: =IF($AU$7<>0,IF($O$5="ILLUSIONNISTE",Sorts!M155,Sorts!G111),"") | CN46: =IF($AU$7<>0,IF($O$5="ILLUSIONNISTE",Sorts!N155,Sorts!H111),"") | CO46: =IF($AU$7<>0,IF($O$5="ILLUSIONNISTE",Sorts!O155,Sorts!I111),"") | CP46: =IF($AU$7<>0,IF($O$5="ILLUSIONNISTE",Sorts!P155,Sorts!J111),"") | CS46: 5 | CT46: =IF($AU$5<>0,IF(OR($O$5="CLERC",$O$5="PALADIN"),Sorts!Q8,Sorts!Q32),"") -> Guérison des Maladies | DG46: 0 | DI46: =IF($AU$5<>0,IF(OR($O$5="CLERC",$O$5="PALADIN"),Sorts!R8,Sorts!R32),"") -> T | DL46: =IF($AU$5<>0,IF(OR($O$5="CLERC",$O$5="PALADIN"),Sorts!S8,Sorts!S32),"") -> P | DO46: =IF($AU$5<>0,IF(OR($O$5="CLERC",$O$5="PALADIN"),Sorts!T8,Sorts!T32),"") -> X | DP46: =IF($AU$5<>0,IF(OR($O$5="CLERC",$O$5="PALADIN"),Sorts!U8,Sorts!U32),"") -> X | DQ46: =IF($AU$5<>0,IF(OR($O$5="CLERC",$O$5="PALADIN"),Sorts!V8,Sorts!V32),"") -> X | DS46: NC | DU46: 5 | DV46: =IF($AU$7<>0,IF($O$5="Illusionniste",Sorts!W123,Sorts!Q79),"") | EI46: 0 | EK46: =IF($AU$7<>0,IF($O$5="Illusionniste",Sorts!X123,Sorts!R79),"") | EM46: =IF($AU$7<>0,IF($O$5="Illusionniste",Sorts!Y123,Sorts!S79),"") | EP46: =IF($AU$7<>0,IF($O$5="Illusionniste",Sorts!Z123,Sorts!T79),"") | EQ46: =IF($AU$7<>0,IF($O$5="Illusionniste",Sorts!AA123,Sorts!U79),"") | ER46: =IF($AU$7<>0,IF($O$5="Illusionniste",Sorts!AB123,Sorts!V79),"") | EU46: 9 | EV46: =IF($AU$5<>0,IF(OR($O$5="CLERC",$O$5="PALADIN"),Sorts!AC12,Sorts!AC36),"") -> Passe-Plantes | FI46: 0 | FK46: =IF($AU$5<>0,IF(OR($O$5="CLERC",$O$5="PALADIN"),Sorts!AD12,Sorts!AD36),"") -> T | FN46: =IF($AU$5<>0,IF(OR($O$5="CLERC",$O$5="PALADIN"),Sorts!AE12,Sorts!AE36),"") -> S | FQ46: =IF($AU$5<>0,IF(OR($O$5="CLERC",$O$5="PALADIN"),Sorts!AF12,Sorts!AF36),"") -> X | FR46: =IF($AU$5<>0,IF(OR($O$5="CLERC",$O$5="PALADIN"),Sorts!AG12,Sorts!AG36),"") -> X | FS46: =IF($AU$5<>0,IF(OR($O$5="CLERC",$O$5="PALADIN"),Sorts!AH12,Sorts!AH36),"") -> X | FU46: NC | FW46: 9 | FX46: =IF($AU$7<>0,IF($O$5="Illusionniste",Sorts!AI127,Sorts!AC83),"") | GK46: 0 | GM46: =IF($AU$7<>0,IF($O$5="Illusionniste",Sorts!AJ127,Sorts!AD83),"") | GO46: =IF($AU$7<>0,IF($O$5="Illusionniste",Sorts!AK127,Sorts!AE83),"") | GR46: =IF($AU$7<>0,IF($O$5="Illusionniste",Sorts!AL127,Sorts!AF83),"") | GS46: =IF($AU$7<>0,IF($O$5="Illusionniste",Sorts!AM127,Sorts!AG83),"") | GT46: =IF($AU$7<>0,IF($O$5="Illusionniste",Sorts!AN127,Sorts!AH83),"") | GW46: 11 | GX46: =IF($AU$5<>0,IF(OR($O$5="CLERC",$O$5="PALADIN"),Sorts!AO14,Sorts!AO38),"") -> Tempête de Feu | HK46: 0 | HM46: =IF($AU$5<>0,IF(OR($O$5="CLERC",$O$5="PALADIN"),Sorts!AP14,Sorts!AO38),"") -> Tempête de Feu | HP46: =IF($AU$5<>0,IF(OR($O$5="CLERC",$O$5="PALADIN"),Sorts!AQ14,Sorts!AO38),"") -> Tempête de Feu | HS46: =IF($AU$5<>0,IF(OR($O$5="CLERC",$O$5="PALADIN"),Sorts!AR14,Sorts!AO38),"") -> Tempête de Feu | HT46: =IF($AU$5<>0,IF(OR($O$5="CLERC",$O$5="PALADIN"),Sorts!AS14,Sorts!AO38),"") -> Tempête de Feu | HU46: =IF($AU$5<>0,IF(OR($O$5="CLERC",$O$5="PALADIN"),Sorts!AT14,Sorts!AO38),"") -> Tempête de Feu | HW46: NC | HY46: 11 | HZ46: =IF($AU$7<>0,IF($O$5="Illusionniste",Sorts!AU129,Sorts!AO85),"") | IM46: 0 | IO46: =IF($AU$7<>0,IF($O$5="Illusionniste",Sorts!AV129,Sorts!AP85),"") | IQ46: =IF($AU$7<>0,IF($O$5="Illusionniste",Sorts!AW129,Sorts!AQ85),"") | IT46: =IF($AU$7<>0,IF($O$5="Illusionniste",Sorts!AX129,Sorts!AR85),"") | IU46: =IF($AU$7<>0,IF($O$5="Illusionniste",Sorts!AY129,Sorts!AS85),"") | IV46: =IF($AU$7<>0,IF($O$5="Illusionniste",Sorts!AZ129,Sorts!AT85),"") | JY46: NC | KA46: 11 | KB46: =IF($AU$7<>0,IF($O$5="Illusionniste",Sorts!BB129,Sorts!BA85),"") | KO46: 0 | KQ46: =IF($AU$7<>0,IF($O$5="Illusionniste",Sorts!BB129,Sorts!BB85),"") | KS46: =IF($AU$7<>0,IF($O$5="Illusionniste",Sorts!BB129,Sorts!BC85),"") | KV46: =IF($AU$7<>0,IF($O$5="Illusionniste",Sorts!BB129,Sorts!BD85),"") | KW46: =IF($AU$7<>0,IF($O$5="Illusionniste",Sorts!BB129,Sorts!BE85),"") | KX46: =IF($AU$7<>0,IF($O$5="Illusionniste",Sorts!BB129,Sorts!BF85),"")
F47: Pénalité | I47: =VLOOKUP($O$5,Basique!$B$30:$E$41,4,FALSE) -> -4 | R47: M | S47: =+$I$11 -> 1 | T47: 0 | U47: =$C$45-IF($R47="N",$I$47,0)-IF($R47="S",1,0)-S47-T47 -> 19 | W47: =IF(AND($O$5="MOINE",L47="Mains Nues"),VLOOKUP($AM$5,Caractéristiques!$B$301:$C$317,2,FALSE),VLOOKUP(L47,Basique!$O$17:$P$41,2,FALSE)) -> #N/A | Y47: =IF(AND($O$5="MOINE",L47="Mains Nues"),VLOOKUP($AM$5,Caractéristiques!$B$301:$D$321,3,FALSE),VLOOKUP(L47,Basique!$O$17:$Q$41,3,FALSE)) -> #N/A | AA47: =IF($O$5="MOINE",$AM$5/2,+$N$11) -> 1 | AB47: =T47 -> 0 | AC47: =AA47+AB47+IF($R47="N",$I$47,0)+IF($R47="S",2,0) -> 1 | AE47: =IF($R47="S",INDEX(Niveaux!$A$671:$L$707,MATCH($AM$5,Niveaux!$A$671:$A$707,0),MATCH($O$5,Niveaux!$B$671:$L$671,0)+1),INDEX(Niveaux!$A$634:$L$670,MATCH($AM$5,Niveaux!$A$634:$A$670,0),MATCH($O$5,Niveaux!$B$634:$L$634,0)+1)) -> 1 | AF47: =VLOOKUP(L47,Basique!$O$17:$R$41,4,FALSE) -> #N/A | AH47: =INT(AF47/AE47)+10-$L$26+$N$26+$D$39-$L$30 -> #N/A | AQ47: 38 | BE47: 0 | BQ47: NC | BS47: 38 | BT47: =IF($AU$7<>0,IF($O$5="ILLUSIONNISTE",Sorts!K156,Sorts!E112),"") | CG47: 0 | CI47: =IF($AU$7<>0,IF($O$5="ILLUSIONNISTE",Sorts!L156,Sorts!F112),"") | CK47: =IF($AU$7<>0,IF($O$5="ILLUSIONNISTE",Sorts!M156,Sorts!G112),"") | CN47: =IF($AU$7<>0,IF($O$5="ILLUSIONNISTE",Sorts!N156,Sorts!H112),"") | CO47: =IF($AU$7<>0,IF($O$5="ILLUSIONNISTE",Sorts!O156,Sorts!I112),"") | CP47: =IF($AU$7<>0,IF($O$5="ILLUSIONNISTE",Sorts!P156,Sorts!J112),"") | CS47: 6 | CT47: =IF($AU$5<>0,IF(OR($O$5="CLERC",$O$5="PALADIN"),Sorts!Q9,Sorts!Q33),"") -> Invocation d’Insectes | DG47: 0 | DI47: =IF($AU$5<>0,IF(OR($O$5="CLERC",$O$5="PALADIN"),Sorts!R9,Sorts!R33),"") -> 3'' | DL47: =IF($AU$5<>0,IF(OR($O$5="CLERC",$O$5="PALADIN"),Sorts!S9,Sorts!S33),"") -> 1r/n | DO47: =IF($AU$5<>0,IF(OR($O$5="CLERC",$O$5="PALADIN"),Sorts!T9,Sorts!T33),"") -> X | DP47: =IF($AU$5<>0,IF(OR($O$5="CLERC",$O$5="PALADIN"),Sorts!U9,Sorts!U33),"") -> X | DQ47: =IF($AU$5<>0,IF(OR($O$5="CLERC",$O$5="PALADIN"),Sorts!V9,Sorts!V33),"") -> X | DS47: NC | DU47: 6 | DV47: =IF($AU$7<>0,IF($O$5="Illusionniste",Sorts!W124,Sorts!Q80),"") | EI47: 0 | EK47: =IF($AU$7<>0,IF($O$5="Illusionniste",Sorts!X124,Sorts!R80),"") | EM47: =IF($AU$7<>0,IF($O$5="Illusionniste",Sorts!Y124,Sorts!S80),"") | EP47: =IF($AU$7<>0,IF($O$5="Illusionniste",Sorts!Z124,Sorts!T80),"") | EQ47: =IF($AU$7<>0,IF($O$5="Illusionniste",Sorts!AA124,Sorts!U80),"") | ER47: =IF($AU$7<>0,IF($O$5="Illusionniste",Sorts!AB124,Sorts!V80),"") | EU47: 10 | EV47: =IF($AU$5<>0,IF(OR($O$5="CLERC",$O$5="PALADIN"),Sorts!AC13,Sorts!AC37),"") -> Pierres Acérées | FI47: 0 | FK47: =IF($AU$5<>0,IF(OR($O$5="CLERC",$O$5="PALADIN"),Sorts!AD13,Sorts!AD37),"") -> 3'' | FN47: =IF($AU$5<>0,IF(OR($O$5="CLERC",$O$5="PALADIN"),Sorts!AE13,Sorts!AE37),"") -> 3-12t+1/n | FQ47: =IF($AU$5<>0,IF(OR($O$5="CLERC",$O$5="PALADIN"),Sorts!AF13,Sorts!AF37),"") -> X | FR47: =IF($AU$5<>0,IF(OR($O$5="CLERC",$O$5="PALADIN"),Sorts!AG13,Sorts!AG37),"") -> X | FS47: =IF($AU$5<>0,IF(OR($O$5="CLERC",$O$5="PALADIN"),Sorts!AH13,Sorts!AH37),"") -> X | FU47: NC | FW47: 10 | FX47: =IF($AU$7<>0,IF($O$5="Illusionniste",Sorts!AI128,Sorts!AC84),"") | GK47: 0 | GM47: =IF($AU$7<>0,IF($O$5="Illusionniste",Sorts!AJ128,Sorts!AD84),"") | GO47: =IF($AU$7<>0,IF($O$5="Illusionniste",Sorts!AK128,Sorts!AE84),"") | GR47: =IF($AU$7<>0,IF($O$5="Illusionniste",Sorts!AL128,Sorts!AF84),"") | GS47: =IF($AU$7<>0,IF($O$5="Illusionniste",Sorts!AM128,Sorts!AG84),"") | GT47: =IF($AU$7<>0,IF($O$5="Illusionniste",Sorts!AN128,Sorts!AH84),"") | GW47: 12 | GX47: =IF($AU$5<>0,IF(OR($O$5="CLERC",$O$5="PALADIN"),Sorts!AO15,Sorts!AO39),"") -> Transmutation du Métal en Bois | HK47: 0 | HM47: =IF($AU$5<>0,IF(OR($O$5="CLERC",$O$5="PALADIN"),Sorts!AP15,Sorts!AO39),"") -> Transmutation du Métal en Bois | HP47: =IF($AU$5<>0,IF(OR($O$5="CLERC",$O$5="PALADIN"),Sorts!AQ15,Sorts!AO39),"") -> Transmutation du Métal en Bois | HS47: =IF($AU$5<>0,IF(OR($O$5="CLERC",$O$5="PALADIN"),Sorts!AR15,Sorts!AO39),"") -> Transmutation du Métal en Bois | HT47: =IF($AU$5<>0,IF(OR($O$5="CLERC",$O$5="PALADIN"),Sorts!AS15,Sorts!AO39),"") -> Transmutation du Métal en Bois | HU47: =IF($AU$5<>0,IF(OR($O$5="CLERC",$O$5="PALADIN"),Sorts!AT15,Sorts!AO39),"") -> Transmutation du Métal en Bois | HW47: NC | HY47: 12 | HZ47: =IF($AU$7<>0,IF($O$5="Illusionniste",Sorts!AU130,Sorts!AO86),"") | IM47: 0 | IO47: =IF($AU$7<>0,IF($O$5="Illusionniste",Sorts!AV130,Sorts!AP86),"") | IQ47: =IF($AU$7<>0,IF($O$5="Illusionniste",Sorts!AW130,Sorts!AQ86),"") | IT47: =IF($AU$7<>0,IF($O$5="Illusionniste",Sorts!AX130,Sorts!AR86),"") | IU47: =IF($AU$7<>0,IF($O$5="Illusionniste",Sorts!AY130,Sorts!AS86),"") | IV47: =IF($AU$7<>0,IF($O$5="Illusionniste",Sorts!AZ130,Sorts!AT86),"") | JY47: NC | KA47: 12 | KB47: =IF($AU$7<>0,IF($O$5="Illusionniste",Sorts!BB130,Sorts!BA86),"") | KO47: 0 | KQ47: =IF($AU$7<>0,IF($O$5="Illusionniste",Sorts!BB130,Sorts!BB86),"") | KS47: =IF($AU$7<>0,IF($O$5="Illusionniste",Sorts!BB130,Sorts!BC86),"") | KV47: =IF($AU$7<>0,IF($O$5="Illusionniste",Sorts!BB130,Sorts!BD86),"") | KW47: =IF($AU$7<>0,IF($O$5="Illusionniste",Sorts!BB130,Sorts!BE86),"") | KX47: =IF($AU$7<>0,IF($O$5="Illusionniste",Sorts!BB130,Sorts!BF86),"")
C48: BACKSTABB | R48: M | S48: =+$I$11 -> 1 | T48: 0 | U48: =$C$45-IF($R48="N",$I$47,0)-IF($R48="S",1,0)-S48-T48 -> 19 | W48: =IF(AND($O$5="MOINE",L48="Mains Nues"),VLOOKUP($AM$5,Caractéristiques!$B$301:$C$317,2,FALSE),VLOOKUP(L48,Basique!$O$17:$P$41,2,FALSE)) -> #N/A | Y48: =IF(AND($O$5="MOINE",L48="Mains Nues"),VLOOKUP($AM$5,Caractéristiques!$B$301:$D$321,3,FALSE),VLOOKUP(L48,Basique!$O$17:$Q$41,3,FALSE)) -> #N/A | AA48: =IF($O$5="MOINE",$AM$5/2,+$N$11) -> 1 | AB48: =T48 -> 0 | AC48: =AA48+AB48+IF($R48="N",$I$47,0)+IF($R48="S",2,0) -> 1 | AE48: =IF($R48="S",INDEX(Niveaux!$A$671:$L$707,MATCH($AM$5,Niveaux!$A$671:$A$707,0),MATCH($O$5,Niveaux!$B$671:$L$671,0)+1),INDEX(Niveaux!$A$634:$L$670,MATCH($AM$5,Niveaux!$A$634:$A$670,0),MATCH($O$5,Niveaux!$B$634:$L$634,0)+1)) -> 1 | AF48: =VLOOKUP(L48,Basique!$O$17:$R$41,4,FALSE) -> #N/A | AH48: =INT(AF48/AE48)+10-$L$26+$N$26+$D$39-$L$30 -> #N/A | AQ48: 39 | BE48: 0 | BQ48: NC | BS48: 39 | BT48: =IF($AU$7<>0,IF($O$5="ILLUSIONNISTE",Sorts!K157,Sorts!E113),"") | CG48: 0 | CI48: =IF($AU$7<>0,IF($O$5="ILLUSIONNISTE",Sorts!L157,Sorts!F113),"") | CK48: =IF($AU$7<>0,IF($O$5="ILLUSIONNISTE",Sorts!M157,Sorts!G113),"") | CN48: =IF($AU$7<>0,IF($O$5="ILLUSIONNISTE",Sorts!N157,Sorts!H113),"") | CO48: =IF($AU$7<>0,IF($O$5="ILLUSIONNISTE",Sorts!O157,Sorts!I113),"") | CP48: =IF($AU$7<>0,IF($O$5="ILLUSIONNISTE",Sorts!P157,Sorts!J113),"") | CS48: 7 | CT48: =IF($AU$5<>0,IF(OR($O$5="CLERC",$O$5="PALADIN"),Sorts!Q10,Sorts!Q34),"") -> Invocation de la Foudre | DG48: 0 | DI48: =IF($AU$5<>0,IF(OR($O$5="CLERC",$O$5="PALADIN"),Sorts!R10,Sorts!R34),"") -> 0 | DL48: =IF($AU$5<>0,IF(OR($O$5="CLERC",$O$5="PALADIN"),Sorts!S10,Sorts!S34),"") -> 1t/n | DO48: =IF($AU$5<>0,IF(OR($O$5="CLERC",$O$5="PALADIN"),Sorts!T10,Sorts!T34),"") -> X | DP48: =IF($AU$5<>0,IF(OR($O$5="CLERC",$O$5="PALADIN"),Sorts!U10,Sorts!U34),"") -> X | DQ48: =IF($AU$5<>0,IF(OR($O$5="CLERC",$O$5="PALADIN"),Sorts!V10,Sorts!V34),"") -> X | DS48: NC | DU48: 7 | DV48: =IF($AU$7<>0,IF($O$5="Illusionniste",Sorts!W125,Sorts!Q81),"") | EI48: 0 | EK48: =IF($AU$7<>0,IF($O$5="Illusionniste",Sorts!X125,Sorts!R81),"") | EM48: =IF($AU$7<>0,IF($O$5="Illusionniste",Sorts!Y125,Sorts!S81),"") | EP48: =IF($AU$7<>0,IF($O$5="Illusionniste",Sorts!Z125,Sorts!T81),"") | EQ48: =IF($AU$7<>0,IF($O$5="Illusionniste",Sorts!AA125,Sorts!U81),"") | ER48: =IF($AU$7<>0,IF($O$5="Illusionniste",Sorts!AB125,Sorts!V81),"") | EU48: 11 | EV48: =IF($AU$5<>0,IF(OR($O$5="CLERC",$O$5="PALADIN"),Sorts!AC14,Sorts!AC38),"") -> Rayon de Lune | FI48: 0 | FK48: =IF($AU$5<>0,IF(OR($O$5="CLERC",$O$5="PALADIN"),Sorts!AD14,Sorts!AD38),"") -> 1''/n | FN48: =IF($AU$5<>0,IF(OR($O$5="CLERC",$O$5="PALADIN"),Sorts!AE14,Sorts!AE38),"") -> 1r/n | FQ48: =IF($AU$5<>0,IF(OR($O$5="CLERC",$O$5="PALADIN"),Sorts!AF14,Sorts!AF38),"") -> X | FR48: =IF($AU$5<>0,IF(OR($O$5="CLERC",$O$5="PALADIN"),Sorts!AG14,Sorts!AG38),"") -> X | FS48: =IF($AU$5<>0,IF(OR($O$5="CLERC",$O$5="PALADIN"),Sorts!AH14,Sorts!AH38),"") -> X | FU48: NC | FW48: 11 | FX48: =IF($AU$7<>0,IF($O$5="Illusionniste",Sorts!AI129,Sorts!AC85),"") | GK48: 0 | GM48: =IF($AU$7<>0,IF($O$5="Illusionniste",Sorts!AJ129,Sorts!AD85),"") | GO48: =IF($AU$7<>0,IF($O$5="Illusionniste",Sorts!AK129,Sorts!AE85),"") | GR48: =IF($AU$7<>0,IF($O$5="Illusionniste",Sorts!AL129,Sorts!AF85),"") | GS48: =IF($AU$7<>0,IF($O$5="Illusionniste",Sorts!AM129,Sorts!AG85),"") | GT48: =IF($AU$7<>0,IF($O$5="Illusionniste",Sorts!AN129,Sorts!AH85),"") | GW48: 13 | HW48: NC | HY48: 13 | HZ48: =IF($AU$7<>0,IF($O$5="Illusionniste",Sorts!AU131,Sorts!AO87),"") | IM48: 0 | IO48: =IF($AU$7<>0,IF($O$5="Illusionniste",Sorts!AV131,Sorts!AP87),"") | IQ48: =IF($AU$7<>0,IF($O$5="Illusionniste",Sorts!AW131,Sorts!AQ87),"") | IT48: =IF($AU$7<>0,IF($O$5="Illusionniste",Sorts!AX131,Sorts!AR87),"") | IU48: =IF($AU$7<>0,IF($O$5="Illusionniste",Sorts!AY131,Sorts!AS87),"") | IV48: =IF($AU$7<>0,IF($O$5="Illusionniste",Sorts!AZ131,Sorts!AT87),"") | JY48: NC | KA48: 13 | KB48: =IF($AU$7<>0,IF($O$5="Illusionniste",Sorts!BB131,Sorts!BA87),"") | KO48: 0 | KQ48: =IF($AU$7<>0,IF($O$5="Illusionniste",Sorts!BB131,Sorts!BB87),"") | KS48: =IF($AU$7<>0,IF($O$5="Illusionniste",Sorts!BB131,Sorts!BC87),"") | KV48: =IF($AU$7<>0,IF($O$5="Illusionniste",Sorts!BB131,Sorts!BD87),"") | KW48: =IF($AU$7<>0,IF($O$5="Illusionniste",Sorts!BB131,Sorts!BE87),"") | KX48: =IF($AU$7<>0,IF($O$5="Illusionniste",Sorts!BB131,Sorts!BF87),"")
C49: Toucher | G49: Dégats | AQ49: 40 | BE49: 0 | BQ49: NC | BS49: 40 | BT49: =IF($AU$7<>0,IF($O$5="ILLUSIONNISTE",Sorts!K158,Sorts!E114),"") | CG49: 0 | CI49: =IF($AU$7<>0,IF($O$5="ILLUSIONNISTE",Sorts!L158,Sorts!F114),"") | CK49: =IF($AU$7<>0,IF($O$5="ILLUSIONNISTE",Sorts!M158,Sorts!G114),"") | CN49: =IF($AU$7<>0,IF($O$5="ILLUSIONNISTE",Sorts!N158,Sorts!H114),"") | CO49: =IF($AU$7<>0,IF($O$5="ILLUSIONNISTE",Sorts!O158,Sorts!I114),"") | CP49: =IF($AU$7<>0,IF($O$5="ILLUSIONNISTE",Sorts!P158,Sorts!J114),"") | CS49: 8 | CT49: =IF($AU$5<>0,IF(OR($O$5="CLERC",$O$5="PALADIN"),Sorts!Q11,Sorts!Q35),"") -> Lithomorphose | DG49: 0 | DI49: =IF($AU$5<>0,IF(OR($O$5="CLERC",$O$5="PALADIN"),Sorts!R11,Sorts!R35),"") -> T | DL49: =IF($AU$5<>0,IF(OR($O$5="CLERC",$O$5="PALADIN"),Sorts!S11,Sorts!S35),"") -> P | DO49: =IF($AU$5<>0,IF(OR($O$5="CLERC",$O$5="PALADIN"),Sorts!T11,Sorts!T35),"") -> X | DP49: =IF($AU$5<>0,IF(OR($O$5="CLERC",$O$5="PALADIN"),Sorts!U11,Sorts!U35),"") -> X | DQ49: =IF($AU$5<>0,IF(OR($O$5="CLERC",$O$5="PALADIN"),Sorts!V11,Sorts!V35),"") -> X | DS49: NC | DU49: 8 | DV49: =IF($AU$7<>0,IF($O$5="Illusionniste",Sorts!W126,Sorts!Q82),"") | EI49: 0 | EK49: =IF($AU$7<>0,IF($O$5="Illusionniste",Sorts!X126,Sorts!R82),"") | EM49: =IF($AU$7<>0,IF($O$5="Illusionniste",Sorts!Y126,Sorts!S82),"") | EP49: =IF($AU$7<>0,IF($O$5="Illusionniste",Sorts!Z126,Sorts!T82),"") | EQ49: =IF($AU$7<>0,IF($O$5="Illusionniste",Sorts!AA126,Sorts!U82),"") | ER49: =IF($AU$7<>0,IF($O$5="Illusionniste",Sorts!AB126,Sorts!V82),"") | EU49: 12 | EV49: =IF($AU$5<>0,IF(OR($O$5="CLERC",$O$5="PALADIN"),Sorts!AC15,Sorts!AC39),"") -> Transmutation de pierre en boue | FI49: 0 | FK49: =IF($AU$5<>0,IF(OR($O$5="CLERC",$O$5="PALADIN"),Sorts!AD15,Sorts!AD39),"") -> 16'' | FN49: =IF($AU$5<>0,IF(OR($O$5="CLERC",$O$5="PALADIN"),Sorts!AE15,Sorts!AE39),"") -> S | FQ49: =IF($AU$5<>0,IF(OR($O$5="CLERC",$O$5="PALADIN"),Sorts!AF15,Sorts!AF39),"") -> X | FR49: =IF($AU$5<>0,IF(OR($O$5="CLERC",$O$5="PALADIN"),Sorts!AG15,Sorts!AG39),"") -> X | FS49: =IF($AU$5<>0,IF(OR($O$5="CLERC",$O$5="PALADIN"),Sorts!AH15,Sorts!AH39),"") -> X | FU49: NC | FW49: 12 | FX49: =IF($AU$7<>0,IF($O$5="Illusionniste",Sorts!AI130,Sorts!AC86),"") | GK49: 0 | GM49: =IF($AU$7<>0,IF($O$5="Illusionniste",Sorts!AJ130,Sorts!AD86),"") | GO49: =IF($AU$7<>0,IF($O$5="Illusionniste",Sorts!AK130,Sorts!AE86),"") | GR49: =IF($AU$7<>0,IF($O$5="Illusionniste",Sorts!AL130,Sorts!AF86),"") | GS49: =IF($AU$7<>0,IF($O$5="Illusionniste",Sorts!AM130,Sorts!AG86),"") | GT49: =IF($AU$7<>0,IF($O$5="Illusionniste",Sorts!AN130,Sorts!AH86),"") | GW49: 14 | HW49: NC | HY49: 14 | HZ49: =IF($AU$7<>0,IF($O$5="Illusionniste",Sorts!AU132,Sorts!AO88),"") | IM49: 0 | IO49: =IF($AU$7<>0,IF($O$5="Illusionniste",Sorts!AV132,Sorts!AP88),"") | IQ49: =IF($AU$7<>0,IF($O$5="Illusionniste",Sorts!AW132,Sorts!AQ88),"") | IT49: =IF($AU$7<>0,IF($O$5="Illusionniste",Sorts!AX132,Sorts!AR88),"") | IU49: =IF($AU$7<>0,IF($O$5="Illusionniste",Sorts!AY132,Sorts!AS88),"") | IV49: =IF($AU$7<>0,IF($O$5="Illusionniste",Sorts!AZ132,Sorts!AT88),"") | JY49: NC | KA49: 14 | KB49: =IF($AU$7<>0,IF($O$5="Illusionniste",Sorts!BB132,Sorts!BA88),"") | KO49: 0 | KQ49: =IF($AU$7<>0,IF($O$5="Illusionniste",Sorts!BB132,Sorts!BB88),"") | KS49: =IF($AU$7<>0,IF($O$5="Illusionniste",Sorts!BB132,Sorts!BC88),"") | KV49: =IF($AU$7<>0,IF($O$5="Illusionniste",Sorts!BB132,Sorts!BD88),"") | KW49: =IF($AU$7<>0,IF($O$5="Illusionniste",Sorts!BB132,Sorts!BE88),"") | KX49: =IF($AU$7<>0,IF($O$5="Illusionniste",Sorts!BB132,Sorts!BF88),"")
D50: =INDEX(Niveaux!$A$374:$L$410,'Joueur 1'!$AM$5+1,MATCH('Joueur 1'!$O$5,Niveaux!$B$374:$L$374,0)+1) -> +2 | G50: =INDEX(Niveaux!$A$337:$L$373,'Joueur 1'!$AM$5+1,MATCH('Joueur 1'!$O$5,Niveaux!$B$337:$L$337,0)+1) -> X2 | K50: Jets | R50: M | S50: =+$I$11 -> 1 | T50: 3 | U50: =$C$45-IF($R50="N",$I$47,0)-IF($R50="S",1,0)-S50-T50 -> 16 | W50: =VLOOKUP($L50,Basique!$T$17:$W$27,2,FALSE) -> #N/A | Y50: =VLOOKUP($L50,Basique!$T$17:$Y$27,3,FALSE) -> #N/A | AA50: =IF($O$5="MOINE",$AM$5/2,+$N$11) -> 1 | AB50: =T50 -> 3 | AC50: =AA50+AB50+IF($R50="N",$I$47,0)+IF($R50="S",2,0) -> 4 | AE50: =VLOOKUP($L50,Basique!$T$17:$W$27,4,FALSE) -> #N/A | AF50: =VLOOKUP($L50,Basique!$T$17:$X$27,5,FALSE) -> #N/A | AH50: =INT(AF50/AE50)+$D$39 -> #N/A | AQ50: INFORMATIONS DIVERSES | CS50: 9 | CT50: =IF($AU$5<>0,IF(OR($O$5="CLERC",$O$5="PALADIN"),Sorts!Q12,Sorts!Q36),"") -> Paralysie Animale | DG50: 0 | DI50: =IF($AU$5<>0,IF(OR($O$5="CLERC",$O$5="PALADIN"),Sorts!R12,Sorts!R36),"") -> 8'' | DL50: =IF($AU$5<>0,IF(OR($O$5="CLERC",$O$5="PALADIN"),Sorts!S12,Sorts!S36),"") -> 2r/n | DO50: =IF($AU$5<>0,IF(OR($O$5="CLERC",$O$5="PALADIN"),Sorts!T12,Sorts!T36),"") -> X | DP50: =IF($AU$5<>0,IF(OR($O$5="CLERC",$O$5="PALADIN"),Sorts!U12,Sorts!U36),"") -> X | DQ50: =IF($AU$5<>0,IF(OR($O$5="CLERC",$O$5="PALADIN"),Sorts!V12,Sorts!V36),"") -> X | DS50: NC | DU50: 9 | DV50: =IF($AU$7<>0,IF($O$5="Illusionniste",Sorts!W127,Sorts!Q83),"") | EI50: 0 | EK50: =IF($AU$7<>0,IF($O$5="Illusionniste",Sorts!X127,Sorts!R83),"") | EM50: =IF($AU$7<>0,IF($O$5="Illusionniste",Sorts!Y127,Sorts!S83),"") | EP50: =IF($AU$7<>0,IF($O$5="Illusionniste",Sorts!Z127,Sorts!T83),"") | EQ50: =IF($AU$7<>0,IF($O$5="Illusionniste",Sorts!AA127,Sorts!U83),"") | ER50: =IF($AU$7<>0,IF($O$5="Illusionniste",Sorts!AB127,Sorts!V83),"") | EU50: 13 | EV50: =IF($AU$5<>0,IF(OR($O$5="CLERC",$O$5="PALADIN"),Sorts!AC16,Sorts!AC40),"") -> 0 | FI50: 0 | FK50: =IF($AU$5<>0,IF(OR($O$5="CLERC",$O$5="PALADIN"),Sorts!AD16,Sorts!AD40),"") -> 0 | FN50: =IF($AU$5<>0,IF(OR($O$5="CLERC",$O$5="PALADIN"),Sorts!AE16,Sorts!AE40),"") -> 0 | FQ50: =IF($AU$5<>0,IF(OR($O$5="CLERC",$O$5="PALADIN"),Sorts!AF16,Sorts!AF40),"") -> 0 | FR50: =IF($AU$5<>0,IF(OR($O$5="CLERC",$O$5="PALADIN"),Sorts!AG16,Sorts!AG40),"") -> 0 | FS50: =IF($AU$5<>0,IF(OR($O$5="CLERC",$O$5="PALADIN"),Sorts!AH16,Sorts!AH40),"") -> 0 | FU50: NC | FW50: 13 | FX50: =IF($AU$7<>0,IF($O$5="Illusionniste",Sorts!AI131,Sorts!AC87),"") | GK50: 0 | GM50: =IF($AU$7<>0,IF($O$5="Illusionniste",Sorts!AJ131,Sorts!AD87),"") | GO50: =IF($AU$7<>0,IF($O$5="Illusionniste",Sorts!AK131,Sorts!AE87),"") | GR50: =IF($AU$7<>0,IF($O$5="Illusionniste",Sorts!AL131,Sorts!AF87),"") | GS50: =IF($AU$7<>0,IF($O$5="Illusionniste",Sorts!AM131,Sorts!AG87),"") | GT50: =IF($AU$7<>0,IF($O$5="Illusionniste",Sorts!AN131,Sorts!AH87),"") | GW50: 15 | HW50: NC | HY50: 15 | HZ50: =IF($AU$7<>0,IF($O$5="Illusionniste",Sorts!AU133,Sorts!AO89),"") | IM50: 0 | IO50: =IF($AU$7<>0,IF($O$5="Illusionniste",Sorts!AV133,Sorts!AP89),"") | IQ50: =IF($AU$7<>0,IF($O$5="Illusionniste",Sorts!AW133,Sorts!AQ89),"") | IT50: =IF($AU$7<>0,IF($O$5="Illusionniste",Sorts!AX133,Sorts!AR89),"") | IU50: =IF($AU$7<>0,IF($O$5="Illusionniste",Sorts!AY133,Sorts!AS89),"") | IV50: =IF($AU$7<>0,IF($O$5="Illusionniste",Sorts!AZ133,Sorts!AT89),"") | JY50: NC | KA50: 15 | KB50: =IF($AU$7<>0,IF($O$5="Illusionniste",Sorts!BB133,Sorts!BA89),"") | KO50: 0 | KQ50: =IF($AU$7<>0,IF($O$5="Illusionniste",Sorts!BB133,Sorts!BB89),"") | KS50: =IF($AU$7<>0,IF($O$5="Illusionniste",Sorts!BB133,Sorts!BC89),"") | KV50: =IF($AU$7<>0,IF($O$5="Illusionniste",Sorts!BB133,Sorts!BD89),"") | KW50: =IF($AU$7<>0,IF($O$5="Illusionniste",Sorts!BB133,Sorts!BE89),"") | KX50: =IF($AU$7<>0,IF($O$5="Illusionniste",Sorts!BB133,Sorts!BF89),"")
R51: N | S51: =+$I$11 -> 1 | T51: 0 | U51: =$C$45-IF($R51="N",$I$47,0)-IF($R51="S",1,0)-S51-T51 -> 23 | W51: =VLOOKUP($L51,Basique!$T$17:$W$27,2,FALSE) -> #N/A | Y51: =VLOOKUP($L51,Basique!$T$17:$Y$27,3,FALSE) -> #N/A | AA51: =IF($O$5="MOINE",$AM$5/2,+$N$11) -> 1 | AB51: =T51 -> 0 | AC51: =AA51+AB51+IF($R51="N",$I$47,0)+IF($R51="S",2,0) -> -3 | AE51: =VLOOKUP($L51,Basique!$T$17:$W$27,4,FALSE) -> #N/A | AF51: =VLOOKUP($L51,Basique!$T$17:$X$27,5,FALSE) -> #N/A | AH51: =INT(AF51/AE51)+$D$39 -> #N/A | CS51: 10 | CT51: =IF($AU$5<>0,IF(OR($O$5="CLERC",$O$5="PALADIN"),Sorts!Q13,Sorts!Q37),"") -> Perception des Alignements | DG51: 0 | DI51: =IF($AU$5<>0,IF(OR($O$5="CLERC",$O$5="PALADIN"),Sorts!R13,Sorts!R37),"") -> 1'' | DL51: =IF($AU$5<>0,IF(OR($O$5="CLERC",$O$5="PALADIN"),Sorts!S13,Sorts!S37),"") -> 5r | DO51: =IF($AU$5<>0,IF(OR($O$5="CLERC",$O$5="PALADIN"),Sorts!T13,Sorts!T37),"") -> X | DP51: =IF($AU$5<>0,IF(OR($O$5="CLERC",$O$5="PALADIN"),Sorts!U13,Sorts!U37),"") -> X | DQ51: =IF($AU$5<>0,IF(OR($O$5="CLERC",$O$5="PALADIN"),Sorts!V13,Sorts!V37),"") -> / | DS51: NC | DU51: 10 | DV51: =IF($AU$7<>0,IF($O$5="Illusionniste",Sorts!W128,Sorts!Q84),"") | EI51: 0 | EK51: =IF($AU$7<>0,IF($O$5="Illusionniste",Sorts!X128,Sorts!R84),"") | EM51: =IF($AU$7<>0,IF($O$5="Illusionniste",Sorts!Y128,Sorts!S84),"") | EP51: =IF($AU$7<>0,IF($O$5="Illusionniste",Sorts!Z128,Sorts!T84),"") | EQ51: =IF($AU$7<>0,IF($O$5="Illusionniste",Sorts!AA128,Sorts!U84),"") | ER51: =IF($AU$7<>0,IF($O$5="Illusionniste",Sorts!AB128,Sorts!V84),"") | EU51: 14 | EV51: =IF($AU$5<>0,IF(OR($O$5="CLERC",$O$5="PALADIN"),Sorts!AC17,Sorts!AC41),"") -> 0 | FI51: 0 | FK51: =IF($AU$5<>0,IF(OR($O$5="CLERC",$O$5="PALADIN"),Sorts!AD17,Sorts!AD41),"") -> 0 | FN51: =IF($AU$5<>0,IF(OR($O$5="CLERC",$O$5="PALADIN"),Sorts!AE17,Sorts!AE41),"") -> 0 | FQ51: =IF($AU$5<>0,IF(OR($O$5="CLERC",$O$5="PALADIN"),Sorts!AF17,Sorts!AF41),"") -> 0 | FR51: =IF($AU$5<>0,IF(OR($O$5="CLERC",$O$5="PALADIN"),Sorts!AG17,Sorts!AG41),"") -> 0 | FS51: =IF($AU$5<>0,IF(OR($O$5="CLERC",$O$5="PALADIN"),Sorts!AH17,Sorts!AH41),"") -> 0 | FU51: NC | FW51: 14 | FX51: =IF($AU$7<>0,IF($O$5="Illusionniste",Sorts!AI132,Sorts!AC88),"") | GK51: 0 | GM51: =IF($AU$7<>0,IF($O$5="Illusionniste",Sorts!AJ132,Sorts!AD88),"") | GO51: =IF($AU$7<>0,IF($O$5="Illusionniste",Sorts!AK132,Sorts!AE88),"") | GR51: =IF($AU$7<>0,IF($O$5="Illusionniste",Sorts!AL132,Sorts!AF88),"") | GS51: =IF($AU$7<>0,IF($O$5="Illusionniste",Sorts!AM132,Sorts!AG88),"") | GT51: =IF($AU$7<>0,IF($O$5="Illusionniste",Sorts!AN132,Sorts!AH88),"") | GW51: 16 | HW51: NC | HY51: 16 | HZ51: =IF($AU$7<>0,IF($O$5="Illusionniste",Sorts!AU134,Sorts!AO90),"") | IM51: 0 | IO51: =IF($AU$7<>0,IF($O$5="Illusionniste",Sorts!AV134,Sorts!AP90),"") | IQ51: =IF($AU$7<>0,IF($O$5="Illusionniste",Sorts!AW134,Sorts!AQ90),"") | IT51: =IF($AU$7<>0,IF($O$5="Illusionniste",Sorts!AX134,Sorts!AR90),"") | IU51: =IF($AU$7<>0,IF($O$5="Illusionniste",Sorts!AY134,Sorts!AS90),"") | IV51: =IF($AU$7<>0,IF($O$5="Illusionniste",Sorts!AZ134,Sorts!AT90),"") | JY51: NC | KA51: 16 | KB51: =IF($AU$7<>0,IF($O$5="Illusionniste",Sorts!BB134,Sorts!BA90),"") | KO51: 0 | KQ51: =IF($AU$7<>0,IF($O$5="Illusionniste",Sorts!BB134,Sorts!BB90),"") | KS51: =IF($AU$7<>0,IF($O$5="Illusionniste",Sorts!BB134,Sorts!BC90),"") | KV51: =IF($AU$7<>0,IF($O$5="Illusionniste",Sorts!BB134,Sorts!BD90),"") | KW51: =IF($AU$7<>0,IF($O$5="Illusionniste",Sorts!BB134,Sorts!BE90),"") | KX51: =IF($AU$7<>0,IF($O$5="Illusionniste",Sorts!BB134,Sorts!BF90),"")
CS52: 11 | CT52: =IF($AU$5<>0,IF(OR($O$5="CLERC",$O$5="PALADIN"),Sorts!Q14,Sorts!Q38),"") -> Piège Sylvestre | DG52: 0 | DI52: =IF($AU$5<>0,IF(OR($O$5="CLERC",$O$5="PALADIN"),Sorts!R14,Sorts!R38),"") -> T | DL52: =IF($AU$5<>0,IF(OR($O$5="CLERC",$O$5="PALADIN"),Sorts!S14,Sorts!S38),"") -> P | DO52: =IF($AU$5<>0,IF(OR($O$5="CLERC",$O$5="PALADIN"),Sorts!T14,Sorts!T38),"") -> X | DP52: =IF($AU$5<>0,IF(OR($O$5="CLERC",$O$5="PALADIN"),Sorts!U14,Sorts!U38),"") -> X | DQ52: =IF($AU$5<>0,IF(OR($O$5="CLERC",$O$5="PALADIN"),Sorts!V14,Sorts!V38),"") -> X | DS52: NC | DU52: 11 | DV52: =IF($AU$7<>0,IF($O$5="Illusionniste",Sorts!W129,Sorts!Q85),"") | EI52: 0 | EK52: =IF($AU$7<>0,IF($O$5="Illusionniste",Sorts!X129,Sorts!R85),"") | EM52: =IF($AU$7<>0,IF($O$5="Illusionniste",Sorts!Y129,Sorts!S85),"") | EP52: =IF($AU$7<>0,IF($O$5="Illusionniste",Sorts!Z129,Sorts!T85),"") | EQ52: =IF($AU$7<>0,IF($O$5="Illusionniste",Sorts!AA129,Sorts!U85),"") | ER52: =IF($AU$7<>0,IF($O$5="Illusionniste",Sorts!AB129,Sorts!V85),"") | EU52: 15 | EV52: =IF($AU$5<>0,IF(OR($O$5="CLERC",$O$5="PALADIN"),Sorts!AC18,Sorts!AC42),"") -> 0 | FI52: 0 | FK52: =IF($AU$5<>0,IF(OR($O$5="CLERC",$O$5="PALADIN"),Sorts!AD18,Sorts!AD42),"") -> 0 | FN52: =IF($AU$5<>0,IF(OR($O$5="CLERC",$O$5="PALADIN"),Sorts!AE18,Sorts!AE42),"") -> 0 | FQ52: =IF($AU$5<>0,IF(OR($O$5="CLERC",$O$5="PALADIN"),Sorts!AF18,Sorts!AF42),"") -> 0 | FR52: =IF($AU$5<>0,IF(OR($O$5="CLERC",$O$5="PALADIN"),Sorts!AG18,Sorts!AG42),"") -> 0 | FS52: =IF($AU$5<>0,IF(OR($O$5="CLERC",$O$5="PALADIN"),Sorts!AH18,Sorts!AH42),"") -> 0 | FU52: NC | FW52: 15 | FX52: =IF($AU$7<>0,IF($O$5="Illusionniste",Sorts!AI133,Sorts!AC89),"") | GK52: 0 | GM52: =IF($AU$7<>0,IF($O$5="Illusionniste",Sorts!AJ133,Sorts!AD89),"") | GO52: =IF($AU$7<>0,IF($O$5="Illusionniste",Sorts!AK133,Sorts!AE89),"") | GR52: =IF($AU$7<>0,IF($O$5="Illusionniste",Sorts!AL133,Sorts!AF89),"") | GS52: =IF($AU$7<>0,IF($O$5="Illusionniste",Sorts!AM133,Sorts!AG89),"") | GT52: =IF($AU$7<>0,IF($O$5="Illusionniste",Sorts!AN133,Sorts!AH89),"") | GW52: 17 | HW52: NC | HY52: 17 | HZ52: =IF($AU$7<>0,IF($O$5="Illusionniste",Sorts!AU135,Sorts!AO91),"") | IM52: 0 | IO52: =IF($AU$7<>0,IF($O$5="Illusionniste",Sorts!AV135,Sorts!AP91),"") | IQ52: =IF($AU$7<>0,IF($O$5="Illusionniste",Sorts!AW135,Sorts!AQ91),"") | IT52: =IF($AU$7<>0,IF($O$5="Illusionniste",Sorts!AX135,Sorts!AR91),"") | IU52: =IF($AU$7<>0,IF($O$5="Illusionniste",Sorts!AY135,Sorts!AS91),"") | IV52: =IF($AU$7<>0,IF($O$5="Illusionniste",Sorts!AZ135,Sorts!AT91),"") | IY52: INFORMATIONS DIVERSES
CS53: 12 | CT53: =IF($AU$5<>0,IF(OR($O$5="CLERC",$O$5="PALADIN"),Sorts!Q15,Sorts!Q39),"") -> Protection contre le Feu | DG53: 0 | DI53: =IF($AU$5<>0,IF(OR($O$5="CLERC",$O$5="PALADIN"),Sorts!R15,Sorts!R39),"") -> T | DL53: =IF($AU$5<>0,IF(OR($O$5="CLERC",$O$5="PALADIN"),Sorts!S15,Sorts!S39),"") -> S | DO53: =IF($AU$5<>0,IF(OR($O$5="CLERC",$O$5="PALADIN"),Sorts!T15,Sorts!T39),"") -> X | DP53: =IF($AU$5<>0,IF(OR($O$5="CLERC",$O$5="PALADIN"),Sorts!U15,Sorts!U39),"") -> X | DQ53: =IF($AU$5<>0,IF(OR($O$5="CLERC",$O$5="PALADIN"),Sorts!V15,Sorts!V39),"") -> X | DS53: NC | DU53: 12 | DV53: =IF($AU$7<>0,IF($O$5="Illusionniste",Sorts!W130,Sorts!Q86),"") | EI53: 0 | EK53: =IF($AU$7<>0,IF($O$5="Illusionniste",Sorts!X130,Sorts!R86),"") | EM53: =IF($AU$7<>0,IF($O$5="Illusionniste",Sorts!Y130,Sorts!S86),"") | EP53: =IF($AU$7<>0,IF($O$5="Illusionniste",Sorts!Z130,Sorts!T86),"") | EQ53: =IF($AU$7<>0,IF($O$5="Illusionniste",Sorts!AA130,Sorts!U86),"") | ER53: =IF($AU$7<>0,IF($O$5="Illusionniste",Sorts!AB130,Sorts!V86),"") | EU53: 16 | EV53: =IF($AU$5<>0,IF(OR($O$5="CLERC",$O$5="PALADIN"),Sorts!AC19,Sorts!AC43),"") -> 0 | FI53: 0 | FK53: =IF($AU$5<>0,IF(OR($O$5="CLERC",$O$5="PALADIN"),Sorts!AD19,Sorts!AD43),"") -> 0 | FN53: =IF($AU$5<>0,IF(OR($O$5="CLERC",$O$5="PALADIN"),Sorts!AE19,Sorts!AE43),"") -> 0 | FQ53: =IF($AU$5<>0,IF(OR($O$5="CLERC",$O$5="PALADIN"),Sorts!AF19,Sorts!AF43),"") -> 0 | FR53: =IF($AU$5<>0,IF(OR($O$5="CLERC",$O$5="PALADIN"),Sorts!AG19,Sorts!AG43),"") -> 0 | FS53: =IF($AU$5<>0,IF(OR($O$5="CLERC",$O$5="PALADIN"),Sorts!AH19,Sorts!AH43),"") -> 0 | FU53: NC | FW53: 16 | FX53: =IF($AU$7<>0,IF($O$5="Illusionniste",Sorts!AI134,Sorts!AC90),"") | GK53: 0 | GM53: =IF($AU$7<>0,IF($O$5="Illusionniste",Sorts!AJ134,Sorts!AD90),"") | GO53: =IF($AU$7<>0,IF($O$5="Illusionniste",Sorts!AK134,Sorts!AE90),"") | GR53: =IF($AU$7<>0,IF($O$5="Illusionniste",Sorts!AL134,Sorts!AF90),"") | GS53: =IF($AU$7<>0,IF($O$5="Illusionniste",Sorts!AM134,Sorts!AG90),"") | GT53: =IF($AU$7<>0,IF($O$5="Illusionniste",Sorts!AN134,Sorts!AH90),"") | GW53: 18 | HW53: NC | HY53: 18 | HZ53: =IF($AU$7<>0,IF($O$5="Illusionniste",Sorts!AU136,Sorts!AO92),"") | IM53: 0 | IO53: =IF($AU$7<>0,IF($O$5="Illusionniste",Sorts!AV136,Sorts!AP92),"") | IQ53: =IF($AU$7<>0,IF($O$5="Illusionniste",Sorts!AW136,Sorts!AQ92),"") | IT53: =IF($AU$7<>0,IF($O$5="Illusionniste",Sorts!AX136,Sorts!AR92),"") | IU53: =IF($AU$7<>0,IF($O$5="Illusionniste",Sorts!AY136,Sorts!AS92),"") | IV53: =IF($AU$7<>0,IF($O$5="Illusionniste",Sorts!AZ136,Sorts!AT92),"")
B54: Points de Vie | AH54: Objets magiques | CS54: 13 | CT54: =IF($AU$5<>0,IF(OR($O$5="CLERC",$O$5="PALADIN"),Sorts!Q16,Sorts!Q40),"") -> Pyrotechnie | DG54: 0 | DI54: =IF($AU$5<>0,IF(OR($O$5="CLERC",$O$5="PALADIN"),Sorts!R16,Sorts!R40),"") -> 16'' | DL54: =IF($AU$5<>0,IF(OR($O$5="CLERC",$O$5="PALADIN"),Sorts!S16,Sorts!S40),"") -> S | DO54: =IF($AU$5<>0,IF(OR($O$5="CLERC",$O$5="PALADIN"),Sorts!T16,Sorts!T40),"") -> X | DP54: =IF($AU$5<>0,IF(OR($O$5="CLERC",$O$5="PALADIN"),Sorts!U16,Sorts!U40),"") -> X | DQ54: =IF($AU$5<>0,IF(OR($O$5="CLERC",$O$5="PALADIN"),Sorts!V16,Sorts!V40),"") -> X | DS54: NC | DU54: 13 | DV54: =IF($AU$7<>0,IF($O$5="Illusionniste",Sorts!W131,Sorts!Q87),"") | EI54: 0 | EK54: =IF($AU$7<>0,IF($O$5="Illusionniste",Sorts!X131,Sorts!R87),"") | EM54: =IF($AU$7<>0,IF($O$5="Illusionniste",Sorts!Y131,Sorts!S87),"") | EP54: =IF($AU$7<>0,IF($O$5="Illusionniste",Sorts!Z131,Sorts!T87),"") | EQ54: =IF($AU$7<>0,IF($O$5="Illusionniste",Sorts!AA131,Sorts!U87),"") | ER54: =IF($AU$7<>0,IF($O$5="Illusionniste",Sorts!AB131,Sorts!V87),"") | EU54: 17 | FU54: NC | FW54: 17 | FX54: =IF($AU$7<>0,IF($O$5="Illusionniste",Sorts!AI135,Sorts!AC91),"") | GK54: 0 | GM54: =IF($AU$7<>0,IF($O$5="Illusionniste",Sorts!AJ135,Sorts!AD91),"") | GO54: =IF($AU$7<>0,IF($O$5="Illusionniste",Sorts!AK135,Sorts!AE91),"") | GR54: =IF($AU$7<>0,IF($O$5="Illusionniste",Sorts!AL135,Sorts!AF91),"") | GS54: =IF($AU$7<>0,IF($O$5="Illusionniste",Sorts!AM135,Sorts!AG91),"") | GT54: =IF($AU$7<>0,IF($O$5="Illusionniste",Sorts!AN135,Sorts!AH91),"") | GW54: 19 | HW54: NC | HY54: 19 | HZ54: =IF($AU$7<>0,IF($O$5="Illusionniste",Sorts!AU137,Sorts!AO93),"") | IM54: 0 | IO54: =IF($AU$7<>0,IF($O$5="Illusionniste",Sorts!AV137,Sorts!AP93),"") | IQ54: =IF($AU$7<>0,IF($O$5="Illusionniste",Sorts!AW137,Sorts!AQ93),"") | IT54: =IF($AU$7<>0,IF($O$5="Illusionniste",Sorts!AX137,Sorts!AR93),"") | IU54: =IF($AU$7<>0,IF($O$5="Illusionniste",Sorts!AY137,Sorts!AS93),"") | IV54: =IF($AU$7<>0,IF($O$5="Illusionniste",Sorts!AZ137,Sorts!AT93),"")
CS55: 14 | CT55: =IF($AU$5<>0,IF(OR($O$5="CLERC",$O$5="PALADIN"),Sorts!Q17,Sorts!Q41),"") -> Rayon d’Étoile | DG55: 0 | DI55: =IF($AU$5<>0,IF(OR($O$5="CLERC",$O$5="PALADIN"),Sorts!R17,Sorts!R41),"") -> 1/n | DL55: =IF($AU$5<>0,IF(OR($O$5="CLERC",$O$5="PALADIN"),Sorts!S17,Sorts!S41),"") -> 1t/n | DO55: =IF($AU$5<>0,IF(OR($O$5="CLERC",$O$5="PALADIN"),Sorts!T17,Sorts!T41),"") -> X | DP55: =IF($AU$5<>0,IF(OR($O$5="CLERC",$O$5="PALADIN"),Sorts!U17,Sorts!U41),"") -> X | DQ55: =IF($AU$5<>0,IF(OR($O$5="CLERC",$O$5="PALADIN"),Sorts!V17,Sorts!V41),"") -> X | DS55: NC | DU55: 14 | DV55: =IF($AU$7<>0,IF($O$5="Illusionniste",Sorts!W132,Sorts!Q88),"") | EI55: 0 | EK55: =IF($AU$7<>0,IF($O$5="Illusionniste",Sorts!X132,Sorts!R88),"") | EM55: =IF($AU$7<>0,IF($O$5="Illusionniste",Sorts!Y132,Sorts!S88),"") | EP55: =IF($AU$7<>0,IF($O$5="Illusionniste",Sorts!Z132,Sorts!T88),"") | EQ55: =IF($AU$7<>0,IF($O$5="Illusionniste",Sorts!AA132,Sorts!U88),"") | ER55: =IF($AU$7<>0,IF($O$5="Illusionniste",Sorts!AB132,Sorts!V88),"") | EU55: 18 | FU55: NC | FW55: 18 | FX55: =IF($AU$7<>0,IF($O$5="Illusionniste",Sorts!AI136,Sorts!AC92),"") | GK55: 0 | GM55: =IF($AU$7<>0,IF($O$5="Illusionniste",Sorts!AJ136,Sorts!AD92),"") | GO55: =IF($AU$7<>0,IF($O$5="Illusionniste",Sorts!AK136,Sorts!AE92),"") | GR55: =IF($AU$7<>0,IF($O$5="Illusionniste",Sorts!AL136,Sorts!AF92),"") | GS55: =IF($AU$7<>0,IF($O$5="Illusionniste",Sorts!AM136,Sorts!AG92),"") | GT55: =IF($AU$7<>0,IF($O$5="Illusionniste",Sorts!AN136,Sorts!AH92),"") | GW55: 20 | HW55: NC | HY55: 20 | HZ55: =IF($AU$7<>0,IF($O$5="Illusionniste",Sorts!AU138,Sorts!AO94),"") | IM55: 0 | IO55: =IF($AU$7<>0,IF($O$5="Illusionniste",Sorts!AV138,Sorts!AP94),"") | IQ55: =IF($AU$7<>0,IF($O$5="Illusionniste",Sorts!AW138,Sorts!AQ94),"") | IT55: =IF($AU$7<>0,IF($O$5="Illusionniste",Sorts!AX138,Sorts!AR94),"") | IU55: =IF($AU$7<>0,IF($O$5="Illusionniste",Sorts!AY138,Sorts!AS94),"") | IV55: =IF($AU$7<>0,IF($O$5="Illusionniste",Sorts!AZ138,Sorts!AT94),"")
C56: DV à son Niv : | G56: =INDEX(Niveaux!A708:L744,'Joueur 1'!$AM$5+1,MATCH('Joueur 1'!$O$5,Niveaux!B708:L708,0)+1) -> 1D8 | L56: -9 | M56: -8 | N56: -7 | O56: -6 | P56: -5 | Q56: -4 | R56: -3 | S56: -2 | T56: -1 | U56: 0 | V56: 1 | W56: 2 | X56: 3 | Y56: 4 | Z56: 5 | AA56: 6 | AB56: 7 | AC56: 8 | AD56: 9 | AE56: 10 | CS56: 15 | CT56: =IF($AU$5<>0,IF(OR($O$5="CLERC",$O$5="PALADIN"),Sorts!Q18,Sorts!Q42),"") -> Respiration Aquatique | DG56: 0 | DI56: =IF($AU$5<>0,IF(OR($O$5="CLERC",$O$5="PALADIN"),Sorts!R18,Sorts!R42),"") -> T | DL56: =IF($AU$5<>0,IF(OR($O$5="CLERC",$O$5="PALADIN"),Sorts!S18,Sorts!S42),"") -> 6t/n | DO56: =IF($AU$5<>0,IF(OR($O$5="CLERC",$O$5="PALADIN"),Sorts!T18,Sorts!T42),"") -> X | DP56: =IF($AU$5<>0,IF(OR($O$5="CLERC",$O$5="PALADIN"),Sorts!U18,Sorts!U42),"") -> X | DQ56: =IF($AU$5<>0,IF(OR($O$5="CLERC",$O$5="PALADIN"),Sorts!V18,Sorts!V42),"") -> / | DS56: NC | DU56: 15 | DV56: =IF($AU$7<>0,IF($O$5="Illusionniste",Sorts!W133,Sorts!Q89),"") | EI56: 0 | EK56: =IF($AU$7<>0,IF($O$5="Illusionniste",Sorts!X133,Sorts!R89),"") | EM56: =IF($AU$7<>0,IF($O$5="Illusionniste",Sorts!Y133,Sorts!S89),"") | EP56: =IF($AU$7<>0,IF($O$5="Illusionniste",Sorts!Z133,Sorts!T89),"") | EQ56: =IF($AU$7<>0,IF($O$5="Illusionniste",Sorts!AA133,Sorts!U89),"") | ER56: =IF($AU$7<>0,IF($O$5="Illusionniste",Sorts!AB133,Sorts!V89),"") | EU56: 19 | FU56: NC | FW56: 19 | FX56: =IF($AU$7<>0,IF($O$5="Illusionniste",Sorts!AI137,Sorts!AC93),"") | GK56: 0 | GM56: =IF($AU$7<>0,IF($O$5="Illusionniste",Sorts!AJ137,Sorts!AD93),"") | GO56: =IF($AU$7<>0,IF($O$5="Illusionniste",Sorts!AK137,Sorts!AE93),"") | GR56: =IF($AU$7<>0,IF($O$5="Illusionniste",Sorts!AL137,Sorts!AF93),"") | GS56: =IF($AU$7<>0,IF($O$5="Illusionniste",Sorts!AM137,Sorts!AG93),"") | GT56: =IF($AU$7<>0,IF($O$5="Illusionniste",Sorts!AN137,Sorts!AH93),"") | GW56: 21 | HW56: NC | HY56: 21 | HZ56: =IF($AU$7<>0,IF($O$5="Illusionniste",Sorts!AU139,Sorts!AO95),"") | IM56: 0 | IO56: =IF($AU$7<>0,IF($O$5="Illusionniste",Sorts!AV139,Sorts!AP95),"") | IQ56: =IF($AU$7<>0,IF($O$5="Illusionniste",Sorts!AW139,Sorts!AQ95),"") | IT56: =IF($AU$7<>0,IF($O$5="Illusionniste",Sorts!AX139,Sorts!AR95),"") | IU56: =IF($AU$7<>0,IF($O$5="Illusionniste",Sorts!AY139,Sorts!AS95),"") | IV56: =IF($AU$7<>0,IF($O$5="Illusionniste",Sorts!AZ139,Sorts!AT95),"")
L57: 11 | M57: 12 | N57: 13 | O57: 14 | P57: 15 | Q57: 16 | R57: 17 | S57: 18 | T57: 19 | U57: 20 | V57: 21 | W57: 22 | X57: 23 | Y57: 24 | Z57: 25 | AA57: 26 | AB57: 27 | AC57: 28 | AD57: 29 | AE57: 30 | CS57: 16 | CT57: =IF($AU$5<>0,IF(OR($O$5="CLERC",$O$5="PALADIN"),Sorts!Q19,Sorts!Q43),"") -> Trombe d’Eau | DG57: 0 | DI57: =IF($AU$5<>0,IF(OR($O$5="CLERC",$O$5="PALADIN"),Sorts!R19,Sorts!R43),"") -> 1/n | DL57: =IF($AU$5<>0,IF(OR($O$5="CLERC",$O$5="PALADIN"),Sorts!S19,Sorts!S43),"") -> 1r/n | DO57: =IF($AU$5<>0,IF(OR($O$5="CLERC",$O$5="PALADIN"),Sorts!T19,Sorts!T43),"") -> X | DP57: =IF($AU$5<>0,IF(OR($O$5="CLERC",$O$5="PALADIN"),Sorts!U19,Sorts!U43),"") -> X | DQ57: =IF($AU$5<>0,IF(OR($O$5="CLERC",$O$5="PALADIN"),Sorts!V19,Sorts!V43),"") -> X | DS57: NC | DU57: 16 | DV57: =IF($AU$7<>0,IF($O$5="Illusionniste",Sorts!W134,Sorts!Q90),"") | EI57: 0 | EK57: =IF($AU$7<>0,IF($O$5="Illusionniste",Sorts!X134,Sorts!R90),"") | EM57: =IF($AU$7<>0,IF($O$5="Illusionniste",Sorts!Y134,Sorts!S90),"") | EP57: =IF($AU$7<>0,IF($O$5="Illusionniste",Sorts!Z134,Sorts!T90),"") | EQ57: =IF($AU$7<>0,IF($O$5="Illusionniste",Sorts!AA134,Sorts!U90),"") | ER57: =IF($AU$7<>0,IF($O$5="Illusionniste",Sorts!AB134,Sorts!V90),"") | EU57: 20 | FU57: NC | FW57: 20 | FX57: =IF($AU$7<>0,IF($O$5="Illusionniste",Sorts!AI138,Sorts!AC94),"") | GK57: 0 | GM57: =IF($AU$7<>0,IF($O$5="Illusionniste",Sorts!AJ138,Sorts!AD94),"") | GO57: =IF($AU$7<>0,IF($O$5="Illusionniste",Sorts!AK138,Sorts!AE94),"") | GR57: =IF($AU$7<>0,IF($O$5="Illusionniste",Sorts!AL138,Sorts!AF94),"") | GS57: =IF($AU$7<>0,IF($O$5="Illusionniste",Sorts!AM138,Sorts!AG94),"") | GT57: =IF($AU$7<>0,IF($O$5="Illusionniste",Sorts!AN138,Sorts!AH94),"") | GW57: 22 | HW57: NC | HY57: 22 | HZ57: =IF($AU$7<>0,IF($O$5="Illusionniste",Sorts!AU140,Sorts!AO96),"") | IM57: 0 | IO57: =IF($AU$7<>0,IF($O$5="Illusionniste",Sorts!AV140,Sorts!AP96),"") | IQ57: =IF($AU$7<>0,IF($O$5="Illusionniste",Sorts!AW140,Sorts!AQ96),"") | IT57: =IF($AU$7<>0,IF($O$5="Illusionniste",Sorts!AX140,Sorts!AR96),"") | IU57: =IF($AU$7<>0,IF($O$5="Illusionniste",Sorts!AY140,Sorts!AS96),"") | IV57: =IF($AU$7<>0,IF($O$5="Illusionniste",Sorts!AZ140,Sorts!AT96),"")
B58: Bonus | D58: =+$J$19 -> 2 | L58: 21 | M58: 22 | N58: 23 | O58: 24 | P58: 25 | Q58: 26 | R58: 27 | S58: 28 | T58: 29 | U58: 30 | V58: 31 | W58: 32 | X58: 33 | Y58: 34 | Z58: 35 | AA58: 36 | AB58: 37 | AC58: 38 | AD58: 39 | AE58: 40 | CS58: 17 | CT58: =IF($AU$5<>0,IF(OR($O$5="CLERC",$O$5="PALADIN"),Sorts!Q20,Sorts!Q44),"") -> 0 | DG58: 0 | DI58: =IF($AU$5<>0,IF(OR($O$5="CLERC",$O$5="PALADIN"),Sorts!R20,Sorts!R44),"") -> 0 | DL58: =IF($AU$5<>0,IF(OR($O$5="CLERC",$O$5="PALADIN"),Sorts!S20,Sorts!S44),"") -> 0 | DO58: =IF($AU$5<>0,IF(OR($O$5="CLERC",$O$5="PALADIN"),Sorts!T20,Sorts!T44),"") -> 0 | DP58: =IF($AU$5<>0,IF(OR($O$5="CLERC",$O$5="PALADIN"),Sorts!U20,Sorts!U44),"") -> 0 | DQ58: =IF($AU$5<>0,IF(OR($O$5="CLERC",$O$5="PALADIN"),Sorts!V20,Sorts!V44),"") -> 0 | DS58: NC | DU58: 17 | DV58: =IF($AU$7<>0,IF($O$5="Illusionniste",Sorts!W135,Sorts!Q91),"") | EI58: 0 | EK58: =IF($AU$7<>0,IF($O$5="Illusionniste",Sorts!X135,Sorts!R91),"") | EM58: =IF($AU$7<>0,IF($O$5="Illusionniste",Sorts!Y135,Sorts!S91),"") | EP58: =IF($AU$7<>0,IF($O$5="Illusionniste",Sorts!Z135,Sorts!T91),"") | EQ58: =IF($AU$7<>0,IF($O$5="Illusionniste",Sorts!AA135,Sorts!U91),"") | ER58: =IF($AU$7<>0,IF($O$5="Illusionniste",Sorts!AB135,Sorts!V91),"") | EU58: 21 | FU58: NC | FW58: 21 | FX58: =IF($AU$7<>0,IF($O$5="Illusionniste",Sorts!AI139,Sorts!AC95),"") | GK58: 0 | GM58: =IF($AU$7<>0,IF($O$5="Illusionniste",Sorts!AJ139,Sorts!AD95),"") | GO58: =IF($AU$7<>0,IF($O$5="Illusionniste",Sorts!AK139,Sorts!AE95),"") | GR58: =IF($AU$7<>0,IF($O$5="Illusionniste",Sorts!AL139,Sorts!AF95),"") | GS58: =IF($AU$7<>0,IF($O$5="Illusionniste",Sorts!AM139,Sorts!AG95),"") | GT58: =IF($AU$7<>0,IF($O$5="Illusionniste",Sorts!AN139,Sorts!AH95),"") | GW58: 23 | HW58: NC | HY58: 23 | HZ58: =IF($AU$7<>0,IF($O$5="Illusionniste",Sorts!AU141,Sorts!AO97),"") | IM58: 0 | IO58: =IF($AU$7<>0,IF($O$5="Illusionniste",Sorts!AV141,Sorts!AP97),"") | IQ58: =IF($AU$7<>0,IF($O$5="Illusionniste",Sorts!AW141,Sorts!AQ97),"") | IT58: =IF($AU$7<>0,IF($O$5="Illusionniste",Sorts!AX141,Sorts!AR97),"") | IU58: =IF($AU$7<>0,IF($O$5="Illusionniste",Sorts!AY141,Sorts!AS97),"") | IV58: =IF($AU$7<>0,IF($O$5="Illusionniste",Sorts!AZ141,Sorts!AT97),"")
B59: Const | L59: 31 | M59: 32 | N59: 33 | O59: 34 | P59: 35 | Q59: 36 | R59: 37 | S59: 38 | T59: 39 | U59: 40 | V59: 41 | W59: 42 | X59: 43 | Y59: 44 | Z59: 45 | AA59: 46 | AB59: 47 | AC59: 48 | AD59: 49 | AE59: 50 | CS59: 18 | CT59: =IF($AU$5<>0,IF(OR($O$5="CLERC",$O$5="PALADIN"),Sorts!Q21,Sorts!Q45),"") -> 0 | DG59: 0 | DI59: =IF($AU$5<>0,IF(OR($O$5="CLERC",$O$5="PALADIN"),Sorts!R21,Sorts!R45),"") -> 0 | DL59: =IF($AU$5<>0,IF(OR($O$5="CLERC",$O$5="PALADIN"),Sorts!S21,Sorts!S45),"") -> 0 | DO59: =IF($AU$5<>0,IF(OR($O$5="CLERC",$O$5="PALADIN"),Sorts!T21,Sorts!T45),"") -> 0 | DP59: =IF($AU$5<>0,IF(OR($O$5="CLERC",$O$5="PALADIN"),Sorts!U21,Sorts!U45),"") -> 0 | DQ59: =IF($AU$5<>0,IF(OR($O$5="CLERC",$O$5="PALADIN"),Sorts!V21,Sorts!V45),"") -> 0 | DS59: NC | DU59: 18 | DV59: =IF($AU$7<>0,IF($O$5="Illusionniste",Sorts!W136,Sorts!Q92),"") | EI59: 0 | EK59: =IF($AU$7<>0,IF($O$5="Illusionniste",Sorts!X136,Sorts!R92),"") | EM59: =IF($AU$7<>0,IF($O$5="Illusionniste",Sorts!Y136,Sorts!S92),"") | EP59: =IF($AU$7<>0,IF($O$5="Illusionniste",Sorts!Z136,Sorts!T92),"") | EQ59: =IF($AU$7<>0,IF($O$5="Illusionniste",Sorts!AA136,Sorts!U92),"") | ER59: =IF($AU$7<>0,IF($O$5="Illusionniste",Sorts!AB136,Sorts!V92),"") | EU59: 22 | FU59: NC | FW59: 22 | FX59: =IF($AU$7<>0,IF($O$5="Illusionniste",Sorts!AI140,Sorts!AC96),"") | GK59: 0 | GM59: =IF($AU$7<>0,IF($O$5="Illusionniste",Sorts!AJ140,Sorts!AD96),"") | GO59: =IF($AU$7<>0,IF($O$5="Illusionniste",Sorts!AK140,Sorts!AE96),"") | GR59: =IF($AU$7<>0,IF($O$5="Illusionniste",Sorts!AL140,Sorts!AF96),"") | GS59: =IF($AU$7<>0,IF($O$5="Illusionniste",Sorts!AM140,Sorts!AG96),"") | GT59: =IF($AU$7<>0,IF($O$5="Illusionniste",Sorts!AN140,Sorts!AH96),"") | GW59: 24 | HW59: NC | HY59: 24 | HZ59: =IF($AU$7<>0,IF($O$5="Illusionniste",Sorts!AU142,Sorts!AO98),"") | IM59: 0 | IO59: =IF($AU$7<>0,IF($O$5="Illusionniste",Sorts!AV142,Sorts!AP98),"") | IQ59: =IF($AU$7<>0,IF($O$5="Illusionniste",Sorts!AW142,Sorts!AQ98),"") | IT59: =IF($AU$7<>0,IF($O$5="Illusionniste",Sorts!AX142,Sorts!AR98),"") | IU59: =IF($AU$7<>0,IF($O$5="Illusionniste",Sorts!AY142,Sorts!AS98),"") | IV59: =IF($AU$7<>0,IF($O$5="Illusionniste",Sorts!AZ142,Sorts!AT98),"")
