Workbook
Name SHARED_FORMULA_1_62_1_62_1: "RANDBETWEEN(1;60)"
Name SHARED_FORMULA_1_80_1_80_1: "VLOOKUP([.B63];[.$Y$10:.$Z$69];2;FALSE())"
Name SHARED_FORMULA_10_33_10_33_1: "RANDBETWEEN(1;100)"
Name SHARED_FORMULA_10_4_10_4_1: "RANDBETWEEN(1;100)"
Name SHARED_FORMULA_100_22_100_22_1: "RANDBETWEEN(1;20)"
Name SHARED_FORMULA_100_42_100_42_1: "RANDBETWEEN(1;20)"
Name SHARED_FORMULA_100_62_100_62_1: "RANDBETWEEN(1;20)"
Name SHARED_FORMULA_104_22_104_22_1: "RANDBETWEEN(1;20)"
Name SHARED_FORMULA_104_42_104_42_1: "RANDBETWEEN(1;20)"
Name SHARED_FORMULA_13_33_13_33_1: "IF([.Q34]<=[.P34];[.O34];0)"
Name SHARED_FORMULA_13_5_13_5_1: "IF([.Q6]<=[.P6];[.O6];0)"
Name SHARED_FORMULA_13_51_13_51_1: "IF([.Q52]<=[.P52];[.O52];0)"
Name SHARED_FORMULA_16_33_16_33_1: "RANDBETWEEN(1;100)"
Name SHARED_FORMULA_16_4_16_4_1: "RANDBETWEEN(1;100)"
Name SHARED_FORMULA_16_51_16_51_1: "RANDBETWEEN(1;100)"
Name SHARED_FORMULA_19_6_19_6_1: "IF([.W7]<=[.V7];[.U7];0)"
Name SHARED_FORMULA_2_63_2_63_1: "RANDBETWEEN(1;60)"
Name SHARED_FORMULA_2_81_2_81_1: "VLOOKUP([.C64];[.$Y$10:.$Z$69];2;FALSE())"
Name SHARED_FORMULA_20_35_20_35_1: "VLOOKUP([.T36];[.$BU$4:.$BV$104];2;FALSE())"
Name SHARED_FORMULA_22_5_22_5_1: "RANDBETWEEN(1;100)"
Name SHARED_FORMULA_3_64_3_64_1: "RANDBETWEEN(1;60)"
Name SHARED_FORMULA_3_82_3_82_1: "VLOOKUP([.D65];[.$Y$10:.$Z$69];2;FALSE())"
Name SHARED_FORMULA_35_55_35_55_1: "CONCATENATE([.AJ80];[.AL80])"
Name SHARED_FORMULA_36_80_36_80_1: "RANDBETWEEN(10;100)"
Name SHARED_FORMULA_37_80_37_80_1: "VLOOKUP([.AK81];[.$AM$80:.$AN$170];2;FALSE())"
Name SHARED_FORMULA_51_111_51_111_1: "CONCATENATE([.BA112];[.BC112])"
Name SHARED_FORMULA_51_12_51_12_1: "CONCATENATE([.BA13];[.BC13])"
Name SHARED_FORMULA_51_33_51_33_1: "CONCATENATE([.BA34];[.BC34])"
Name SHARED_FORMULA_51_52_51_52_1: "CONCATENATE([.BA53];[.BC53])"
Name SHARED_FORMULA_53_10_53_10_1: "RANDBETWEEN(1;20)"
Name SHARED_FORMULA_53_107_53_107_1: "RANDBETWEEN(1;18)"
Name SHARED_FORMULA_53_31_53_31_1: "RANDBETWEEN(1;18)"
Name SHARED_FORMULA_53_63_53_63_1: "RANDBETWEEN(1;18)"
Name SHARED_FORMULA_54_10_54_10_1: "VLOOKUP([.BB11];[.$BD$10:.$BE$29];2;FALSE())"
Name SHARED_FORMULA_54_107_54_107_1: "VLOOKUP([.BB108];[.$BD$32:.$BE$49];2;FALSE())"
Name SHARED_FORMULA_54_31_54_31_1: "VLOOKUP([.BB32];[.$BD$32:.$BE$49];2;FALSE())"
Name SHARED_FORMULA_54_63_54_63_1: "VLOOKUP([.BB64];[.$BD$32:.$BE$49];2;FALSE())"
Name SHARED_FORMULA_60_11_60_11_1: "CONCATENATE([.BJ12];[.BK12])"
Name SHARED_FORMULA_60_139_60_139_1: "CONCATENATE([.BJ140];[.BL140])"
Name SHARED_FORMULA_60_154_60_154_1: "CONCATENATE([.BJ155];[.BL155])"
Name SHARED_FORMULA_62_10_62_10_1: "VLOOKUP([.BL11];[.$BM$11:.$BN$30];2;FALSE())"
Name SHARED_FORMULA_62_139_62_139_1: "RANDBETWEEN(1;10)"
Name SHARED_FORMULA_62_154_62_154_1: "RANDBETWEEN(1;20)"
Name SHARED_FORMULA_62_42_62_42_1: "VLOOKUP([.BL43];[.$BM$11:.$BN$30];2;FALSE())"
Name SHARED_FORMULA_63_10_63_10_1: "RANDBETWEEN(1;20)"
Name SHARED_FORMULA_63_139_63_139_1: "VLOOKUP([.BK140];[.$BR$138:.$BS$147];2;FALSE())"
Name SHARED_FORMULA_63_154_63_154_1: "VLOOKUP([.BK155];[.$BR$150:.$BS$169];2;FALSE())"
Name SHARED_FORMULA_63_42_63_42_1: "RANDBETWEEN(1;20)"
Name SHARED_FORMULA_7_33_7_33_1: "IF([.K34]<=[.J34];[.I34];0)"
Name SHARED_FORMULA_7_4_7_4_1: "IF([.K5]<=[.J5];[.I5];0)"
Name SHARED_FORMULA_76_15_76_15_1: "RANDBETWEEN(1;20)"
Name SHARED_FORMULA_76_36_76_36_1: "RANDBETWEEN(1;20)"
Name SHARED_FORMULA_76_57_76_57_1: "RANDBETWEEN(1;20)"
Name SHARED_FORMULA_80_15_80_15_1: "RANDBETWEEN(1;20)"
Name SHARED_FORMULA_80_36_80_36_1: "RANDBETWEEN(1;20)"
Name SHARED_FORMULA_80_57_80_57_1: "RANDBETWEEN(1;20)"
Name SHARED_FORMULA_84_15_84_15_1: "RANDBETWEEN(1;20)"
Name SHARED_FORMULA_84_36_84_36_1: "RANDBETWEEN(1;20)"
Name SHARED_FORMULA_84_57_84_57_1: "RANDBETWEEN(1;20)"
Name SHARED_FORMULA_88_15_88_15_1: "RANDBETWEEN(1;20)"

Sheet Trésor
A1: Type de trésor | B1: H
A3: Chance | B3: 0 | F3: =$B$5 -> 0
F4: =IFERROR(VLOOKUP(Trésor!$F$3,DATA!$A$81:$J$101,2,FALSE()),"")
A5: Objets | B5: =VLOOKUP(B1,DATA!M34:N59,2,FALSE()) -> 0 | F5: =IFERROR(VLOOKUP($F$3,DATA!$A$81:$C$101,3,FALSE()),"")
A6: Art | B6: =VLOOKUP(B1,DATA!S6:T31,2,FALSE()) -> 20 | F6: =IFERROR(VLOOKUP($F$3,DATA!$A$81:$D$101,4,FALSE()),"")
A7: Gemmes | B7: =VLOOKUP(B1,DATA!M5:N30,2,FALSE()) -> 0 | F7: =IFERROR(VLOOKUP($F$3,DATA!$A$81:$E$101,5,FALSE()),"")
A8: PP | B8: =VLOOKUP(B1,DATA!G34:H59,2,FALSE()) -> 0 | C8: =IF(B8=0,"",B8*5 & " PO") | F8: =IFERROR(VLOOKUP($F$3,DATA!$A$81:$F$101,6,FALSE()),"")
A9: PO | B9: =VLOOKUP(B1,DATA!A34:B59,2,FALSE()) -> 0 | C9: =IF(B9=0,"",B9 & " PO") | F9: =IFERROR(VLOOKUP($F$3,DATA!$A$81:$G$101,7,FALSE()),"")
A10: PA | B10: =VLOOKUP(B1,DATA!G5:H30,2,FALSE()) -> 5977 | C10: =IF(B10=0,"",ROUND(B10/10,0) & " PO") -> 598 PO | F10: =IFERROR(VLOOKUP($F$3,DATA!$A$81:$H$101,8,FALSE()),"")
A11: PC | B11: =VLOOKUP(B1,DATA!A5:B30,2,FALSE()) -> 0 | C11: =IF(B11=0,"",ROUND(B11/100,0) & " PO") | F11: =IFERROR(VLOOKUP($F$3,DATA!$A$81:$I$101,9,FALSE()),"")
A15: Entrez le type de trésor et appuyez sur "F9" pour générer un trésor de façon aléatoire. La cellule de chance donne un modificateur au % de chance d'avoir une dénomination particulière de trésor. Par exemple, si vous avez un trésor de type "H" et que vous entrez un "5", vos chances de trouver des objets magiques passeront de 15% à 20%. Ceci est utile si le PJ a une pierre de chance, est un prêtre de Tymora, ou simplement favorisé par les dieux pour une raison quelconque. Vous pourriez également ajouter un bonus arbitraire si les PCs battent un monstre exceptionnel. Si cette cellule est laissée à "0", alors le trésor sera jeté selon le GdM de la 2e édition. L'onglet de données contient toutes les informations sur chaque type de trésor pour chaque dénomination.
A23: Created by oak_born
AD39: Protection contre l'électricité

Sheet DATA
A1: Types de trésor
A3: PC | G3: PA | M3: Gemmes
B4: Actual Yield | C4: Yield | D4: %CHANCE | E4: CHANCE | H4: Actual Yield | I4: Yield | J4: %CHANCE | K4: CHANCE | N4: Actual Yield | O4: Yield | P4: %CHANCE | Q4: CHANCE | S4: Art | BU4: 0 | BV4: Potions et huiles
A5: A | B5: =IF(E5<=D5,C5,0) -> 2739 | C5: =RANDBETWEEN(1000,3000) -> 2739 | D5: =25+B31 -> 25 | E5: =RANDBETWEEN(1,100) -> 10 | G5: A | H5: =IF(K5<=J5,I5,0) -> 0 | I5: =RANDBETWEEN(200,2000) -> 1472 | J5: =30+B31 -> 30 | K5: =RANDBETWEEN(1,100) -> 39 | M5: A | N5: =IF(Q5<=P5,O5,0) -> 0 | O5: =RANDBETWEEN(10,40) -> 19 | P5: =60+B31 -> 60 | Q5: =RANDBETWEEN(1,100) -> 78 | T5: Actual Yield | U5: Yield | V5: %CHANCE | W5: CHANCE | BU5: 1 | BV5: Potions et huiles | CV5: Tous sauf armes
A6: B | B6: =IF(E6<=D6,C6,0) -> 1603 | C6: =RANDBETWEEN(1000,6000) -> 1603 | D6: =50+B31 -> 50 | E6: =RANDBETWEEN(1,100) -> 49 | G6: B | H6: =IF(K6<=J6,I6,0) -> 1883 | I6: =RANDBETWEEN(1000,3000) -> 1883 | J6: =25+B31 -> 25 | K6: =RANDBETWEEN(1,100) -> 24 | M6: B | N6: =IF(Q6<=P6,O6,0) -> 7 | O6: =RANDBETWEEN(1,8) -> 7 | P6: =30+B31 -> 30 | Q6: =RANDBETWEEN(1,100) -> 19 | S6: A | T6: =IF(W6<=V6,U6,0) -> 11 | U6: =RANDBETWEEN(2,12) -> 11 | V6: =50+B31 -> 50 | W6: =RANDBETWEEN(1,100) -> 13 | BU6: 2 | BV6: Potions et huiles
A7: C | B7: =IF(E7<=D7,C7,0) -> 9709 | C7: =RANDBETWEEN(1000,10000) -> 9709 | D7: =20+B31 -> 20 | E7: =RANDBETWEEN(1,100) -> 2 | G7: C | H7: =IF(K7<=J7,I7,0) -> 0 | I7: =RANDBETWEEN(1000,6000) -> 2930 | J7: =30+B31 -> 30 | K7: =RANDBETWEEN(1,100) -> 53 | M7: C | N7: =IF(Q7<=P7,O7,0) -> 3 | O7: =RANDBETWEEN(1,6) -> 3 | P7: =25+B31 -> 25 | Q7: =RANDBETWEEN(1,100) -> 14 | S7: B | T7: =IF(W7<=V7,U7,0) -> 0 | U7: =RANDBETWEEN(1,4) -> 4 | V7: =20+B31 -> 20 | W7: =RANDBETWEEN(1,100) -> 74 | BU7: 3 | BV7: Potions et huiles | BX7: 1 | BY7: Jet | CB7: 4 | CC7: Jet | CF7: 7 | CG7: Jet | CJ7: 10 | CK7: Jet | CN7: 13 | CO7: Jet | CR7: 16 | CS7: Jet | CW7: Jet
A8: D | B8: =IF(E8<=D8,C8,0) -> 0 | C8: =RANDBETWEEN(1000,6000) -> 4299 | D8: =10+B31 -> 10 | E8: =RANDBETWEEN(1,100) -> 25 | G8: D | H8: =IF(K8<=J8,I8,0) -> 0 | I8: =RANDBETWEEN(1000,10000) -> 7560 | J8: =15+B31 -> 15 | K8: =RANDBETWEEN(1,100) -> 70 | M8: D | N8: =IF(Q8<=P8,O8,0) -> 0 | O8: =RANDBETWEEN(1,10) -> 9 | P8: =30+B31 -> 30 | Q8: =RANDBETWEEN(1,100) -> 42 | S8: C | T8: =IF(W8<=V8,U8,0) -> 0 | U8: =RANDBETWEEN(1,3) -> 2 | V8: =20+B31 -> 20 | W8: =RANDBETWEEN(1,100) -> 24 | Y8: Potions | AC8: Parchemins | AF8: Anneaux | AI8: Sceptres | AM8: Livres et Tomes | AP8: Capes et Robes | AS8: Sacs, bouteilles, récipients | AV8: Instruments de musique | AY8: Armure | BB8: Jet | BE8: Enchantement | BU8: 4 | BV8: Potions et huiles | BW8: 0 | BX8: =BV4 -> Potions et huiles | BY8: =RANDBETWEEN(1,60) -> 7 | BZ8: =VLOOKUP(BY8,$Y$10:$AA$69,2,FALSE()) -> Potion de Diminution | CB8: =BX8 -> Potions et huiles | CC8: =RANDBETWEEN(1,60) -> 36 | CD8: =VLOOKUP(CC8,$Y$10:$AA$69,2,FALSE()) -> Huile de feux ardents | CF8: =CB8 -> Potions et huiles | CG8: =RANDBETWEEN(1,60) -> 44 | CH8: =VLOOKUP(CG8,$Y$10:$AA$69,2,FALSE()) -> Philtre de persuasion | CJ8: =CF8 -> Potions et huiles | CK8: =RANDBETWEEN(1,60) -> 19 | CL8: =VLOOKUP(CK8,$Y$10:$AA$69,2,FALSE()) -> Potion de Forme gazeuse | CN8: =CJ8 -> Potions et huiles | CO8: =RANDBETWEEN(1,60) -> 24 | CP8: =VLOOKUP(CO8,$Y$10:$AA$69,2,FALSE()) -> Potion de Soins | CR8: =CN8 -> Potions et huiles | CS8: =RANDBETWEEN(1,60) -> 1 | CT8: =VLOOKUP(CS8,$Y$10:$AA$69,2,FALSE()) -> Potion de Contrôle des animaux | CV8: Objet aléatoire 1 | CW8: =RANDBETWEEN(1,75) -> 22 | CX8: =VLOOKUP(CW8,$BU$4:$BV$79,2,FALSE()) -> Parchemins | CY8: =VLOOKUP(CX8,$CV$15:$CX$32,3,FALSE()) -> Protection contre le froid
A9: E | B9: =IF(E9<=D9,C9,0) -> 0 | C9: =RANDBETWEEN(1000,6000) -> 1283 | D9: =5+B31 -> 5 | E9: =RANDBETWEEN(1,100) -> 39 | G9: E | H9: =IF(K9<=J9,I9,0) -> 0 | I9: =RANDBETWEEN(1000,10000) -> 5096 | J9: =25+B31 -> 25 | K9: =RANDBETWEEN(1,100) -> 91 | M9: E | N9: =IF(Q9<=P9,O9,0) -> 0 | O9: =RANDBETWEEN(1,12) -> 4 | P9: =15+B31 -> 15 | Q9: =RANDBETWEEN(1,100) -> 86 | S9: D | T9: =IF(W9<=V9,U9,0) -> 0 | U9: =RANDBETWEEN(1,6) -> 1 | V9: =25+B31 -> 25 | W9: =RANDBETWEEN(1,100) -> 98 | BH9: Armes | BU9: 5 | BV9: Potions et huiles | BW9: 20 | BX9: =BV25 -> Parchemins | BY9: =RANDBETWEEN(1,45) -> 2 | BZ9: =VLOOKUP(BY9,$AC$10:$AD$54,2,FALSE()) -> 1 Sorts niveau 1d4 | CB9: =BX9 -> Parchemins | CC9: =RANDBETWEEN(1,45) -> 26 | CD9: =VLOOKUP(CC9,$AC$10:$AD$54,2,FALSE()) -> Carte | CF9: =CB9 -> Parchemins | CG9: =RANDBETWEEN(1,45) -> 39 | CH9: =VLOOKUP(CG9,$AC$10:$AD$54,2,FALSE()) -> Protection contre les plantes | CJ9: =CF9 -> Parchemins | CK9: =RANDBETWEEN(1,45) -> 35 | CL9: =VLOOKUP(CK9,$AC$10:$AD$54,2,FALSE()) -> Protection contre les lycanthropes | CN9: =CJ9 -> Parchemins | CO9: =RANDBETWEEN(1,45) -> 3 | CP9: =VLOOKUP(CO9,$AC$10:$AD$54,2,FALSE()) -> 1 Sorts niveau 1d4 | CR9: =CN9 -> Parchemins | CS9: =RANDBETWEEN(1,45) -> 8 | CT9: =VLOOKUP(CS9,$AC$10:$AD$54,2,FALSE()) -> 2 Sorts niveau 1d6 | CV9: Objet aléatoire 2 | CW9: =RANDBETWEEN(1,75) -> 74 | CX9: =VLOOKUP(CW9,$BU$4:$BV$79,2,FALSE()) -> Armures et boucliers | CY9: =VLOOKUP(CX9,$CV$35:$CX$52,3,FALSE()) -> Cotte de mailles (+4)
A10: F | G10: F | H10: =IF(K10<=J10,I10,0) -> 0 | I10: =RANDBETWEEN(3000,18000) -> 17803 | J10: =10+B31 -> 10 | K10: =RANDBETWEEN(1,100) -> 92 | M10: F | N10: =IF(Q10<=P10,O10,0) -> 0 | O10: =RANDBETWEEN(2,20) -> 18 | P10: =20+B31 -> 20 | Q10: =RANDBETWEEN(1,100) -> 64 | S10: E | T10: =IF(W10<=V10,U10,0) -> 0 | U10: =RANDBETWEEN(1,6) -> 1 | V10: =10+B31 -> 10 | W10: =RANDBETWEEN(1,100) -> 69 | Y10: 1 | Z10: Potion de Contrôle des animaux | AC10: 1 | AD10: 1 Sorts niveau 1d4 | AG10: Anneaux | AI10: 1 | AJ10: Sceptre de Absorption | AM10: 1 | AN10: Concordat de Boccob | AP10: 1 | AQ10: Cape d'araignée | AS10: 1 | AT10: Cruche d'alchimiste | AV10: 1 | AW10: Carillon d'interruption | BD10: 1 | BE10: (-1) | BU10: 6 | BV10: Potions et huiles | BW10: 35 | BX10: =BV40 -> Anneaux | BY10: =RANDBETWEEN(1,60) -> 45 | BZ10: =VLOOKUP(BY10,$AF$11:$AG$70,2,FALSE()) -> Anneau de Poigne Électrique | CB10: =BX10 -> Anneaux | CC10: =RANDBETWEEN(1,60) -> 29 | CD10: =VLOOKUP(CC10,$AF$11:$AG$70,2,FALSE()) -> Anneau de Saut | CF10: =CB10 -> Anneaux | CG10: =RANDBETWEEN(1,60) -> 5 | CH10: =VLOOKUP(CG10,$AF$11:$AG$70,2,FALSE()) -> Anneau de Caméléon | CJ10: =CF10 -> Anneaux | CK10: =RANDBETWEEN(1,60) -> 36 | CL10: =VLOOKUP(CK10,$AF$11:$AG$70,2,FALSE()) -> Anneau de Bouclier Mental | CN10: =CJ10 -> Anneaux | CO10: =RANDBETWEEN(1,60) -> 27 | CP10: =VLOOKUP(CO10,$AF$11:$AG$70,2,FALSE()) -> Anneau d'Invisibilité | CR10: =CN10 -> Anneaux | CS10: =RANDBETWEEN(1,60) -> 14 | CT10: =VLOOKUP(CS10,$AF$11:$AG$70,2,FALSE()) -> Anneau de Folie | CV10: Objet aléatoire 3 | CW10: =RANDBETWEEN(1,75) -> 72 | CX10: =VLOOKUP(CW10,$BU$4:$BV$79,2,FALSE()) -> Armures et boucliers | CY10: =VLOOKUP(CX10,$CV$55:$CX$72,3,FALSE()) -> Armure de cuir (+1)
A11: G | G11: G | M11: G | N11: =IF(Q11<=P11,O11,0) -> 0 | O11: =RANDBETWEEN(3,18) -> 9 | P11: =30+B31 -> 30 | Q11: =RANDBETWEEN(1,100) -> 96 | S11: F | T11: =IF(W11<=V11,U11,0) -> 0 | U11: =RANDBETWEEN(1,8) -> 7 | V11: =10+B31 -> 10 | W11: =RANDBETWEEN(1,100) -> 75 | Y11: 2 | Z11: Potion de Clairaudience | AC11: 2 | AD11: 1 Sorts niveau 1d4 | AF11: 1 | AG11: Anneau d'Amitié avec les animaux | AI11: 2 | AJ11: Sceptre de Absorption | AM11: 2 | AN11: Concordat de Boccob | AP11: 2 | AQ11: Cape de déplacement | AS11: 2 | AT11: Sac de haricots | AV11: 2 | AW11: Carillon d'ouverture | AY11: 1 | AZ11: =CONCATENATE(BA11,BC11) -> Armure à bandes (+2) | BA11: Armure à bandes | BB11: =RANDBETWEEN(1,20) -> 13 | BC11: =VLOOKUP(BB11,$BD$10:$BE$29,2,FALSE()) -> (+2) | BD11: 2 | BE11: (-1) | BH11: 1 | BI11: =CONCATENATE(BJ11,BK11) -> Flèches (4d6) (-1) | BJ11: Flèches (4d6) | BK11: =VLOOKUP(BL11,$BM$11:$BN$30,2,FALSE()) -> (-1) | BL11: =RANDBETWEEN(1,20) -> 1 | BM11: 1 | BN11: (-1) | BU11: 7 | BV11: Potions et huiles | BW11: 40 | BX11: =BV45 -> Sceptres | BY11: =RANDBETWEEN(1,20) -> 15 | BZ11: =VLOOKUP(BY11,$AI$10:$AJ$29,2,FALSE()) -> Sceptre de Châtiment | CB11: =BX11 -> Sceptres | CC11: =RANDBETWEEN(1,20) -> 2 | CD11: =VLOOKUP(CC11,$AI$10:$AJ$29,2,FALSE()) -> Sceptre de Absorption | CF11: =CB11 -> Sceptres | CG11: =RANDBETWEEN(1,20) -> 9 | CH11: =VLOOKUP(CG11,$AI$10:$AJ$29,2,FALSE()) -> Sceptre de Puissance altière | CJ11: =CF11 -> Sceptres | CK11: =RANDBETWEEN(1,20) -> 14 | CL11: =VLOOKUP(CK11,$AI$10:$AJ$29,2,FALSE()) -> Sceptre de Sécurité | CN11: =CJ11 -> Sceptres | CO11: =RANDBETWEEN(1,20) -> 4 | CP11: =VLOOKUP(CO11,$AI$10:$AJ$29,2,FALSE()) -> Sceptre de Vigilance | CR11: =CN11 -> Sceptres | CS11: =RANDBETWEEN(1,20) -> 19 | CT11: =VLOOKUP(CS11,$AI$10:$AJ$29,2,FALSE()) -> Sceptre de Terreur | CV11: Objet aléatoire 4 | CW11: =RANDBETWEEN(1,75) -> 29 | CX11: =VLOOKUP(CW11,$BU$4:$BV$79,2,FALSE()) -> Parchemins | CY11: =VLOOKUP(CX11,$CZ$15:$DB$32,3,FALSE()) -> Protection contre la possession
A12: H | B12: =IF(E12<=D12,C12,0) -> 0 | C12: =RANDBETWEEN(3000,18000) -> 4479 | D12: =25+B31 -> 25 | E12: =RANDBETWEEN(1,100) -> 27 | G12: H | H12: =IF(K12<=J12,I12,0) -> 5977 | I12: =RANDBETWEEN(2000,20000) -> 5977 | J12: =40+B31 -> 40 | M12: H | N12: =IF(Q12<=P12,O12,0) -> 0 | O12: =RANDBETWEEN(3,30) -> 26 | P12: =50+B31 -> 50 | Q12: =RANDBETWEEN(1,100) -> 71 | S12: G | T12: =IF(W12<=V12,U12,0) -> 0 | U12: =RANDBETWEEN(1,6) -> 6 | V12: =25+B31 -> 25 | W12: =RANDBETWEEN(1,100) -> 32 | Y12: 3 | Z12: Potion de Clairvoyance | AC12: 3 | AD12: 1 Sorts niveau 1d4 | AF12: 2 | AG12: Anneau d'Amitié avec les Animaux | AI12: 3 | AJ12: Sceptre de Vigilance | AM12: 3 | AN12: Concordat de Boccob | AP12: 3 | AQ12: Cape elfique | AS12: 3 | AT12: Sac dévoreur | AV12: 3 | AW12: Carillon d'immense faim | AY12: 2 | AZ12: =CONCATENATE(BA12,BC12) -> Brigandine (+3) | BA12: Brigandine | BB12: =RANDBETWEEN(1,20) -> 15 | BC12: =VLOOKUP(BB12,$BD$10:$BE$29,2,FALSE()) -> (+3) | BD12: 3 | BE12: (+1) | BH12: 2 | BI12: =CONCATENATE(BJ12,BK12) -> Flèches (4d6) (+2) | BJ12: Flèches (4d6) | BK12: =VLOOKUP(BL12,$BM$11:$BN$30,2,FALSE()) -> (+2) | BL12: =RANDBETWEEN(1,20) -> 13 | BM12: 2 | BN12: (-1) | BU12: 8 | BV12: Potions et huiles | BW12: 41 | BX12: =BV46 -> Bâtons | BY12: =RANDBETWEEN(1,20) -> 6 | BZ12: =VLOOKUP(BY12,$AI$33:$AJ$52,2,FALSE()) -> Bâton de Mage | CB12: =BX12 -> Bâtons | CC12: =RANDBETWEEN(1,20) -> 2 | CD12: =VLOOKUP(CC12,$AI$33:$AJ$52,2,FALSE()) -> Bâton Masse d'Armes | CF12: =CB12 -> Bâtons | CG12: =RANDBETWEEN(1,20) -> 7 | CH12: =VLOOKUP(CG12,$AI$33:$AJ$52,2,FALSE()) -> Bâton de Puissance | CJ12: =CF12 -> Bâtons | CK12: =RANDBETWEEN(1,20) -> 13 | CL12: =VLOOKUP(CK12,$AI$33:$AJ$52,2,FALSE()) -> Bâton de Flétrissement | CN12: =CJ12 -> Bâtons | CO12: =RANDBETWEEN(1,20) -> 11 | CP12: =VLOOKUP(CO12,$AI$33:$AJ$52,2,FALSE()) -> Bâton Epieu | CR12: =CN12 -> Bâtons | CS12: =RANDBETWEEN(1,20) -> 8 | CT12: =VLOOKUP(CS12,$AI$33:$AJ$52,2,FALSE()) -> Bâton Serpent | CV12: Objet aléatoire 5 | CW12: =RANDBETWEEN(1,75) -> 61 | CX12: =VLOOKUP(CW12,$BU$4:$BV$79,2,FALSE()) -> Armures et boucliers | CY12: =VLOOKUP(CX12,$CZ$35:$DB$52,3,FALSE()) -> Armure à bandes (+2)
A13: I | G13: I | M13: I | N13: =IF(Q13<=P13,O13,0) -> 2 | O13: =RANDBETWEEN(2,12) -> 2 | P13: =55+B31 -> 55 | Q13: =RANDBETWEEN(1,100) -> 1 | S13: H | T13: =IF(W13<=V13,U13,0) -> 20 | U13: =RANDBETWEEN(2,20) -> 20 | V13: =50+B31 -> 50 | W13: =RANDBETWEEN(1,100) -> 16 | Y13: 4 | Z13: Potion d'Escalade | AC13: 4 | AD13: 1 Sorts niveau 1d4 | AF13: 3 | AG13: Anneau de Clignotement | AI13: 4 | AJ13: Sceptre de Vigilance | AM13: 4 | AN13: Livre d'exaltation suprême | AP13: 4 | AQ13: Cape elfique | AS13: 4 | AT13: Sac sans fond | AV13: 4 | AW13: Tambours d'assourdissement | AY13: 3 | AZ13: =CONCATENATE(BA13,BC13) -> Cotte de mailles (+1) | BA13: Cotte de mailles | BB13: =RANDBETWEEN(1,20) -> 9 | BC13: =VLOOKUP(BB13,$BD$10:$BE$29,2,FALSE()) -> (+1) | BD13: 4 | BE13: (+1) | BH13: 3 | BI13: =CONCATENATE(BJ13,BK13) -> Flèches (2d6) (+3) | BJ13: Flèches (2d6) | BK13: =VLOOKUP(BL13,$BM$11:$BN$30,2,FALSE()) -> (+3) | BL13: =RANDBETWEEN(1,20) -> 16 | BM13: 3 | BN13: (+1) | BU13: 9 | BV13: Potions et huiles | BW13: 42 | BX13: =BV47 -> Baguettes | BY13: =RANDBETWEEN(1,20) -> 9 | BZ13: =VLOOKUP(BY13,$AI$56:$AJ$75,2,FALSE()) -> Baguette d'Illusion (magicien) 33 Charges | CB13: =BX13 -> Baguettes | CC13: =RANDBETWEEN(1,20) -> 19 | CD13: =VLOOKUP(CC13,$AI$56:$AJ$75,2,FALSE()) -> Baguette Prodigieuse 13 Charges | CF13: =CB13 -> Baguettes | CG13: =RANDBETWEEN(1,20) -> 2 | CH13: =VLOOKUP(CG13,$AI$56:$AJ$75,2,FALSE()) -> Baguette de Terre et pierre 63 Charges | CJ13: =CF13 -> Baguettes | CK13: =RANDBETWEEN(1,20) -> 14 | CL13: =VLOOKUP(CK13,$AI$56:$AJ$75,2,FALSE()) -> Baguette de Négation 63 Charges | CN13: =CJ13 -> Baguettes | CO13: =RANDBETWEEN(1,20) -> 16 | CP13: =VLOOKUP(CO13,$AI$56:$AJ$75,2,FALSE()) -> Baguette de Métamorphose (magicien) 61 Charges | CR13: =CN13 -> Baguettes | CS13: =RANDBETWEEN(1,20) -> 16 | CT13: =VLOOKUP(CS13,$AI$56:$AJ$75,2,FALSE()) -> Baguette de Métamorphose (magicien) 61 Charges
A14: J | B14: =IF(E14<=D14,C15,0) -> 0 | C14: =RANDBETWEEN(3,24) -> 13 | D14: 100 | E14: =RANDBETWEEN(1,100) -> 12 | G14: J | M14: J | S14: I | T14: =IF(W14<=V14,U14,0) -> 3 | U14: =RANDBETWEEN(2,8) -> 3 | V14: =55+B31 -> 55 | W14: =RANDBETWEEN(1,100) -> 50 | Y14: 5 | Z14: Potion de Folie | AC14: 5 | AD14: 1 Sorts niveau 1d4 | AF14: 4 | AG14: Anneau de Clignotement | AI14: 5 | AJ14: Sceptre de séduction | AM14: 5 | AN14: Livre de sorts infinis | AP14: 5 | AQ14: Cape empoisonnée | AS14: 5 | AT14: Sac sans fond | AV14: 5 | AW14: Tambours de panique | AY14: 4 | AZ14: =CONCATENATE(BA14,BC14) -> Cotte de mailles (+1) | BA14: Cotte de mailles | BB14: =RANDBETWEEN(1,20) -> 6 | BC14: =VLOOKUP(BB14,$BD$10:$BE$29,2,FALSE()) -> (+1) | BD14: 5 | BE14: (+1) | BH14: 4 | BI14: =CONCATENATE(BJ14,BK14) -> Hache (+4) | BJ14: Hache | BK14: =VLOOKUP(BL14,$BM$11:$BN$30,2,FALSE()) -> (+4) | BL14: =RANDBETWEEN(1,20) -> 18 | BM14: 4 | BN14: (+1) | BU14: 10 | BV14: Potions et huiles | BW14: 45 | BX14: =BV50 -> Livres et grimoires | BY14: =RANDBETWEEN(1,20) -> 20 | BZ14: =VLOOKUP(BY14,$AM$10:$AN$29,2,FALSE()) -> Livre au choix du MD | CB14: =BX14 -> Livres et grimoires | CC14: =RANDBETWEEN(1,20) -> 6 | CD14: =VLOOKUP(CC14,$AM$10:$AN$29,2,FALSE()) -> Livre des viles ténèbres | CF14: =CB14 -> Livres et grimoires | CG14: =RANDBETWEEN(1,20) -> 7 | CH14: =VLOOKUP(CG14,$AM$10:$AN$29,2,FALSE()) -> Grimoire d'inappréciable conjuration | CJ14: =CF14 -> Livres et grimoires | CK14: =RANDBETWEEN(1,20) -> 8 | CL14: =VLOOKUP(CK14,$AM$10:$AN$29,2,FALSE()) -> Grimoire d'ineffable damnation | CN14: =CJ14 -> Livres et grimoires | CO14: =RANDBETWEEN(1,20) -> 10 | CP14: =VLOOKUP(CO14,$AM$10:$AN$29,2,FALSE()) -> Manuel de santé corporelle | CR14: =CN14 -> Livres et grimoires | CS14: =RANDBETWEEN(1,20) -> 5 | CT14: =VLOOKUP(CS14,$AM$10:$AN$29,2,FALSE()) -> Livre de sorts infinis | CV14: 1 | CW14: Jet | CZ14: 4 | DA14: Jet
A15: K | G15: K | H15: =IF(K15<=J15,I15,0) -> 12 | I15: =RANDBETWEEN(3,18) -> 12 | J15: 100 | M15: K | S15: J | Y15: 6 | Z15: Potion de Folie | AC15: 6 | AD15: 1 Sorts niveau 1d4 | AF15: 5 | AG15: Anneau de Caméléon | AI15: 6 | AJ15: Sceptre d'Annulation | AM15: 6 | AN15: Livre des viles ténèbres | AP15: 6 | AQ15: Cape de protection | AS15: 6 | AT15: Sac sans fond | AV15: 6 | AW15: Harpe de séduction | AY15: 5 | AZ15: =CONCATENATE(BA15,BC15) -> Cotte de mailles (+4) | BA15: Cotte de mailles | BB15: =RANDBETWEEN(1,20) -> 18 | BC15: =VLOOKUP(BB15,$BD$10:$BE$29,2,FALSE()) -> (+4) | BD15: 6 | BE15: (+1) | BH15: 5 | BI15: =CONCATENATE(BJ15,BK15) -> Hache (-1) | BJ15: Hache | BK15: =VLOOKUP(BL15,$BM$11:$BN$30,2,FALSE()) -> (-1) | BL15: =RANDBETWEEN(1,20) -> 2 | BM15: 5 | BN15: (+1) | BU15: 11 | BV15: Potions et huiles | BW15: 46 | BX15: =BV51 -> Joyaux et bijoux | BY15: =RANDBETWEEN(1,40) -> 4 | BZ15: =VLOOKUP(BY15,$AM$33:$AN$72,2,FALSE()) -> Amulette d'Immunité à la Détection | CB15: =BX15 -> Joyaux et bijoux | CC15: =RANDBETWEEN(1,40) -> 33 | CD15: =VLOOKUP(CC15,$AM$33:$AN$72,2,FALSE()) -> Broche de folie | CF15: =CB15 -> Joyaux et bijoux | CG15: =RANDBETWEEN(1,40) -> 7 | CH15: =VLOOKUP(CG15,$AM$33:$AN$72,2,FALSE()) -> Broche de Protection | CJ15: =CF15 -> Joyaux et bijoux | CK15: =RANDBETWEEN(1,40) -> 32 | CL15: =VLOOKUP(CK15,$AM$33:$AN$72,2,FALSE()) -> Broche de rage ennemie | CN15: =CJ15 -> Joyaux et bijoux | CO15: =RANDBETWEEN(1,40) -> 14 | CP15: =VLOOKUP(CO15,$AM$33:$AN$72,2,FALSE()) -> Médaillon de Projection des Pensées | CR15: =CN15 -> Joyaux et bijoux | CS15: =RANDBETWEEN(1,40) -> 37 | CT15: =VLOOKUP(CS15,$AM$33:$AN$72,2,FALSE()) -> Talisman des sphères (magicien) | CV15: Potions et huiles | CW15: =RANDBETWEEN(1,60) -> 42 | CX15: =VLOOKUP(CW15,$Y$10:$AA$69,2,FALSE()) -> Philtre de faconde | CZ15: Potions et huiles | DA15: =RANDBETWEEN(1,60) -> 43 | DB15: =VLOOKUP(DA15,$Y$10:$AA$69,2,FALSE()) -> Philtre d'amour
A16: L | G16: L | M16: L | S16: K | Y16: 7 | Z16: Potion de Diminution | AC16: 7 | AD16: 2 Sorts niveau 1d6 | AF16: 6 | AG16: Anneau de Caméléon | AI16: 7 | AJ16: Sceptre d'Annulation | AM16: 7 | AN16: Grimoire d'inappréciable conjuration | AP16: 7 | AQ16: Cape de protection | AS16: 7 | AT16: Sac sans fond | AV16: 7 | AW16: Harpe de discorde | AY16: 6 | AZ16: =CONCATENATE(BA16,BC16) -> Harnois (-1) | BA16: Harnois | BB16: =RANDBETWEEN(1,20) -> 1 | BC16: =VLOOKUP(BB16,$BD$10:$BE$29,2,FALSE()) -> (-1) | BD16: 7 | BE16: (+1) | BH16: 6 | BI16: =CONCATENATE(BJ16,BK16) -> Hache de bataille (+1) | BJ16: Hache de bataille | BK16: =VLOOKUP(BL16,$BM$11:$BN$30,2,FALSE()) -> (+1) | BL16: =RANDBETWEEN(1,20) -> 9 | BM16: 6 | BN16: (+1) | BU16: 12 | BV16: Potions et huiles | BW16: 48 | BX16: =BV53 -> Capes et robes | BY16: =RANDBETWEEN(1,20) -> 6 | BZ16: =VLOOKUP(BY16,$AP$10:$AQ$29,2,FALSE()) -> Cape de protection | CB16: =BX16 -> Capes et robes | CC16: =RANDBETWEEN(1,20) -> 8 | CD16: =VLOOKUP(CC16,$AP$10:$AQ$29,2,FALSE()) -> Cape de protection | CF16: =CB16 -> Capes et robes | CG16: =RANDBETWEEN(1,20) -> 20 | CH16: =VLOOKUP(CG16,$AP$10:$AQ$29,2,FALSE()) -> Cape ou Robe choix du MD | CJ16: =CF16 -> Capes et robes | CK16: =RANDBETWEEN(1,20) -> 18 | CL16: =VLOOKUP(CK16,$AP$10:$AQ$29,2,FALSE()) -> Robe d'utilité (magicien) | CN16: =CJ16 -> Capes et robes | CO16: =RANDBETWEEN(1,20) -> 7 | CP16: =VLOOKUP(CO16,$AP$10:$AQ$29,2,FALSE()) -> Cape de protection | CR16: =CN16 -> Capes et robes | CS16: =RANDBETWEEN(1,20) -> 7 | CT16: =VLOOKUP(CS16,$AP$10:$AQ$29,2,FALSE()) -> Cape de protection | CV16: Parchemins | CW16: =RANDBETWEEN(1,45) -> 28 | CX16: =VLOOKUP(CW16,$AC$10:$AD$54,2,FALSE()) -> Protection contre le froid | CZ16: Parchemins | DA16: =RANDBETWEEN(1,45) -> 41 | DB16: =VLOOKUP(DA16,$AC$10:$AD$54,2,FALSE()) -> Protection contre la possession
A17: M | G17: M | M17: M | S17: L | Y17: 8 | Z17: Potion de Contrôle des dragons | AC17: 8 | AD17: 2 Sorts niveau 1d6 | AF17: 7 | AG17: Anneau de Contradiction | AI17: 8 | AJ17: Sceptre de Fléau d'armes | AM17: 8 | AN17: Grimoire d'ineffable damnation | AP17: 8 | AQ17: Cape de protection | AS17: 8 | AT17: Sac de transmutation | AV17: 8 | AW17: Cor de destruction | AY17: 7 | AZ17: =CONCATENATE(BA17,BC17) -> Harnois plain (+2) | BA17: Harnois plain | BB17: =RANDBETWEEN(1,20) -> 14 | BC17: =VLOOKUP(BB17,$BD$10:$BE$29,2,FALSE()) -> (+2) | BD17: 8 | BE17: (+1) | BH17: 7 | BI17: =CONCATENATE(BJ17,BK17) -> Carreaux (2d10) (+1) | BJ17: Carreaux (2d10) | BK17: =VLOOKUP(BL17,$BM$11:$BN$30,2,FALSE()) -> (+1) | BL17: =RANDBETWEEN(1,20) -> 8 | BM17: 7 | BN17: (+1) | BU17: 13 | BV17: Potions et huiles | BW17: 50 | BX17: =BV55 -> Bottes et gants | BY17: =RANDBETWEEN(1,20) -> 8 | BZ17: =VLOOKUP(BY17,$AP$33:$AQ$52,2,FALSE()) -> Bottes ailées | CB17: =BX17 -> Bottes et gants | CC17: =RANDBETWEEN(1,20) -> 5 | CD17: =VLOOKUP(CC17,$AP$33:$AQ$52,2,FALSE()) -> Bottes de sept lieues | CF17: =CB17 -> Bottes et gants | CG17: =RANDBETWEEN(1,20) -> 20 | CH17: =VLOOKUP(CG17,$AP$33:$AQ$52,2,FALSE()) -> Botte, bracelet ou gant au choix du MD | CJ17: =CF17 -> Bottes et gants | CK17: =RANDBETWEEN(1,20) -> 16 | CL17: =VLOOKUP(CK17,$AP$33:$AQ$52,2,FALSE()) -> Gantelets des ogres (prêtre, roublard, combattant) | CN17: =CJ17 -> Bottes et gants | CO17: =RANDBETWEEN(1,20) -> 4 | CP17: =VLOOKUP(CO17,$AP$33:$AQ$52,2,FALSE()) -> Bottes de rapidité | CR17: =CN17 -> Bottes et gants | CS17: =RANDBETWEEN(1,20) -> 5 | CT17: =VLOOKUP(CS17,$AP$33:$AQ$52,2,FALSE()) -> Bottes de sept lieues | CV17: Anneaux | CW17: =RANDBETWEEN(1,60) -> 48 | CX17: =VLOOKUP(CW17,$AF$11:$AG$70,2,FALSE()) -> Anneau de Retour des Sorts | CZ17: Anneaux | DA17: =RANDBETWEEN(1,60) -> 10 | DB17: =VLOOKUP(DA17,$AF$11:$AG$70,2,FALSE()) -> Anneau de Maladresse
A18: N | G18: N | M18: N | S18: M | Y18: 9 | Z18: Élixir de santé | AC18: 9 | AD18: 2 Sorts niveau 1d6 | AF18: 8 | AG18: Anneau de Contradiction | AI18: 9 | AJ18: Sceptre de Puissance altière | AM18: 9 | AN18: Grimoire de la magie d'argent | AP18: 9 | AQ18: Cape chauve-souris | AS18: 9 | AT18: Sac à malice | AV18: 9 | AW18: Cor à bulles | AY18: 8 | AZ18: =CONCATENATE(BA18,BC18) -> Armure de cuir (+1) | BA18: Armure de cuir | BB18: =RANDBETWEEN(1,20) -> 3 | BC18: =VLOOKUP(BB18,$BD$10:$BE$29,2,FALSE()) -> (+1) | BD18: 9 | BE18: (+1) | BH18: 8 | BI18: =CONCATENATE(BJ18,BK18) -> Carreaux (2d6) (+1) | BJ18: Carreaux (2d6) | BK18: =VLOOKUP(BL18,$BM$11:$BN$30,2,FALSE()) -> (+1) | BL18: =RANDBETWEEN(1,20) -> 5 | BM18: 8 | BN18: (+1) | BU18: 14 | BV18: Potions et huiles | BW18: 52 | BX18: =BV57 -> Ceinturons et heaumes | BY18: =RANDBETWEEN(1,20) -> 3 | BZ18: =VLOOKUP(BY18,$AP$56:$AQ$75,2,FALSE()) -> Ceinturon des nains | CB18: =BX18 -> Ceinturons et heaumes | CC18: =RANDBETWEEN(1,20) -> 16 | CD18: =VLOOKUP(CC18,$AP$56:$AQ$75,2,FALSE()) -> Heaume de télépathie | CF18: =CB18 -> Ceinturons et heaumes | CG18: =RANDBETWEEN(1,20) -> 12 | CH18: =VLOOKUP(CG18,$AP$56:$AQ$75,2,FALSE()) -> Heaume de brillance | CJ18: =CF18 -> Ceinturons et heaumes | CK18: =RANDBETWEEN(1,20) -> 18 | CL18: =VLOOKUP(CK18,$AP$56:$AQ$75,2,FALSE()) -> Heaume des eaux | CN18: =CJ18 -> Ceinturons et heaumes | CO18: =RANDBETWEEN(1,20) -> 17 | CP18: =VLOOKUP(CO18,$AP$56:$AQ$75,2,FALSE()) -> Heaume de téléportation | CR18: =CN18 -> Ceinturons et heaumes | CS18: =RANDBETWEEN(1,20) -> 1 | CT18: =VLOOKUP(CS18,$AP$56:$AQ$75,2,FALSE()) -> Ceinturon des nains | CV18: Sceptres | CW18: =RANDBETWEEN(1,20) -> 17 | CX18: =VLOOKUP(CW18,$AI$10:$AJ$29,2,FALSE()) -> Sceptre de Splendeur | CZ18: Sceptres | DA18: =RANDBETWEEN(1,20) -> 15 | DB18: =VLOOKUP(DA18,$AI$10:$AJ$29,2,FALSE()) -> Sceptre de Châtiment
A19: O | B19: =IF(E19<=D19,C19,0) -> 31 | C19: =RANDBETWEEN(10,40) -> 31 | D19: 100 | E19: =RANDBETWEEN(1,100) -> 22 | G19: O | H19: =IF(K19<=J19,I19,0) -> 15 | I19: =RANDBETWEEN(10,30) -> 15 | J19: 100 | M19: O | S19: N | Y19: 10 | Z19: Élixir de folie | AC19: 10 | AD19: 2 Sorts niveau 1d6 | AF19: 9 | AG19: Anneau de Maladresse | AI19: 10 | AJ19: Sceptre de Passage | AM19: 10 | AN19: Manuel de santé corporelle | AP19: 10 | AQ19: Cape de la raie manta | AS19: 10 | AT19: Becher de potions | AV19: 10 | AW19: Cor d'effondrement | AY19: 9 | AZ19: =CONCATENATE(BA19,BC19) -> Armure de plates (+1) | BA19: Armure de plates | BB19: =RANDBETWEEN(1,20) -> 10 | BC19: =VLOOKUP(BB19,$BD$10:$BE$29,2,FALSE()) -> (+1) | BD19: 10 | BE19: (+1) | BH19: 9 | BI19: =CONCATENATE(BJ19,BK19) -> Billes de fronde (3d4) (+2) | BJ19: Billes de fronde (3d4) | BK19: =VLOOKUP(BL19,$BM$11:$BN$30,2,FALSE()) -> (+2) | BL19: =RANDBETWEEN(1,20) -> 13 | BM19: 9 | BN19: (+1) | BU19: 15 | BV19: Potions et huiles | BW19: 53 | BX19: =BV58 -> Sacs et bouteilles | BY19: =RANDBETWEEN(1,20) -> 16 | BZ19: =VLOOKUP(BY19,$AS$10:$AT$29,2,FALSE()) -> Havresac de Heward | CB19: =BX19 -> Sacs et bouteilles | CC19: =RANDBETWEEN(1,20) -> 15 | CD19: =VLOOKUP(CC19,$AS$10:$AT$29,2,FALSE()) -> Flacon de malédiction | CF19: =CB19 -> Sacs et bouteilles | CG19: =RANDBETWEEN(1,20) -> 8 | CH19: =VLOOKUP(CG19,$AS$10:$AT$29,2,FALSE()) -> Sac de transmutation | CJ19: =CF19 -> Sacs et bouteilles | CK19: =RANDBETWEEN(1,20) -> 9 | CL19: =VLOOKUP(CK19,$AS$10:$AT$29,2,FALSE()) -> Sac à malice | CN19: =CJ19 -> Sacs et bouteilles | CO19: =RANDBETWEEN(1,20) -> 17 | CP19: =VLOOKUP(CO19,$AS$10:$AT$29,2,FALSE()) -> Flasque de fer | CR19: =CN19 -> Sacs et bouteilles | CS19: =RANDBETWEEN(1,20) -> 4 | CT19: =VLOOKUP(CS19,$AS$10:$AT$29,2,FALSE()) -> Sac sans fond | CV19: Bâtons | CW19: =RANDBETWEEN(1,20) -> 16 | CX19: =VLOOKUP(CW19,$AI$33:$AJ$52,2,FALSE()) -> Bâton de Foudre et tonerre | CZ19: Bâtons | DA19: =RANDBETWEEN(1,20) -> 4 | DB19: =VLOOKUP(DA19,$AI$33:$AJ$52,2,FALSE()) -> Bâton de Contrecoup | DE19: Armure ou arme | DK19: Banded Mail | DL19: 1 | DM19: Bandes | DN19: 2
A20: P | G20: P | H20: =IF(K20<=J20,I20,0) -> 19 | I20: =RANDBETWEEN(10,60) -> 19 | J20: 100 | M20: P | S20: O | Y20: 11 | Z20: Élixir de folie | AC20: 11 | AD20: 1 Sorts 1d8+1/niveau 1d6+1 | AF20: 10 | AG20: Anneau de Maladresse | AI20: 11 | AJ20: Sceptre de Résurrection | AM20: 11 | AN20: Manuel d'utiles exercices | AP20: 11 | AQ20: Robe des archimages (magicien) | AS20: 11 | AT20: Bourse de Bucknard | AV20: 11 | AW20: Corde brume | AY20: 10 | AZ20: =CONCATENATE(BA20,BC20) -> Armure de plates (+2) | BA20: Armure de plates | BB20: =RANDBETWEEN(1,20) -> 12 | BC20: =VLOOKUP(BB20,$BD$10:$BE$29,2,FALSE()) -> (+2) | BD20: 11 | BE20: (+2) | BH20: 10 | BI20: =CONCATENATE(BJ20,BK20) -> Dague (+4) | BJ20: Dague | BK20: =VLOOKUP(BL20,$BM$11:$BN$30,2,FALSE()) -> (+4) | BL20: =RANDBETWEEN(1,20) -> 19 | BM20: 10 | BN20: (+1) | BU20: 16 | BV20: Potions et huiles | BW20: 55 | BX20: =BV60 -> Poudres et pierres | BY20: =RANDBETWEEN(1,20) -> 3 | BZ20: =VLOOKUP(BY20,$AS$33:$AT$52,2,FALSE()) -> Poudre de disparition | CB20: =BX20 -> Poudres et pierres | CC20: =RANDBETWEEN(1,20) -> 10 | CD20: =VLOOKUP(CC20,$AS$33:$AT$52,2,FALSE()) -> Pierres ioun | CF20: =CB20 -> Poudres et pierres | CG20: =RANDBETWEEN(1,20) -> 2 | CH20: =VLOOKUP(CG20,$AS$33:$AT$52,2,FALSE()) -> Poudre d'apparition | CJ20: =CF20 -> Poudres et pierres | CK20: =RANDBETWEEN(1,20) -> 13 | CL20: =VLOOKUP(CK20,$AS$33:$AT$52,2,FALSE()) -> Pierre philosophale | CN20: =CJ20 -> Poudres et pierres | CO20: =RANDBETWEEN(1,20) -> 8 | CP20: =VLOOKUP(CO20,$AS$33:$AT$52,2,FALSE()) -> Encens de méditation (prêtre) | CR20: =CN20 -> Poudres et pierres | CS20: =RANDBETWEEN(1,20) -> 19 | CT20: =VLOOKUP(CS20,$AS$33:$AT$52,2,FALSE()) -> Solvant universel | CV20: Baguettes | CW20: =RANDBETWEEN(1,20) -> 11 | CX20: =VLOOKUP(CW20,$AI$56:$AJ$75,2,FALSE()) -> Baguette de Détection de la magie 21 Charges | CZ20: Baguettes | DA20: =RANDBETWEEN(1,20) -> 3 | DB20: =VLOOKUP(DA20,$AI$56:$AJ$75,2,FALSE()) -> Baguette de Détection de l'ennemi 17 Charges | DD20: Jet | DH20: Roll | DK20: Brigandine | DL20: 2 | DM20: Brigandine | DN20: 6
A21: Q | G21: Q | M21: Q | N21: =IF(Q21<=P21,O21,0) -> 4 | O21: =RANDBETWEEN(1,4) -> 4 | P21: 100 | Q21: =RANDBETWEEN(1,100) -> 56 | S21: P | Y21: 12 | Z21: Élixir de jouvence | AC21: 12 | AD21: 2 Sorts niveau 1d4 | AF21: 11 | AG21: Anneau de Folie | AI21: 12 | AJ21: Sceptre de Suzeraineté | AM21: 12 | AN21: Manuel des Golems | AP21: 12 | AQ21: Robe de dissimulation | AS21: 12 | AT21: Carafe d'eau infinie | AV21: 12 | AW21: Cor du bien (du mal) | AY21: 11 | AZ21: =CONCATENATE(BA21,BC21) -> Armure de plates (+3) | BA21: Armure de plates | BB21: =RANDBETWEEN(1,20) -> 17 | BC21: =VLOOKUP(BB21,$BD$10:$BE$29,2,FALSE()) -> (+3) | BD21: 12 | BE21: (+2) | BH21: 11 | BI21: =CONCATENATE(BJ21,BK21) -> Dague (+1) | BJ21: Dague | BK21: =VLOOKUP(BL21,$BM$11:$BN$30,2,FALSE()) -> (+1) | BL21: =RANDBETWEEN(1,20) -> 8 | BM21: 11 | BN21: (+2) | BU21: 17 | BV21: Potions et huiles | BW21: 56 | BX21: =BV61 -> Outils et ustensiles ménagers | BY21: =RANDBETWEEN(1,20) -> 12 | BZ21: =VLOOKUP(BY21,$AS$56:$AT$75,2,FALSE()) -> Corde d'escalade | CB21: =BX21 -> Outils et ustensiles ménagers | CC21: =RANDBETWEEN(1,20) -> 2 | CD21: =VLOOKUP(CC21,$AS$56:$AT$75,2,FALSE()) -> Brasero somnifère (magicien) | CF21: =CB21 -> Outils et ustensiles ménagers | CG21: =RANDBETWEEN(1,20) -> 7 | CH21: =VLOOKUP(CG21,$AS$56:$AT$75,2,FALSE()) -> Maillet des titans (combattant) | CJ21: =CF21 -> Outils et ustensiles ménagers | CK21: =RANDBETWEEN(1,20) -> 4 | CL21: =VLOOKUP(CK21,$AS$56:$AT$75,2,FALSE()) -> Balai volant | CN21: =CJ21 -> Outils et ustensiles ménagers | CO21: =RANDBETWEEN(1,20) -> 13 | CP21: =VLOOKUP(CO21,$AS$56:$AT$75,2,FALSE()) -> Corde d'escalade | CR21: =CN21 -> Outils et ustensiles ménagers | CS21: =RANDBETWEEN(1,20) -> 8 | CT21: =VLOOKUP(CS21,$AS$56:$AT$75,2,FALSE()) -> Miroir d'emprisonnement (magicien) | CV21: Livres et grimoires | CW21: =RANDBETWEEN(1,20) -> 4 | CX21: =VLOOKUP(CW21,$AM$10:$AN$29,2,FALSE()) -> Livre d'exaltation suprême | CZ21: Livres et grimoires | DA21: =RANDBETWEEN(1,20) -> 2 | DB21: =VLOOKUP(DA21,$AM$10:$AN$29,2,FALSE()) -> Concordat de Boccob | DD21: =RANDBETWEEN(1,40) -> 26 | DE21: =VLOOKUP(DD21,DF25:DG64,2,FALSE()) -> Armes | DF21: Armures et boucliers | DG21: =VLOOKUP(DH21,AY11:AZ30,2,FALSE()) -> Armure de plates (+3) | DH21: =RANDBETWEEN(1,20) -> 11 | DK21: Chain Mail | DL21: 3-5 | DM21: Cotte de mailles | DN21: 7-9
A22: R | G22: R | M22: R | N22: =IF(Q22<=P22,O22,0) -> 8 | O22: =RANDBETWEEN(2,8) -> 8 | P22: 100 | Q22: =RANDBETWEEN(1,100) -> 31 | S22: Q | Y22: 13 | Z22: Potion d'ESP | AC22: 13 | AD22: 2 Sorts 1d8+1/niveau 1d6+1 | AF22: 12 | AG22: Anneau de Folie | AI22: 13 | AJ22: Sceptre de Sécurité | AM22: 13 | AN22: Manuel d'expertise martiale | AP22: 13 | AQ22: Robe d'yeux (magicien) | AS22: 13 | AT22: Bouteille d'efrit | AV22: 13 | AW22: Conque des tritons (prêtre, combattant) | AY22: 12 | AZ22: =CONCATENATE(BA22,BC22) -> Armure de plates (+5) | BA22: Armure de plates | BB22: =RANDBETWEEN(1,20) -> 20 | BC22: =VLOOKUP(BB22,$BD$10:$BE$29,2,FALSE()) -> (+5) | BD22: 13 | BE22: (+2) | BH22: 12 | BI22: =CONCATENATE(BJ22,BK22) -> Fléchettes (3d4) (+1) | BJ22: Fléchettes (3d4) | BK22: =VLOOKUP(BL22,$BM$11:$BN$30,2,FALSE()) -> (+1) | BL22: =RANDBETWEEN(1,20) -> 3 | BM22: 12 | BN22: (+2) | BU22: 18 | BV22: Potions et huiles | BW22: 57 | BX22: =BV62 -> Instruments de musique | BY22: =RANDBETWEEN(1,20) -> 4 | BZ22: =VLOOKUP(BY22,$AV$10:$AW$29,2,FALSE()) -> Tambours d'assourdissement | CB22: =BX22 -> Instruments de musique | CC22: =RANDBETWEEN(1,20) -> 18 | CD22: =VLOOKUP(CC22,$AV$10:$AW$29,2,FALSE()) -> Flûte ventriloque | CF22: =CB22 -> Instruments de musique | CG22: =RANDBETWEEN(1,20) -> 17 | CH22: =VLOOKUP(CG22,$AV$10:$AW$29,2,FALSE()) -> Flûte obsédante | CJ22: =CF22 -> Instruments de musique | CK22: =RANDBETWEEN(1,20) -> 17 | CL22: =VLOOKUP(CK22,$AV$10:$AW$29,2,FALSE()) -> Flûte obsédante | CN22: =CJ22 -> Instruments de musique | CO22: =RANDBETWEEN(1,20) -> 12 | CP22: =VLOOKUP(CO22,$AV$10:$AW$29,2,FALSE()) -> Cor du bien (du mal) | CR22: =CN22 -> Instruments de musique | CS22: =RANDBETWEEN(1,20) -> 11 | CT22: =VLOOKUP(CS22,$AV$10:$AW$29,2,FALSE()) -> Corde brume | CV22: Joyaux et bijoux | CW22: =RANDBETWEEN(1,40) -> 3 | CX22: =VLOOKUP(CW22,$AM$33:$AN$72,2,FALSE()) -> Amulette des Plans | CZ22: Joyaux et bijoux | DA22: =RANDBETWEEN(1,40) -> 23 | DB22: =VLOOKUP(DA22,$AM$33:$AN$72,2,FALSE()) -> Perle de sagesse (prêtre) | DE22: =VLOOKUP(DE21,DF21:DG22,2,FALSE()) -> Morgenstern (+3) | DF22: Armes | DG22: =VLOOKUP(DH22,BH11:BI69,2,FALSE()) -> Morgenstern (+3) | DH22: =RANDBETWEEN(1,59) -> 22 | DK22: Field Plate | DL22: 6 | DM22: Harnois | DN22: 14
A23: S | G23: S | M23: S | S23: R | T23: =IF(W23<=V23,U23,0) -> 2 | U23: =RANDBETWEEN(1,3) -> 2 | V23: 100 | W23: =RANDBETWEEN(1,100) -> 38 | Y23: 14 | Z23: Potion de Grands soins | AC23: 14 | AD23: 3 Sorts niveau 1d4 | AF23: 13 | AG23: Anneau de Folie | AI23: 14 | AJ23: Sceptre de Sécurité | AM23: 14 | AN23: Manuel d'agilité | AP23: 14 | AQ23: Robe d'impuissance (magicien) | AS23: 14 | AT23: Bouteille fumante | AV23: 14 | AW23: Cor du Walhalla | AY23: 13 | AZ23: =CONCATENATE(BA23,BC23) -> Armure annelée (+2) | BA23: Armure annelée | BB23: =RANDBETWEEN(1,20) -> 11 | BC23: =VLOOKUP(BB23,$BD$10:$BE$29,2,FALSE()) -> (+2) | BD23: 14 | BE23: (+2) | BH23: 13 | BI23: =CONCATENATE(BJ23,BK23) -> Fléau (+2) | BJ23: Fléau | BK23: =VLOOKUP(BL23,$BM$11:$BN$30,2,FALSE()) -> (+2) | BL23: =RANDBETWEEN(1,20) -> 14 | BM23: 13 | BN23: (+2) | BU23: 19 | BV23: Potions et huiles | BW23: 58 | BX23: =BV63 -> Bizarreries | BY23: =RANDBETWEEN(1,40) -> 6 | BZ23: =VLOOKUP(BY23,$AV$33:$AW$72,2,FALSE()) -> Encensoir contrôlant les élémentaux d'air (magicien) | CB23: =BX23 -> Bizarreries | CC23: =RANDBETWEEN(1,40) -> 36 | CD23: =VLOOKUP(CC23,$AV$33:$AW$72,2,FALSE()) -> Puits des mondes | CF23: =CB23 -> Bizarreries | CG23: =RANDBETWEEN(1,40) -> 25 | CH23: =VLOOKUP(CG23,$AV$33:$AW$72,2,FALSE()) -> Fers du zéphyr | CJ23: =CF23 -> Bizarreries | CK23: =RANDBETWEEN(1,40) -> 9 | CL23: =VLOOKUP(CK23,$AV$33:$AW$72,2,FALSE()) -> Boule de cristal (magicien) | CN23: =CJ23 -> Bizarreries | CO23: =RANDBETWEEN(1,40) -> 40 | CP23: =VLOOKUP(CO23,$AV$33:$AW$72,2,FALSE()) -> Bizarreries au choix du MD | CR23: =CN23 -> Bizarreries | CS23: =RANDBETWEEN(1,40) -> 33 | CT23: =VLOOKUP(CS23,$AV$33:$AW$72,2,FALSE()) -> Drap de petitesse | CV23: Capes et robes | CW23: =RANDBETWEEN(1,20) -> 19 | CX23: =VLOOKUP(CW23,$AP$10:$AQ$29,2,FALSE()) -> Robe de vermine (magicien) | CZ23: Capes et robes | DA23: =RANDBETWEEN(1,20) -> 17 | DB23: =VLOOKUP(DA23,$AP$10:$AQ$29,2,FALSE()) -> Robe d'utilité (magicien) | DK23: Full Plate | DL23: 7 | DM23: Harnois plain | DN23: 15
A24: T | G24: T | M24: T | S24: S | T24: =IF(W24<=V24,U24,0) -> 2 | U24: =RANDBETWEEN(1,8) -> 2 | V24: 100 | W24: =RANDBETWEEN(1,100) -> 96 | Y24: 15 | Z24: Potion de Grands soins | AC24: 15 | AD24: 3 Sorts 1d8+1/niveau 1d6+1 | AF24: 14 | AG24: Anneau de Folie | AI24: 15 | AJ24: Sceptre de Châtiment | AM24: 15 | AN24: Manuel des larcins furtifs | AP24: 15 | AQ24: Robe scintillante (prêtre, magicien) | AS24: 15 | AT24: Flacon de malédiction | AV24: 15 | AW24: Lyre de construction | AY24: 14 | AZ24: =CONCATENATE(BA24,BC24) -> Armure d'écailles (+3) | BA24: Armure d'écailles | BB24: =RANDBETWEEN(1,20) -> 16 | BC24: =VLOOKUP(BB24,$BD$10:$BE$29,2,FALSE()) -> (+3) | BD24: 15 | BE24: (+3) | BH24: 14 | BI24: =CONCATENATE(BJ24,BK24) -> Javelot (1d2) (+3) | BJ24: Javelot (1d2) | BK24: =VLOOKUP(BL24,$BM$11:$BN$30,2,FALSE()) -> (+3) | BL24: =RANDBETWEEN(1,20) -> 17 | BM24: 14 | BN24: (+2) | BU24: 20 | BV24: Potions et huiles | BW24: 60 | BX24: =BV65 -> Armures et boucliers | BY24: =RANDBETWEEN(1,20) -> 7 | BZ24: =VLOOKUP(BY24,$AY$11:$AZ$30,2,FALSE()) -> Harnois plain (+2) | CB24: =BX24 -> Armures et boucliers | CC24: =RANDBETWEEN(1,20) -> 5 | CD24: =VLOOKUP(CC24,$AY$11:$AZ$30,2,FALSE()) -> Cotte de mailles (+4) | CF24: =CB24 -> Armures et boucliers | CG24: =RANDBETWEEN(1,20) -> 1 | CH24: =VLOOKUP(CG24,$AY$11:$AZ$30,2,FALSE()) -> Armure à bandes (+2) | CJ24: =CF24 -> Armures et boucliers | CK24: =RANDBETWEEN(1,20) -> 12 | CL24: =VLOOKUP(CK24,$AY$11:$AZ$30,2,FALSE()) -> Armure de plates (+5) | CN24: =CJ24 -> Armures et boucliers | CO24: =RANDBETWEEN(1,20) -> 15 | CP24: =VLOOKUP(CO24,$AY$11:$AZ$30,2,FALSE()) -> Bouclier (+3) | CR24: =CN24 -> Armures et boucliers | CS24: =RANDBETWEEN(1,20) -> 4 | CT24: =VLOOKUP(CS24,$AY$11:$AZ$30,2,FALSE()) -> Cotte de mailles (+1) | CV24: Bottes et gants | CW24: =RANDBETWEEN(1,20) -> 10 | CX24: =VLOOKUP(CW24,$AP$33:$AQ$52,2,FALSE()) -> Bracelets des jungles | CZ24: Bottes et gants | DA24: =RANDBETWEEN(1,20) -> 17 | DB24: =VLOOKUP(DA24,$AP$33:$AQ$52,2,FALSE()) -> Gantelets de natation et d'escalade (prêtre, roublard, combattant) | DK24: Leather | DL24: 8 | DM24: Cuir | DN24: 10
A25: U | G25: U | M25: U | N25: =IF(Q25<=P25,O25,0) -> 2 | O25: =RANDBETWEEN(2,16) -> 2 | P25: =90+B31 -> 90 | Q25: =RANDBETWEEN(1,100) -> 35 | S25: T | T25: =IF(W25<=V25,U25,0) -> 2 | U25: =RANDBETWEEN(1,4) -> 2 | V25: 100 | W25: =RANDBETWEEN(1,100) -> 24 | Y25: 16 | Z25: Potion de Souffle de feu | AC25: 16 | AD25: 4 Sorts niveau 1d6 | AF25: 15 | AG25: Anneau de Conjuration de Djinns | AI25: 16 | AJ25: Sceptre de Châtiment | AM25: 16 | AN25: Traité de pensée claire | AP25: 16 | AQ25: Robe étoilée (magicien) | AS25: 16 | AT25: Havresac de Heward | AV25: 16 | AW25: Flûte de hantise | AY25: 15 | AZ25: =CONCATENATE(BA25,BC25) -> Bouclier (+3) | BA25: Bouclier | BB25: =RANDBETWEEN(1,20) -> 16 | BC25: =VLOOKUP(BB25,$BD$10:$BE$29,2,FALSE()) -> (+3) | BD25: 16 | BE25: (+3) | BH25: 15 | BI25: =CONCATENATE(BJ25,BK25) -> Couteau (+2) | BJ25: Couteau | BK25: =VLOOKUP(BL25,$BM$11:$BN$30,2,FALSE()) -> (+2) | BL25: =RANDBETWEEN(1,20) -> 12 | BM25: 15 | BN25: (+3) | BU25: 21 | BV25: Parchemins | BW25: 75 | BX25: =BV80 -> Armes | BY25: =RANDBETWEEN(1,59) -> 51 | BZ25: =VLOOKUP(BY25,$BH$11:$BI$69,2,FALSE()) -> Épée (+2) | CB25: =BX25 -> Armes | CC25: =RANDBETWEEN(1,59) -> 3 | CD25: =VLOOKUP(CC25,$BH$11:$BI$69,2,FALSE()) -> Flèches (2d6) (+3) | CF25: =CB25 -> Armes | CG25: =RANDBETWEEN(1,59) -> 53 | CH25: =VLOOKUP(CG25,$BH$11:$BI$69,2,FALSE()) -> Trident (+5) | CJ25: =CF25 -> Armes | CK25: =RANDBETWEEN(1,59) -> 23 | CL25: =VLOOKUP(CK25,$BH$11:$BI$69,2,FALSE()) -> Arme d'hast (+2) | CN25: =CJ25 -> Armes | CO25: =RANDBETWEEN(1,59) -> 21 | CP25: =VLOOKUP(CO25,$BH$11:$BI$69,2,FALSE()) -> Morgenstern (+2) | CR25: =CN25 -> Armes | CS25: =RANDBETWEEN(1,59) -> 7 | CT25: =VLOOKUP(CS25,$BH$11:$BI$69,2,FALSE()) -> Carreaux (2d10) (+1) | CV25: Ceinturons et heaumes | CW25: =RANDBETWEEN(1,20) -> 18 | CX25: =VLOOKUP(CW25,$AP$56:$AQ$75,2,FALSE()) -> Heaume des eaux | CZ25: Ceinturons et heaumes | DA25: =RANDBETWEEN(1,20) -> 4 | DB25: =VLOOKUP(DA25,$AP$56:$AQ$75,2,FALSE()) -> Ceinturon d'hermaphrodite | DF25: 1 | DG25: Armures et boucliers | DK25: Plate Mail | DL25: 9-12 | DM25: Plates | DN25: 16-19
A26: V | G26: V | M26: V | S26: U | T26: =IF(W26<=V26,U26,0) -> 4 | U26: =RANDBETWEEN(1,6) -> 4 | V26: 80 | W26: =RANDBETWEEN(1,100) -> 18 | Y26: 17 | Z26: Potion de Résistance au feu | AC26: 17 | AD26: 4 Sorts 1d8/niveau 1d6 | AF26: 16 | AG26: Anneau de Conjuration de Djinns | AI26: 17 | AJ26: Sceptre de Splendeur | AM26: 17 | AN26: Traité d'autorité et d'influence | AP26: 17 | AQ26: Robe d'utilité (magicien) | AS26: 17 | AT26: Flasque de fer | AV26: 17 | AW26: Flûte obsédante | AY26: 16 | AZ26: =CONCATENATE(BA26,BC26) -> Bouclier (+4) | BA26: Bouclier | BB26: =RANDBETWEEN(1,20) -> 18 | BC26: =VLOOKUP(BB26,$BD$10:$BE$29,2,FALSE()) -> (+4) | BD26: 17 | BE26: (+3) | BH26: 16 | BI26: =CONCATENATE(BJ26,BK26) -> Lance (+5) | BJ26: Lance | BK26: =VLOOKUP(BL26,$BM$11:$BN$30,2,FALSE()) -> (+5) | BL26: =RANDBETWEEN(1,20) -> 20 | BM26: 16 | BN26: (+3) | BU26: 22 | BV26: Parchemins | BW26: 100 | BX26: =BX25 -> Armes | BZ26: =BZ25 -> Épée (+2) | CB26: =BX26 -> Armes | CD26: =CD25 -> Flèches (2d6) (+3) | CF26: =CB26 -> Armes | CH26: =CH25 -> Trident (+5) | CJ26: =CF26 -> Armes | CL26: =CL25 -> Arme d'hast (+2) | CN26: =CJ26 -> Armes | CP26: =CP25 -> Morgenstern (+2) | CR26: =CN26 -> Armes | CT26: =CT25 -> Carreaux (2d10) (+1) | CV26: Sacs et bouteilles | CW26: =RANDBETWEEN(1,20) -> 11 | CX26: =VLOOKUP(CW26,$AS$10:$AT$29,2,FALSE()) -> Bourse de Bucknard | CZ26: Sacs et bouteilles | DA26: =RANDBETWEEN(1,20) -> 15 | DB26: =VLOOKUP(DA26,$AS$10:$AT$29,2,FALSE()) -> Flacon de malédiction | DF26: 2 | DG26: Armures et boucliers | DK26: Ring Mail | DL26: 13 | DM26: Annelée | DN26: 1
A27: W | G27: W | M27: W | N27: =IF(Q27<=P27,O27,0) -> 3 | O27: =RANDBETWEEN(2,16) -> 3 | P27: =60+B31 -> 60 | Q27: =RANDBETWEEN(1,100) -> 54 | S27: V | Y27: 18 | Z27: Potion de Vol | AC27: 18 | AD27: 5 Sorts niveau 1d6 | AF27: 17 | AG27: Anneau de Commande des Élémentaux | AI27: 18 | AJ27: Sceptre de Terreur | AM27: 18 | AN27: Traité de compréhension | AP27: 18 | AQ27: Robe d'utilité (magicien) | AS27: 18 | AT27: Trou portable | AV27: 18 | AW27: Flûte ventriloque | AY27: 17 | AZ27: =CONCATENATE(BA27,BC27) -> Bouclier (+1) | BA27: Bouclier | BB27: =RANDBETWEEN(1,20) -> 3 | BC27: =VLOOKUP(BB27,$BD$10:$BE$29,2,FALSE()) -> (+1) | BD27: 18 | BE27: (+4) | BH27: 17 | BI27: =CONCATENATE(BJ27,BK27) -> Masse (-1) | BJ27: Masse | BK27: =VLOOKUP(BL27,$BM$11:$BN$30,2,FALSE()) -> (-1) | BL27: =RANDBETWEEN(1,20) -> 2 | BM27: 17 | BN27: (+3) | BU27: 23 | BV27: Parchemins | CV27: Poudres et pierres | CW27: =RANDBETWEEN(1,20) -> 11 | CX27: =VLOOKUP(CW27,$AS$33:$AT$52,2,FALSE()) -> Onguent de Kéoghtom | CZ27: Poudres et pierres | DA27: =RANDBETWEEN(1,20) -> 15 | DB27: =VLOOKUP(DA27,$AS$33:$AT$52,2,FALSE()) -> Colle suprême | DF27: 3 | DG27: Armures et boucliers | DK27: Scale Mail | DL27: 14 | DM27: Ecailles | DN27: 12
A28: X | G28: X | M28: X | S28: W | T28: =IF(W28<=V28,U28,0) -> 0 | U28: =RANDBETWEEN(1,8) -> 3 | V28: =50+B31 -> 50 | W28: =RANDBETWEEN(1,100) -> 95 | Y28: 19 | Z28: Potion de Forme gazeuse | AC28: 19 | AD28: 5 Sorts 1d8/niveau 1d6 | AF28: 18 | AG28: Anneau de Commande des Élémentaux | AI28: 19 | AJ28: Sceptre de Terreur | AM28: 19 | AN28: Grimoire des vacuités | AP28: 19 | AQ28: Robe de vermine (magicien) | AS28: 19 | AT28: Bourse d'accessibilité | AV28: 19 | AW28: Flûte enchantée | AY28: 18 | AZ28: =CONCATENATE(BA28,BC28) -> Armure feuilletée (+1) | BA28: Armure feuilletée | BB28: =RANDBETWEEN(1,20) -> 6 | BC28: =VLOOKUP(BB28,$BD$10:$BE$29,2,FALSE()) -> (+1) | BD28: 19 | BE28: (+4) | BH28: 18 | BI28: =CONCATENATE(BJ28,BK28) -> Masse (-1) | BJ28: Masse | BK28: =VLOOKUP(BL28,$BM$11:$BN$30,2,FALSE()) -> (-1) | BL28: =RANDBETWEEN(1,20) -> 1 | BM28: 18 | BN28: (+4) | BU28: 24 | BV28: Parchemins | BX28: 2 | BY28: Jet | CB28: 5 | CC28: Jet | CF28: 8 | CG28: Jet | CJ28: 11 | CK28: Jet | CN28: 14 | CO28: Jet | CR28: 17 | CS28: Jet | CV28: Outils et ustensiles ménagers | CW28: =RANDBETWEEN(1,20) -> 20 | CX28: =VLOOKUP(CW28,$AS$56:$AT$75,2,FALSE()) -> Outil au choix du MD | CZ28: Outils et ustensiles ménagers | DA28: =RANDBETWEEN(1,20) -> 6 | DB28: =VLOOKUP(DA28,$AS$56:$AT$75,2,FALSE()) -> Pioche des titans (combattant) | DF28: 4 | DG28: Armures et boucliers | DK28: Shield | DL28: 15-17 | DM28: Bouclier | DN28: 3-5
A29: Y | G29: Y | M29: Y | S29: X | Y29: 20 | Z29: Potion au choix du MD | AC29: 20 | AD29: 6 Sorts niveau 1d6 | AF29: 19 | AG29: Anneau de Chute de Plume | AI29: 20 | AJ29: Sceptre au choix du MD | AM29: 20 | AN29: Livre au choix du MD | AP29: 20 | AQ29: Cape ou Robe choix du MD | AS29: 20 | AT29: Sac, bouteille ou récipient au choix du MD | AV29: 20 | AW29: Instrument de musique au choix du MD | AY29: 19 | AZ29: =CONCATENATE(BA29,BC29) -> Armure de cuir clouté (+2) | BA29: Armure de cuir clouté | BB29: =RANDBETWEEN(1,20) -> 11 | BC29: =VLOOKUP(BB29,$BD$10:$BE$29,2,FALSE()) -> (+2) | BD29: 20 | BE29: (+5) | BH29: 19 | BI29: =CONCATENATE(BJ29,BK29) -> Pic de guerre (+3) | BJ29: Pic de guerre | BK29: =VLOOKUP(BL29,$BM$11:$BN$30,2,FALSE()) -> (+3) | BL29: =RANDBETWEEN(1,20) -> 16 | BM29: 19 | BN29: (+4) | BU29: 25 | BV29: Parchemins | BX29: =BX8 -> Potions et huiles | BY29: =RANDBETWEEN(1,60) -> 4 | BZ29: =VLOOKUP(BY29,$Y$10:$AA$69,2,FALSE()) -> Potion d'Escalade | CB29: =BX29 -> Potions et huiles | CC29: =RANDBETWEEN(1,60) -> 39 | CD29: =VLOOKUP(CC29,$Y$10:$AA$69,2,FALSE()) -> Huile de glisse | CF29: =CB29 -> Potions et huiles | CG29: =RANDBETWEEN(1,60) -> 32 | CH29: =VLOOKUP(CG29,$Y$10:$AA$69,2,FALSE()) -> Huile antiacide | CJ29: =CF29 -> Potions et huiles | CK29: =RANDBETWEEN(1,60) -> 43 | CL29: =VLOOKUP(CK29,$Y$10:$AA$69,2,FALSE()) -> Philtre d'amour | CN29: =CJ29 -> Potions et huiles | CO29: =RANDBETWEEN(1,60) -> 35 | CP29: =VLOOKUP(CO29,$Y$10:$AA$69,2,FALSE()) -> Huile éthérée | CR29: =CN29 -> Potions et huiles | CS29: =RANDBETWEEN(1,60) -> 50 | CT29: =VLOOKUP(CS29,$Y$10:$AA$69,2,FALSE()) -> Potion d'Éclat irisé | CV29: Instruments de musique | CW29: =RANDBETWEEN(1,20) -> 14 | CX29: =VLOOKUP(CW29,$AV$10:$AW$29,2,FALSE()) -> Cor du Walhalla | CZ29: Instruments de musique | DA29: =RANDBETWEEN(1,20) -> 3 | DB29: =VLOOKUP(DA29,$AV$10:$AW$29,2,FALSE()) -> Carillon d'immense faim | DF29: 5 | DG29: Armures et boucliers | DK29: Splint Mail | DL29: 18 | DM29: Feuilletée | DN29: 13
A30: Z | B30: =IF(E30<=D30,C30,0) -> 135 | C30: =RANDBETWEEN(100,300) -> 135 | D30: 100 | E30: =RANDBETWEEN(1,100) -> 28 | G30: Z | H30: =IF(K30<=J30,I30,0) -> 326 | I30: =RANDBETWEEN(100,400) -> 326 | J30: 100 | M30: Z | N30: =IF(Q30<=P30,O30,0) -> 4 | O30: =RANDBETWEEN(1,6) -> 4 | P30: =55+B31 -> 55 | Q30: =RANDBETWEEN(1,100) -> 51 | S30: Y | Y30: 21 | Z30: Potion de Contrôle des géants | AC30: 21 | AD30: 6 Sorts 1d6+2/niveau 1d4+2 | AF30: 20 | AG30: Anneau de Chute de Plume | AY30: 20 | AZ30: =BA30 -> Cotte de mailles elfique (+2) | BA30: =VLOOKUP(BB30,AY32:AZ222,2,FALSE()) -> Cotte de mailles elfique (+2) | BB30: =RANDBETWEEN(1,191) -> 82 | BH30: 20 | BI30: =CONCATENATE(BJ30,BK30) -> Pic de guerre (+5) | BJ30: Pic de guerre | BK30: =VLOOKUP(BL30,$BM$11:$BN$30,2,FALSE()) -> (+5) | BL30: =RANDBETWEEN(1,20) -> 20 | BM30: 20 | BN30: (+5) | BU30: 26 | BV30: Parchemins | BX30: =BX9 -> Parchemins | BY30: =RANDBETWEEN(1,45) -> 39 | BZ30: =VLOOKUP(BY30,$AC$10:$AD$54,2,FALSE()) -> Protection contre les plantes | CB30: =BX30 -> Parchemins | CC30: =RANDBETWEEN(1,45) -> 41 | CD30: =VLOOKUP(CC30,$AC$10:$AD$54,2,FALSE()) -> Protection contre la possession | CF30: =CB30 -> Parchemins | CG30: =RANDBETWEEN(1,45) -> 32 | CH30: =VLOOKUP(CG30,$AC$10:$AD$54,2,FALSE()) -> Protection contre les élémentaux | CJ30: =CF30 -> Parchemins | CK30: =RANDBETWEEN(1,45) -> 29 | CL30: =VLOOKUP(CK30,$AC$10:$AD$54,2,FALSE()) -> Protection contre les souffles de dragon | CN30: =CJ30 -> Parchemins | CO30: =RANDBETWEEN(1,45) -> 17 | CP30: =VLOOKUP(CO30,$AC$10:$AD$54,2,FALSE()) -> 4 Sorts 1d8/niveau 1d6 | CR30: =CN30 -> Parchemins | CS30: =RANDBETWEEN(1,45) -> 40 | CT30: =VLOOKUP(CS30,$AC$10:$AD$54,2,FALSE()) -> Protection contre le poison | CV30: Bizarreries | CW30: =RANDBETWEEN(1,40) -> 37 | CX30: =VLOOKUP(CW30,$AV$33:$AW$72,2,FALSE()) -> Ëventail des vents | CZ30: Bizarreries | DA30: =RANDBETWEEN(1,40) -> 33 | DB30: =VLOOKUP(DA30,$AV$33:$AW$72,2,FALSE()) -> Drap de petitesse | DF30: 6 | DG30: Armures et boucliers | DK30: Studded Cuir | DL30: 19 | DM30: Cuir clouté | DN30: 11
A31: Luck | B31: =Trésor!B3 -> 0 | S31: Z | T31: =IF(W31<=V31,U31,0) -> 10 | U31: =RANDBETWEEN(2,12) -> 10 | V31: =50+B31 -> 50 | W31: =RANDBETWEEN(1,100) -> 13 | Y31: 22 | Z31: Potion de Force de géant (combattant) | AC31: 22 | AD31: 7 Sorts 1d8 level | AF31: 21 | AG31: Anneau de Résistance au Feu | AI31: Bâtons | AM31: Joyaux, Bijoux et Phylactères | AP31: Bottes, Bracelets, Gants | AS31: Bougies, poudres, onguents, encens et pierres | AV31: Bizarreries | BH31: 21 | BI31: =CONCATENATE(BJ31,BK31) -> Morgenstern (+2) | BJ31: Morgenstern | BK31: =VLOOKUP(BL31,$BM$11:$BN$30,2,FALSE()) -> (+2) | BL31: =RANDBETWEEN(1,20) -> 14 | BU31: 27 | BV31: Parchemins | BX31: =BX10 -> Anneaux | BY31: =RANDBETWEEN(1,60) -> 11 | BZ31: =VLOOKUP(BY31,$AF$11:$AG$70,2,FALSE()) -> Anneau de Folie | CB31: =BX31 -> Anneaux | CC31: =RANDBETWEEN(1,60) -> 11 | CD31: =VLOOKUP(CC31,$AF$11:$AG$70,2,FALSE()) -> Anneau de Folie | CF31: =CB31 -> Anneaux | CG31: =RANDBETWEEN(1,60) -> 15 | CH31: =VLOOKUP(CG31,$AF$11:$AG$70,2,FALSE()) -> Anneau de Conjuration de Djinns | CJ31: =CF31 -> Anneaux | CK31: =RANDBETWEEN(1,60) -> 5 | CL31: =VLOOKUP(CK31,$AF$11:$AG$70,2,FALSE()) -> Anneau de Caméléon | CN31: =CJ31 -> Anneaux | CO31: =RANDBETWEEN(1,60) -> 37 | CP31: =VLOOKUP(CO31,$AF$11:$AG$70,2,FALSE()) -> Anneau de Protection | CR31: =CN31 -> Anneaux | CS31: =RANDBETWEEN(1,60) -> 33 | CT31: =VLOOKUP(CS31,$AF$11:$AG$70,2,FALSE()) -> Anneau de Contrôle des Mammifères | CV31: Armures et boucliers | CW31: =RANDBETWEEN(1,20) -> 5 | CX31: =VLOOKUP(CW31,$AY$11:$AZ$30,2,FALSE()) -> Cotte de mailles (+4) | CZ31: Armures et boucliers | DA31: =RANDBETWEEN(1,20) -> 4 | DB31: =VLOOKUP(DA31,$AY$11:$AZ$30,2,FALSE()) -> Cotte de mailles (+1) | DF31: 7 | DG31: Armures et boucliers
A32: PO | G32: PP | M32: Objets | Y32: 23 | Z32: Potion de Croissance | AC32: 23 | AD32: 7 Sorts 1d8+1/niveau 1d6+1 | AF32: 22 | AG32: Anneau de Résistance au Feu | AY32: 1 | AZ32: =CONCATENATE(BA32,BC32) -> Armure à bandes de commandement (+4) | BA32: Armure à bandes de commandement | BB32: =RANDBETWEEN(1,18) -> 16 | BC32: =VLOOKUP(BB32,$BD$32:$BE$49,2,FALSE()) -> (+4) | BD32: 1 | BE32: (+1) | BH32: 22 | BI32: =CONCATENATE(BJ32,BK32) -> Morgenstern (+3) | BJ32: Morgenstern | BK32: =VLOOKUP(BL32,$BM$11:$BN$30,2,FALSE()) -> (+3) | BL32: =RANDBETWEEN(1,20) -> 16 | BU32: 28 | BV32: Parchemins | BX32: =BX11 -> Sceptres | BY32: =RANDBETWEEN(1,20) -> 18 | BZ32: =VLOOKUP(BY32,$AI$10:$AJ$29,2,FALSE()) -> Sceptre de Terreur | CB32: =BX32 -> Sceptres | CC32: =RANDBETWEEN(1,20) -> 19 | CD32: =VLOOKUP(CC32,$AI$10:$AJ$29,2,FALSE()) -> Sceptre de Terreur | CF32: =CB32 -> Sceptres | CG32: =RANDBETWEEN(1,20) -> 10 | CH32: =VLOOKUP(CG32,$AI$10:$AJ$29,2,FALSE()) -> Sceptre de Passage | CJ32: =CF32 -> Sceptres | CK32: =RANDBETWEEN(1,20) -> 9 | CL32: =VLOOKUP(CK32,$AI$10:$AJ$29,2,FALSE()) -> Sceptre de Puissance altière | CN32: =CJ32 -> Sceptres | CO32: =RANDBETWEEN(1,20) -> 2 | CP32: =VLOOKUP(CO32,$AI$10:$AJ$29,2,FALSE()) -> Sceptre de Absorption | CR32: =CN32 -> Sceptres | CS32: =RANDBETWEEN(1,20) -> 8 | CT32: =VLOOKUP(CS32,$AI$10:$AJ$29,2,FALSE()) -> Sceptre de Fléau d'armes | CV32: Armures et boucliers | CX32: =CX31 -> Cotte de mailles (+4) | CZ32: Armures et boucliers | DB32: =DB31 -> Cotte de mailles (+1) | DF32: 8 | DG32: Armures et boucliers
B33: Actual Yield | C33: Yield | D33: %CHANCE | E33: CHANCE | H33: Actual Yield | I33: Yield | J33: %CHANCE | K33: CHANCE | N33: Actual Yield | O33: Yield | P33: %CHANCE | Q33: CHANCE | Y33: 24 | Z33: Potion de Soins | AC33: 24 | AD33: 7 Sorts 1d6+3/niveau 1d4+3 | AF33: 23 | AG33: Anneau d'Action Libre | AI33: 1 | AJ33: Bâton Masse d'Armes | AM33: 1 | AN33: Amulette de Détection Infaillible | AP33: 1 | AQ33: Bottes de danse | AS33: 1 | AT33: Cierge d'invocation (prêtre) | AV33: 1 | AW33: Appareil de Kwalish | AY33: 2 | AZ33: =CONCATENATE(BA33,BC33) -> Brigandine de commandement (+4) | BA33: Brigandine de commandement | BB33: =RANDBETWEEN(1,18) -> 17 | BC33: =VLOOKUP(BB33,$BD$32:$BE$49,2,FALSE()) -> (+4) | BD33: 2 | BE33: (+1) | BH33: 23 | BI33: =CONCATENATE(BJ33,BK33) -> Arme d'hast (+2) | BJ33: Arme d'hast | BK33: =VLOOKUP(BL33,$BM$11:$BN$30,2,FALSE()) -> (+2) | BL33: =RANDBETWEEN(1,20) -> 13 | BU33: 29 | BV33: Parchemins | BX33: =BX12 -> Bâtons | BY33: =RANDBETWEEN(1,20) -> 8 | BZ33: =VLOOKUP(BY33,$AI$33:$AJ$52,2,FALSE()) -> Bâton Serpent | CB33: =BX33 -> Bâtons | CC33: =RANDBETWEEN(1,20) -> 19 | CD33: =VLOOKUP(CC33,$AI$33:$AJ$52,2,FALSE()) -> Bâton des Grandes Forêts | CF33: =CB33 -> Bâtons | CG33: =RANDBETWEEN(1,20) -> 17 | CH33: =VLOOKUP(CG33,$AI$33:$AJ$52,2,FALSE()) -> Bâton de Soins | CJ33: =CF33 -> Bâtons | CK33: =RANDBETWEEN(1,20) -> 6 | CL33: =VLOOKUP(CK33,$AI$33:$AJ$52,2,FALSE()) -> Bâton de Mage | CN33: =CJ33 -> Bâtons | CO33: =RANDBETWEEN(1,20) -> 2 | CP33: =VLOOKUP(CO33,$AI$33:$AJ$52,2,FALSE()) -> Bâton Masse d'Armes | CR33: =CN33 -> Bâtons | CS33: =RANDBETWEEN(1,20) -> 1 | CT33: =VLOOKUP(CS33,$AI$33:$AJ$52,2,FALSE()) -> Bâton Masse d'Armes | DF33: 9 | DG33: Armures et boucliers
A34: A | B34: =IF(E34<=D34,C34,0) -> 0 | C34: =RANDBETWEEN(1000,6000) -> 5503 | D34: =40+B31 -> 40 | E34: =RANDBETWEEN(1,100) -> 68 | G34: A | H34: =IF(K34<=J34,I34,0) -> 0 | I34: =RANDBETWEEN(300,1800) -> 565 | J34: =35+B31 -> 35 | K34: =RANDBETWEEN(1,100) -> 56 | M34: A | N34: =IF(Q34<=P34,O34,0) -> Tous 3 items | O34: Tous 3 items | P34: =30+B31 -> 30 | Q34: =RANDBETWEEN(1,100) -> 1 | S34: Objets magiques divers | Y34: 25 | Z34: Potion de Soins | AC34: 25 | AD34: Parchemin choix du MD | AF34: 24 | AG34: Anneau d'Action Libre | AI34: 2 | AJ34: Bâton Masse d'Armes | AM34: 2 | AN34: Amulette de Protection Vitale | AP34: 2 | AQ34: Bottes elfiques | AS34: 2 | AT34: Poudre d'apparition | AV34: 2 | AW34: Bateau pliable | AY34: 3 | AZ34: =CONCATENATE(BA34,BC34) -> Cotte de mailles de commandement (+4) | BA34: Cotte de mailles de commandement | BB34: =RANDBETWEEN(1,18) -> 17 | BC34: =VLOOKUP(BB34,$BD$32:$BE$49,2,FALSE()) -> (+4) | BD34: 3 | BE34: (+1) | BH34: 24 | BI34: =CONCATENATE(BJ34,BK34) -> Arme d'hast (+1) | BJ34: Arme d'hast | BK34: =VLOOKUP(BL34,$BM$11:$BN$30,2,FALSE()) -> (+1) | BL34: =RANDBETWEEN(1,20) -> 4 | BU34: 30 | BV34: Parchemins | BX34: =BX13 -> Baguettes | BY34: =RANDBETWEEN(1,20) -> 11 | BZ34: =VLOOKUP(BY34,$AI$56:$AJ$75,2,FALSE()) -> Baguette de Détection de la magie 21 Charges | CB34: =BX34 -> Baguettes | CC34: =RANDBETWEEN(1,20) -> 10 | CD34: =VLOOKUP(CC34,$AI$56:$AJ$75,2,FALSE()) -> Baguette de Foudre (magicien) 47 Charges | CF34: =CB34 -> Baguettes | CG34: =RANDBETWEEN(1,20) -> 19 | CH34: =VLOOKUP(CG34,$AI$56:$AJ$75,2,FALSE()) -> Baguette Prodigieuse 13 Charges | CJ34: =CF34 -> Baguettes | CK34: =RANDBETWEEN(1,20) -> 5 | CL34: =VLOOKUP(CK34,$AI$56:$AJ$75,2,FALSE()) -> Baguette de Feu (magicien) 93 Charges | CN34: =CJ34 -> Baguettes | CO34: =RANDBETWEEN(1,20) -> 20 | CP34: =VLOOKUP(CO34,$AI$56:$AJ$75,2,FALSE()) -> Baguette choix du MD | CR34: =CN34 -> Baguettes | CS34: =RANDBETWEEN(1,20) -> 10 | CT34: =VLOOKUP(CS34,$AI$56:$AJ$75,2,FALSE()) -> Baguette de Foudre (magicien) 47 Charges | CV34: 2 | CW34: Jet | CZ34: 5 | DA34: Jet | DF34: 10 | DG34: Armures et boucliers
A35: B | B35: =IF(E35<=D35,C35,0) -> 0 | C35: =RANDBETWEEN(200,2000) -> 740 | D35: =25+B31 -> 25 | E35: =RANDBETWEEN(1,100) -> 61 | G35: B | H35: =IF(K35<=J35,I35,0) -> 876 | I35: =RANDBETWEEN(100,1000) -> 876 | J35: =25+B31 -> 25 | K35: =RANDBETWEEN(1,100) -> 11 | M35: B | N35: =IF(Q35<=P35,O35,0) -> 0 | O35: Armure ou arme | P35: =10+B31 -> 10 | Q35: =RANDBETWEEN(1,100) -> 43 | Y35: 26 | Z35: Potion d'Héroïsme (Combattant) | AC35: 26 | AD35: Carte | AF35: 25 | AG35: Anneau d'Influence Humaine | AI35: 3 | AJ35: Bâton de Commandement | AM35: 3 | AN35: Amulette des Plans | AP35: 3 | AQ35: Bottes de lévitation | AS35: 3 | AT35: Poudre de disparition | AV35: 3 | AW35: Bateau pliable | AY35: 4 | AZ35: =CONCATENATE(BA35,BC35) -> Cotte de mailles de commandement (+1) | BA35: Cotte de mailles de commandement | BB35: =RANDBETWEEN(1,18) -> 8 | BC35: =VLOOKUP(BB35,$BD$32:$BE$49,2,FALSE()) -> (+1) | BD35: 4 | BE35: (+1) | BH35: 25 | BI35: =CONCATENATE(BJ35,BK35) -> Cimeterre (+1) | BJ35: Cimeterre | BK35: =VLOOKUP(BL35,$BM$11:$BN$30,2,FALSE()) -> (+1) | BL35: =RANDBETWEEN(1,20) -> 4 | BO35: Flèche Tueuse | BU35: 31 | BV35: Parchemins | BX35: =BX14 -> Livres et grimoires | BY35: =RANDBETWEEN(1,20) -> 20 | BZ35: =VLOOKUP(BY35,$AM$10:$AN$29,2,FALSE()) -> Livre au choix du MD | CB35: =BX35 -> Livres et grimoires | CC35: =RANDBETWEEN(1,20) -> 18 | CD35: =VLOOKUP(CC35,$AM$10:$AN$29,2,FALSE()) -> Traité de compréhension | CF35: =CB35 -> Livres et grimoires | CG35: =RANDBETWEEN(1,20) -> 8 | CH35: =VLOOKUP(CG35,$AM$10:$AN$29,2,FALSE()) -> Grimoire d'ineffable damnation | CJ35: =CF35 -> Livres et grimoires | CK35: =RANDBETWEEN(1,20) -> 4 | CL35: =VLOOKUP(CK35,$AM$10:$AN$29,2,FALSE()) -> Livre d'exaltation suprême | CN35: =CJ35 -> Livres et grimoires | CO35: =RANDBETWEEN(1,20) -> 15 | CP35: =VLOOKUP(CO35,$AM$10:$AN$29,2,FALSE()) -> Manuel des larcins furtifs | CR35: =CN35 -> Livres et grimoires | CS35: =RANDBETWEEN(1,20) -> 14 | CT35: =VLOOKUP(CS35,$AM$10:$AN$29,2,FALSE()) -> Manuel d'agilité | CV35: Potions et huiles | CW35: =RANDBETWEEN(1,60) -> 20 | CX35: =VLOOKUP(CW35,$Y$10:$AA$69,2,FALSE()) -> Potion au choix du MD | CZ35: Potions et huiles | DA35: =RANDBETWEEN(1,60) -> 10 | DB35: =VLOOKUP(DA35,$Y$10:$AA$69,2,FALSE()) -> Élixir de folie | DF35: 11 | DG35: Armures et boucliers
A36: C | G36: C | H36: =IF(K36<=J36,I36,0) -> 0 | I36: =RANDBETWEEN(100,600) -> 219 | J36: =10+B31 -> 10 | K36: =RANDBETWEEN(1,100) -> 26 | M36: C | N36: =IF(Q36<=P36,O36,0) -> 0 | O36: Tous 2 items | P36: =10+B31 -> 10 | Q36: =RANDBETWEEN(1,100) -> 36 | S36: Objets magiques divers | T36: =B75 -> 35 | U36: =VLOOKUP(T36,$BU$4:$BV$104,2,FALSE()) -> Parchemins | V36: =VLOOKUP(U36,$BX$8:$BZ$26,3,FALSE()) -> 1 Sorts niveau 1d4 | Y36: 27 | Z36: Potion de Contrôle des personnes | AC36: 27 | AD36: Protection contre l'acide | AF36: 26 | AG36: Anneau d'Influence Humaine | AI36: 4 | AJ36: Bâton de Contrecoup | AM36: 4 | AN36: Amulette d'Immunité à la Détection | AP36: 4 | AQ36: Bottes de rapidité | AS36: 4 | AT36: Poudre de sécheresse | AV36: 4 | AW36: Bol commandant les élémentaux d'eau (magicien) | AY36: 5 | AZ36: =CONCATENATE(BA36,BC36) -> Cotte de mailles de commandement (+3) | BA36: Cotte de mailles de commandement | BB36: =RANDBETWEEN(1,18) -> 13 | BC36: =VLOOKUP(BB36,$BD$32:$BE$49,2,FALSE()) -> (+3) | BD36: 5 | BE36: (+1) | BH36: 26 | BI36: =CONCATENATE(BJ36,BK36) -> Cimeterre (+1) | BJ36: Cimeterre | BK36: =VLOOKUP(BL36,$BM$11:$BN$30,2,FALSE()) -> (+1) | BL36: =RANDBETWEEN(1,20) -> 5 | BN36: 1 | BO36: d'Arachnides | BU36: 32 | BV36: Parchemins | BX36: =BX15 -> Joyaux et bijoux | BY36: =RANDBETWEEN(1,40) -> 29 | BZ36: =VLOOKUP(BY36,$AM$33:$AN$72,2,FALSE()) -> Phylactère de longévité (prêtre) | CB36: =BX36 -> Joyaux et bijoux | CC36: =RANDBETWEEN(1,40) -> 29 | CD36: =VLOOKUP(CC36,$AM$33:$AN$72,2,FALSE()) -> Phylactère de longévité (prêtre) | CF36: =CB36 -> Joyaux et bijoux | CG36: =RANDBETWEEN(1,40) -> 2 | CH36: =VLOOKUP(CG36,$AM$33:$AN$72,2,FALSE()) -> Amulette de Protection Vitale | CJ36: =CF36 -> Joyaux et bijoux | CK36: =RANDBETWEEN(1,40) -> 2 | CL36: =VLOOKUP(CK36,$AM$33:$AN$72,2,FALSE()) -> Amulette de Protection Vitale | CN36: =CJ36 -> Joyaux et bijoux | CO36: =RANDBETWEEN(1,40) -> 21 | CP36: =VLOOKUP(CO36,$AM$33:$AN$72,2,FALSE()) -> Perle de puissance (magicien) | CR36: =CN36 -> Joyaux et bijoux | CS36: =RANDBETWEEN(1,40) -> 32 | CT36: =VLOOKUP(CS36,$AM$33:$AN$72,2,FALSE()) -> Broche de rage ennemie | CV36: Parchemins | CW36: =RANDBETWEEN(1,45) -> 26 | CX36: =VLOOKUP(CW36,$AC$10:$AD$54,2,FALSE()) -> Carte | CZ36: Parchemins | DA36: =RANDBETWEEN(1,45) -> 25 | DB36: =VLOOKUP(DA36,$AC$10:$AD$54,2,FALSE()) -> Parchemin choix du MD | DF36: 12 | DG36: Armures et boucliers
A37: D | B37: =IF(E37<=D37,C37,0) -> 1152 | C37: =RANDBETWEEN(1000,3000) -> 1152 | D37: =50+B31 -> 50 | E37: =RANDBETWEEN(1,100) -> 30 | G37: D | H37: =IF(K37<=J37,I37,0) -> 0 | I37: =RANDBETWEEN(100,600) -> 376 | J37: =15+B31 -> 15 | K37: =RANDBETWEEN(1,100) -> 50 | M37: D | N37: =IF(Q37<=P37,O37,0) -> Tous 2 items + 1 potion | O37: Tous 2 items + 1 potion | P37: =15+B31 -> 15 | Q37: =RANDBETWEEN(1,100) -> 12 | S37: Objets magiques divers | T37: =B76 -> 7 | U37: =VLOOKUP(T37,$BU$4:$BV$104,2,FALSE()) -> Potions et huiles | V37: =VLOOKUP(U37,$BX$29:$BZ$47,3,FALSE()) -> Potion d'Escalade | Y37: 28 | Z37: Potion d'Invisibilité | AC37: 28 | AD37: Protection contre le froid | AF37: 27 | AG37: Anneau d'Invisibilité | AI37: 5 | AJ37: Bâton de Contrecoup | AM37: 5 | AN37: Amulette de Vie | AP37: 5 | AQ37: Bottes de sept lieues | AS37: 5 | AT37: Poudre d'illusion | AV37: 5 | AW37: Bol de mort aqueuse (magicien) | AY37: 6 | AZ37: =CONCATENATE(BA37,BC37) -> Harnois de commandement (+3) | BA37: Harnois de commandement | BB37: =RANDBETWEEN(1,18) -> 15 | BC37: =VLOOKUP(BB37,$BD$32:$BE$49,2,FALSE()) -> (+3) | BD37: 6 | BE37: (+1) | BH37: 27 | BI37: =CONCATENATE(BJ37,BK37) -> Cimeterre (+1) | BJ37: Cimeterre | BK37: =VLOOKUP(BL37,$BM$11:$BN$30,2,FALSE()) -> (+1) | BL37: =RANDBETWEEN(1,20) -> 3 | BN37: 2 | BO37: de Volatiles | BU37: 33 | BV37: Parchemins | BX37: =BX16 -> Capes et robes | BY37: =RANDBETWEEN(1,20) -> 7 | BZ37: =VLOOKUP(BY37,$AP$10:$AQ$29,2,FALSE()) -> Cape de protection | CB37: =BX37 -> Capes et robes | CC37: =RANDBETWEEN(1,20) -> 9 | CD37: =VLOOKUP(CC37,$AP$10:$AQ$29,2,FALSE()) -> Cape chauve-souris | CF37: =CB37 -> Capes et robes | CG37: =RANDBETWEEN(1,20) -> 17 | CH37: =VLOOKUP(CG37,$AP$10:$AQ$29,2,FALSE()) -> Robe d'utilité (magicien) | CJ37: =CF37 -> Capes et robes | CK37: =RANDBETWEEN(1,20) -> 13 | CL37: =VLOOKUP(CK37,$AP$10:$AQ$29,2,FALSE()) -> Robe d'yeux (magicien) | CN37: =CJ37 -> Capes et robes | CO37: =RANDBETWEEN(1,20) -> 13 | CP37: =VLOOKUP(CO37,$AP$10:$AQ$29,2,FALSE()) -> Robe d'yeux (magicien) | CR37: =CN37 -> Capes et robes | CS37: =RANDBETWEEN(1,20) -> 16 | CT37: =VLOOKUP(CS37,$AP$10:$AQ$29,2,FALSE()) -> Robe étoilée (magicien) | CV37: Anneaux | CW37: =RANDBETWEEN(1,60) -> 55 | CX37: =VLOOKUP(CW37,$AF$11:$AG$70,2,FALSE()) -> Anneau de Faiblesse | CZ37: Anneaux | DA37: =RANDBETWEEN(1,60) -> 42 | DB37: =VLOOKUP(DA37,$AF$11:$AG$70,2,FALSE()) -> Anneau de Protection | DF37: 13 | DG37: Armures et boucliers
A38: E | B38: =IF(E38<=D38,C38,0) -> 0 | C38: =RANDBETWEEN(1000,4000) -> 2481 | D38: =25+B31 -> 25 | E38: =RANDBETWEEN(1,100) -> 62 | G38: E | H38: =IF(K38<=J38,I38,0) -> 0 | I38: =RANDBETWEEN(300,1800) -> 373 | J38: =25+B31 -> 25 | K38: =RANDBETWEEN(1,100) -> 66 | M38: E | N38: =IF(Q38<=P38,O38,0) -> 0 | O38: Tous 3 items + 1 Parchemin | P38: =25+B31 -> 25 | Q38: =RANDBETWEEN(1,100) -> 66 | S38: Objets magiques divers | T38: =C76 -> 42 | U38: =VLOOKUP(T38,$BU$4:$BV$104,2,FALSE()) -> Bâtons | V38: =VLOOKUP(U38,$BX$50:$BZ$68,3,FALSE()) -> Bâton de Fustibale | Y38: 29 | Z38: Potion d'Invulnérabilité (combattant) | AC38: 29 | AD38: Protection contre les souffles de dragon | AF38: 28 | AG38: Anneau d'Invisibilité | AI38: 6 | AJ38: Bâton de Mage | AM38: 6 | AN38: Billes de Force | AP38: 6 | AQ38: Bottes nordiques | AS38: 6 | AT38: Poudre sans trace | AV38: 6 | AW38: Encensoir contrôlant les élémentaux d'air (magicien) | AY38: 7 | AZ38: =CONCATENATE(BA38,BC38) -> Harnois plain de commandement (+2) | BA38: Harnois plain de commandement | BB38: =RANDBETWEEN(1,18) -> 10 | BC38: =VLOOKUP(BB38,$BD$32:$BE$49,2,FALSE()) -> (+2) | BD38: 7 | BE38: (+1) | BH38: 28 | BI38: =CONCATENATE(BJ38,BK38) -> Cimeterre (+2) | BJ38: Cimeterre | BK38: =VLOOKUP(BL38,$BM$11:$BN$30,2,FALSE()) -> (+2) | BL38: =RANDBETWEEN(1,20) -> 14 | BN38: 3 | BO38: de Bardes | BU38: 34 | BV38: Parchemins | BX38: =BX17 -> Bottes et gants | BY38: =RANDBETWEEN(1,20) -> 5 | BZ38: =VLOOKUP(BY38,$AP$33:$AQ$52,2,FALSE()) -> Bottes de sept lieues | CB38: =BX38 -> Bottes et gants | CC38: =RANDBETWEEN(1,20) -> 14 | CD38: =VLOOKUP(CC38,$AP$33:$AQ$52,2,FALSE()) -> Gantelets de dextérité | CF38: =CB38 -> Bottes et gants | CG38: =RANDBETWEEN(1,20) -> 4 | CH38: =VLOOKUP(CG38,$AP$33:$AQ$52,2,FALSE()) -> Bottes de rapidité | CJ38: =CF38 -> Bottes et gants | CK38: =RANDBETWEEN(1,20) -> 18 | CL38: =VLOOKUP(CK38,$AP$33:$AQ$52,2,FALSE()) -> Gants antiprojectile | CN38: =CJ38 -> Bottes et gants | CO38: =RANDBETWEEN(1,20) -> 17 | CP38: =VLOOKUP(CO38,$AP$33:$AQ$52,2,FALSE()) -> Gantelets de natation et d'escalade (prêtre, roublard, combattant) | CR38: =CN38 -> Bottes et gants | CS38: =RANDBETWEEN(1,20) -> 20 | CT38: =VLOOKUP(CS38,$AP$33:$AQ$52,2,FALSE()) -> Botte, bracelet ou gant au choix du MD | CV38: Sceptres | CW38: =RANDBETWEEN(1,20) -> 17 | CX38: =VLOOKUP(CW38,$AI$10:$AJ$29,2,FALSE()) -> Sceptre de Splendeur | CZ38: Sceptres | DA38: =RANDBETWEEN(1,20) -> 10 | DB38: =VLOOKUP(DA38,$AI$10:$AJ$29,2,FALSE()) -> Sceptre de Passage | DF38: 14 | DG38: Armures et boucliers
A39: F | B39: =IF(E39<=D39,C39,0) -> 0 | C39: =RANDBETWEEN(1000,6000) -> 4653 | D39: =40+B31 -> 40 | E39: =RANDBETWEEN(1,100) -> 99 | G39: F | H39: =IF(K39<=J39,I39,0) -> 0 | I39: =RANDBETWEEN(1000,4000) -> 1562 | J39: =15+B31 -> 15 | K39: =RANDBETWEEN(1,100) -> 29 | M39: F | N39: =IF(Q39<=P39,O39,0) -> 0 | O39: Tous 5 items except armes | P39: =30+B31 -> 30 | Q39: =RANDBETWEEN(1,100) -> 86 | S39: Objets magiques divers | T39: =B77 -> 25 | U39: =VLOOKUP(T39,$BU$4:$BV$104,2,FALSE()) -> Parchemins | V39: =VLOOKUP(U39,$CB$8:$CD$26,3,FALSE()) -> Carte | Y39: 30 | Z39: Potion de Lévitation | AC39: 30 | AD39: Protection contre l'électricité | AF39: 29 | AG39: Anneau de Saut | AI39: 7 | AJ39: Bâton de Puissance | AM39: 7 | AN39: Broche de Protection | AP39: 7 | AQ39: Bottes aux pas multiples | AS39: 7 | AT39: Poudre de toux et étouffement | AV39: 7 | AW39: Encensoir conjurant des élémentaux d'air hostiles (magicien) | AY39: 8 | AZ39: =CONCATENATE(BA39,BC39) -> Armure en cuir de commandement (+1) | BA39: Armure en cuir de commandement | BB39: =RANDBETWEEN(1,18) -> 1 | BC39: =VLOOKUP(BB39,$BD$32:$BE$49,2,FALSE()) -> (+1) | BD39: 8 | BE39: (+1) | BH39: 29 | BI39: =CONCATENATE(BJ39,BK39) -> Épieu (+3) | BJ39: Épieu | BK39: =VLOOKUP(BL39,$BM$11:$BN$30,2,FALSE()) -> (+3) | BL39: =RANDBETWEEN(1,20) -> 15 | BN39: 4 | BO39: de Clercs | BU39: 35 | BV39: Parchemins | BX39: =BX18 -> Ceinturons et heaumes | BY39: =RANDBETWEEN(1,20) -> 11 | BZ39: =VLOOKUP(BY39,$AP$56:$AQ$75,2,FALSE()) -> Chapeau de stupidité | CB39: =BX39 -> Ceinturons et heaumes | CC39: =RANDBETWEEN(1,20) -> 12 | CD39: =VLOOKUP(CC39,$AP$56:$AQ$75,2,FALSE()) -> Heaume de brillance | CF39: =CB39 -> Ceinturons et heaumes | CG39: =RANDBETWEEN(1,20) -> 11 | CH39: =VLOOKUP(CG39,$AP$56:$AQ$75,2,FALSE()) -> Chapeau de stupidité | CJ39: =CF39 -> Ceinturons et heaumes | CK39: =RANDBETWEEN(1,20) -> 6 | CL39: =VLOOKUP(CK39,$AP$56:$AQ$75,2,FALSE()) -> Ceinturon des géants (prêtre, roublard, combattant) | CN39: =CJ39 -> Ceinturons et heaumes | CO39: =RANDBETWEEN(1,20) -> 17 | CP39: =VLOOKUP(CO39,$AP$56:$AQ$75,2,FALSE()) -> Heaume de téléportation | CR39: =CN39 -> Ceinturons et heaumes | CS39: =RANDBETWEEN(1,20) -> 9 | CT39: =VLOOKUP(CS39,$AP$56:$AQ$75,2,FALSE()) -> Ceinturon à poches | CV39: Bâtons | CW39: =RANDBETWEEN(1,20) -> 13 | CX39: =VLOOKUP(CW39,$AI$33:$AJ$52,2,FALSE()) -> Bâton de Flétrissement | CZ39: Bâtons | DA39: =RANDBETWEEN(1,20) -> 20 | DB39: =VLOOKUP(DA39,$AI$33:$AJ$52,2,FALSE()) -> Bâton choix du MD | DF39: 15 | DG39: Armures et boucliers
A40: G | B40: =IF(E40<=D40,C40,0) -> 4615 | C40: =RANDBETWEEN(2000,20000) -> 4615 | D40: =50+B31 -> 50 | E40: =RANDBETWEEN(1,100) -> 32 | G40: G | H40: =IF(K40<=J40,I40,0) -> 0 | I40: =RANDBETWEEN(1000,10000) -> 9567 | J40: =50+B31 -> 50 | K40: =RANDBETWEEN(1,100) -> 78 | M40: G | N40: =IF(Q40<=P40,O40,0) -> Tous 5 items | O40: Tous 5 items | P40: =35+B31 -> 35 | Q40: =RANDBETWEEN(1,100) -> 4 | S40: Objets magiques divers | T40: =C77 -> 67 | U40: =VLOOKUP(T40,$BU$4:$BV$104,2,FALSE()) -> Armures et boucliers | V40: =VLOOKUP(U40,$CB$29:$CD$47,3,FALSE()) -> Armure de plates (+2) | Y40: 31 | Z40: Potion de Longévité | AC40: 31 | AD40: Protection contre les élémentaux | AF40: 30 | AG40: Anneau de Saut | AI40: 8 | AJ40: Bâton Serpent | AM40: 8 | AN40: Gemme Étincelante | AP40: 8 | AQ40: Bottes ailées | AS40: 8 | AT40: Encens de méditation (prêtre) | AV40: 8 | AW40: Boule de cristal (magicien) | AY40: 9 | AZ40: =CONCATENATE(BA40,BC40) -> Plates de commandement (+1) | BA40: Plates de commandement | BB40: =RANDBETWEEN(1,18) -> 2 | BC40: =VLOOKUP(BB40,$BD$32:$BE$49,2,FALSE()) -> (+1) | BD40: 9 | BE40: (+2) | BH40: 30 | BI40: =CONCATENATE(BJ40,BK40) -> Épieu (+2) | BJ40: Épieu | BK40: =VLOOKUP(BL40,$BM$11:$BN$30,2,FALSE()) -> (+2) | BL40: =RANDBETWEEN(1,20) -> 14 | BN40: 5 | BO40: de Dragons | BU40: 36 | BV40: Anneaux | BX40: =BX19 -> Sacs et bouteilles | BY40: =RANDBETWEEN(1,20) -> 7 | BZ40: =VLOOKUP(BY40,$AS$10:$AT$29,2,FALSE()) -> Sac sans fond | CB40: =BX40 -> Sacs et bouteilles | CC40: =RANDBETWEEN(1,20) -> 20 | CD40: =VLOOKUP(CC40,$AS$10:$AT$29,2,FALSE()) -> Sac, bouteille ou récipient au choix du MD | CF40: =CB40 -> Sacs et bouteilles | CG40: =RANDBETWEEN(1,20) -> 11 | CH40: =VLOOKUP(CG40,$AS$10:$AT$29,2,FALSE()) -> Bourse de Bucknard | CJ40: =CF40 -> Sacs et bouteilles | CK40: =RANDBETWEEN(1,20) -> 17 | CL40: =VLOOKUP(CK40,$AS$10:$AT$29,2,FALSE()) -> Flasque de fer | CN40: =CJ40 -> Sacs et bouteilles | CO40: =RANDBETWEEN(1,20) -> 7 | CP40: =VLOOKUP(CO40,$AS$10:$AT$29,2,FALSE()) -> Sac sans fond | CR40: =CN40 -> Sacs et bouteilles | CS40: =RANDBETWEEN(1,20) -> 13 | CT40: =VLOOKUP(CS40,$AS$10:$AT$29,2,FALSE()) -> Bouteille d'efrit | CV40: Baguettes | CW40: =RANDBETWEEN(1,20) -> 2 | CX40: =VLOOKUP(CW40,$AI$56:$AJ$75,2,FALSE()) -> Baguette de Terre et pierre 63 Charges | CZ40: Baguettes | DA40: =RANDBETWEEN(1,20) -> 16 | DB40: =VLOOKUP(DA40,$AI$56:$AJ$75,2,FALSE()) -> Baguette de Métamorphose (magicien) 61 Charges | DF40: 16 | DG40: Armes
A41: H | B41: =IF(E41<=D41,C41,0) -> 0 | C41: =RANDBETWEEN(2000,20000) -> 11424 | D41: =55+B31 -> 55 | E41: =RANDBETWEEN(1,100) -> 59 | G41: H | H41: =IF(K41<=J41,I41,0) -> 0 | I41: =RANDBETWEEN(1000,8000) -> 6164 | J41: =40+B31 -> 40 | K41: =RANDBETWEEN(1,100) -> 46 | M41: H | N41: =IF(Q41<=P41,O41,0) -> 0 | O41: Tous 6 items | P41: =15+B31 -> 15 | Q41: =RANDBETWEEN(1,100) -> 32 | S41: Objets magiques divers | T41: =D77 -> 7 | U41: =VLOOKUP(T41,$BU$4:$BV$104,2,FALSE()) -> Potions et huiles | V41: =VLOOKUP(U41,$CB$50:$CD$68,3,FALSE()) -> Potion d'Éclat irisé | Y41: 32 | Z41: Huile antiacide | AC41: 32 | AD41: Protection contre les élémentaux | AF41: 31 | AG41: Anneau de Saut | AI41: 9 | AJ41: Bâton de Fustibale | AM41: 9 | AN41: Gemme de Perspicacité | AP41: 9 | AQ41: Bracelets d'archer (guerrier) | AS41: 9 | AT41: Encens d'obsession (prêtre) | AV41: 9 | AW41: Boule de cristal (magicien) | AY41: 10 | AZ41: =CONCATENATE(BA41,BC41) -> Plates de commandement (+2) | BA41: Plates de commandement | BB41: =RANDBETWEEN(1,18) -> 11 | BC41: =VLOOKUP(BB41,$BD$32:$BE$49,2,FALSE()) -> (+2) | BD41: 10 | BE41: (+2) | BH41: 31 | BI41: =CONCATENATE(BJ41,BK41) -> Épieu (+1) | BJ41: Épieu | BK41: =VLOOKUP(BL41,$BM$11:$BN$30,2,FALSE()) -> (+1) | BL41: =RANDBETWEEN(1,20) -> 8 | BN41: 6 | BO41: de Druides | BU41: 37 | BV41: Anneaux | BX41: =BX20 -> Poudres et pierres | BY41: =RANDBETWEEN(1,20) -> 10 | BZ41: =VLOOKUP(BY41,$AS$33:$AT$52,2,FALSE()) -> Pierres ioun | CB41: =BX41 -> Poudres et pierres | CC41: =RANDBETWEEN(1,20) -> 12 | CD41: =VLOOKUP(CC41,$AS$33:$AT$52,2,FALSE()) -> Pigments de Nolzur | CF41: =CB41 -> Poudres et pierres | CG41: =RANDBETWEEN(1,20) -> 7 | CH41: =VLOOKUP(CG41,$AS$33:$AT$52,2,FALSE()) -> Poudre de toux et étouffement | CJ41: =CF41 -> Poudres et pierres | CK41: =RANDBETWEEN(1,20) -> 13 | CL41: =VLOOKUP(CK41,$AS$33:$AT$52,2,FALSE()) -> Pierre philosophale | CN41: =CJ41 -> Poudres et pierres | CO41: =RANDBETWEEN(1,20) -> 12 | CP41: =VLOOKUP(CO41,$AS$33:$AT$52,2,FALSE()) -> Pigments de Nolzur | CR41: =CN41 -> Poudres et pierres | CS41: =RANDBETWEEN(1,20) -> 1 | CT41: =VLOOKUP(CS41,$AS$33:$AT$52,2,FALSE()) -> Cierge d'invocation (prêtre) | CV41: Livres et grimoires | CW41: =RANDBETWEEN(1,20) -> 15 | CX41: =VLOOKUP(CW41,$AM$10:$AN$29,2,FALSE()) -> Manuel des larcins furtifs | CZ41: Livres et grimoires | DA41: =RANDBETWEEN(1,20) -> 14 | DB41: =VLOOKUP(DA41,$AM$10:$AN$29,2,FALSE()) -> Manuel d'agilité | DF41: 17 | DG41: Armes
A42: I | G42: I | H42: =IF(K42<=J42,I42,0) -> 0 | I42: =RANDBETWEEN(100,600) -> 587 | J42: =30+B31 -> 30 | K42: =RANDBETWEEN(1,100) -> 50 | M42: I | N42: =IF(Q42<=P42,O42,0) -> 0 | O42: Tout 1 item | P42: =15+B31 -> 15 | Q42: =RANDBETWEEN(1,100) -> 96 | S42: Objets magiques divers | T42: =B78 -> 8 | U42: =VLOOKUP(T42,$BU$4:$BV$104,2,FALSE()) -> Potions et huiles | V42: =VLOOKUP(U42,$CF$8:$CH$26,3,FALSE()) -> Philtre de persuasion | Y42: 33 | Z42: Huile de désenchantement | AC42: 33 | AD42: Protection contre le feu | AF42: 32 | AG42: Anneau de Saut | AI42: 10 | AJ42: Bâton de Fustibale | AM42: 10 | AN42: Gemme de Vision | AP42: 10 | AQ42: Bracelets des jungles | AS42: 10 | AT42: Pierres ioun | AV42: 10 | AW42: Boule de cristal hypnotique (magicien) | AY42: 11 | AZ42: =CONCATENATE(BA42,BC42) -> Plates de commandement (+2) | BA42: Plates de commandement | BB42: =RANDBETWEEN(1,18) -> 9 | BC42: =VLOOKUP(BB42,$BD$32:$BE$49,2,FALSE()) -> (+2) | BD42: 11 | BE42: (+2) | BH42: 32 | BI42: =CONCATENATE(BJ42,BK42) -> Épieu (+1) | BJ42: Épieu | BK42: =VLOOKUP(BL42,$BM$11:$BN$30,2,FALSE()) -> (+1) | BL42: =RANDBETWEEN(1,20) -> 9 | BN42: 7 | BO42: d'Élémentaux | BU42: 38 | BV42: Anneaux | BX42: =BX21 -> Outils et ustensiles ménagers | BY42: =RANDBETWEEN(1,20) -> 6 | BZ42: =VLOOKUP(BY42,$AS$56:$AT$75,2,FALSE()) -> Pioche des titans (combattant) | CB42: =BX42 -> Outils et ustensiles ménagers | CC42: =RANDBETWEEN(1,20) -> 5 | CD42: =VLOOKUP(CC42,$AS$56:$AT$75,2,FALSE()) -> Tapis volant | CF42: =CB42 -> Outils et ustensiles ménagers | CG42: =RANDBETWEEN(1,20) -> 6 | CH42: =VLOOKUP(CG42,$AS$56:$AT$75,2,FALSE()) -> Pioche des titans (combattant) | CJ42: =CF42 -> Outils et ustensiles ménagers | CK42: =RANDBETWEEN(1,20) -> 18 | CL42: =VLOOKUP(CK42,$AS$56:$AT$75,2,FALSE()) -> Scie fabuleuse (combattant) | CN42: =CJ42 -> Outils et ustensiles ménagers | CO42: =RANDBETWEEN(1,20) -> 7 | CP42: =VLOOKUP(CO42,$AS$56:$AT$75,2,FALSE()) -> Maillet des titans (combattant) | CR42: =CN42 -> Outils et ustensiles ménagers | CS42: =RANDBETWEEN(1,20) -> 12 | CT42: =VLOOKUP(CS42,$AS$56:$AT$75,2,FALSE()) -> Corde d'escalade | CV42: Joyaux et bijoux | CW42: =RANDBETWEEN(1,40) -> 1 | CX42: =VLOOKUP(CW42,$AM$33:$AN$72,2,FALSE()) -> Amulette de Détection Infaillible | CZ42: Joyaux et bijoux | DA42: =RANDBETWEEN(1,40) -> 17 | DB42: =VLOOKUP(DA42,$AM$33:$AN$72,2,FALSE()) -> Collier de Projectiles | DF42: 18 | DG42: Armes
A43: J | G43: J | M43: J | S43: Objets magiques divers | T43: =C78 -> 40 | U43: =VLOOKUP(T43,$BU$4:$BV$104,2,FALSE()) -> Anneaux | V43: =VLOOKUP(U43,$CF$29:$CH$47,3,FALSE()) -> Anneau de Conjuration de Djinns | Y43: 34 | Z43: Huile d'invulnérabilité élémentaire | AC43: 34 | AD43: Protection contre le gaz | AF43: 33 | AG43: Anneau de Contrôle des Mammifères | AI43: 11 | AJ43: Bâton Epieu | AM43: 11 | AN43: Joyau d'Attaque | AP43: 11 | AQ43: Bracelets de défense | AS43: 11 | AT43: Onguent de Kéoghtom | AV43: 11 | AW43: Cube de force | AY43: 12 | AZ43: =CONCATENATE(BA43,BC43) -> Plates de commandement (+1) | BA43: Plates de commandement | BB43: =RANDBETWEEN(1,18) -> 1 | BC43: =VLOOKUP(BB43,$BD$32:$BE$49,2,FALSE()) -> (+1) | BD43: 12 | BE43: (+2) | BH43: 33 | BI43: =CONCATENATE(BJ43,BK43) -> Épieu (+4) | BJ43: Épieu | BK43: =VLOOKUP(BL43,$BM$11:$BN$30,2,FALSE()) -> (+4) | BL43: =RANDBETWEEN(1,20) -> 18 | BN43: 8 | BO43: de Guerriers | BU43: 39 | BV43: Anneaux | BX43: =BX22 -> Instruments de musique | BY43: =RANDBETWEEN(1,20) -> 2 | BZ43: =VLOOKUP(BY43,$AV$10:$AW$29,2,FALSE()) -> Carillon d'ouverture | CB43: =BX43 -> Instruments de musique | CC43: =RANDBETWEEN(1,20) -> 13 | CD43: =VLOOKUP(CC43,$AV$10:$AW$29,2,FALSE()) -> Conque des tritons (prêtre, combattant) | CF43: =CB43 -> Instruments de musique | CG43: =RANDBETWEEN(1,20) -> 19 | CH43: =VLOOKUP(CG43,$AV$10:$AW$29,2,FALSE()) -> Flûte enchantée | CJ43: =CF43 -> Instruments de musique | CK43: =RANDBETWEEN(1,20) -> 15 | CL43: =VLOOKUP(CK43,$AV$10:$AW$29,2,FALSE()) -> Lyre de construction | CN43: =CJ43 -> Instruments de musique | CO43: =RANDBETWEEN(1,20) -> 13 | CP43: =VLOOKUP(CO43,$AV$10:$AW$29,2,FALSE()) -> Conque des tritons (prêtre, combattant) | CR43: =CN43 -> Instruments de musique | CS43: =RANDBETWEEN(1,20) -> 8 | CT43: =VLOOKUP(CS43,$AV$10:$AW$29,2,FALSE()) -> Cor de destruction | CV43: Capes et robes | CW43: =RANDBETWEEN(1,20) -> 16 | CX43: =VLOOKUP(CW43,$AP$10:$AQ$29,2,FALSE()) -> Robe étoilée (magicien) | CZ43: Capes et robes | DA43: =RANDBETWEEN(1,20) -> 4 | DB43: =VLOOKUP(DA43,$AP$10:$AQ$29,2,FALSE()) -> Cape elfique | DF43: 19 | DG43: Armes
A44: K | G44: K | M44: K | S44: Objets magiques divers | T44: =D78 -> 91 | U44: =VLOOKUP(T44,$BU$4:$BV$104,2,FALSE()) -> Armes | V44: =VLOOKUP(U44,$CF$50:$CH$68,3,FALSE()) -> Épée (+3) | Y44: 35 | Z44: Huile éthérée | AC44: 35 | AD44: Protection contre les lycanthropes | AF44: 34 | AG44: Anneau de Contrôle des Mammifères | AI44: 12 | AJ44: Bâton Epieu | AM44: 12 | AN44: Joyau de Pureté | AP44: 12 | AQ44: Bracelets de défense | AS44: 12 | AT44: Pigments de Nolzur | AV44: 12 | AW44: Cube de résistance au froid | AY44: 13 | AZ44: =CONCATENATE(BA44,BC44) -> Armure annelée de commandement (+1) | BA44: Armure annelée de commandement | BB44: =RANDBETWEEN(1,18) -> 6 | BC44: =VLOOKUP(BB44,$BD$32:$BE$49,2,FALSE()) -> (+1) | BD44: 13 | BE44: (+3) | BH44: 34 | BI44: =CONCATENATE(BJ44,BK44) -> Épieu (+3) | BJ44: Épieu | BK44: =VLOOKUP(BL44,$BM$11:$BN$30,2,FALSE()) -> (+3) | BL44: =RANDBETWEEN(1,20) -> 17 | BN44: 9 | BO44: de Géants | BU44: 40 | BV44: Anneaux | BX44: =BX23 -> Bizarreries | BY44: =RANDBETWEEN(1,40) -> 31 | BZ44: =VLOOKUP(BY44,$AV$33:$AW$72,2,FALSE()) -> Carquois d'Ehlonna | CB44: =BX44 -> Bizarreries | CC44: =RANDBETWEEN(1,40) -> 18 | CD44: =VLOOKUP(CC44,$AV$33:$AW$72,2,FALSE()) -> Yeux de charme | CF44: =CB44 -> Bizarreries | CG44: =RANDBETWEEN(1,40) -> 38 | CH44: =VLOOKUP(CG44,$AV$33:$AW$72,2,FALSE()) -> Ëventail des vents | CJ44: =CF44 -> Bizarreries | CK44: =RANDBETWEEN(1,40) -> 26 | CL44: =VLOOKUP(CK44,$AV$33:$AW$72,2,FALSE()) -> Fers de rapidité | CN44: =CJ44 -> Bizarreries | CO44: =RANDBETWEEN(1,40) -> 32 | CP44: =VLOOKUP(CO44,$AV$33:$AW$72,2,FALSE()) -> Carquois d'Ehlonna | CR44: =CN44 -> Bizarreries | CS44: =RANDBETWEEN(1,40) -> 37 | CT44: =VLOOKUP(CS44,$AV$33:$AW$72,2,FALSE()) -> Ëventail des vents | CV44: Bottes et gants | CW44: =RANDBETWEEN(1,20) -> 5 | CX44: =VLOOKUP(CW44,$AP$33:$AQ$52,2,FALSE()) -> Bottes de sept lieues | CZ44: Bottes et gants | DA44: =RANDBETWEEN(1,20) -> 1 | DB44: =VLOOKUP(DA44,$AP$33:$AQ$52,2,FALSE()) -> Bottes de danse | DF44: 20 | DG44: Armes
A45: L | G45: L | H45: =IF(K45<=J45,I45,0) -> 10 | I45: =RANDBETWEEN(2,12) -> 10 | J45: 100 | M45: L | S45: Objets magiques divers | T45: =E78 -> 17 | U45: =VLOOKUP(T45,$BU$4:$BV$104,2,FALSE()) -> Potions et huiles | V45: =VLOOKUP(U45,$CJ$8:$CL$26,3,FALSE()) -> Potion de Forme gazeuse | Y45: 36 | Z45: Huile de feux ardents | AC45: 36 | AD45: Protection contre les lycanthropes | AF45: 35 | AG45: Anneau de Bouclier Mental | AI45: 13 | AJ45: Bâton de Flétrissement | AM45: 13 | AN45: Médaillon d'ESP | AP45: 13 | AQ45: Bracelets de vulnérabilité | AS45: 13 | AT45: Pierre philosophale | AV45: 13 | AW45: Cube de résistance au froid | AY45: 14 | AZ45: =CONCATENATE(BA45,BC45) -> Armure d'écailles de commandement (+1) | BA45: Armure d'écailles de commandement | BB45: =RANDBETWEEN(1,18) -> 5 | BC45: =VLOOKUP(BB45,$BD$32:$BE$49,2,FALSE()) -> (+1) | BD45: 14 | BE45: (+3) | BH45: 35 | BI45: =CONCATENATE(BJ45,BK45) -> Épée (+1) | BJ45: Épée | BK45: =VLOOKUP(BL45,$BM$11:$BN$30,2,FALSE()) -> (+1) | BL45: =RANDBETWEEN(1,20) -> 5 | BN45: 10 | BO45: de Golems | BU45: 41 | BV45: Sceptres | BX45: =BX24 -> Armures et boucliers | BY45: =RANDBETWEEN(1,20) -> 15 | BZ45: =VLOOKUP(BY45,$AY$11:$AZ$30,2,FALSE()) -> Bouclier (+3) | CB45: =BX45 -> Armures et boucliers | CC45: =RANDBETWEEN(1,20) -> 10 | CD45: =VLOOKUP(CC45,$AY$11:$AZ$30,2,FALSE()) -> Armure de plates (+2) | CF45: =CB45 -> Armures et boucliers | CG45: =RANDBETWEEN(1,20) -> 16 | CH45: =VLOOKUP(CG45,$AY$11:$AZ$30,2,FALSE()) -> Bouclier (+4) | CJ45: =CF45 -> Armures et boucliers | CK45: =RANDBETWEEN(1,20) -> 16 | CL45: =VLOOKUP(CK45,$AY$11:$AZ$30,2,FALSE()) -> Bouclier (+4) | CN45: =CJ45 -> Armures et boucliers | CO45: =RANDBETWEEN(1,20) -> 10 | CP45: =VLOOKUP(CO45,$AY$11:$AZ$30,2,FALSE()) -> Armure de plates (+2) | CR45: =CN45 -> Armures et boucliers | CS45: =RANDBETWEEN(1,20) -> 3 | CT45: =VLOOKUP(CS45,$AY$11:$AZ$30,2,FALSE()) -> Cotte de mailles (+1) | CV45: Ceinturons et heaumes | CW45: =RANDBETWEEN(1,20) -> 16 | CX45: =VLOOKUP(CW45,$AP$56:$AQ$75,2,FALSE()) -> Heaume de télépathie | CZ45: Ceinturons et heaumes | DA45: =RANDBETWEEN(1,20) -> 8 | DB45: =VLOOKUP(DA45,$AP$56:$AQ$75,2,FALSE()) -> Ceinturon à poches | DF45: 21 | DG45: Armes
A46: M | B46: =IF(E46<=D46,C46,0) -> 3 | C46: =RANDBETWEEN(2,4) -> 3 | D46: 100 | G46: M | M46: M | S46: Objets magiques divers | T46: =F78 -> 51 | U46: =VLOOKUP(T46,$BU$4:$BV$104,2,FALSE()) -> Bottes et gants | V46: =VLOOKUP(U46,$CJ$29:$CL$47,3,FALSE()) -> Gants antiprojectile | Y46: 37 | Z46: Huile de maladresse | AC46: 37 | AD46: Protection contre la magie | AF46: 36 | AG46: Anneau de Bouclier Mental | AI46: 14 | AJ46: Bâton de Flétrissement | AM46: 14 | AN46: Médaillon de Projection des Pensées | AP46: 14 | AQ46: Gantelets de dextérité | AS46: 14 | AT46: Poudre à fumée | AV46: 14 | AW46: Seuil cubique | AY46: 15 | AZ46: =CONCATENATE(BA46,BC46) -> Bouclier de commandement (+2) | BA46: Bouclier de commandement | BB46: =RANDBETWEEN(1,18) -> 9 | BC46: =VLOOKUP(BB46,$BD$32:$BE$49,2,FALSE()) -> (+2) | BD46: 15 | BE46: (+3) | BH46: 36 | BI46: =CONCATENATE(BJ46,BK46) -> Épée (+3) | BJ46: Épée | BK46: =VLOOKUP(BL46,$BM$11:$BN$30,2,FALSE()) -> (+3) | BL46: =RANDBETWEEN(1,20) -> 16 | BN46: 11 | BO46: d'Illusionnistes | BU46: 42 | BV46: Bâtons | BX46: =BX25 -> Armes | BY46: =RANDBETWEEN(1,20) -> 11 | BZ46: =VLOOKUP(BY46,$BH$11:$BI$69,2,FALSE()) -> Dague (+1) | CB46: =BX46 -> Armes | CC46: =RANDBETWEEN(1,59) -> 58 | CD46: =VLOOKUP(CC46,$BH$11:$BI$69,2,FALSE()) -> Épée +1, +2 contre les jeteurs de sorts et les créatures enchantées | CF46: =CB46 -> Armes | CG46: =RANDBETWEEN(1,59) -> 48 | CH46: =VLOOKUP(CG46,$BH$11:$BI$69,2,FALSE()) -> Épée (+1) | CJ46: =CF46 -> Armes | CK46: =RANDBETWEEN(1,59) -> 40 | CL46: =VLOOKUP(CK46,$BH$11:$BI$69,2,FALSE()) -> Épée (+2) | CN46: =CJ46 -> Armes | CO46: =RANDBETWEEN(1,59) -> 54 | CP46: =VLOOKUP(CO46,$BH$11:$BI$69,2,FALSE()) -> Trident (+5) | CR46: =CN46 -> Armes | CS46: =RANDBETWEEN(1,59) -> 39 | CT46: =VLOOKUP(CS46,$BH$11:$BI$69,2,FALSE()) -> Épée (+1) | CV46: Sacs et bouteilles | CW46: =RANDBETWEEN(1,20) -> 1 | CX46: =VLOOKUP(CW46,$AS$10:$AT$29,2,FALSE()) -> Cruche d'alchimiste | CZ46: Sacs et bouteilles | DA46: =RANDBETWEEN(1,20) -> 3 | DB46: =VLOOKUP(DA46,$AS$10:$AT$29,2,FALSE()) -> Sac dévoreur | DF46: 22 | DG46: Armes
A47: N | G47: N | H47: =IF(K47<=J47,I47,0) -> 3 | I47: =RANDBETWEEN(1,6) -> 3 | J47: 100 | M47: N | S47: Objets magiques divers | T47: =B79 -> 88 | U47: =VLOOKUP(T47,$BU$4:$BV$104,2,FALSE()) -> Armes | V47: =VLOOKUP(U47,$CJ$50:$CL$68,3,FALSE()) -> Épée (+2) | Y47: 38 | Z47: Huile d'impact | AC47: 38 | AD47: Protection contre la pétrification | AF47: 37 | AG47: Anneau de Protection | AI47: 15 | AJ47: Bâton de Nuée d'Insectes | AM47: 15 | AN47: Collier d'Adaptation | AP47: 15 | AQ47: Gantelets de maladresse | AS47: 15 | AT47: Colle suprême | AV47: 15 | AW47: Forteresse de Daern | AY47: 16 | AZ47: =CONCATENATE(BA47,BC47) -> Bouclier de commandement (+1) | BA47: Bouclier de commandement | BB47: =RANDBETWEEN(1,18) -> 6 | BC47: =VLOOKUP(BB47,$BD$32:$BE$49,2,FALSE()) -> (+1) | BD47: 16 | BE47: (+4) | BH47: 37 | BI47: =CONCATENATE(BJ47,BK47) -> Épée (+1) | BJ47: Épée | BK47: =VLOOKUP(BL47,$BM$11:$BN$30,2,FALSE()) -> (+1) | BL47: =RANDBETWEEN(1,20) -> 4 | BN47: 12 | BO47: de Magiciens | BU47: 43 | BV47: Baguettes | BX47: =BX26 -> Armes | BZ47: =BZ46 -> Dague (+1) | CB47: =BX47 -> Armes | CD47: =CD46 -> Épée +1, +2 contre les jeteurs de sorts et les créatures enchantées | CF47: =CB47 -> Armes | CH47: =CH46 -> Épée (+1) | CJ47: =CF47 -> Armes | CL47: =CL46 -> Épée (+2) | CN47: =CJ47 -> Armes | CP47: =CP46 -> Trident (+5) | CR47: =CN47 -> Armes | CT47: =CT46 -> Épée (+1) | CV47: Poudres et pierres | CW47: =RANDBETWEEN(1,20) -> 7 | CX47: =VLOOKUP(CW47,$AS$33:$AT$52,2,FALSE()) -> Poudre de toux et étouffement | CZ47: Poudres et pierres | DA47: =RANDBETWEEN(1,20) -> 18 | DB47: =VLOOKUP(DA47,$AS$33:$AT$52,2,FALSE()) -> Pierre de grand poids | DF47: 23 | DG47: Armes
A48: O | G48: O | M48: O | S48: Objets magiques divers | T48: =C79 -> 64 | U48: =VLOOKUP(T48,$BU$4:$BV$104,2,FALSE()) -> Armures et boucliers | V48: =VLOOKUP(U48,$CN$8:$CP$26,3,FALSE()) -> Bouclier (+3) | Y48: 39 | Z48: Huile de glisse | AC48: 39 | AD48: Protection contre les plantes | AF48: 38 | AG48: Anneau de Protection | AI48: 16 | AJ48: Bâton de Foudre et tonerre | AM48: 16 | AN48: Collier de Projectiles | AP48: 16 | AQ48: Gantelets des ogres (prêtre, roublard, combattant) | AS48: 16 | AT48: Pierre de contrôle des élémentaux de terre | AV48: 16 | AW48: Cartes d'illusions | AY48: 17 | AZ48: =CONCATENATE(BA48,BC48) -> Bouclier de commandement (+1) | BA48: Bouclier de commandement | BB48: =RANDBETWEEN(1,18) -> 5 | BC48: =VLOOKUP(BB48,$BD$32:$BE$49,2,FALSE()) -> (+1) | BD48: 17 | BE48: (+4) | BH48: 38 | BI48: =CONCATENATE(BJ48,BK48) -> Épée (-1) | BJ48: Épée | BK48: =VLOOKUP(BL48,$BM$11:$BN$30,2,FALSE()) -> (-1) | BL48: =RANDBETWEEN(1,20) -> 2 | BN48: 13 | BO48: de Mammifères | BU48: 44 | BV48: Baguettes | CV48: Outils et ustensiles ménagers | CW48: =RANDBETWEEN(1,20) -> 9 | CX48: =VLOOKUP(CW48,$AS$56:$AT$75,2,FALSE()) -> Miroir de prouesse mentale | CZ48: Outils et ustensiles ménagers | DA48: =RANDBETWEEN(1,20) -> 14 | DB48: =VLOOKUP(DA48,$AS$56:$AT$75,2,FALSE()) -> Corde de constriction | DF48: 24 | DG48: Armes
A49: P | G49: P | H49: =IF(K49<=J49,I49,0) -> 6 | I49: =RANDBETWEEN(1,20) -> 6 | J49: 100 | M49: P | S49: Objets magiques divers | T49: =D79 -> 19 | U49: =VLOOKUP(T49,$BU$4:$BV$104,2,FALSE()) -> Potions et huiles | V49: =VLOOKUP(U49,$CN$29:$CP$47,3,FALSE()) -> Huile éthérée | Y49: 40 | Z49: Potion au choix du MD | AC49: 40 | AD49: Protection contre le poison | AF49: 39 | AG49: Anneau au choix du MD | AI49: 17 | AJ49: Bâton de Soins | AM49: 17 | AN49: Collier de Projectiles | AP49: 17 | AQ49: Gantelets de natation et d'escalade (prêtre, roublard, combattant) | AS49: 17 | AT49: Pierre porte- bonheur | AV49: 17 | AW49: Cartes merveilleuses | AY49: 18 | AZ49: =CONCATENATE(BA49,BC49) -> Armure feuilletée de commandement (+2) | BA49: Armure feuilletée de commandement | BB49: =RANDBETWEEN(1,18) -> 10 | BC49: =VLOOKUP(BB49,$BD$32:$BE$49,2,FALSE()) -> (+2) | BD49: 18 | BE49: (+5) | BH49: 39 | BI49: =CONCATENATE(BJ49,BK49) -> Épée (+1) | BJ49: Épée | BK49: =VLOOKUP(BL49,$BM$11:$BN$30,2,FALSE()) -> (+1) | BL49: =RANDBETWEEN(1,20) -> 5 | BN49: 14 | BO49: de Paladins | BU49: 45 | BV49: Baguettes | BX49: 3 | BY49: =BY28 -> Jet | CB49: 6 | CC49: Jet | CF49: 9 | CG49: Jet | CJ49: 12 | CK49: Jet | CN49: 15 | CO49: Roll | CV49: Instruments de musique | CW49: =RANDBETWEEN(1,20) -> 13 | CX49: =VLOOKUP(CW49,$AV$10:$AW$29,2,FALSE()) -> Conque des tritons (prêtre, combattant) | CZ49: Instruments de musique | DA49: =RANDBETWEEN(1,20) -> 5 | DB49: =VLOOKUP(DA49,$AV$10:$AW$29,2,FALSE()) -> Tambours de panique | DF49: 25 | DG49: Armes
A50: Q | G50: Q | M50: Q | S50: Objets magiques divers | T50: =E79 -> 19 | U50: =VLOOKUP(T50,$BU$4:$BV$104,2,FALSE()) -> Potions et huiles | V50: =VLOOKUP(U50,$CN$50:$CP$68,3,FALSE()) -> Potion de Folie | Y50: 41 | Z50: Huile d'éternité | AC50: 41 | AD50: Protection contre la possession | AF50: 40 | AG50: Anneau au choix du MD | AI50: 18 | AJ50: Bâton de Soins | AM50: 18 | AN50: Chapelet de prières (prêtre) | AP50: 18 | AQ50: Gants antiprojectile | AS50: 18 | AT50: Pierre de grand poids | AV50: 18 | AW50: Yeux de charme | AY50: 19 | AZ50: =CONCATENATE(BA50,BC50) -> Armure de cuir clouté de commandement (+1) | BA50: Armure de cuir clouté de commandement | BB50: =RANDBETWEEN(1,18) -> 6 | BC50: =VLOOKUP(BB50,$BD$32:$BE$49,2,FALSE()) -> (+1) | BH50: 40 | BI50: =CONCATENATE(BJ50,BK50) -> Épée (+2) | BJ50: Épée | BK50: =VLOOKUP(BL50,$BM$11:$BN$30,2,FALSE()) -> (+2) | BL50: =RANDBETWEEN(1,20) -> 12 | BN50: 15 | BO50: de Rôdeurs | BU50: 46 | BV50: Livres et grimoires | BX50: =BX29 -> Potions et huiles | BY50: =RANDBETWEEN(1,60) -> 17 | BZ50: =VLOOKUP(BY50,$Y$10:$AA$69,2,FALSE()) -> Potion de Résistance au feu | CB50: =BX50 -> Potions et huiles | CC50: =RANDBETWEEN(1,60) -> 50 | CD50: =VLOOKUP(CC50,$Y$10:$AA$69,2,FALSE()) -> Potion d'Éclat irisé | CF50: =CB50 -> Potions et huiles | CG50: =RANDBETWEEN(1,60) -> 43 | CH50: =VLOOKUP(CG50,$Y$10:$AA$69,2,FALSE()) -> Philtre d'amour | CJ50: =CF50 -> Potions et huiles | CK50: =RANDBETWEEN(1,60) -> 38 | CL50: =VLOOKUP(CK50,$Y$10:$AA$69,2,FALSE()) -> Huile d'impact | CN50: =CJ50 -> Potions et huiles | CO50: =RANDBETWEEN(1,60) -> 6 | CP50: =VLOOKUP(CO50,$Y$10:$AA$69,2,FALSE()) -> Potion de Folie | CV50: Bizarreries | CW50: =RANDBETWEEN(1,40) -> 27 | CX50: =VLOOKUP(CW50,$AV$33:$AW$72,2,FALSE()) -> Fers de rapidité | CZ50: Bizarreries | DA50: =RANDBETWEEN(1,40) -> 25 | DB50: =VLOOKUP(DA50,$AV$33:$AW$72,2,FALSE()) -> Fers du zéphyr | DF50: 26 | DG50: Armes
A51: R | B51: =IF(E51<=D51,C51,0) -> 17 | C51: =RANDBETWEEN(2,20) -> 17 | D51: 100 | G51: R | H51: =IF(K51<=J51,I51,0) -> 17 | I51: =RANDBETWEEN(10,60) -> 17 | J51: 100 | M51: R | S51: Objets magiques divers | T51: =F79 -> 73 | U51: =VLOOKUP(T51,$BU$4:$BV$104,2,FALSE()) -> Armures et boucliers | V51: =VLOOKUP(U51,$CR$8:$CT$26,3,FALSE()) -> Cotte de mailles (+1) | Y51: 42 | Z51: Philtre de faconde | AC51: 42 | AD51: Protection contre les morts-vivants | AF51: 41 | AG51: Anneau de Protection | AI51: 19 | AJ51: Bâton des Grandes Forêts | AM51: 19 | AN51: Collier de strangulation | AP51: 19 | AQ51: Pantoufles d'araignée | AS51: 19 | AT51: Solvant universel | AV51: 19 | AW51: Yeux perçants | AY51: 20 | AZ51: =CONCATENATE(BA51,BC51) -> Armure à bandes de dissimulation (+3) | BA51: Armure à bandes de dissimulation | BB51: =RANDBETWEEN(1,18) -> 14 | BC51: =VLOOKUP(BB51,$BD$32:$BE$49,2,FALSE()) -> (+3) | BH51: 41 | BI51: =CONCATENATE(BJ51,BK51) -> Épée (+1) | BJ51: Épée | BK51: =VLOOKUP(BL51,$BM$11:$BN$30,2,FALSE()) -> (+1) | BL51: =RANDBETWEEN(1,20) -> 10 | BN51: 16 | BO51: Reptiles | BU51: 47 | BV51: Joyaux et bijoux | BX51: =BX30 -> Parchemins | BY51: =RANDBETWEEN(1,45) -> 39 | BZ51: =VLOOKUP(BY51,$AC$10:$AD$54,2,FALSE()) -> Protection contre les plantes | CB51: =BX51 -> Parchemins | CC51: =RANDBETWEEN(1,45) -> 36 | CD51: =VLOOKUP(CC51,$AC$10:$AD$54,2,FALSE()) -> Protection contre les lycanthropes | CF51: =CB51 -> Parchemins | CG51: =RANDBETWEEN(1,45) -> 40 | CH51: =VLOOKUP(CG51,$AC$10:$AD$54,2,FALSE()) -> Protection contre le poison | CJ51: =CF51 -> Parchemins | CK51: =RANDBETWEEN(1,45) -> 14 | CL51: =VLOOKUP(CK51,$AC$10:$AD$54,2,FALSE()) -> 3 Sorts niveau 1d4 | CN51: =CJ51 -> Parchemins | CO51: =RANDBETWEEN(1,45) -> 19 | CP51: =VLOOKUP(CO51,$AC$10:$AD$54,2,FALSE()) -> 5 Sorts 1d8/niveau 1d6 | CV51: Armures et boucliers | CW51: =RANDBETWEEN(1,20) -> 5 | CX51: =VLOOKUP(CW51,$AY$11:$AZ$30,2,FALSE()) -> Cotte de mailles (+4) | CZ51: Armures et boucliers | DA51: =RANDBETWEEN(1,20) -> 1 | DB51: =VLOOKUP(DA51,$AY$11:$AZ$30,2,FALSE()) -> Armure à bandes (+2) | DF51: 27 | DG51: Armes
A52: S | G52: S | M52: S | N52: =IF(Q52<=P52,O52,0) -> 8 Potions | O52: =CONCATENATE(INT(RANDBETWEEN(1,8))," Potions") -> 8 Potions | P52: 100 | Q52: =RANDBETWEEN(1,100) -> 25 | S52: Objets magiques divers | T52: =G79 -> 6 | U52: =VLOOKUP(T52,$BU$4:$BV$104,2,FALSE()) -> Potions et huiles | V52: =VLOOKUP(U52,$CR$29:$CT$47,3,FALSE()) -> Potion d'Éclat irisé | Y52: 43 | Z52: Philtre d'amour | AC52: 43 | AD52: Protection contre leau | AF52: 42 | AG52: Anneau de Protection | AI52: 20 | AJ52: Bâton choix du MD | AM52: 20 | AN52: Joyaux au choix du MD | AP52: 20 | AQ52: Botte, bracelet ou gant au choix du MD | AS52: 20 | AT52: Poudre ou pierre au choix du MD | AV52: 20 | AW52: Bizarreries au choix du MD | AY52: 21 | AZ52: =CONCATENATE(BA52,BC52) -> Brigandine de dissimulation (+1) | BA52: Brigandine de dissimulation | BB52: =RANDBETWEEN(1,18) -> 6 | BC52: =VLOOKUP(BB52,$BD$32:$BE$49,2,FALSE()) -> (+1) | BH52: 42 | BI52: =CONCATENATE(BJ52,BK52) -> Épée (+3) | BJ52: Épée | BK52: =VLOOKUP(BL52,$BM$11:$BN$30,2,FALSE()) -> (+3) | BL52: =RANDBETWEEN(1,20) -> 16 | BN52: 17 | BO52: de Monstres marins | BU52: 48 | BV52: Joyaux et bijoux | BX52: =BX31 -> Anneaux | BY52: =RANDBETWEEN(1,60) -> 58 | BZ52: =VLOOKUP(BY52,$AF$11:$AG$70,2,FALSE()) -> Anneau des Arcanes (Magicien) | CB52: =BX52 -> Anneaux | CC52: =RANDBETWEEN(1,60) -> 31 | CD52: =VLOOKUP(CC52,$AF$11:$AG$70,2,FALSE()) -> Anneau de Saut | CF52: =CB52 -> Anneaux | CG52: =RANDBETWEEN(1,60) -> 18 | CH52: =VLOOKUP(CG52,$AF$11:$AG$70,2,FALSE()) -> Anneau de Commande des Élémentaux | CJ52: =CF52 -> Anneaux | CK52: =RANDBETWEEN(1,60) -> 53 | CL52: =VLOOKUP(CK52,$AF$11:$AG$70,2,FALSE()) -> Anneau de Chaleur | CN52: =CJ52 -> Anneaux | CO52: =RANDBETWEEN(1,60) -> 13 | CP52: =VLOOKUP(CO52,$AF$11:$AG$70,2,FALSE()) -> Anneau de Folie | CV52: Armures et boucliers | CX52: =CX51 -> Cotte de mailles (+4) | CZ52: Armures et boucliers | DB52: =DB51 -> Armure à bandes (+2) | DF52: 28 | DG52: Armes
A53: T | G53: T | M53: T | N53: =IF(Q53<=P53,O53,0) -> 1 Parchemins | O53: =CONCATENATE(INT(RANDBETWEEN(1,4))," Parchemins") -> 1 Parchemins | P53: 100 | Q53: =RANDBETWEEN(1,100) -> 74 | Y53: 44 | Z53: Philtre de persuasion | AC53: 44 | AD53: Parchemin Maudit | AF53: 43 | AG53: Anneau de Grand Bélier | AM53: 21 | AN53: Perle de puissance (magicien) | AV53: 21 | AW53: Yeux perçants | AY53: 22 | AZ53: =CONCATENATE(BA53,BC53) -> Cottes de maille de dissimulation (+1) | BA53: Cottes de maille de dissimulation | BB53: =RANDBETWEEN(1,18) -> 4 | BC53: =VLOOKUP(BB53,$BD$32:$BE$49,2,FALSE()) -> (+1) | BH53: 43 | BI53: =CONCATENATE(BJ53,BK53) -> Épée (+1) | BJ53: Épée | BK53: =VLOOKUP(BL53,$BM$11:$BN$30,2,FALSE()) -> (+1) | BL53: =RANDBETWEEN(1,20) -> 9 | BN53: 18 | BO53: de Voleurs | BU53: 49 | BV53: Capes et robes | BX53: =BX32 -> Sceptres | BY53: =RANDBETWEEN(1,20) -> 3 | BZ53: =VLOOKUP(BY53,$AI$10:$AJ$29,2,FALSE()) -> Sceptre de Vigilance | CB53: =BX53 -> Sceptres | CC53: =RANDBETWEEN(1,20) -> 4 | CD53: =VLOOKUP(CC53,$AI$10:$AJ$29,2,FALSE()) -> Sceptre de Vigilance | CF53: =CB53 -> Sceptres | CG53: =RANDBETWEEN(1,20) -> 17 | CH53: =VLOOKUP(CG53,$AI$10:$AJ$29,2,FALSE()) -> Sceptre de Splendeur | CJ53: =CF53 -> Sceptres | CK53: =RANDBETWEEN(1,20) -> 5 | CL53: =VLOOKUP(CK53,$AI$10:$AJ$29,2,FALSE()) -> Sceptre de séduction | CN53: =CJ53 -> Sceptres | CO53: =RANDBETWEEN(1,20) -> 7 | CP53: =VLOOKUP(CO53,$AI$10:$AJ$29,2,FALSE()) -> Sceptre d'Annulation | DF53: 29 | DG53: Armes
A54: U | G54: U | M54: U | N54: =IF(Q54<=P54,O54,0) -> 0 | O54: Tout 1 item | P54: =70+B31 -> 70 | Q54: =RANDBETWEEN(1,100) -> 83 | Y54: 45 | Z54: Philtre de bègue balbutieur | AC54: 45 | AD54: Parchemin au choix du MD | AF54: 44 | AG54: Anneau de Régénération | AI54: Baguettes | AM54: 22 | AN54: Perle des sirènes | AP54: Ceinturons, Chapeaux, Heaumes | AS54: Outils et ustensiles ménagers | AV54: 22 | AW54: Yeux perçants | AY54: 23 | AZ54: =CONCATENATE(BA54,BC54) -> Cottes de maille de dissimulation (+1) | BA54: Cottes de maille de dissimulation | BB54: =RANDBETWEEN(1,18) -> 4 | BC54: =VLOOKUP(BB54,$BD$32:$BE$49,2,FALSE()) -> (+1) | BH54: 44 | BI54: =CONCATENATE(BJ54,BK54) -> Épée (+3) | BJ54: Épée | BK54: =VLOOKUP(BL54,$BM$11:$BN$30,2,FALSE()) -> (+3) | BL54: =RANDBETWEEN(1,20) -> 15 | BN54: 19 | BO54: de Titans | BU54: 50 | BV54: Capes et robes | BX54: =BX33 -> Bâtons | BY54: =RANDBETWEEN(1,20) -> 9 | BZ54: =VLOOKUP(BY54,$AI$33:$AJ$52,2,FALSE()) -> Bâton de Fustibale | CB54: =BX54 -> Bâtons | CC54: =RANDBETWEEN(1,20) -> 11 | CD54: =VLOOKUP(CC54,$AI$33:$AJ$52,2,FALSE()) -> Bâton Epieu | CF54: =CB54 -> Bâtons | CG54: =RANDBETWEEN(1,20) -> 17 | CH54: =VLOOKUP(CG54,$AI$33:$AJ$52,2,FALSE()) -> Bâton de Soins | CJ54: =CF54 -> Bâtons | CK54: =RANDBETWEEN(1,20) -> 12 | CL54: =VLOOKUP(CK54,$AI$33:$AJ$52,2,FALSE()) -> Bâton Epieu | CN54: =CJ54 -> Bâtons | CO54: =RANDBETWEEN(1,20) -> 1 | CP54: =VLOOKUP(CO54,$AI$33:$AJ$52,2,FALSE()) -> Bâton Masse d'Armes | CV54: 3 | CW54: Jet | DF54: 30 | DG54: Armes
A55: V | G55: V | M55: V | N55: =IF(Q55<=P55,O55,0) -> Tous 2 Items | O55: Tous 2 Items | P55: 100 | Q55: =RANDBETWEEN(1,100) -> 79 | Y55: 46 | Z55: Potion de Contrôle des plantes | AF55: 45 | AG55: Anneau de Poigne Électrique | AM55: 23 | AN55: Perle de sagesse (prêtre) | AV55: 23 | AW55: Figurine enchantée | AY55: 24 | AZ55: =CONCATENATE(BA55,BC55) -> Cottes de maille de dissimulation (+2) | BA55: Cottes de maille de dissimulation | BB55: =RANDBETWEEN(1,18) -> 9 | BC55: =VLOOKUP(BB55,$BD$32:$BE$49,2,FALSE()) -> (+2) | BH55: 45 | BI55: =CONCATENATE(BJ55,BK55) -> Épée (+2) | BJ55: Épée | BK55: =VLOOKUP(BL55,$BM$11:$BN$30,2,FALSE()) -> (+2) | BL55: =RANDBETWEEN(1,20) -> 11 | BN55: 20 | BO55: de Morts-vivants | BU55: 51 | BV55: Bottes et gants | BX55: =BX34 -> Baguettes | BY55: =RANDBETWEEN(1,20) -> 19 | BZ55: =VLOOKUP(BY55,$AI$56:$AJ$75,2,FALSE()) -> Baguette Prodigieuse 13 Charges | CB55: =BX55 -> Baguettes | CC55: =RANDBETWEEN(1,20) -> 16 | CD55: =VLOOKUP(CC55,$AI$56:$AJ$75,2,FALSE()) -> Baguette de Métamorphose (magicien) 61 Charges | CF55: =CB55 -> Baguettes | CG55: =RANDBETWEEN(1,20) -> 1 | CH55: =VLOOKUP(CG55,$AI$56:$AJ$75,2,FALSE()) -> Baguette de Conjuration (magicien) 50 Charges | CJ55: =CF55 -> Baguettes | CK55: =RANDBETWEEN(1,20) -> 16 | CL55: =VLOOKUP(CK55,$AI$56:$AJ$75,2,FALSE()) -> Baguette de Métamorphose (magicien) 61 Charges | CN55: =CJ55 -> Baguettes | CO55: =RANDBETWEEN(1,20) -> 4 | CP55: =VLOOKUP(CO55,$AI$56:$AJ$75,2,FALSE()) -> Baguette de Terreur (prêtre, magicien) 68 Charges | CV55: Potions et huiles | CW55: =RANDBETWEEN(1,60) -> 59 | CX55: =VLOOKUP(CW55,$Y$10:$AA$69,2,FALSE()) -> Potion de Respiration aquatique | DF55: 31 | DG55: Armes
A56: W | B56: =IF(E56<=D56,C56,0) -> 24 | C56: =RANDBETWEEN(5,30) -> 24 | D56: 100 | G56: W | H56: =IF(K56<=J56,I56,0) -> 7 | I56: =RANDBETWEEN(1,8) -> 7 | J56: 100 | M56: W | N56: =IF(Q56<=P56,O56,0) -> Tous 2 Items | O56: Tous 2 Items | P56: =60+B31 -> 60 | Q56: =RANDBETWEEN(1,100) -> 21 | Y56: 47 | Z56: Poison | AF56: 46 | AG56: Anneau d'Étoiles Filantes | AI56: 1 | AJ56: =CONCATENATE(AJ80,AL80) -> Baguette de Conjuration (magicien) 50 Charges | AM56: 24 | AN56: Fétiche de putréfaction | AP56: 1 | AQ56: Ceinturon des nains | AS56: 1 | AT56: Brasero contrôlant les élémentaux de feu (magicien) | AV56: 24 | AW56: Figurine enchantée | AY56: 25 | AZ56: =CONCATENATE(BA56,BC56) -> Harnois de dissimulation (+1) | BA56: Harnois de dissimulation | BB56: =RANDBETWEEN(1,18) -> 3 | BC56: =VLOOKUP(BB56,$BD$32:$BE$49,2,FALSE()) -> (+1) | BH56: 46 | BI56: =CONCATENATE(BJ56,BK56) -> Épée (+3) | BJ56: Épée | BK56: =VLOOKUP(BL56,$BM$11:$BN$30,2,FALSE()) -> (+3) | BL56: =RANDBETWEEN(1,20) -> 15 | BU56: 52 | BV56: Bottes et gants | BX56: =BX35 -> Livres et grimoires | BY56: =RANDBETWEEN(1,20) -> 9 | BZ56: =VLOOKUP(BY56,$AM$10:$AN$29,2,FALSE()) -> Grimoire de la magie d'argent | CB56: =BX56 -> Livres et grimoires | CC56: =RANDBETWEEN(1,20) -> 19 | CD56: =VLOOKUP(CC56,$AM$10:$AN$29,2,FALSE()) -> Grimoire des vacuités | CF56: =CB56 -> Livres et grimoires | CG56: =RANDBETWEEN(1,20) -> 7 | CH56: =VLOOKUP(CG56,$AM$10:$AN$29,2,FALSE()) -> Grimoire d'inappréciable conjuration | CJ56: =CF56 -> Livres et grimoires | CK56: =RANDBETWEEN(1,20) -> 16 | CL56: =VLOOKUP(CK56,$AM$10:$AN$29,2,FALSE()) -> Traité de pensée claire | CN56: =CJ56 -> Livres et grimoires | CO56: =RANDBETWEEN(1,20) -> 15 | CP56: =VLOOKUP(CO56,$AM$10:$AN$29,2,FALSE()) -> Manuel des larcins furtifs | CV56: Parchemins | CW56: =RANDBETWEEN(1,45) -> 14 | CX56: =VLOOKUP(CW56,$AC$10:$AD$54,2,FALSE()) -> 3 Sorts niveau 1d4 | DF56: 32 | DG56: Armes
A57: X | G57: X | M57: X | N57: =IF(Q57<=P57,O57,0) -> 2 Potions | O57: 2 Potions | P57: 100 | Q57: =RANDBETWEEN(1,100) -> 11 | Y57: 48 | Z57: Poison | AF57: 47 | AG57: Anneau de Sorts | AI57: 2 | AJ57: =CONCATENATE(AJ81,AL81) -> Baguette de Terre et pierre 63 Charges | AM57: 25 | AN57: Fétiche de bonne santé | AP57: 2 | AQ57: Ceinturon des nains | AS57: 2 | AT57: Brasero somnifère (magicien) | AV57: 25 | AW57: Fers du zéphyr | AY57: 26 | AZ57: =CONCATENATE(BA57,BC57) -> Harnois plain de dissimulation (+1) | BA57: Harnois plain de dissimulation | BB57: =RANDBETWEEN(1,18) -> 3 | BC57: =VLOOKUP(BB57,$BD$32:$BE$49,2,FALSE()) -> (+1) | BH57: 47 | BI57: =CONCATENATE(BJ57,BK57) -> Épée (+4) | BJ57: Épée | BK57: =VLOOKUP(BL57,$BM$11:$BN$30,2,FALSE()) -> (+4) | BL57: =RANDBETWEEN(1,20) -> 19 | BU57: 53 | BV57: Ceinturons et heaumes | BX57: =BX36 -> Joyaux et bijoux | BY57: =RANDBETWEEN(1,40) -> 13 | BZ57: =VLOOKUP(BY57,$AM$33:$AN$72,2,FALSE()) -> Médaillon d'ESP | CB57: =BX57 -> Joyaux et bijoux | CC57: =RANDBETWEEN(1,40) -> 33 | CD57: =VLOOKUP(CC57,$AM$33:$AN$72,2,FALSE()) -> Broche de folie | CF57: =CB57 -> Joyaux et bijoux | CG57: =RANDBETWEEN(1,40) -> 39 | CH57: =VLOOKUP(CG57,$AM$33:$AN$72,2,FALSE()) -> Talisman de Zagy | CJ57: =CF57 -> Joyaux et bijoux | CK57: =RANDBETWEEN(1,40) -> 30 | CL57: =VLOOKUP(CK57,$AM$33:$AN$72,2,FALSE()) -> Phylactère d'attraction monstrueuse (prêtre) | CN57: =CJ57 -> Joyaux et bijoux | CO57: =RANDBETWEEN(1,40) -> 10 | CP57: =VLOOKUP(CO57,$AM$33:$AN$72,2,FALSE()) -> Gemme de Vision | CV57: Anneaux | CW57: =RANDBETWEEN(1,60) -> 41 | CX57: =VLOOKUP(CW57,$AF$11:$AG$70,2,FALSE()) -> Anneau de Protection | DF57: 33 | DG57: Armes
A58: Y | B58: =IF(E58<=D58,C58,0) -> 432 | C58: =RANDBETWEEN(200,1200) -> 432 | D58: 100 | G58: Y | M58: Y | Y58: 49 | Z58: Potion de Métamorphose | AF58: 48 | AG58: Anneau de Retour des Sorts | AI58: 3 | AJ58: =CONCATENATE(AJ82,AL82) -> Baguette de Détection de l'ennemi 17 Charges | AM58: 26 | AN58: Fétiche antipoison | AP58: 3 | AQ58: Ceinturon des nains | AS58: 3 | AT58: Balai frappeur | AV58: 26 | AW58: Fers de rapidité | AY58: 27 | AZ58: =CONCATENATE(BA58,BC58) -> Armure de cuir de dissimulation (+1) | BA58: Armure de cuir de dissimulation | BB58: =RANDBETWEEN(1,18) -> 5 | BC58: =VLOOKUP(BB58,$BD$32:$BE$49,2,FALSE()) -> (+1) | BH58: 48 | BI58: =CONCATENATE(BJ58,BK58) -> Épée (+1) | BJ58: Épée | BK58: =VLOOKUP(BL58,$BM$11:$BN$30,2,FALSE()) -> (+1) | BL58: =RANDBETWEEN(1,20) -> 9 | BU58: 54 | BV58: Sacs et bouteilles | BX58: =BX37 -> Capes et robes | BY58: =RANDBETWEEN(1,20) -> 18 | BZ58: =VLOOKUP(BY58,$AP$10:$AQ$29,2,FALSE()) -> Robe d'utilité (magicien) | CB58: =BX58 -> Capes et robes | CC58: =RANDBETWEEN(1,20) -> 9 | CD58: =VLOOKUP(CC58,$AP$10:$AQ$29,2,FALSE()) -> Cape chauve-souris | CF58: =CB58 -> Capes et robes | CG58: =RANDBETWEEN(1,20) -> 11 | CH58: =VLOOKUP(CG58,$AP$10:$AQ$29,2,FALSE()) -> Robe des archimages (magicien) | CJ58: =CF58 -> Capes et robes | CK58: =RANDBETWEEN(1,20) -> 6 | CL58: =VLOOKUP(CK58,$AP$10:$AQ$29,2,FALSE()) -> Cape de protection | CN58: =CJ58 -> Capes et robes | CO58: =RANDBETWEEN(1,20) -> 11 | CP58: =VLOOKUP(CO58,$AP$10:$AQ$29,2,FALSE()) -> Robe des archimages (magicien) | CV58: Sceptres | CW58: =RANDBETWEEN(1,20) -> 13 | CX58: =VLOOKUP(CW58,$AI$10:$AJ$29,2,FALSE()) -> Sceptre de Sécurité | DF58: 34 | DG58: Armes
A59: Z | B59: =IF(E59<=D59,C59,0) -> 439 | C59: =RANDBETWEEN(100,600) -> 439 | D59: 100 | G59: Z | H59: =IF(K59<=J59,I59,0) -> 223 | I59: =RANDBETWEEN(100,400) -> 223 | J59: 100 | M59: Z | N59: =IF(Q59<=P59,O59,0) -> Tous 3 Items | O59: Tous 3 Items | P59: =50+B31 -> 50 | Q59: =RANDBETWEEN(1,100) -> 2 | Y59: 50 | Z59: Potion d'Éclat irisé | AF59: 49 | AG59: Anneau de Subsistance | AI59: 4 | AJ59: =CONCATENATE(AJ83,AL83) -> Baguette de Terreur (prêtre, magicien) 68 Charges | AM59: 27 | AN59: Fétiche de cicatrisation | AP59: 4 | AQ59: Ceinturon d'hermaphrodite | AS59: 4 | AT59: Balai volant | AV59: 27 | AW59: Fers de rapidité | AY59: 28 | AZ59: =CONCATENATE(BA59,BC59) -> Plates de dissimulation (+2) | BA59: Plates de dissimulation | BB59: =RANDBETWEEN(1,18) -> 10 | BC59: =VLOOKUP(BB59,$BD$32:$BE$49,2,FALSE()) -> (+2) | BH59: 49 | BI59: =CONCATENATE(BJ59,BK59) -> Épée (+1) | BJ59: Épée | BK59: =VLOOKUP(BL59,$BM$11:$BN$30,2,FALSE()) -> (+1) | BL59: =RANDBETWEEN(1,20) -> 10 | BU59: 55 | BV59: Sacs et bouteilles | BX59: =BX38 -> Bottes et gants | BY59: =RANDBETWEEN(1,20) -> 12 | BZ59: =VLOOKUP(BY59,$AP$33:$AQ$52,2,FALSE()) -> Bracelets de défense | CB59: =BX59 -> Bottes et gants | CC59: =RANDBETWEEN(1,20) -> 20 | CD59: =VLOOKUP(CC59,$AP$33:$AQ$52,2,FALSE()) -> Botte, bracelet ou gant au choix du MD | CF59: =CB59 -> Bottes et gants | CG59: =RANDBETWEEN(1,20) -> 14 | CH59: =VLOOKUP(CG59,$AP$33:$AQ$52,2,FALSE()) -> Gantelets de dextérité | CJ59: =CF59 -> Bottes et gants | CK59: =RANDBETWEEN(1,20) -> 12 | CL59: =VLOOKUP(CK59,$AP$33:$AQ$52,2,FALSE()) -> Bracelets de défense | CN59: =CJ59 -> Bottes et gants | CO59: =RANDBETWEEN(1,20) -> 13 | CP59: =VLOOKUP(CO59,$AP$33:$AQ$52,2,FALSE()) -> Bracelets de vulnérabilité | CV59: Bâtons | CW59: =RANDBETWEEN(1,20) -> 5 | CX59: =VLOOKUP(CW59,$AI$33:$AJ$52,2,FALSE()) -> Bâton de Contrecoup | DF59: 35 | DG59: Armes
Y60: 51 | Z60: Potion de Rapidité | AF60: 50 | AG60: Anneau de Nage | AI60: 5 | AJ60: =CONCATENATE(AJ84,AL84) -> Baguette de Feu (magicien) 93 Charges | AM60: 28 | AN60: Phylactère de la foi (prêtre) | AP60: 5 | AQ60: Ceinturon des géants (prêtre, roublard, combattant) | AS60: 5 | AT60: Tapis volant | AV60: 28 | AW60: Bandes de Bilarro | AY60: 29 | AZ60: =CONCATENATE(BA60,BC60) -> Plates de dissimulation (+1) | BA60: Plates de dissimulation | BB60: =RANDBETWEEN(1,18) -> 8 | BC60: =VLOOKUP(BB60,$BD$32:$BE$49,2,FALSE()) -> (+1) | BH60: 50 | BI60: =CONCATENATE(BJ60,BK60) -> Épée (+1) | BJ60: Épée | BK60: =VLOOKUP(BL60,$BM$11:$BN$30,2,FALSE()) -> (+1) | BL60: =RANDBETWEEN(1,20) -> 9 | BU60: 56 | BV60: Poudres et pierres | BX60: =BX39 -> Ceinturons et heaumes | BY60: =RANDBETWEEN(1,20) -> 8 | BZ60: =VLOOKUP(BY60,$AP$56:$AQ$75,2,FALSE()) -> Ceinturon à poches | CB60: =BX60 -> Ceinturons et heaumes | CC60: =RANDBETWEEN(1,20) -> 3 | CD60: =VLOOKUP(CC60,$AP$56:$AQ$75,2,FALSE()) -> Ceinturon des nains | CF60: =CB60 -> Ceinturons et heaumes | CG60: =RANDBETWEEN(1,20) -> 8 | CH60: =VLOOKUP(CG60,$AP$56:$AQ$75,2,FALSE()) -> Ceinturon à poches | CJ60: =CF60 -> Ceinturons et heaumes | CK60: =RANDBETWEEN(1,20) -> 20 | CL60: =VLOOKUP(CK60,$AP$56:$AQ$75,2,FALSE()) -> Ceinturons ou chapeau ou heaume choix du MD | CN60: =CJ60 -> Ceinturons et heaumes | CO60: =RANDBETWEEN(1,20) -> 11 | CP60: =VLOOKUP(CO60,$AP$56:$AQ$75,2,FALSE()) -> Chapeau de stupidité | CV60: Baguettes | CW60: =RANDBETWEEN(1,20) -> 7 | CX60: =VLOOKUP(CW60,$AI$56:$AJ$75,2,FALSE()) -> Baguette de Givre (magicien) 10 Charges | DF60: 36 | DG60: Armes
A61: Rolling Matrix | Y61: 52 | Z61: Potion de Super-héroïsme (combattant) | AF61: 51 | AG61: Anneau de Télékinésie | AI61: 6 | AJ61: =CONCATENATE(AJ85,AL85) -> Baguette d'Extinction 74 Charges | AM61: 29 | AN61: Phylactère de longévité (prêtre) | AP61: 6 | AQ61: Ceinturon des géants (prêtre, roublard, combattant) | AS61: 6 | AT61: Pioche des titans (combattant) | AV61: 29 | AW61: Lentille de détection | AY61: 30 | AZ61: =CONCATENATE(BA61,BC61) -> Plates de dissimulation (+2) | BA61: Plates de dissimulation | BB61: =RANDBETWEEN(1,18) -> 12 | BC61: =VLOOKUP(BB61,$BD$32:$BE$49,2,FALSE()) -> (+2) | BH61: 51 | BI61: =CONCATENATE(BJ61,BK61) -> Épée (+2) | BJ61: Épée | BK61: =VLOOKUP(BL61,$BM$11:$BN$30,2,FALSE()) -> (+2) | BL61: =RANDBETWEEN(1,20) -> 13 | BU61: 57 | BV61: Outils et ustensiles ménagers | BX61: =BX40 -> Sacs et bouteilles | BY61: =RANDBETWEEN(1,20) -> 11 | BZ61: =VLOOKUP(BY61,$AS$10:$AT$29,2,FALSE()) -> Bourse de Bucknard | CB61: =BX61 -> Sacs et bouteilles | CC61: =RANDBETWEEN(1,20) -> 11 | CD61: =VLOOKUP(CC61,$AS$10:$AT$29,2,FALSE()) -> Bourse de Bucknard | CF61: =CB61 -> Sacs et bouteilles | CG61: =RANDBETWEEN(1,20) -> 13 | CH61: =VLOOKUP(CG61,$AS$10:$AT$29,2,FALSE()) -> Bouteille d'efrit | CJ61: =CF61 -> Sacs et bouteilles | CK61: =RANDBETWEEN(1,20) -> 2 | CL61: =VLOOKUP(CK61,$AS$10:$AT$29,2,FALSE()) -> Sac de haricots | CN61: =CJ61 -> Sacs et bouteilles | CO61: =RANDBETWEEN(1,20) -> 3 | CP61: =VLOOKUP(CO61,$AS$10:$AT$29,2,FALSE()) -> Sac dévoreur | CV61: Livres et grimoires | CW61: =RANDBETWEEN(1,20) -> 15 | CX61: =VLOOKUP(CW61,$AM$10:$AN$29,2,FALSE()) -> Manuel des larcins furtifs | DF61: 37 | DG61: Armes
Y62: 53 | Z62: Potion de Super-héroïsme (combattant) | AF62: 52 | AG62: Anneau de Vérité | AI62: 7 | AJ62: =CONCATENATE(AJ86,AL86) -> Baguette de Givre (magicien) 10 Charges | AM62: 30 | AN62: Phylactère d'attraction monstrueuse (prêtre) | AP62: 7 | AQ62: Ceinturon à poches | AS62: 7 | AT62: Maillet des titans (combattant) | AV62: 30 | AW62: Gri-gri emplumé de Quaal | AY62: 31 | AZ62: =CONCATENATE(BA62,BC62) -> Plates de dissimulation (+1) | BA62: Plates de dissimulation | BB62: =RANDBETWEEN(1,18) -> 6 | BC62: =VLOOKUP(BB62,$BD$32:$BE$49,2,FALSE()) -> (+1) | BH62: 52 | BI62: =CONCATENATE(BJ62,BK62) -> Épée (+1) | BJ62: Épée | BK62: =VLOOKUP(BL62,$BM$11:$BN$30,2,FALSE()) -> (+1) | BL62: =RANDBETWEEN(1,20) -> 5 | BU62: 58 | BV62: Instruments de musique | BX62: =BX41 -> Poudres et pierres | BY62: =RANDBETWEEN(1,20) -> 9 | BZ62: =VLOOKUP(BY62,$AS$33:$AT$52,2,FALSE()) -> Encens d'obsession (prêtre) | CB62: =BX62 -> Poudres et pierres | CC62: =RANDBETWEEN(1,20) -> 4 | CD62: =VLOOKUP(CC62,$AS$33:$AT$52,2,FALSE()) -> Poudre de sécheresse | CF62: =CB62 -> Poudres et pierres | CG62: =RANDBETWEEN(1,20) -> 20 | CH62: =VLOOKUP(CG62,$AS$33:$AT$52,2,FALSE()) -> Poudre ou pierre au choix du MD | CJ62: =CF62 -> Poudres et pierres | CK62: =RANDBETWEEN(1,20) -> 14 | CL62: =VLOOKUP(CK62,$AS$33:$AT$52,2,FALSE()) -> Poudre à fumée | CN62: =CJ62 -> Poudres et pierres | CO62: =RANDBETWEEN(1,20) -> 14 | CP62: =VLOOKUP(CO62,$AS$33:$AT$52,2,FALSE()) -> Poudre à fumée | CV62: Joyaux et bijoux | CW62: =RANDBETWEEN(1,40) -> 16 | CX62: =VLOOKUP(CW62,$AM$33:$AN$72,2,FALSE()) -> Collier de Projectiles | DF62: 38 | DG62: Armes
A63: 1 Potions | B63: =RANDBETWEEN(1,60) -> 47 | Y63: 54 | Z63: Eau pure | AF63: 53 | AG63: Anneau de Chaleur | AI63: 8 | AJ63: =CONCATENATE(AJ87,AL87) -> Baguette d'Illumination 51 Charges | AM63: 31 | AN63: Broche mortelle | AP63: 8 | AQ63: Ceinturon à poches | AS63: 8 | AT63: Miroir d'emprisonnement (magicien) | AV63: 31 | AW63: Carquois d'Ehlonna | AY63: 32 | AZ63: =CONCATENATE(BA63,BC63) -> Armure annelée de dissimulation (+1) | BA63: Armure annelée de dissimulation | BB63: =RANDBETWEEN(1,18) -> 1 | BC63: =VLOOKUP(BB63,$BD$32:$BE$49,2,FALSE()) -> (+1) | BH63: 53 | BI63: =CONCATENATE(BJ63,BK63) -> Trident (+5) | BJ63: Trident | BK63: =VLOOKUP(BL63,$BM$11:$BN$30,2,FALSE()) -> (+5) | BL63: =RANDBETWEEN(1,20) -> 20 | BU63: 59 | BV63: Bizarreries | BX63: =BX42 -> Outils et ustensiles ménagers | BY63: =RANDBETWEEN(1,20) -> 20 | BZ63: =VLOOKUP(BY63,$AS$56:$AT$75,2,FALSE()) -> Outil au choix du MD | CB63: =BX63 -> Outils et ustensiles ménagers | CC63: =RANDBETWEEN(1,20) -> 13 | CD63: =VLOOKUP(CC63,$AS$56:$AT$75,2,FALSE()) -> Corde d'escalade | CF63: =CB63 -> Outils et ustensiles ménagers | CG63: =RANDBETWEEN(1,20) -> 2 | CH63: =VLOOKUP(CG63,$AS$56:$AT$75,2,FALSE()) -> Brasero somnifère (magicien) | CJ63: =CF63 -> Outils et ustensiles ménagers | CK63: =RANDBETWEEN(1,20) -> 6 | CL63: =VLOOKUP(CK63,$AS$56:$AT$75,2,FALSE()) -> Pioche des titans (combattant) | CN63: =CJ63 -> Outils et ustensiles ménagers | CO63: =RANDBETWEEN(1,20) -> 19 | CP63: =VLOOKUP(CO63,$AS$56:$AT$75,2,FALSE()) -> Bêche d'excavation (combattant) | CV63: Capes et robes | CW63: =RANDBETWEEN(1,20) -> 11 | CX63: =VLOOKUP(CW63,$AP$10:$AQ$29,2,FALSE()) -> Robe des archimages (magicien) | DF63: 39 | DG63: Armes
A64: 2 Potions | B64: =RANDBETWEEN(1,60) -> 41 | C64: =RANDBETWEEN(1,60) -> 49 | Y64: 55 | Z64: Potion de Détection des trésors | AF64: 54 | AG64: Anneau de Marche des Ondes | AI64: 9 | AJ64: =CONCATENATE(AJ88,AL88) -> Baguette d'Illusion (magicien) 33 Charges | AM64: 32 | AN64: Broche de rage ennemie | AP64: 9 | AQ64: Ceinturon à poches | AS64: 9 | AT64: Miroir de prouesse mentale | AV64: 32 | AW64: Carquois d'Ehlonna | AY64: 33 | AZ64: =CONCATENATE(BA64,BC64) -> Armure d'écailles de dissimulation (+3) | BA64: Armure d'écailles de dissimulation | BB64: =RANDBETWEEN(1,18) -> 14 | BC64: =VLOOKUP(BB64,$BD$32:$BE$49,2,FALSE()) -> (+3) | BH64: 54 | BI64: =CONCATENATE(BJ64,BK64) -> Trident (+5) | BJ64: Trident | BK64: =VLOOKUP(BL64,$BM$11:$BN$30,2,FALSE()) -> (+5) | BL64: =RANDBETWEEN(1,20) -> 20 | BU64: 60 | BV64: Bizarreries | BX64: =BX43 -> Instruments de musique | BY64: =RANDBETWEEN(1,20) -> 7 | BZ64: =VLOOKUP(BY64,$AV$10:$AW$29,2,FALSE()) -> Harpe de discorde | CB64: =BX64 -> Instruments de musique | CC64: =RANDBETWEEN(1,20) -> 13 | CD64: =VLOOKUP(CC64,$AV$10:$AW$29,2,FALSE()) -> Conque des tritons (prêtre, combattant) | CF64: =CB64 -> Instruments de musique | CG64: =RANDBETWEEN(1,20) -> 5 | CH64: =VLOOKUP(CG64,$AV$10:$AW$29,2,FALSE()) -> Tambours de panique | CJ64: =CF64 -> Instruments de musique | CK64: =RANDBETWEEN(1,20) -> 8 | CL64: =VLOOKUP(CK64,$AV$10:$AW$29,2,FALSE()) -> Cor de destruction | CN64: =CJ64 -> Instruments de musique | CO64: =RANDBETWEEN(1,20) -> 16 | CP64: =VLOOKUP(CO64,$AV$10:$AW$29,2,FALSE()) -> Flûte de hantise | CV64: Bottes et gants | CW64: =RANDBETWEEN(1,20) -> 9 | CX64: =VLOOKUP(CW64,$AP$33:$AQ$52,2,FALSE()) -> Bracelets d'archer (guerrier) | DF64: 40 | DG64: Armes
A65: 3 Potions | B65: =RANDBETWEEN(1,60) -> 59 | C65: =RANDBETWEEN(1,60) -> 13 | D65: =RANDBETWEEN(1,60) -> 60 | Y65: 56 | Z65: Potion de Contrôle des morts-vivants | AF65: 55 | AG65: Anneau de Faiblesse | AI65: 10 | AJ65: =CONCATENATE(AJ89,AL89) -> Baguette de Foudre (magicien) 47 Charges | AM65: 33 | AN65: Broche de folie | AP65: 10 | AQ65: Chapeau de déguisement | AS65: 10 | AT65: Miroir d'opposition | AV65: 33 | AW65: Drap de petitesse | AY65: 34 | AZ65: =CONCATENATE(BA65,BC65) -> Bouclier de dissimulation (+5) | BA65: Bouclier de dissimulation | BB65: =RANDBETWEEN(1,18) -> 18 | BC65: =VLOOKUP(BB65,$BD$32:$BE$49,2,FALSE()) -> (+5) | BH65: 55 | BI65: =CONCATENATE(BJ65,BK65) -> Marteau de guerre (+1) | BJ65: Marteau de guerre | BK65: =VLOOKUP(BL65,$BM$11:$BN$30,2,FALSE()) -> (+1) | BL65: =RANDBETWEEN(1,20) -> 3 | BU65: 61 | BV65: Armures et boucliers | BX65: =BX44 -> Bizarreries | BY65: =RANDBETWEEN(1,40) -> 5 | BZ65: =VLOOKUP(BY65,$AV$33:$AW$72,2,FALSE()) -> Bol de mort aqueuse (magicien) | CB65: =BX65 -> Bizarreries | CC65: =RANDBETWEEN(1,40) -> 9 | CD65: =VLOOKUP(CC65,$AV$33:$AW$72,2,FALSE()) -> Boule de cristal (magicien) | CF65: =CB65 -> Bizarreries | CG65: =RANDBETWEEN(1,40) -> 25 | CH65: =VLOOKUP(CG65,$AV$33:$AW$72,2,FALSE()) -> Fers du zéphyr | CJ65: =CF65 -> Bizarreries | CK65: =RANDBETWEEN(1,40) -> 25 | CL65: =VLOOKUP(CK65,$AV$33:$AW$72,2,FALSE()) -> Fers du zéphyr | CN65: =CJ65 -> Bizarreries | CO65: =RANDBETWEEN(1,40) -> 4 | CP65: =VLOOKUP(CO65,$AV$33:$AW$72,2,FALSE()) -> Bol commandant les élémentaux d'eau (magicien) | CV65: Ceinturons et heaumes | CW65: =RANDBETWEEN(1,20) -> 20 | CX65: =VLOOKUP(CW65,$AP$56:$AQ$75,2,FALSE()) -> Ceinturons ou chapeau ou heaume choix du MD
A66: 4 Potions | B66: =RANDBETWEEN(1,60) -> 6 | C66: =RANDBETWEEN(1,60) -> 51 | D66: =RANDBETWEEN(1,60) -> 3 | E66: =RANDBETWEEN(1,60) -> 14 | Y66: 57 | Z66: Potion de Ventriloquie | AF66: 56 | AG66: Anneau de Souhaits | AI66: 11 | AJ66: =CONCATENATE(AJ90,AL90) -> Baguette de Détection de la magie 21 Charges | AM66: 34 | AN66: Broche de protection | AP66: 11 | AQ66: Chapeau de stupidité | AS66: 11 | AT66: Cuillère de Murlynd | AV66: 34 | AW66: Sphère d'annihilation | AY66: 35 | AZ66: =CONCATENATE(BA66,BC66) -> Bouclier de dissimulation (+2) | BA66: Bouclier de dissimulation | BB66: =RANDBETWEEN(1,18) -> 11 | BC66: =VLOOKUP(BB66,$BD$32:$BE$49,2,FALSE()) -> (+2) | BH66: 56 | BI66: =CONCATENATE(BJ66,BK66) -> Marteau de guerre (+4) | BJ66: Marteau de guerre | BK66: =VLOOKUP(BL66,$BM$11:$BN$30,2,FALSE()) -> (+4) | BL66: =RANDBETWEEN(1,20) -> 19 | BU66: 62 | BV66: Armures et boucliers | BX66: =BX45 -> Armures et boucliers | BY66: =RANDBETWEEN(1,20) -> 8 | BZ66: =VLOOKUP(BY66,$AY$11:$AZ$30,2,FALSE()) -> Armure de cuir (+1) | CB66: =BX66 -> Armures et boucliers | CC66: =RANDBETWEEN(1,20) -> 9 | CD66: =VLOOKUP(CC66,$AY$11:$AZ$30,2,FALSE()) -> Armure de plates (+1) | CF66: =CB66 -> Armures et boucliers | CG66: =RANDBETWEEN(1,20) -> 1 | CH66: =VLOOKUP(CG66,$AY$11:$AZ$30,2,FALSE()) -> Armure à bandes (+2) | CJ66: =CF66 -> Armures et boucliers | CK66: =RANDBETWEEN(1,20) -> 12 | CL66: =VLOOKUP(CK66,$AY$11:$AZ$30,2,FALSE()) -> Armure de plates (+5) | CN66: =CJ66 -> Armures et boucliers | CO66: =RANDBETWEEN(1,20) -> 20 | CP66: =VLOOKUP(CO66,$AY$11:$AZ$30,2,FALSE()) -> Cotte de mailles elfique (+2) | CV66: Sacs et bouteilles | CW66: =RANDBETWEEN(1,20) -> 15 | CX66: =VLOOKUP(CW66,$AS$10:$AT$29,2,FALSE()) -> Flacon de malédiction
A67: 5 Potions | B67: =RANDBETWEEN(1,60) -> 54 | C67: =RANDBETWEEN(1,60) -> 48 | D67: =RANDBETWEEN(1,60) -> 32 | E67: =RANDBETWEEN(1,60) -> 6 | F67: =RANDBETWEEN(1,60) -> 46 | Y67: 58 | Z67: Potion de Vitalité | AF67: 57 | AG67: Anneau de trois Souhaits | AI67: 12 | AJ67: =CONCATENATE(AJ91,AL91) -> Baguette de Projectiles magiques 38 Charges | AM67: 35 | AN67: Broche antigolems | AP67: 12 | AQ67: Heaume de brillance | AS67: 12 | AT67: Corde d'escalade | AV67: 35 | AW67: Cheval de pierre | AY67: 36 | AZ67: =CONCATENATE(BA67,BC67) -> Bouclier de dissimulation (+3) | BA67: Bouclier de dissimulation | BB67: =RANDBETWEEN(1,18) -> 15 | BC67: =VLOOKUP(BB67,$BD$32:$BE$49,2,FALSE()) -> (+3) | BH67: 57 | BI67: =VLOOKUP(BK67,$BH$71:$BI$267,2,FALSE()) -> Dague +1, +2 contre les créatures de taille P ou M | BJ67: Spécial | BK67: =RANDBETWEEN(1,197) -> 28 | BU67: 63 | BV67: Armures et boucliers | BX67: =BX46 -> Armes | BY67: =RANDBETWEEN(1,59) -> 23 | BZ67: =VLOOKUP(BY67,$BH$11:$BI$69,2,FALSE()) -> Arme d'hast (+2) | CB67: =BX67 -> Armes | CC67: =RANDBETWEEN(1,59) -> 50 | CD67: =VLOOKUP(CC67,$BH$11:$BI$69,2,FALSE()) -> Épée (+1) | CF67: =CB67 -> Armes | CG67: =RANDBETWEEN(1,59) -> 36 | CH67: =VLOOKUP(CG67,$BH$11:$BI$69,2,FALSE()) -> Épée (+3) | CJ67: =CF67 -> Armes | CK67: =RANDBETWEEN(1,59) -> 40 | CL67: =VLOOKUP(CK67,$BH$11:$BI$69,2,FALSE()) -> Épée (+2) | CN67: =CJ67 -> Armes | CO67: =RANDBETWEEN(1,59) -> 40 | CP67: =VLOOKUP(CO67,$BH$11:$BI$69,2,FALSE()) -> Épée (+2) | CV67: Poudres et pierres | CW67: =RANDBETWEEN(1,20) -> 1 | CX67: =VLOOKUP(CW67,$AS$33:$AT$52,2,FALSE()) -> Cierge d'invocation (prêtre)
A68: 6 Potions | B68: =RANDBETWEEN(1,60) -> 10 | C68: =RANDBETWEEN(1,60) -> 31 | D68: =RANDBETWEEN(1,60) -> 38 | E68: =RANDBETWEEN(1,60) -> 52 | F68: =RANDBETWEEN(1,60) -> 35 | G68: =RANDBETWEEN(1,60) -> 48 | Y68: 59 | Z68: Potion de Respiration aquatique | AF68: 58 | AG68: Anneau des Arcanes (Magicien) | AI68: 13 | AJ68: =CONCATENATE(AJ92,AL92) -> Baguette de Détection des métaux et minéraux 86 Charges | AM68: 36 | AN68: Talisman de pure sainteté (prêtre) | AP68: 13 | AQ68: Heaume de compréhension | AS68: 13 | AT68: Corde d'escalade | AV68: 36 | AW68: Puits des mondes | AY68: 37 | AZ68: =CONCATENATE(BA68,BC68) -> Armure feuilletée de dissimulation (+1) | BA68: Armure feuilletée de dissimulation | BB68: =RANDBETWEEN(1,18) -> 4 | BC68: =VLOOKUP(BB68,$BD$32:$BE$49,2,FALSE()) -> (+1) | BH68: 58 | BI68: =VLOOKUP(BK68,$BH$71:$BI$267,2,FALSE()) -> Épée +1, +2 contre les jeteurs de sorts et les créatures enchantées | BJ68: Spécial | BK68: =RANDBETWEEN(1,197) -> 128 | BU68: 64 | BV68: Armures et boucliers | BX68: =BX47 -> Armes | BZ68: =BZ67 -> Arme d'hast (+2) | CB68: =BX68 -> Armes | CD68: =CD67 -> Épée (+1) | CF68: =CB68 -> Armes | CH68: =CH67 -> Épée (+3) | CJ68: =CF68 -> Armes | CL68: =CL67 -> Épée (+2) | CN68: =CJ68 -> Armes | CP68: =CP67 -> Épée (+2) | CV68: Outils et ustensiles ménagers | CW68: =RANDBETWEEN(1,20) -> 6 | CX68: =VLOOKUP(CW68,$AS$56:$AT$75,2,FALSE()) -> Pioche des titans (combattant)
A69: 7 Potions | B69: =RANDBETWEEN(1,60) -> 33 | C69: =RANDBETWEEN(1,60) -> 19 | D69: =RANDBETWEEN(1,60) -> 2 | E69: =RANDBETWEEN(1,60) -> 36 | F69: =RANDBETWEEN(1,60) -> 48 | G69: =RANDBETWEEN(1,60) -> 35 | H69: =RANDBETWEEN(1,60) -> 5 | Y69: 60 | Z69: Potion au choix du MD | AF69: 59 | AG69: Anneau de Rayon X | AI69: 14 | AJ69: =CONCATENATE(AJ93,AL93) -> Baguette de Négation 63 Charges | AM69: 37 | AN69: Talisman des sphères (magicien) | AP69: 14 | AQ69: Heaume de compréhension | AS69: 14 | AT69: Corde de constriction | AV69: 37 | AW69: Ëventail des vents | AY69: 38 | AZ69: =CONCATENATE(BA69,BC69) -> Armure de cuir clouté de dissimulation (+1) | BA69: Armure de cuir clouté de dissimulation | BB69: =RANDBETWEEN(1,18) -> 1 | BC69: =VLOOKUP(BB69,$BD$32:$BE$49,2,FALSE()) -> (+1) | BH69: 59 | BI69: =VLOOKUP(BK69,$BH$71:$BI$267,2,FALSE()) -> Épée +1, +2 contre les jeteurs de sorts et les créatures enchantées | BJ69: Spécial | BK69: =RANDBETWEEN(1,197) -> 130 | BU69: 65 | BV69: Armures et boucliers | CV69: Instruments de musique | CW69: =RANDBETWEEN(1,20) -> 12 | CX69: =VLOOKUP(CW69,$AV$10:$AW$29,2,FALSE()) -> Cor du bien (du mal)
A70: 8 Potions | B70: =RANDBETWEEN(1,60) -> 35 | C70: =RANDBETWEEN(1,60) -> 53 | D70: =RANDBETWEEN(1,60) -> 38 | E70: =RANDBETWEEN(1,60) -> 28 | F70: =RANDBETWEEN(1,60) -> 41 | G70: =RANDBETWEEN(1,60) -> 10 | H70: =RANDBETWEEN(1,60) -> 21 | I70: =RANDBETWEEN(1,60) -> 3 | J70: ---------- | AF70: 60 | AG70: Anneau au choix du MD | AI70: 15 | AJ70: =CONCATENATE(AJ94,AL94) -> Baguette de Paralysie (magicien) 36 Charges | AM70: 38 | AN70: Talisman du mal ultime (prêtre) | AP70: 15 | AQ70: Heaume d'alignement opposé | AS70: 15 | AT70: Corde d'enchevêtrement | AV70: 38 | AW70: Ëventail des vents | AY70: 39 | AZ70: =CONCATENATE(BA70,BC70) -> Armure d'attraction (+2) | BA70: Armure d'attraction | BB70: =RANDBETWEEN(1,18) -> 10 | BC70: =VLOOKUP(BB70,$BD$32:$BE$49,2,FALSE()) -> (+2) | BU70: 66 | BV70: Armures et boucliers | CV70: Bizarreries | CW70: =RANDBETWEEN(1,40) -> 26 | CX70: =VLOOKUP(CW70,$AV$33:$AW$72,2,FALSE()) -> Fers de rapidité
A71: 1 Parchemins | B71: =RANDBETWEEN(1,45) -> 11 | AI71: 16 | AJ71: =CONCATENATE(AJ95,AL95) -> Baguette de Métamorphose (magicien) 61 Charges | AM71: 39 | AN71: Talisman de Zagy | AP71: 16 | AQ71: Heaume de télépathie | AS71: 16 | AT71: Tapis de suffocation | AV71: 39 | AW71: Ailes de vol | AY71: 40 | AZ71: =CONCATENATE(BA71,BC71) -> Armure d'attraction (+2) | BA71: Armure d'attraction | BB71: =RANDBETWEEN(1,18) -> 9 | BC71: =VLOOKUP(BB71,$BD$32:$BE$49,2,FALSE()) -> (+2) | BH71: 1 | BI71: Flèche directionnelle | BU71: 67 | BV71: Armures et boucliers | CV71: Armures et boucliers | CW71: =RANDBETWEEN(1,20) -> 8 | CX71: =VLOOKUP(CW71,$AY$11:$AZ$30,2,FALSE()) -> Armure de cuir (+1)
A72: 2 Parchemins | B72: =RANDBETWEEN(1,45) -> 38 | C72: =RANDBETWEEN(1,45) -> 2 | AI72: 17 | AJ72: =CONCATENATE(AJ96,AL96) -> Baguette de Localisation des pièges et portes secrètes 75 Charges | AM72: 40 | AN72: Joyaux au choix du MD | AP72: 17 | AQ72: Heaume de téléportation | AS72: 17 | AT72: Tapis de bienvenue (magicien) | AV72: 40 | AW72: Bizarreries au choix du MD | AY72: 41 | AZ72: =CONCATENATE(BA72,BC72) -> Armure d'attraction (+1) | BA72: Armure d'attraction | BB72: =RANDBETWEEN(1,18) -> 4 | BC72: =VLOOKUP(BB72,$BD$32:$BE$49,2,FALSE()) -> (+1) | BH72: 2 | BI72: Flèche directionnelle | BO72: Dague de Throwing | BU72: 68 | BV72: Armures et boucliers | CV72: Armures et boucliers | CX72: =CX71 -> Armure de cuir (+1)
A73: 3 Parchemins | B73: =RANDBETWEEN(1,45) -> 3 | C73: =RANDBETWEEN(1,45) -> 28 | D73: =RANDBETWEEN(1,45) -> 30 | AI73: 18 | AJ73: =CONCATENATE(AJ97,AL97) -> Baguette d'Altération de la taille 69 Charges | AP73: 18 | AQ73: Heaume des eaux | AS73: 18 | AT73: Scie fabuleuse (combattant) | AY73: 42 | AZ73: =CONCATENATE(BA73,BC73) -> Armure d'attraction (+1) | BA73: Armure d'attraction | BB73: =RANDBETWEEN(1,18) -> 7 | BC73: =VLOOKUP(BB73,$BD$32:$BE$49,2,FALSE()) -> (+1) | BH73: 3 | BI73: Flèche directionnelle | BO73: 1 | BP73: (+1) | BU73: 69 | BV73: Armures et boucliers
A74: 4 Parchemins | B74: =RANDBETWEEN(1,45) -> 33 | C74: =RANDBETWEEN(1,45) -> 38 | D74: =RANDBETWEEN(1,45) -> 12 | E74: =RANDBETWEEN(1,45) -> 6 | AI74: 19 | AJ74: =CONCATENATE(AJ98,AL98) -> Baguette Prodigieuse 13 Charges | AP74: 19 | AQ74: Heaume des eaux | AS74: 19 | AT74: Bêche d'excavation (combattant) | AY74: 43 | AZ74: =CONCATENATE(BA74,BC74) -> Armure d'attraction (+1) | BA74: Armure d'attraction | BB74: =RANDBETWEEN(1,18) -> 6 | BC74: =VLOOKUP(BB74,$BD$32:$BE$49,2,FALSE()) -> (+1) | BH74: 4 | BI74: =CONCATENATE(BJ74,BL74) -> Flèche tueuse de Mammifères | BJ74: Flèche tueuse | BK74: =RANDBETWEEN(1,20) -> 13 | BL74: =VLOOKUP(BK74,$BN$36:$BO$55,2,FALSE()) -> de Mammifères | BO74: 2 | BP74: (+1) | BU74: 70 | BV74: Armures et boucliers
A75: Tout 1 item | B75: =RANDBETWEEN(1,100) -> 35 | AI75: 20 | AJ75: Baguette choix du MD | AP75: 20 | AQ75: Ceinturons ou chapeau ou heaume choix du MD | AS75: 20 | AT75: Outil au choix du MD | AY75: 44 | AZ75: =CONCATENATE(BA75,BC75) -> Armure d'attraction (+1) | BA75: Armure d'attraction | BB75: =RANDBETWEEN(1,18) -> 6 | BC75: =VLOOKUP(BB75,$BD$32:$BE$49,2,FALSE()) -> (+1) | BH75: 5 | BI75: =CONCATENATE(BJ75,BL75) -> Flèche tueuse de Dragons | BJ75: Flèche tueuse | BK75: =RANDBETWEEN(1,20) -> 5 | BL75: =VLOOKUP(BK75,$BN$36:$BO$55,2,FALSE()) -> de Dragons | BO75: 3 | BP75: (+1) | BU75: 71 | BV75: Armures et boucliers
A76: Tous 2 items | B76: =RANDBETWEEN(1,100) -> 7 | C76: =RANDBETWEEN(1,100) -> 42 | AY76: 45 | AZ76: =CONCATENATE(BA76,BC76) -> Armure d'attraction (+1) | BA76: Armure d'attraction | BB76: =RANDBETWEEN(1,18) -> 5 | BC76: =VLOOKUP(BB76,$BD$32:$BE$49,2,FALSE()) -> (+1) | BH76: 6 | BI76: =CONCATENATE(BJ76,BL76) -> Flèche tueuse de Rôdeurs | BJ76: Flèche tueuse | BK76: =RANDBETWEEN(1,20) -> 15 | BL76: =VLOOKUP(BK76,$BN$36:$BO$55,2,FALSE()) -> de Rôdeurs | BO76: 4 | BP76: (+1) | BU76: 72 | BV76: Armures et boucliers
A77: Tous 3 items | B77: =RANDBETWEEN(1,100) -> 25 | C77: =RANDBETWEEN(1,100) -> 67 | D77: =RANDBETWEEN(1,100) -> 7 | AY77: 46 | AZ77: =CONCATENATE(BA77,BC77) -> Armure d'attraction (+2) | BA77: Armure d'attraction | BB77: =RANDBETWEEN(1,18) -> 10 | BC77: =VLOOKUP(BB77,$BD$32:$BE$49,2,FALSE()) -> (+2) | BH77: 7 | BI77: Hache de lancer +2 | BO77: 5 | BP77: (+1) | BU77: 73 | BV77: Armures et boucliers
A78: Tous 5 items | B78: =RANDBETWEEN(1,100) -> 8 | C78: =RANDBETWEEN(1,100) -> 40 | D78: =RANDBETWEEN(1,100) -> 91 | E78: =RANDBETWEEN(1,100) -> 17 | F78: =RANDBETWEEN(1,100) -> 51 | AY78: 47 | AZ78: =CONCATENATE(BA78,BC78) -> Armure d'attraction (+1) | BA78: Armure d'attraction | BB78: =RANDBETWEEN(1,18) -> 1 | BC78: =VLOOKUP(BB78,$BD$32:$BE$49,2,FALSE()) -> (+1) | BH78: 8 | BI78: Hache de lancer +2 | BO78: 6 | BP78: (+1) | BU78: 74 | BV78: Armures et boucliers
A79: Tous 6 items | B79: =RANDBETWEEN(1,100) -> 88 | C79: =RANDBETWEEN(1,100) -> 64 | D79: =RANDBETWEEN(1,100) -> 19 | E79: =RANDBETWEEN(1,100) -> 19 | F79: =RANDBETWEEN(1,100) -> 73 | G79: =RANDBETWEEN(1,100) -> 6 | AK79: Charge Generator | AY79: 48 | AZ79: =CONCATENATE(BA79,BC79) -> Armure d'attraction (+4) | BA79: Armure d'attraction | BB79: =RANDBETWEEN(1,18) -> 17 | BC79: =VLOOKUP(BB79,$BD$32:$BE$49,2,FALSE()) -> (+4) | BH79: 9 | BI79: Hache de lancer +2 | BO79: 7 | BP79: (+1) | BU79: 75 | BV79: Armures et boucliers
AJ80: Baguette de Conjuration (magicien) | AK80: =RANDBETWEEN(10,100) -> 50 | AL80: =VLOOKUP(AK80,$AM$80:$AN$170,2,FALSE()) -> 50 Charges | AM80: 10 | AN80: 10 Charges | AY80: 49 | AZ80: =CONCATENATE(BA80,BC80) -> Armure d'attraction (+2) | BA80: Armure d'attraction | BB80: =RANDBETWEEN(1,18) -> 11 | BC80: =VLOOKUP(BB80,$BD$32:$BE$49,2,FALSE()) -> (+2) | BH80: 10 | BI80: Hache de projection | BJ80: Hache de Hurling | BK80: =VLOOKUP(BL80,$BM$11:$BN$30,2,FALSE()) -> (+2) | BL80: =RANDBETWEEN(1,20) -> 11 | BO80: 8 | BP80: (+1) | BU80: 76 | BV80: Armes
A81: 1 Potions | B81: =VLOOKUP(B63,$Y$10:$Z$69,2,FALSE()) -> Poison | C81: 0 | D81: 0 | E81: 0 | F81: 0 | G81: 0 | H81: 0 | I81: 0 | J81: 0 | AJ81: Baguette de Terre et pierre | AK81: =RANDBETWEEN(10,100) -> 63 | AL81: =VLOOKUP(AK81,$AM$80:$AN$170,2,FALSE()) -> 63 Charges | AM81: 11 | AN81: 11 Charges | AY81: 50 | AZ81: =CONCATENATE(BA81,BC81) -> Armure d'attraction (+1) | BA81: Armure d'attraction | BB81: =RANDBETWEEN(1,18) -> 4 | BC81: =VLOOKUP(BB81,$BD$32:$BE$49,2,FALSE()) -> (+1) | BH81: 11 | BI81: Hache de projection | BJ81: Hache de Hurling | BK81: =VLOOKUP(BL81,$BM$11:$BN$30,2,FALSE()) -> (+2) | BL81: =RANDBETWEEN(1,20) -> 11 | BO81: 9 | BP81: (+1) | BU81: 77 | BV81: Armes
A82: 2 Potions | B82: =VLOOKUP(B64,$Y$10:$Z$69,2,FALSE()) -> Huile d'éternité | C82: =VLOOKUP(C64,$Y$10:$Z$69,2,FALSE()) -> Potion de Métamorphose | D82: 0 | E82: 0 | F82: 0 | G82: 0 | H82: 0 | I82: 0 | J82: 0 | AJ82: Baguette de Détection de l'ennemi | AK82: =RANDBETWEEN(10,100) -> 17 | AL82: =VLOOKUP(AK82,$AM$80:$AN$170,2,FALSE()) -> 17 Charges | AM82: 12 | AN82: 12 Charges | AY82: 51 | AZ82: =CONCATENATE(BA82,BC82) -> Armure d'attraction (+2) | BA82: Armure d'attraction | BB82: =RANDBETWEEN(1,18) -> 12 | BC82: =VLOOKUP(BB82,$BD$32:$BE$49,2,FALSE()) -> (+2) | BH82: 12 | BI82: Hache de projection | BJ82: Hache de Hurling | BK82: =VLOOKUP(BL82,$BM$11:$BN$30,2,FALSE()) -> (+3) | BL82: =RANDBETWEEN(1,20) -> 16 | BO82: 10 | BP82: (+1) | BU82: 78 | BV82: Armes
A83: 3 Potions | B83: =VLOOKUP(B65,$Y$10:$Z$69,2,FALSE()) -> Potion de Respiration aquatique | C83: =VLOOKUP(C65,$Y$10:$Z$69,2,FALSE()) -> Potion d'ESP | D83: =VLOOKUP(D65,$Y$10:$Z$69,2,FALSE()) -> Potion au choix du MD | E83: 0 | F83: 0 | G83: 0 | H83: 0 | I83: 0 | J83: 0 | AJ83: Baguette de Terreur (prêtre, magicien) | AK83: =RANDBETWEEN(10,100) -> 68 | AL83: =VLOOKUP(AK83,$AM$80:$AN$170,2,FALSE()) -> 68 Charges | AM83: 13 | AN83: 13 Charges | AY83: 52 | AZ83: =CONCATENATE(BA83,BC83) -> Armure d'attraction (+3) | BA83: Armure d'attraction | BB83: =RANDBETWEEN(1,18) -> 14 | BC83: =VLOOKUP(BB83,$BD$32:$BE$49,2,FALSE()) -> (+3) | BH83: 13 | BI83: Arc + 1 | BO83: 11 | BP83: (+1) | BU83: 79 | BV83: Armes
A84: 4 Potions | B84: =VLOOKUP(B66,$Y$10:$Z$69,2,FALSE()) -> Potion de Folie | C84: =VLOOKUP(C66,$Y$10:$Z$69,2,FALSE()) -> Potion de Rapidité | D84: =VLOOKUP(D66,$Y$10:$Z$69,2,FALSE()) -> Potion de Clairvoyance | E84: =VLOOKUP(E66,$Y$10:$Z$69,2,FALSE()) -> Potion de Grands soins | F84: 0 | G84: 0 | H84: 0 | I84: 0 | J84: 0 | AJ84: Baguette de Feu (magicien) | AK84: =RANDBETWEEN(10,100) -> 93 | AL84: =VLOOKUP(AK84,$AM$80:$AN$170,2,FALSE()) -> 93 Charges | AM84: 14 | AN84: 14 Charges | AY84: 53 | AZ84: =CONCATENATE(BA84,BC84) -> Armure d'attraction (+1) | BA84: Armure d'attraction | BB84: =RANDBETWEEN(1,18) -> 3 | BC84: =VLOOKUP(BB84,$BD$32:$BE$49,2,FALSE()) -> (+1) | BH84: 14 | BI84: Arc + 1 | BO84: 12 | BP84: (+1) | BU84: 80 | BV84: Armes
A85: 5 Potions | B85: =VLOOKUP(B67,$Y$10:$Z$69,2,FALSE()) -> Eau pure | C85: =VLOOKUP(C67,$Y$10:$Z$69,2,FALSE()) -> Poison | D85: =VLOOKUP(D67,$Y$10:$Z$69,2,FALSE()) -> Huile antiacide | E85: =VLOOKUP(E67,$Y$10:$Z$69,2,FALSE()) -> Potion de Folie | F85: =VLOOKUP(F67,$Y$10:$Z$69,2,FALSE()) -> Potion de Contrôle des plantes | G85: 0 | H85: 0 | I85: 0 | J85: 0 | AJ85: Baguette d'Extinction | AK85: =RANDBETWEEN(10,100) -> 74 | AL85: =VLOOKUP(AK85,$AM$80:$AN$170,2,FALSE()) -> 74 Charges | AM85: 15 | AN85: 15 Charges | AY85: 54 | AZ85: =CONCATENATE(BA85,BC85) -> Armure d'attraction (+1) | BA85: Armure d'attraction | BB85: =RANDBETWEEN(1,18) -> 4 | BC85: =VLOOKUP(BB85,$BD$32:$BE$49,2,FALSE()) -> (+1) | BH85: 15 | BI85: Arc + 1 | BO85: 13 | BP85: (+1) | BU85: 81 | BV85: Armes
A86: 6 Potions | B86: =VLOOKUP(B68,$Y$10:$Z$69,2,FALSE()) -> Élixir de folie | C86: =VLOOKUP(C68,$Y$10:$Z$69,2,FALSE()) -> Potion de Longévité | D86: =VLOOKUP(D68,$Y$10:$Z$69,2,FALSE()) -> Huile d'impact | E86: =VLOOKUP(E68,$Y$10:$Z$69,2,FALSE()) -> Potion de Super-héroïsme (combattant) | F86: =VLOOKUP(F68,$Y$10:$Z$69,2,FALSE()) -> Huile éthérée | G86: =VLOOKUP(G68,$Y$10:$Z$69,2,FALSE()) -> Poison | H86: 0 | I86: 0 | J86: 0 | AJ86: Baguette de Givre (magicien) | AK86: =RANDBETWEEN(10,100) -> 10 | AL86: =VLOOKUP(AK86,$AM$80:$AN$170,2,FALSE()) -> 10 Charges | AM86: 16 | AN86: 16 Charges | AY86: 55 | AZ86: =CONCATENATE(BA86,BC86) -> Armure d'attraction (+3) | BA86: Armure d'attraction | BB86: =RANDBETWEEN(1,18) -> 13 | BC86: =VLOOKUP(BB86,$BD$32:$BE$49,2,FALSE()) -> (+3) | BH86: 16 | BI86: Arc + 1 | BO86: 14 | BP86: (+1) | BU86: 82 | BV86: Armes
A87: 7 Potions | B87: =VLOOKUP(B69,$Y$10:$Z$69,2,FALSE()) -> Huile de désenchantement | C87: =VLOOKUP(C69,$Y$10:$Z$69,2,FALSE()) -> Potion de Forme gazeuse | D87: =VLOOKUP(D69,$Y$10:$Z$69,2,FALSE()) -> Potion de Clairaudience | E87: =VLOOKUP(E69,$Y$10:$Z$69,2,FALSE()) -> Huile de feux ardents | F87: =VLOOKUP(F69,$Y$10:$Z$69,2,FALSE()) -> Poison | G87: =VLOOKUP(G69,$Y$10:$Z$69,2,FALSE()) -> Huile éthérée | H87: =VLOOKUP(H69,$Y$10:$Z$69,2,FALSE()) -> Potion de Folie | I87: 0 | J87: 0 | AJ87: Baguette d'Illumination | AK87: =RANDBETWEEN(10,100) -> 51 | AL87: =VLOOKUP(AK87,$AM$80:$AN$170,2,FALSE()) -> 51 Charges | AM87: 17 | AN87: 17 Charges | AY87: 56 | AZ87: =CONCATENATE(BA87,BC87) -> Armure d'attraction (+2) | BA87: Armure d'attraction | BB87: =RANDBETWEEN(1,18) -> 10 | BC87: =VLOOKUP(BB87,$BD$32:$BE$49,2,FALSE()) -> (+2) | BH87: 17 | BI87: Arc + 1 | BO87: 15 | BP87: (+1) | BU87: 83 | BV87: Armes
A88: 8 Potions | B88: =VLOOKUP(B70,$Y$10:$Z$69,2,FALSE()) -> Huile éthérée | C88: =VLOOKUP(C70,$Y$10:$Z$69,2,FALSE()) -> Potion de Super-héroïsme (combattant) | D88: =VLOOKUP(D70,$Y$10:$Z$69,2,FALSE()) -> Huile d'impact | E88: =VLOOKUP(E70,$Y$10:$Z$69,2,FALSE()) -> Potion d'Invisibilité | F88: =VLOOKUP(F70,$Y$10:$Z$69,2,FALSE()) -> Huile d'éternité | G88: =VLOOKUP(G70,$Y$10:$Z$69,2,FALSE()) -> Élixir de folie | H88: =VLOOKUP(H70,$Y$10:$Z$69,2,FALSE()) -> Potion de Contrôle des géants | I88: =VLOOKUP(I70,$Y$10:$Z$69,2,FALSE()) -> Potion de Clairvoyance | J88: 0 | AJ88: Baguette d'Illusion (magicien) | AK88: =RANDBETWEEN(10,100) -> 33 | AL88: =VLOOKUP(AK88,$AM$80:$AN$170,2,FALSE()) -> 33 Charges | AM88: 18 | AN88: 18 Charges | AY88: 57 | AZ88: =CONCATENATE(BA88,BC88) -> Armure d'attraction (+5) | BA88: Armure d'attraction | BB88: =RANDBETWEEN(1,18) -> 18 | BC88: =VLOOKUP(BB88,$BD$32:$BE$49,2,FALSE()) -> (+5) | BH88: 18 | BI88: Arc + 1 | BO88: 16 | BP88: (+1) | BU88: 84 | BV88: Armes
A89: 1 Parchemins | B89: =VLOOKUP(B71,AC10:AD54,2,FALSE()) -> 1 Sorts 1d8+1/niveau 1d6+1 | AJ89: Baguette de Foudre (magicien) | AK89: =RANDBETWEEN(10,100) -> 47 | AL89: =VLOOKUP(AK89,$AM$80:$AN$170,2,FALSE()) -> 47 Charges | AM89: 19 | AN89: 19 Charges | AY89: 58 | AZ89: Armure enragée | BH89: 19 | BI89: Arbalète +3, de précision | BO89: 17 | BP89: (+1) | BU89: 85 | BV89: Armes
A90: 2 Parchemins | B90: =VLOOKUP(B72,AC10:AD54,2,FALSE()) -> Protection contre la pétrification | C90: =VLOOKUP(C72,$AC$10:$AD$54,2,FALSE()) -> 1 Sorts niveau 1d4 | AJ90: Baguette de Détection de la magie | AK90: =RANDBETWEEN(10,100) -> 21 | AL90: =VLOOKUP(AK90,$AM$80:$AN$170,2,FALSE()) -> 21 Charges | AM90: 20 | AN90: 20 Charges | AY90: 59 | AZ90: Armure enragée | BH90: 20 | BI90: Arbalète +3, de précision | BO90: 18 | BP90: (+1) | BU90: 86 | BV90: Armes
A91: 3 Parchemins | B91: =VLOOKUP(B73,AC10:AD54,2,FALSE()) -> 1 Sorts niveau 1d4 | C91: =VLOOKUP(C73,$AC$10:$AD$54,2,FALSE()) -> Protection contre le froid | D91: =VLOOKUP(D73,$AC$10:$AD$54,2,FALSE()) -> Protection contre lélectricité | AJ91: Baguette de Projectiles magiques | AK91: =RANDBETWEEN(10,100) -> 38 | AL91: =VLOOKUP(AK91,$AM$80:$AN$170,2,FALSE()) -> 38 Charges | AM91: 21 | AN91: 21 Charges | AY91: 60 | AZ91: Armure enragée | BH91: 21 | BI91: Arbalète +3, de précision | BO91: 19 | BP91: (+1) | BU91: 87 | BV91: Armes
A92: 4 Parchemins | B92: =VLOOKUP(B74,AC10:AD54,2,FALSE()) -> Protection contre le feu | C92: =VLOOKUP(C74,$AC$10:$AD$54,2,FALSE()) -> Protection contre la pétrification | D92: =VLOOKUP(D74,$AC$10:$AD$54,2,FALSE()) -> 2 Sorts niveau 1d4 | E92: =VLOOKUP(E74,$AC$10:$AD$54,2,FALSE()) -> 1 Sorts niveau 1d4 | AJ92: Baguette de Détection des métaux et minéraux | AK92: =RANDBETWEEN(10,100) -> 86 | AL92: =VLOOKUP(AK92,$AM$80:$AN$170,2,FALSE()) -> 86 Charges | AM92: 22 | AN92: 22 Charges | AY92: 61 | AZ92: Armure enragée | BH92: 22 | BI92: Arbalète de distance | BO92: 20 | BP92: (+1) | BU92: 88 | BV92: Armes
A93: Tout 1 item | B93: =V36 -> 1 Sorts niveau 1d4 | AJ93: Baguette de Négation | AK93: =RANDBETWEEN(10,100) -> 63 | AL93: =VLOOKUP(AK93,$AM$80:$AN$170,2,FALSE()) -> 63 Charges | AM93: 23 | AN93: 23 Charges | AY93: 62 | AZ93: Armure enragée | BH93: 23 | BI93: Arbalète de distance | BO93: 21 | BP93: (+1) | BU93: 89 | BV93: Armes
A94: Tous 2 items | B94: =V37 -> Potion d'Escalade | C94: =V38 -> Bâton de Fustibale | AJ94: Baguette de Paralysie (magicien) | AK94: =RANDBETWEEN(10,100) -> 36 | AL94: =VLOOKUP(AK94,$AM$80:$AN$170,2,FALSE()) -> 36 Charges | AM94: 24 | AN94: 24 Charges | AY94: 63 | AZ94: Armure enragée | BH94: 24 | BI94: Arbalète de distance | BO94: 22 | BP94: (+1) | BU94: 90 | BV94: Armes
A95: Tous 3 items | B95: =V39 -> Carte | C95: =V40 -> Armure de plates (+2) | D95: =V41 -> Potion d'Éclat irisé | AJ95: Baguette de Métamorphose (magicien) | AK95: =RANDBETWEEN(10,100) -> 61 | AL95: =VLOOKUP(AK95,$AM$80:$AN$170,2,FALSE()) -> 61 Charges | AM95: 25 | AN95: 25 Charges | AY95: 64 | AZ95: Armure enragée | BH95: 25 | BI95: Arbalète de rapidité | BO95: 23 | BP95: (+1) | BU95: 91 | BV95: Armes
A96: Tous 5 items | B96: =V42 -> Philtre de persuasion | C96: =V43 -> Anneau de Conjuration de Djinns | D96: =V44 -> Épée (+3) | E96: =V45 -> Potion de Forme gazeuse | F96: =V46 -> Gants antiprojectile | AJ96: Baguette de Localisation des pièges et portes secrètes | AK96: =RANDBETWEEN(10,100) -> 75 | AL96: =VLOOKUP(AK96,$AM$80:$AN$170,2,FALSE()) -> 75 Charges | AM96: 26 | AN96: 26 Charges | AY96: 65 | AZ96: Armure enragée | BH96: 26 | BI96: Arbalète de rapidité | BO96: 24 | BP96: (+1) | BU96: 92 | BV96: Armes
A97: Tous 6 items | B97: =V47 -> Épée (+2) | C97: =V48 -> Bouclier (+3) | D97: =V49 -> Huile éthérée | E97: =V50 -> Potion de Folie | F97: =V51 -> Cotte de mailles (+1) | G97: =V52 -> Potion d'Éclat irisé | AJ97: Baguette d'Altération de la taille | AK97: =RANDBETWEEN(10,100) -> 69 | AL97: =VLOOKUP(AK97,$AM$80:$AN$170,2,FALSE()) -> 69 Charges | AM97: 27 | AN97: 27 Charges | AY97: 66 | AZ97: Armure enragée | BH97: 27 | BI97: Arbalète de rapidité | BO97: 25 | BP97: (+1) | BU97: 93 | BV97: Armes
A98: Tous 2 items + 1 potion | B98: =B94 -> Potion d'Escalade | C98: =C94 -> Bâton de Fustibale | D98: =B81 -> Poison | AJ98: Baguette Prodigieuse | AK98: =RANDBETWEEN(10,100) -> 13 | AL98: =VLOOKUP(AK98,$AM$80:$AN$170,2,FALSE()) -> 13 Charges | AM98: 28 | AN98: 28 Charges | AY98: 67 | AZ98: Armure enragée | BH98: 28 | BI98: Dague +1, +2 contre les créatures de taille P ou M | BO98: 26 | BP98: (+1) | BU98: 94 | BV98: Armes
A99: Tous 3 items + 1 Parchemin | B99: =B95 -> Carte | C99: =C95 -> Armure de plates (+2) | D99: =D95 -> Potion d'Éclat irisé | E99: =B89 -> 1 Sorts 1d8+1/niveau 1d6+1 | AJ99: Baguette au choix du MD | AK99: =RANDBETWEEN(10,100) -> 63 | AL99: =VLOOKUP(AK99,$AM$80:$AN$170,2,FALSE()) -> 63 Charges | AM99: 29 | AN99: 29 Charges | AY99: 68 | AZ99: Armure enragée | BH99: 29 | BI99: Dague +1, +2 contre les créatures de taille P ou M | BO99: 27 | BP99: (+1) | BU99: 95 | BV99: Armes
A100: Tous 5 items except armes | B100: =CY8 -> Protection contre le froid | C100: =CY9 -> Cotte de mailles (+4) | D100: =CY10 -> Armure de cuir (+1) | E100: =CY11 -> Protection contre la possession | F100: =CY12 -> Armure à bandes (+2) | AM100: 30 | AN100: 30 Charges | AY100: 69 | AZ100: Armure enragée | BH100: 30 | BI100: Dague +1, +2 contre les créatures de taille P ou M | BO100: 28 | BP100: (+1) | BU100: 96 | BV100: Armes
A101: Armure ou arme | B101: =DE22 -> Morgenstern (+3) | AM101: 31 | AN101: 31 Charges | AY101: 70 | AZ101: Armure enragée | BH101: 31 | BI101: Dague +1, +2 contre les créatures de taille P ou M | BO101: 29 | BP101: (+1) | BU101: 97 | BV101: Armes
...
