Workbook
Name SHARED_FORMULA_1_62_1_62_1: "RANDBETWEEN(1;60)"
Name SHARED_FORMULA_1_80_1_80_1: "VLOOKUP([.B63];[.$Y$10:.$Z$69];2;FALSE())"
Name SHARED_FORMULA_10_33_10_33_1: "RANDBETWEEN(1;100)"
Name SHARED_FORMULA_10_4_10_4_1: "RANDBETWEEN(1;100)"
Name SHARED_FORMULA_100_22_100_22_1: "RANDBETWEEN(1;20)"
Name SHARED_FORMULA_100_42_100_42_1: "RANDBETWEEN(1;20)"
Name SHARED_FORMULA_100_62_100_62_1: "RANDBETWEEN(1;20)"
Name SHARED_FORMULA_104_22_104_22_1: "RANDBETWEEN(1;20)"
Name SHARED_FORMULA_104_42_104_42_1: "RANDBETWEEN(1;20)"
Name SHARED_FORMULA_13_33_13_33_1: "IF([.Q34]<=[.P34];[.O34];0)"
Name SHARED_FORMULA_13_5_13_5_1: "IF([.Q6]<=[.P6];[.O6];0)"
Name SHARED_FORMULA_13_51_13_51_1: "IF([.Q52]<=[.P52];[.O52];0)"
Name SHARED_FORMULA_16_33_16_33_1: "RANDBETWEEN(1;100)"
Name SHARED_FORMULA_16_4_16_4_1: "RANDBETWEEN(1;100)"
Name SHARED_FORMULA_16_51_16_51_1: "RANDBETWEEN(1;100)"
Name SHARED_FORMULA_19_6_19_6_1: "IF([.W7]<=[.V7];[.U7];0)"
Name SHARED_FORMULA_2_63_2_63_1: "RANDBETWEEN(1;60)"
Name SHARED_FORMULA_2_81_2_81_1: "VLOOKUP([.C64];[.$Y$10:.$Z$69];2;FALSE())"
Name SHARED_FORMULA_20_35_20_35_1: "VLOOKUP([.T36];[.$BU$4:.$BV$104];2;FALSE())"
Name SHARED_FORMULA_22_5_22_5_1: "RANDBETWEEN(1;100)"
Name SHARED_FORMULA_3_64_3_64_1: "RANDBETWEEN(1;60)"
Name SHARED_FORMULA_3_82_3_82_1: "VLOOKUP([.D65];[.$Y$10:.$Z$69];2;FALSE())"
Name SHARED_FORMULA_35_55_35_55_1: "CONCATENATE([.AJ80];[.AL80])"
Name SHARED_FORMULA_36_80_36_80_1: "RANDBETWEEN(10;100)"
Name SHARED_FORMULA_37_80_37_80_1: "VLOOKUP([.AK81];[.$AM$80:.$AN$170];2;FALSE())"
Name SHARED_FORMULA_51_111_51_111_1: "CONCATENATE([.BA112];[.BC112])"
Name SHARED_FORMULA_51_12_51_12_1: "CONCATENATE([.BA13];[.BC13])"
Name SHARED_FORMULA_51_33_51_33_1: "CONCATENATE([.BA34];[.BC34])"
Name SHARED_FORMULA_51_52_51_52_1: "CONCATENATE([.BA53];[.BC53])"
Name SHARED_FORMULA_53_10_53_10_1: "RANDBETWEEN(1;20)"
Name SHARED_FORMULA_53_107_53_107_1: "RANDBETWEEN(1;18)"
Name SHARED_FORMULA_53_31_53_31_1: "RANDBETWEEN(1;18)"
Name SHARED_FORMULA_53_63_53_63_1: "RANDBETWEEN(1;18)"
Name SHARED_FORMULA_54_10_54_10_1: "VLOOKUP([.BB11];[.$BD$10:.$BE$29];2;FALSE())"
Name SHARED_FORMULA_54_107_54_107_1: "VLOOKUP([.BB108];[.$BD$32:.$BE$49];2;FALSE())"
Name SHARED_FORMULA_54_31_54_31_1: "VLOOKUP([.BB32];[.$BD$32:.$BE$49];2;FALSE())"
Name SHARED_FORMULA_54_63_54_63_1: "VLOOKUP([.BB64];[.$BD$32:.$BE$49];2;FALSE())"
Name SHARED_FORMULA_60_11_60_11_1: "CONCATENATE([.BJ12];[.BK12])"
Name SHARED_FORMULA_60_139_60_139_1: "CONCATENATE([.BJ140];[.BL140])"
Name SHARED_FORMULA_60_154_60_154_1: "CONCATENATE([.BJ155];[.BL155])"
Name SHARED_FORMULA_62_10_62_10_1: "VLOOKUP([.BL11];[.$BM$11:.$BN$30];2;FALSE())"
Name SHARED_FORMULA_62_139_62_139_1: "RANDBETWEEN(1;10)"
Name SHARED_FORMULA_62_154_62_154_1: "RANDBETWEEN(1;20)"
Name SHARED_FORMULA_62_42_62_42_1: "VLOOKUP([.BL43];[.$BM$11:.$BN$30];2;FALSE())"
Name SHARED_FORMULA_63_10_63_10_1: "RANDBETWEEN(1;20)"
Name SHARED_FORMULA_63_139_63_139_1: "VLOOKUP([.BK140];[.$BR$138:.$BS$147];2;FALSE())"
Name SHARED_FORMULA_63_154_63_154_1: "VLOOKUP([.BK155];[.$BR$150:.$BS$169];2;FALSE())"
Name SHARED_FORMULA_63_42_63_42_1: "RANDBETWEEN(1;20)"
Name SHARED_FORMULA_7_33_7_33_1: "IF([.K34]<=[.J34];[.I34];0)"
Name SHARED_FORMULA_7_4_7_4_1: "IF([.K5]<=[.J5];[.I5];0)"
Name SHARED_FORMULA_76_15_76_15_1: "RANDBETWEEN(1;20)"
Name SHARED_FORMULA_76_36_76_36_1: "RANDBETWEEN(1;20)"
Name SHARED_FORMULA_76_57_76_57_1: "RANDBETWEEN(1;20)"
Name SHARED_FORMULA_80_15_80_15_1: "RANDBETWEEN(1;20)"
Name SHARED_FORMULA_80_36_80_36_1: "RANDBETWEEN(1;20)"
Name SHARED_FORMULA_80_57_80_57_1: "RANDBETWEEN(1;20)"
Name SHARED_FORMULA_84_15_84_15_1: "RANDBETWEEN(1;20)"
Name SHARED_FORMULA_84_36_84_36_1: "RANDBETWEEN(1;20)"
Name SHARED_FORMULA_84_57_84_57_1: "RANDBETWEEN(1;20)"
Name SHARED_FORMULA_88_15_88_15_1: "RANDBETWEEN(1;20)"

Sheet Trésor
A1: Type de trésor | B1: H
A3: Chance | B3: 0 | F3: =$B$5 -> 0
F4: =IFERROR(VLOOKUP(Trésor!$F$3,DATA!$A$81:$J$101,2,FALSE()),"")
A5: Objets | B5: =VLOOKUP(B1,DATA!M34:N59,2,FALSE()) -> 0 | F5: =IFERROR(VLOOKUP($F$3,DATA!$A$81:$C$101,3,FALSE()),"")
A6: Art | B6: =VLOOKUP(B1,DATA!S6:T31,2,FALSE()) -> 20 | F6: =IFERROR(VLOOKUP($F$3,DATA!$A$81:$D$101,4,FALSE()),"")
A7: Gemmes | B7: =VLOOKUP(B1,DATA!M5:N30,2,FALSE()) -> 0 | F7: =IFERROR(VLOOKUP($F$3,DATA!$A$81:$E$101,5,FALSE()),"")
A8: PP | B8: =VLOOKUP(B1,DATA!G34:H59,2,FALSE()) -> 0 | C8: =IF(B8=0,"",B8*5 & " PO") | F8: =IFERROR(VLOOKUP($F$3,DATA!$A$81:$F$101,6,FALSE()),"")
A9: PO | B9: =VLOOKUP(B1,DATA!A34:B59,2,FALSE()) -> 0 | C9: =IF(B9=0,"",B9 & " PO") | F9: =IFERROR(VLOOKUP($F$3,DATA!$A$81:$G$101,7,FALSE()),"")
A10: PA | B10: =VLOOKUP(B1,DATA!G5:H30,2,FALSE()) -> 5977 | C10: =IF(B10=0,"",ROUND(B10/10,0) & " PO") -> 598 PO | F10: =IFERROR(VLOOKUP($F$3,DATA!$A$81:$H$101,8,FALSE()),"")
A11: PC | B11: =VLOOKUP(B1,DATA!A5:B30,2,FALSE()) -> 0 | C11: =IF(B11=0,"",ROUND(B11/100,0) & " PO") | F11: =IFERROR(VLOOKUP($F$3,DATA!$A$81:$I$101,9,FALSE()),"")
A15: Entrez le type de trésor et appuyez sur "F9" pour générer un trésor de façon aléatoire. La cellule de chance donne un modificateur au % de chance d'avoir une dénomination particulière de trésor. Par exemple, si vous avez un trésor de type "H" et que vous entrez un "5", vos chances de trouver des objets magiques passeront de 15% à 20%. Ceci est utile si le PJ a une pierre de chance, est un prêtre de Tymora, ou simplement favorisé par les dieux pour une raison quelconque. Vous pourriez également ajouter un bonus arbitraire si les PCs battent un monstre exceptionnel. Si cette cellule est laissée à "0", alors le trésor sera jeté selon le GdM de la 2e édition. L'onglet de données contient toutes les informations sur chaque type de trésor pour chaque dénomination.
A23: Created by oak_born
AD39: Protection contre l'électricité

Sheet DATA
A1: Types de trésor
A3: PC | G3: PA | M3: Gemmes
B4: Actual Yield | C4: Yield | D4: %CHANCE | E4: CHANCE | H4: Actual Yield | I4: Yield | J4: %CHANCE | K4: CHANCE | N4: Actual Yield | O4: Yield | P4: %CHANCE | Q4: CHANCE | S4: Art | BU4: 0 | BV4: Potions et huiles
A5: A | B5: =IF(E5<=D5,C5,0) -> 2739 | C5: =RANDBETWEEN(1000,3000) -> 2739 | D5: =25+B31 -> 25 | E5: =RANDBETWEEN(1,100) -> 10 | G5: A | H5: =IF(K5<=J5,I5,0) -> 0 | I5: =RANDBETWEEN(200,2000) -> 1472 | J5: =30+B31 -> 30 | K5: =RANDBETWEEN(1,100) -> 39 | M5: A | N5: =IF(Q5<=P5,O5,0) -> 0 | O5: =RANDBETWEEN(10,40) -> 19 | P5: =60+B31 -> 60 | Q5: =RANDBETWEEN(1,100) -> 78 | T5: Actual Yield | U5: Yield | V5: %CHANCE | W5: CHANCE | BU5: 1 | BV5: Potions et huiles | CV5: Tous sauf armes
A6: B | B6: =IF(E6<=D6,C6,0) -> 1603 | C6: =RANDBETWEEN(1000,6000) -> 1603 | D6: =50+B31 -> 50 | E6: =RANDBETWEEN(1,100) -> 49 | G6: B | H6: =IF(K6<=J6,I6,0) -> 1883 | I6: =RANDBETWEEN(1000,3000) -> 1883 | J6: =25+B31 -> 25 | K6: =RANDBETWEEN(1,100) -> 24 | M6: B | N6: =IF(Q6<=P6,O6,0) -> 7 | O6: =RANDBETWEEN(1,8) -> 7 | P6: =30+B31 -> 30 | Q6: =RANDBETWEEN(1,100) -> 19 | S6: A | T6: =IF(W6<=V6,U6,0) -> 11 | U6: =RANDBETWEEN(2,12) -> 11 | V6: =50+B31 -> 50 | W6: =RANDBETWEEN(1,100) -> 13 | BU6: 2 | BV6: Potions et huiles
A7: C | B7: =IF(E7<=D7,C7,0) -> 9709 | C7: =RANDBETWEEN(1000,10000) -> 9709 | D7: =20+B31 -> 20 | E7: =RANDBETWEEN(1,100) -> 2 | G7: C | H7: =IF(K7<=J7,I7,0) -> 0 | I7: =RANDBETWEEN(1000,6000) -> 2930 | J7: =30+B31 -> 30 | K7: =RANDBETWEEN(1,100) -> 53 | M7: C | N7: =IF(Q7<=P7,O7,0) -> 3 | O7: =RANDBETWEEN(1,6) -> 3 | P7: =25+B31 -> 25 | Q7: =RANDBETWEEN(1,100) -> 14 | S7: B | T7: =IF(W7<=V7,U7,0) -> 0 | U7: =RANDBETWEEN(1,4) -> 4 | V7: =20+B31 -> 20 | W7: =RANDBETWEEN(1,100) -> 74 | BU7: 3 | BV7: Potions et huiles | BX7: 1 | BY7: Jet | CB7: 4 | CC7: Jet | CF7: 7 | CG7: Jet | CJ7: 10 | CK7: Jet | CN7: 13 | CO7: Jet | CR7: 16 | CS7: Jet | CW7: Jet
A8: D | B8: =IF(E8<=D8,C8,0) -> 0 | C8: =RANDBETWEEN(1000,6000) -> 4299 | D8: =10+B31 -> 10 | E8: =RANDBETWEEN(1,100) -> 25 | G8: D | H8: =IF(K8<=J8,I8,0) -> 0 | I8: =RANDBETWEEN(1000,10000) -> 7560 | J8: =15+B31 -> 15 | K8: =RANDBETWEEN(1,100) -> 70 | M8: D | N8: =IF(Q8<=P8,O8,0) -> 0 | O8: =RANDBETWEEN(1,10) -> 9 | P8: =30+B31 -> 30 | Q8: =RANDBETWEEN(1,100) -> 42 | S8: C | T8: =IF(W8<=V8,U8,0) -> 0 | U8: =RANDBETWEEN(1,3) -> 2 | V8: =20+B31 -> 20 | W8: =RANDBETWEEN(1,100) -> 24 | Y8: Potions | AC8: Parchemins | AF8: Anneaux | AI8: Sceptres | AM8: Livres et Tomes | AP8: Capes et Robes | AS8: Sacs, bouteilles, récipients | AV8: Instruments de musique | AY8: Armure | BB8: Jet | BE8: Enchantement | BU8: 4 | BV8: Potions et huiles | BW8: 0 | BX8: =BV4 -> Potions et huiles | BY8: =RANDBETWEEN(1,60) -> 7 | BZ8: =VLOOKUP(BY8,$Y$10:$AA$69,2,FALSE()) -> Potion de Diminution | CB8: =BX8 -> Potions et huiles | CC8: =RANDBETWEEN(1,60) -> 36 | CD8: =VLOOKUP(CC8,$Y$10:$AA$69,2,FALSE()) -> Huile de feux ardents | CF8: =CB8 -> Potions et huiles | CG8: =RANDBETWEEN(1,60) -> 44 | CH8: =VLOOKUP(CG8,$Y$10:$AA$69,2,FALSE()) -> Philtre de persuasion | CJ8: =CF8 -> Potions et huiles | CK8: =RANDBETWEEN(1,60) -> 19 | CL8: =VLOOKUP(CK8,$Y$10:$AA$69,2,FALSE()) -> Potion de Forme gazeuse | CN8: =CJ8 -> Potions et huiles | CO8: =RANDBETWEEN(1,60) -> 24 | CP8: =VLOOKUP(CO8,$Y$10:$AA$69,2,FALSE()) -> Potion de Soins | CR8: =CN8 -> Potions et huiles | CS8: =RANDBETWEEN(1,60) -> 1 | CT8: =VLOOKUP(CS8,$Y$10:$AA$69,2,FALSE()) -> Potion de Contrôle des animaux | CV8: Objet aléatoire 1 | CW8: =RANDBETWEEN(1,75) -> 22 | CX8: =VLOOKUP(CW8,$BU$4:$BV$79,2,FALSE()) -> Parchemins | CY8: =VLOOKUP(CX8,$CV$15:$CX$32,3,FALSE()) -> Protection contre le froid
A9: E | B9: =IF(E9<=D9,C9,0) -> 0 | C9: =RANDBETWEEN(1000,6000) -> 1283 | D9: =5+B31 -> 5 | E9: =RANDBETWEEN(1,100) -> 39 | G9: E | H9: =IF(K9<=J9,I9,0) -> 0 | I9: =RANDBETWEEN(1000,10000) -> 5096 | J9: =25+B31 -> 25 | K9: =RANDBETWEEN(1,100) -> 91 | M9: E | N9: =IF(Q9<=P9,O9,0) -> 0 | O9: =RANDBETWEEN(1,12) -> 4 | P9: =15+B31 -> 15 | Q9: =RANDBETWEEN(1,100) -> 86 | S9: D | T9: =IF(W9<=V9,U9,0) -> 0 | U9: =RANDBETWEEN(1,6) -> 1 | V9: =25+B31 -> 25 | W9: =RANDBETWEEN(1,100) -> 98 | BH9: Armes | BU9: 5 | BV9: Potions et huiles | BW9: 20 | BX9: =BV25 -> Parchemins | BY9: =RANDBETWEEN(1,45) -> 2 | BZ9: =VLOOKUP(BY9,$AC$10:$AD$54,2,FALSE()) -> 1 Sorts niveau 1d4 | CB9: =BX9 -> Parchemins | CC9: =RANDBETWEEN(1,45) -> 26 | CD9: =VLOOKUP(CC9,$AC$10:$AD$54,2,FALSE()) -> Carte | CF9: =CB9 -> Parchemins | CG9: =RANDBETWEEN(1,45) -> 39 | CH9: =VLOOKUP(CG9,$AC$10:$AD$54,2,FALSE()) -> Protection contre les plantes | CJ9: =CF9 -> Parchemins | CK9: =RANDBETWEEN(1,45) -> 35 | CL9: =VLOOKUP(CK9,$AC$10:$AD$54,2,FALSE()) -> Protection contre les lycanthropes | CN9: =CJ9 -> Parchemins | CO9: =RANDBETWEEN(1,45) -> 3 | CP9: =VLOOKUP(CO9,$AC$10:$AD$54,2,FALSE()) -> 1 Sorts niveau 1d4 | CR9: =CN9 -> Parchemins | CS9: =RANDBETWEEN(1,45) -> 8 | CT9: =VLOOKUP(CS9,$AC$10:$AD$54,2,FALSE()) -> 2 Sorts niveau 1d6 | CV9: Objet aléatoire 2 | CW9: =RANDBETWEEN(1,75) -> 74 | CX9: =VLOOKUP(CW9,$BU$4:$BV$79,2,FALSE()) -> Armures et boucliers | CY9: =VLOOKUP(CX9,$CV$35:$CX$52,3,FALSE()) -> Cotte de mailles (+4)
A10: F | G10: F | H10: =IF(K10<=J10,I10,0) -> 0 | I10: =RANDBETWEEN(3000,18000) -> 17803 | J10: =10+B31 -> 10 | K10: =RANDBETWEEN(1,100) -> 92 | M10: F | N10: =IF(Q10<=P10,O10,0) -> 0 | O10: =RANDBETWEEN(2,20) -> 18 | P10: =20+B31 -> 20 | Q10: =RANDBETWEEN(1,100) -> 64 | S10: E | T10: =IF(W10<=V10,U10,0) -> 0 | U10: =RANDBETWEEN(1,6) -> 1 | V10: =10+B31 -> 10 | W10: =RANDBETWEEN(1,100) -> 69 | Y10: 1 | Z10: Potion de Contrôle des animaux | AC10: 1 | AD10: 1 Sorts niveau 1d4 | AG10: Anneaux | AI10: 1 | AJ10: Sceptre de Absorption | AM10: 1 | AN10: Concordat de Boccob | AP10: 1 | AQ10: Cape d'araignée | AS10: 1 | AT10: Cruche d'alchimiste | AV10: 1 | AW10: Carillon d'interruption | BD10: 1 | BE10: (-1) | BU10: 6 | BV10: Potions et huiles | BW10: 35 | BX10: =BV40 -> Anneaux | BY10: =RANDBETWEEN(1,60) -> 45 | BZ10: =VLOOKUP(BY10,$AF$11:$AG$70,2,FALSE()) -> Anneau de Poigne Électrique | CB10: =BX10 -> Anneaux | CC10: =RANDBETWEEN(1,60) -> 29 | CD10: =VLOOKUP(CC10,$AF$11:$AG$70,2,FALSE()) -> Anneau de Saut | CF10: =CB10 -> Anneaux | CG10: =RANDBETWEEN(1,60) -> 5 | CH10: =VLOOKUP(CG10,$AF$11:$AG$70,2,FALSE()) -> Anneau de Caméléon | CJ10: =CF10 -> Anneaux | CK10: =RANDBETWEEN(1,60) -> 36 | CL10: =VLOOKUP(CK10,$AF$11:$AG$70,2,FALSE()) -> Anneau de Bouclier Mental | CN10: =CJ10 -> Anneaux | CO10: =RANDBETWEEN(1,60) -> 27 | CP10: =VLOOKUP(CO10,$AF$11:$AG$70,2,FALSE()) -> Anneau d'Invisibilité | CR10: =CN10 -> Anneaux | CS10: =RANDBETWEEN(1,60) -> 14 | CT10: =VLOOKUP(CS10,$AF$11:$AG$70,2,FALSE()) -> Anneau de Folie | CV10: Objet aléatoire 3 | CW10: =RANDBETWEEN(1,75) -> 72 | CX10: =VLOOKUP(CW10,$BU$4:$BV$79,2,FALSE()) -> Armures et boucliers | CY10: =VLOOKUP(CX10,$CV$55:$CX$72,3,FALSE()) -> Armure de cuir (+1)
A11: G | G11: G | M11: G | N11: =IF(Q11<=P11,O11,0) -> 0 | O11: =RANDBETWEEN(3,18) -> 9 | P11: =30+B31 -> 30 | Q11: =RANDBETWEEN(1,100) -> 96 | S11: F | T11: =IF(W11<=V11,U11,0) -> 0 | U11: =RANDBETWEEN(1,8) -> 7 | V11: =10+B31 -> 10 | W11: =RANDBETWEEN(1,100) -> 75 | Y11: 2 | Z11: Potion de Clairaudience | AC11: 2 | AD11: 1 Sorts niveau 1d4 | AF11: 1 | AG11: Anneau d'Amitié avec les animaux | AI11: 2 | AJ11: Sceptre de Absorption | AM11: 2 | AN11: Concordat de Boccob | AP11: 2 | AQ11: Cape de déplacement | AS11: 2 | AT11: Sac de haricots | AV11: 2 | AW11: Carillon d'ouverture | AY11: 1 | AZ11: =CONCATENATE(BA11,BC11) -> Armure à bandes (+2) | BA11: Armure à bandes | BB11: =RANDBETWEEN(1,20) -> 13 | BC11: =VLOOKUP(BB11,$BD$10:$BE$29,2,FALSE()) -> (+2) | BD11: 2 | BE11: (-1) | BH11: 1 | BI11: =CONCATENATE(BJ11,BK11) -> Flèches (4d6) (-1) | BJ11: Flèches (4d6) | BK11: =VLOOKUP(BL11,$BM$11:$BN$30,2,FALSE()) -> (-1) | BL11: =RANDBETWEEN(1,20) -> 1 | BM11: 1 | BN11: (-1) | BU11: 7 | BV11: Potions et huiles | BW11: 40 | BX11: =BV45 -> Sceptres | BY11: =RANDBETWEEN(1,20) -> 15 | BZ11: =VLOOKUP(BY11,$AI$10:$AJ$29,2,FALSE()) -> Sceptre de Châtiment | CB11: =BX11 -> Sceptres | CC11: =RANDBETWEEN(1,20) -> 2 | CD11: =VLOOKUP(CC11,$AI$10:$AJ$29,2,FALSE()) -> Sceptre de Absorption | CF11: =CB11 -> Sceptres | CG11: =RANDBETWEEN(1,20) -> 9 | CH11: =VLOOKUP(CG11,$AI$10:$AJ$29,2,FALSE()) -> Sceptre de Puissance altière | CJ11: =CF11 -> Sceptres | CK11: =RANDBETWEEN(1,20) -> 14 | CL11: =VLOOKUP(CK11,$AI$10:$AJ$29,2,FALSE()) -> Sceptre de Sécurité | CN11: =CJ11 -> Sceptres | CO11: =RANDBETWEEN(1,20) -> 4 | CP11: =VLOOKUP(CO11,$AI$10:$AJ$29,2,FALSE()) -> Sceptre de Vigilance | CR11: =CN11 -> Sceptres | CS11: =RANDBETWEEN(1,20) -> 19 | CT11: =VLOOKUP(CS11,$AI$10:$AJ$29,2,FALSE()) -> Sceptre de Terreur | CV11: Objet aléatoire 4 | CW11: =RANDBETWEEN(1,75) -> 29 | CX11: =VLOOKUP(CW11,$BU$4:$BV$79,2,FALSE()) -> Parchemins | CY11: =VLOOKUP(CX11,$CZ$15:$DB$32,3,FALSE()) -> Protection contre la possession
A12: H | B12: =IF(E12<=D12,C12,0) -> 0 | C12: =RANDBETWEEN(3000,18000) -> 4479 | D12: =25+B31 -> 25 | E12: =RANDBETWEEN(1,100) -> 27 | G12: H | H12: =IF(K12<=J12,I12,0) -> 5977 | I12: =RANDBETWEEN(2000,20000) -> 5977 | J12: =40+B31 -> 40 | M12: H | N12: =IF(Q12<=P12,O12,0) -> 0 | O12: =RANDBETWEEN(3,30) -> 26 | P12: =50+B31 -> 50 | Q12: =RANDBETWEEN(1,100) -> 71 | S12: G | T12: =IF(W12<=V12,U12,0) -> 0 | U12: =RANDBETWEEN(1,6) -> 6 | V12: =25+B31 -> 25 | W12: =RANDBETWEEN(1,100) -> 32 | Y12: 3 | Z12: Potion de Clairvoyance | AC12: 3 | AD12: 1 Sorts niveau 1d4 | AF12: 2 | AG12: Anneau d'Amitié avec les Animaux | AI12: 3 | AJ12: Sceptre de Vigilance | AM12: 3 | AN12: Concordat de Boccob | AP12: 3 | AQ12: Cape elfique | AS12: 3 | AT12: Sac dévoreur | AV12: 3 | AW12: Carillon d'immense faim | AY12: 2 | AZ12: =CONCATENATE(BA12,BC12) -> Brigandine (+3) | BA12: Brigandine | BB12: =RANDBETWEEN(1,20) -> 15 | BC12: =VLOOKUP(BB12,$BD$10:$BE$29,2,FALSE()) -> (+3) | BD12: 3 | BE12: (+1) | BH12: 2 | BI12: =CONCATENATE(BJ12,BK12) -> Flèches (4d6) (+2) | BJ12: Flèches (4d6) | BK12: =VLOOKUP(BL12,$BM$11:$BN$30,2,FALSE()) -> (+2) | BL12: =RANDBETWEEN(1,20) -> 13 | BM12: 2 | BN12: (-1) | BU12: 8 | BV12: Potions et huiles | BW12: 41 | BX12: =BV46 -> Bâtons | BY12: =RANDBETWEEN(1,20) -> 6 | BZ12: =VLOOKUP(BY12,$AI$33:$AJ$52,2,FALSE()) -> Bâton de Mage | CB12: =BX12 -> Bâtons | CC12: =RANDBETWEEN(1,20) -> 2 | CD12: =VLOOKUP(CC12,$AI$33:$AJ$52,2,FALSE()) -> Bâton Masse d'Armes | CF12: =CB12 -> Bâtons | CG12: =RANDBETWEEN(1,20) -> 7 | CH12: =VLOOKUP(CG12,$AI$33:$AJ$52,2,FALSE()) -> Bâton de Puissance | CJ12: =CF12 -> Bâtons | CK12: =RANDBETWEEN(1,20) -> 13 | CL12: =VLOOKUP(CK12,$AI$33:$AJ$52,2,FALSE()) -> Bâton de Flétrissement | CN12: =CJ12 -> Bâtons | CO12: =RANDBETWEEN(1,20) -> 11 | CP12: =VLOOKUP(CO12,$AI$33:$AJ$52,2,FALSE()) -> Bâton Epieu | CR12: =CN12 -> Bâtons | CS12: =RANDBETWEEN(1,20) -> 8 | CT12: =VLOOKUP(CS12,$AI$33:$AJ$52,2,FALSE()) -> Bâton Serpent | CV12: Objet aléatoire 5 | CW12: =RANDBETWEEN(1,75) -> 61 | CX12: =VLOOKUP(CW12,$BU$4:$BV$79,2,FALSE()) -> Armures et boucliers | CY12: =VLOOKUP(CX12,$CZ$35:$DB$52,3,FALSE()) -> Armure à bandes (+2)
A13: I | G13: I | M13: I | N13: =IF(Q13<=P13,O13,0) -> 2 | O13: =RANDBETWEEN(2,12) -> 2 | P13: =55+B31 -> 55 | Q13: =RANDBETWEEN(1,100) -> 1 | S13: H | T13: =IF(W13<=V13,U13,0) -> 20 | U13: =RANDBETWEEN(2,20) -> 20 | V13: =50+B31 -> 50 | W13: =RANDBETWEEN(1,100) -> 16 | Y13: 4 | Z13: Potion d'Escalade | AC13: 4 | AD13: 1 Sorts niveau 1d4 | AF13: 3 | AG13: Anneau de Clignotement | AI13: 4 | AJ13: Sceptre de Vigilance | AM13: 4 | AN13: Livre d'exaltation suprême | AP13: 4 | AQ13: Cape elfique | AS13: 4 | AT13: Sac sans fond | AV13: 4 | AW13: Tambours d'assourdissement | AY13: 3 | AZ13: =CONCATENATE(BA13,BC13) -> Cotte de mailles (+1) | BA13: Cotte de mailles | BB13: =RANDBETWEEN(1,20) -> 9 | BC13: =VLOOKUP(BB13,$BD$10:$BE$29,2,FALSE()) -> (+1) | BD13: 4 | BE13: (+1) | BH13: 3 | BI13: =CONCATENATE(BJ13,BK13) -> Flèches (2d6) (+3) | BJ13: Flèches (2d6) | BK13: =VLOOKUP(BL13,$BM$11:$BN$30,2,FALSE()) -> (+3) | BL13: =RANDBETWEEN(1,20) -> 16 | BM13: 3 | BN13: (+1) | BU13: 9 | BV13: Potions et huiles | BW13: 42 | BX13: =BV47 -> Baguettes | BY13: =RANDBETWEEN(1,20) -> 9 | BZ13: =VLOOKUP(BY13,$AI$56:$AJ$75,2,FALSE()) -> Baguette d'Illusion (magicien) 33 Charges | CB13: =BX13 -> Baguettes | CC13: =RANDBETWEEN(1,20) -> 19 | CD13: =VLOOKUP(CC13,$AI$56:$AJ$75,2,FALSE()) -> Baguette Prodigieuse 13 Charges | CF13: =CB13 -> Baguettes | CG13: =RANDBETWEEN(1,20) -> 2 | CH13: =VLOOKUP(CG13,$AI$56:$AJ$75,2,FALSE()) -> Baguette de Terre et pierre 63 Charges | CJ13: =CF13 -> Baguettes | CK13: =RANDBETWEEN(1,20) -> 14 | CL13: =VLOOKUP(CK13,$AI$56:$AJ$75,2,FALSE()) -> Baguette de Négation 63 Charges | CN13: =CJ13 -> Baguettes | CO13: =RANDBETWEEN(1,20) -> 16 | CP13: =VLOOKUP(CO13,$AI$56:$AJ$75,2,FALSE()) -> Baguette de Métamorphose (magicien) 61 Charges | CR13: =CN13 -> Baguettes | CS13: =RANDBETWEEN(1,20) -> 16 | CT13: =VLOOKUP(CS13,$AI$56:$AJ$75,2,FALSE()) -> Baguette de Métamorphose (magicien) 61 Charges
A14: J | B14: =IF(E14<=D14,C15,0) -> 0 | C14: =RANDBETWEEN(3,24) -> 13 | D14: 100 | E14: =RANDBETWEEN(1,100) -> 12 | G14: J | M14: J | S14: I | T14: =IF(W14<=V14,U14,0) -> 3 | U14: =RANDBETWEEN(2,8) -> 3 | V14: =55+B31 -> 55 | W14: =RANDBETWEEN(1,100) -> 50 | Y14: 5 | Z14: Potion de Folie | AC14: 5 | AD14: 1 Sorts niveau 1d4 | AF14: 4 | AG14: Anneau de Clignotement | AI14: 5 | AJ14: Sceptre de séduction | AM14: 5 | AN14: Livre de sorts infinis | AP14: 5 | AQ14: Cape empoisonnée | AS14: 5 | AT14: Sac sans fond | AV14: 5 | AW14: Tambours de panique | AY14: 4 | AZ14: =CONCATENATE(BA14,BC14) -> Cotte de mailles (+1) | BA14: Cotte de mailles | BB14: =RANDBETWEEN(1,20) -> 6 | BC14: =VLOOKUP(BB14,$BD$10:$BE$29,2,FALSE()) -> (+1) | BD14: 5 | BE14: (+1) | BH14: 4 | BI14: =CONCATENATE(BJ14,BK14) -> Hache (+4) | BJ14: Hache | BK14: =VLOOKUP(BL14,$BM$11:$BN$30,2,FALSE()) -> (+4) | BL14: =RANDBETWEEN(1,20) -> 18 | BM14: 4 | BN14: (+1) | BU14: 10 | BV14: Potions et huiles | BW14: 45 | BX14: =BV50 -> Livres et grimoires | BY14: =RANDBETWEEN(1,20) -> 20 | BZ14: =VLOOKUP(BY14,$AM$10:$AN$29,2,FALSE()) -> Livre au choix du MD | CB14: =BX14 -> Livres et grimoires | CC14: =RANDBETWEEN(1,20) -> 6 | CD14: =VLOOKUP(CC14,$AM$10:$AN$29,2,FALSE()) -> Livre des viles ténèbres | CF14: =CB14 -> Livres et grimoires | CG14: =RANDBETWEEN(1,20) -> 7 | CH14: =VLOOKUP(CG14,$AM$10:$AN$29,2,FALSE()) -> Grimoire d'inappréciable conjuration | CJ14: =CF14 -> Livres et grimoires | CK14: =RANDBETWEEN(1,20) -> 8 | CL14: =VLOOKUP(CK14,$AM$10:$AN$29,2,FALSE()) -> Grimoire d'ineffable damnation | CN14: =CJ14 -> Livres et grimoires | CO14: =RANDBETWEEN(1,20) -> 10 | CP14: =VLOOKUP(CO14,$AM$10:$AN$29,2,FALSE()) -> Manuel de santé corporelle | CR14: =CN14 -> Livres et grimoires | CS14: =RANDBETWEEN(1,20) -> 5 | CT14: =VLOOKUP(CS14,$AM$10:$AN$29,2,FALSE()) -> Livre de sorts infinis | CV14: 1 | CW14: Jet | CZ14: 4 | DA14: Jet
A15: K | G15: K | H15: =IF(K15<=J15,I15,0) -> 12 | I15: =RANDBETWEEN(3,18) -> 12 | J15: 100 | M15: K | S15: J | Y15: 6 | Z15: Potion de Folie | AC15: 6 | AD15: 1 Sorts niveau 1d4 | AF15: 5 | AG15: Anneau de Caméléon | AI15: 6 | AJ15: Sceptre d'Annulation | AM15: 6 | AN15: Livre des viles ténèbres | AP15: 6 | AQ15: Cape de protection | AS15: 6 | AT15: Sac sans fond | AV15: 6 | AW15: Harpe de séduction | AY15: 5 | AZ15: =CONCATENATE(BA15,BC15) -> Cotte de mailles (+4) | BA15: Cotte de mailles | BB15: =RANDBETWEEN(1,20) -> 18 | BC15: =VLOOKUP(BB15,$BD$10:$BE$29,2,FALSE()) -> (+4) | BD15: 6 | BE15: (+1) | BH15: 5 | BI15: =CONCATENATE(BJ15,BK15) -> Hache (-1) | BJ15: Hache | BK15: =VLOOKUP(BL15,$BM$11:$BN$30,2,FALSE()) -> (-1) | BL15: =RANDBETWEEN(1,20) -> 2 | BM15: 5 | BN15: (+1) | BU15: 11 | BV15: Potions et huiles | BW15: 46 | BX15: =BV51 -> Joyaux et bijoux | BY15: =RANDBETWEEN(1,40) -> 4 | BZ15: =VLOOKUP(BY15,$AM$33:$AN$72,2,FALSE()) -> Amulette d'Immunité à la Détection | CB15: =BX15 -> Joyaux et bijoux | CC15: =RANDBETWEEN(1,40) -> 33 | CD15: =VLOOKUP(CC15,$AM$33:$AN$72,2,FALSE()) -> Broche de folie | CF15: =CB15 -> Joyaux et bijoux | CG15: =RANDBETWEEN(1,40) -> 7 | CH15: =VLOOKUP(CG15,$AM$33:$AN$72,2,FALSE()) -> Broche de Protection | CJ15: =CF15 -> Joyaux et bijoux | CK15: =RANDBETWEEN(1,40) -> 32 | CL15: =VLOOKUP(CK15,$AM$33:$AN$72,2,FALSE()) -> Broche de rage ennemie | CN15: =CJ15 -> Joyaux et bijoux | CO15: =RANDBETWEEN(1,40) -> 14 | CP15: =VLOOKUP(CO15,$AM$33:$AN$72,2,FALSE()) -> Médaillon de Projection des Pensées | CR15: =CN15 -> Joyaux et bijoux | CS15: =RANDBETWEEN(1,40) -> 37 | CT15: =VLOOKUP(CS15,$AM$33:$AN$72,2,FALSE()) -> Talisman des sphères (magicien) | CV15: Potions et huiles | CW15: =RANDBETWEEN(1,60) -> 42 | CX15: =VLOOKUP(CW15,$Y$10:$AA$69,2,FALSE()) -> Philtre de faconde | CZ15: Potions et huiles | DA15: =RANDBETWEEN(1,60) -> 43 | DB15: =VLOOKUP(DA15,$Y$10:$AA$69,2,FALSE()) -> Philtre d'amour
A16: L | G16: L | M16: L | S16: K | Y16: 7 | Z16: Potion de Diminution | AC16: 7 | AD16: 2 Sorts niveau 1d6 | AF16: 6 | AG16: Anneau de Caméléon | AI16: 7 | AJ16: Sceptre d'Annulation | AM16: 7 | AN16: Grimoire d'inappréciable conjuration | AP16: 7 | AQ16: Cape de protection | AS16: 7 | AT16: Sac sans fond | AV16: 7 | AW16: Harpe de discorde | AY16: 6 | AZ16: =CONCATENATE(BA16,BC16) -> Harnois (-1) | BA16: Harnois | BB16: =RANDBETWEEN(1,20) -> 1 | BC16: =VLOOKUP(BB16,$BD$10:$BE$29,2,FALSE()) -> (-1) | BD16: 7 | BE16: (+1) | BH16: 6 | BI16: =CONCATENATE(BJ16,BK16) -> Hache de bataille (+1) | BJ16: Hache de bataille | BK16: =VLOOKUP(BL16,$BM$11:$BN$30,2,FALSE()) -> (+1) | BL16: =RANDBETWEEN(1,20) -> 9 | BM16: 6 | BN16: (+1) | BU16: 12 | BV16: Potions et huiles | BW16: 48 | BX16: =BV53 -> Capes et robes | BY16: =RANDBETWEEN(1,20) -> 6 | BZ16: =VLOOKUP(BY16,$AP$10:$AQ$29,2,FALSE()) -> Cape de protection | CB16: =BX16 -> Capes et robes | CC16: =RANDBETWEEN(1,20) -> 8 | CD16: =VLOOKUP(CC16,$AP$10:$AQ$29,2,FALSE()) -> Cape de protection | CF16: =CB16 -> Capes et robes | CG16: =RANDBETWEEN(1,20) -> 20 | CH16: =VLOOKUP(CG16,$AP$10:$AQ$29,2,FALSE()) -> Cape ou Robe choix du MD | CJ16: =CF16 -> Capes et robes | CK16: =RANDBETWEEN(1,20) -> 18 | CL16: =VLOOKUP(CK16,$AP$10:$AQ$29,2,FALSE()) -> Robe d'utilité (magicien) | CN16: =CJ16 -> Capes et robes | CO16: =RANDBETWEEN(1,20) -> 7 | CP16: =VLOOKUP(CO16,$AP$10:$AQ$29,2,FALSE()) -> Cape de protection | CR16: =CN16 -> Capes et robes | CS16: =RANDBETWEEN(1,20) -> 7 | CT16: =VLOOKUP(CS16,$AP$10:$AQ$29,2,FALSE()) -> Cape de protection | CV16: Parchemins | CW16: =RANDBETWEEN(1,45) -> 28 | CX16: =VLOOKUP(CW16,$AC$10:$AD$54,2,FALSE()) -> Protection contre le froid | CZ16: Parchemins | DA16: =RANDBETWEEN(1,45) -> 41 | DB16: =VLOOKUP(DA16,$AC$10:$AD$54,2,FALSE()) -> Protection contre la possession
A17: M | G17: M | M17: M | S17: L | Y17: 8 | Z17: Potion de Contrôle des dragons | AC17: 8 | AD17: 2 Sorts niveau 1d6 | AF17: 7 | AG17: Anneau de Contradiction | AI17: 8 | AJ17: Sceptre de Fléau d'armes | AM17: 8 | AN17: Grimoire d'ineffable damnation | AP17: 8 | AQ17: Cape de protection | AS17: 8 | AT17: Sac de transmutation | AV17: 8 | AW17: Cor de destruction | AY17: 7 | AZ17: =CONCATENATE(BA17,BC17) -> Harnois plain (+2) | BA17: Harnois plain | BB17: =RANDBETWEEN(1,20) -> 14 | BC17: =VLOOKUP(BB17,$BD$10:$BE$29,2,FALSE()) -> (+2) | BD17: 8 | BE17: (+1) | BH17: 7 | BI17: =CONCATENATE(BJ17,BK17) -> Carreaux (2d10) (+1) | BJ17: Carreaux (2d10) | BK17: =VLOOKUP(BL17,$BM$11:$BN$30,2,FALSE()) -> (+1) | BL17: =RANDBETWEEN(1,20) -> 8 | BM17: 7 | BN17: (+1) | BU17: 13 | BV17: Potions et huiles | BW17: 50 | BX17: =BV55 -> Bottes et gants | BY17: =RANDBETWEEN(1,20) -> 8 | BZ17: =VLOOKUP(BY17,$AP$33:$AQ$52,2,FALSE()) -> Bottes ailées | CB17: =BX17 -> Bottes et gants | CC17: =RANDBETWEEN(1,20) -> 5 | CD17: =VLOOKUP(CC17,$AP$33:$AQ$52,2,FALSE()) -> Bottes de sept lieues | CF17: =CB17 -> Bottes et gants | CG17: =RANDBETWEEN(1,20) -> 20 | CH17: =VLOOKUP(CG17,$AP$33:$AQ$52,2,FALSE()) -> Botte, bracelet ou gant au choix du MD | CJ17: =CF17 -> Bottes et gants | CK17: =RANDBETWEEN(1,20) -> 16 | CL17: =VLOOKUP(CK17,$AP$33:$AQ$52,2,FALSE()) -> Gantelets des ogres (prêtre, roublard, combattant) | CN17: =CJ17 -> Bottes et gants | CO17: =RANDBETWEEN(1,20) -> 4 | CP17: =VLOOKUP(CO17,$AP$33:$AQ$52,2,FALSE()) -> Bottes de rapidité | CR17: =CN17 -> Bottes et gants | CS17: =RANDBETWEEN(1,20) -> 5 | CT17: =VLOOKUP(CS17,$AP$33:$AQ$52,2,FALSE()) -> Bottes de sept lieues | CV17: Anneaux | CW17: =RANDBETWEEN(1,60) -> 48 | CX17: =VLOOKUP(CW17,$AF$11:$AG$70,2,FALSE()) -> Anneau de Retour des Sorts | CZ17: Anneaux | DA17: =RANDBETWEEN(1,60) -> 10 | DB17: =VLOOKUP(DA17,$AF$11:$AG$70,2,FALSE()) -> Anneau de Maladresse
A18: N | G18: N | M18: N | S18: M | Y18: 9 | Z18: Élixir de santé | AC18: 9 | AD18: 2 Sorts niveau 1d6 | AF18: 8 | AG18: Anneau de Contradiction | AI18: 9 | AJ18: Sceptre de Puissance altière | AM18: 9 | AN18: Grimoire de la magie d'argent | AP18: 9 | AQ18: Cape chauve-souris | AS18: 9 | AT18: Sac à malice | AV18: 9 | AW18: Cor à bulles | AY18: 8 | AZ18: =CONCATENATE(BA18,BC18) -> Armure de cuir (+1) | BA18: Armure de cuir | BB18: =RANDBETWEEN(1,20) -> 3 | BC18: =VLOOKUP(BB18,$BD$10:$BE$29,2,FALSE()) -> (+1) | BD18: 9 | BE18: (+1) | BH18: 8 | BI18: =CONCATENATE(BJ18,BK18) -> Carreaux (2d6) (+1) | BJ18: Carreaux (2d6) | BK18: =VLOOKUP(BL18,$BM$11:$BN$30,2,FALSE()) -> (+1) | BL18: =RANDBETWEEN(1,20) -> 5 | BM18: 8 | BN18: (+1) | BU18: 14 | BV18: Potions et huiles | BW18: 52 | BX18: =BV57 -> Ceinturons et heaumes | BY18: =RANDBETWEEN(1,20) -> 3 | BZ18: =VLOOKUP(BY18,$AP$56:$AQ$75,2,FALSE()) -> Ceinturon des nains | CB18: =BX18 -> Ceinturons et heaumes | CC18: =RANDBETWEEN(1,20) -> 16 | CD18: =VLOOKUP(CC18,$AP$56:$AQ$75,2,FALSE()) -> Heaume de télépathie | CF18: =CB18 -> Ceinturons et heaumes | CG18: =RANDBETWEEN(1,20) -> 12 | CH18: =VLOOKUP(CG18,$AP$56:$AQ$75,2,FALSE()) -> Heaume de brillance | CJ18: =CF18 -> Ceinturons et heaumes | CK18: =RANDBETWEEN(1,20) -> 18 | CL18: =VLOOKUP(CK18,$AP$56:$AQ$75,2,FALSE()) -> Heaume des eaux | CN18: =CJ18 -> Ceinturons et heaumes | CO18: =RANDBETWEEN(1,20) -> 17 | CP18: =VLOOKUP(CO18,$AP$56:$AQ$75,2,FALSE()) -> Heaume de téléportation | CR18: =CN18 -> Ceinturons et heaumes | CS18: =RANDBETWEEN(1,20) -> 1 | CT18: =VLOOKUP(CS18,$AP$56:$AQ$75,2,FALSE()) -> Ceinturon des nains | CV18: Sceptres | CW18: =RANDBETWEEN(1,20) -> 17 | CX18: =VLOOKUP(CW18,$AI$10:$AJ$29,2,FALSE()) -> Sceptre de Splendeur | CZ18: Sceptres | DA18: =RANDBETWEEN(1,20) -> 15 | DB18: =VLOOKUP(DA18,$AI$10:$AJ$29,2,FALSE()) -> Sceptre de Châtiment
A19: O | B19: =IF(E19<=D19,C19,0) -> 31 | C19: =RANDBETWEEN(10,40) -> 31 | D19: 100 | E19: =RANDBETWEEN(1,100) -> 22 | G19: O | H19: =IF(K19<=J19,I19,0) -> 15 | I19: =RANDBETWEEN(10,30) -> 15 | J19: 100 | M19: O | S19: N | Y19: 10 | Z19: Élixir de folie | AC19: 10 | AD19: 2 Sorts niveau 1d6 | AF19: 9 | AG19: Anneau de Maladresse | AI19: 10 | AJ19: Sceptre de Passage | AM19: 10 | AN19: Manuel de santé corporelle | AP19: 10 | AQ19: Cape de la raie manta | AS19: 10 | AT19: Becher de potions | AV19: 10 | AW19: Cor d'effondrement | AY19: 9 | AZ19: =CONCATENATE(BA19,BC19) -> Armure de plates (+1) | BA19: Armure de plates | BB19: =RANDBETWEEN(1,20) -> 10 | BC19: =VLOOKUP(BB19,$BD$10:$BE$29,2,FALSE()) -> (+1) | BD19: 10 | BE19: (+1) | BH19: 9 | BI19: =CONCATENATE(BJ19,BK19) -> Billes de fronde (3d4) (+2) | BJ19: Billes de fronde (3d4) | BK19: =VLOOKUP(BL19,$BM$11:$BN$30,2,FALSE()) -> (+2) | BL19: =RANDBETWEEN(1,20) -> 13 | BM19: 9 | BN19: (+1) | BU19: 15 | BV19: Potions et huiles | BW19: 53 | BX19: =BV58 -> Sacs et bouteilles | BY19: =RANDBETWEEN(1,20) -> 16 | BZ19: =VLOOKUP(BY19,$AS$10:$AT$29,2,FALSE()) -> Havresac de Heward | CB19: =BX19 -> Sacs et bouteilles | CC19: =RANDBETWEEN(1,20) -> 15 | CD19: =VLOOKUP(CC19,$AS$10:$AT$29,2,FALSE()) -> Flacon de malédiction | CF19: =CB19 -> Sacs et bouteilles | CG19: =RANDBETWEEN(1,20) -> 8 | CH19: =VLOOKUP(CG19,$AS$10:$AT$29,2,FALSE()) -> Sac de transmutation | CJ19: =CF19 -> Sacs et bouteilles | CK19: =RANDBETWEEN(1,20) -> 9 | CL19: =VLOOKUP(CK19,$AS$10:$AT$29,2,FALSE()) -> Sac à malice | CN19: =CJ19 -> Sacs et bouteilles | CO19: =RANDBETWEEN(1,20) -> 17 | CP19: =VLOOKUP(CO19,$AS$10:$AT$29,2,FALSE()) -> Flasque de fer | CR19: =CN19 -> Sacs et bouteilles | CS19: =RANDBETWEEN(1,20) -> 4 | CT19: =VLOOKUP(CS19,$AS$10:$AT$29,2,FALSE()) -> Sac sans fond | CV19: Bâtons | CW19: =RANDBETWEEN(1,20) -> 16 | CX19: =VLOOKUP(CW19,$AI$33:$AJ$52,2,FALSE()) -> Bâton de Foudre et tonerre | CZ19: Bâtons | DA19: =RANDBETWEEN(1,20) -> 4 | DB19: =VLOOKUP(DA19,$AI$33:$AJ$52,2,FALSE()) -> Bâton de Contrecoup | DE19: Armure ou arme | DK19: Banded Mail | DL19: 1 | DM19: Bandes | DN19: 2
A20: P | G20: P | H20: =IF(K20<=J20,I20,0) -> 19 | I20: =RANDBETWEEN(10,60) -> 19 | J20: 100 | M20: P | S20: O | Y20: 11 | Z20: Élixir de folie | AC20: 11 | AD20: 1 Sorts 1d8+1/niveau 1d6+1 | AF20: 10 | AG20: Anneau de Maladresse | AI20: 11 | AJ20: Sceptre de Résurrection | AM20: 11 | AN20: Manuel d'utiles exercices | AP20: 11 | AQ20: Robe des archimages (magicien) | AS20: 11 | AT20: Bourse de Bucknard | AV20: 11 | AW20: Corde brume | AY20: 10 | AZ20: =CONCATENATE(BA20,BC20) -> Armure de plates (+2) | BA20: Armure de plates | BB20: =RANDBETWEEN(1,20) -> 12 | BC20: =VLOOKUP(BB20,$BD$10:$BE$29,2,FALSE()) -> (+2) | BD20: 11 | BE20: (+2) | BH20: 10 | BI20: =CONCATENATE(BJ20,BK20) -> Dague (+4) | BJ20: Dague | BK20: =VLOOKUP(BL20,$BM$11:$BN$30,2,FALSE()) -> (+4) | BL20: =RANDBETWEEN(1,20) -> 19 | BM20: 10 | BN20: (+1) | BU20: 16 | BV20: Potions et huiles | BW20: 55 | BX20: =BV60 -> Poudres et pierres | BY20: =RANDBETWEEN(1,20) -> 3 | BZ20: =VLOOKUP(BY20,$AS$33:$AT$52,2,FALSE()) -> Poudre de disparition | CB20: =BX20 -> Poudres et pierres | CC20: =RANDBETWEEN(1,20) -> 10 | CD20: =VLOOKUP(CC20,$AS$33:$AT$52,2,FALSE()) -> Pierres ioun | CF20: =CB20 -> Poudres et pierres | CG20: =RANDBETWEEN(1,20) -> 2 | CH20: =VLOOKUP(CG20,$AS$33:$AT$52,2,FALSE()) -> Poudre d'apparition | CJ20: =CF20 -> Poudres et pierres | CK20: =RANDBETWEEN(1,20) -> 13 | CL20: =VLOOKUP(CK20,$AS$33:$AT$52,2,FALSE()) -> Pierre philosophale | CN20: =CJ20 -> Poudres et pierres | CO20: =RANDBETWEEN(1,20) -> 8 | CP20: =VLOOKUP(CO20,$AS$33:$AT$52,2,FALSE()) -> Encens de méditation (prêtre) | CR20: =CN20 -> Poudres et pierres | CS20: =RANDBETWEEN(1,20) -> 19 | CT20: =VLOOKUP(CS20,$AS$33:$AT$52,2,FALSE()) -> Solvant universel | CV20: Baguettes | CW20: =RANDBETWEEN(1,20) -> 11 | CX20: =VLOOKUP(CW20,$AI$56:$AJ$75,2,FALSE()) -> Baguette de Détection de la magie 21 Charges | CZ20: Baguettes | DA20: =RANDBETWEEN(1,20) -> 3 | DB20: =VLOOKUP(DA20,$AI$56:$AJ$75,2,FALSE()) -> Baguette de Détection de l'ennemi 17 Charges | DD20: Jet | DH20: Roll | DK20: Brigandine | DL20: 2 | DM20: Brigandine | DN20: 6
A21: Q | G21: Q | M21: Q | N21: =IF(Q21<=P21,O21,0) -> 4 | O21: =RANDBETWEEN(1,4) -> 4 | P21: 100 | Q21: =RANDBETWEEN(1,100) -> 56 | S21: P | Y21: 12 | Z21: Élixir de jouvence | AC21: 12 | AD21: 2 Sorts niveau 1d4 | AF21: 11 | AG21: Anneau de Folie | AI21: 12 | AJ21: Sceptre de Suzeraineté | AM21: 12 | AN21: Manuel des Golems | AP21: 12 | AQ21: Robe de dissimulation | AS21: 12 | AT21: Carafe d'eau infinie | AV21: 12 | AW21: Cor du bien (du mal) | AY21: 11 | AZ21: =CONCATENATE(BA21,BC21) -> Armure de plates (+3) | BA21: Armure de plates | BB21: =RANDBETWEEN(1,20) -> 17 | BC21: =VLOOKUP(BB21,$BD$10:$BE$29,2,FALSE()) -> (+3) | BD21: 12 | BE21: (+2) | BH21: 11 | BI21: =CONCATENATE(BJ21,BK21) -> Dague (+1) | BJ21: Dague | BK21: =VLOOKUP(BL21,$BM$11:$BN$30,2,FALSE()) -> (+1) | BL21: =RANDBETWEEN(1,20) -> 8 | BM21: 11 | BN21: (+2) | BU21: 17 | BV21: Potions et huiles | BW21: 56 | BX21: =BV61 -> Outils et ustensiles ménagers | BY21: =RANDBETWEEN(1,20) -> 12 | BZ21: =VLOOKUP(BY21,$AS$56:$AT$75,2,FALSE()) -> Corde d'escalade | CB21: =BX21 -> Outils et ustensiles ménagers | CC21: =RANDBETWEEN(1,20) -> 2 | CD21: =VLOOKUP(CC21,$AS$56:$AT$75,2,FALSE()) -> Brasero somnifère (magicien) | CF21: =CB21 -> Outils et ustensiles ménagers | CG21: =RANDBETWEEN(1,20) -> 7 | CH21: =VLOOKUP(CG21,$AS$56:$AT$75,2,FALSE()) -> Maillet des titans (combattant) | CJ21: =CF21 -> Outils et ustensiles ménagers | CK21: =RANDBETWEEN(1,20) -> 4 | CL21: =VLOOKUP(CK21,$AS$56:$AT$75,2,FALSE()) -> Balai volant | CN21: =CJ21 -> Outils et ustensiles ménagers | CO21: =RANDBETWEEN(1,20) -> 13 | CP21: =VLOOKUP(CO21,$AS$56:$AT$75,2,FALSE()) -> Corde d'escalade | CR21: =CN21 -> Outils et ustensiles ménagers | CS21: =RANDBETWEEN(1,20) -> 8 | CT21: =VLOOKUP(CS21,$AS$56:$AT$75,2,FALSE()) -> Miroir d'emprisonnement (magicien) | CV21: Livres et grimoires | CW21: =RANDBETWEEN(1,20) -> 4 | CX21: =VLOOKUP(CW21,$AM$10:$AN$29,2,FALSE()) -> Livre d'exaltation suprême | CZ21: Livres et grimoires | DA21: =RANDBETWEEN(1,20) -> 2 | DB21: =VLOOKUP(DA21,$AM$10:$AN$29,2,FALSE()) -> Concordat de Boccob | DD21: =RANDBETWEEN(1,40) -> 26 | DE21: =VLOOKUP(DD21,DF25:DG64,2,FALSE()) -> Armes | DF21: Armures et boucliers | DG21: =VLOOKUP(DH21,AY11:AZ30,2,FALSE()) -> Armure de plates (+3) | DH21: =RANDBETWEEN(1,20) -> 11 | DK21: Chain Mail | DL21: 3-5 | DM21: Cotte de mailles | DN21: 7-9
A22: R | G22: R | M22: R | N22: =IF(Q22<=P22,O22,0) -> 8 | O22: =RANDBETWEEN(2,8) -> 8 | P22: 100 | Q22: =RANDBETWEEN(1,100) -> 31 | S22: Q | Y22: 13 | Z22: Potion d'ESP | AC22: 13 | AD22: 2 Sorts 1d8+1/niveau 1d6+1 | AF22: 12 | AG22: Anneau de Folie | AI22: 13 | AJ22: Sceptre de Sécurité | AM22: 13 | AN22: Manuel d'expertise martiale | AP22: 13 | AQ22: Robe d'yeux (magicien) | AS22: 13 | AT22: Bouteille d'efrit | AV22: 13 | AW22: Conque des tritons (prêtre, combattant) | AY22: 12 | AZ22: =CONCATENATE(BA22,BC22) -> Armure de plates (+5) | BA22: Armure de plates | BB22: =RANDBETWEEN(1,20) -> 20 | BC22: =VLOOKUP(BB22,$BD$10:$BE$29,2,FALSE()) -> (+5) | BD22: 13 | BE22: (+2) | BH22: 12 | BI22: =CONCATENATE(BJ22,BK22) -> Fléchettes (3d4) (+1) | BJ22: Fléchettes (3d4) | BK22: =VLOOKUP(BL22,$BM$11:$BN$30,2,FALSE()) -> (+1) | BL22: =RANDBETWEEN(1,20) -> 3 | BM22: 12 | BN22: (+2) | BU22: 18 | BV22: Potions et huiles | BW22: 57 | BX22: =BV62 -> Instruments de musique | BY22: =RANDBETWEEN(1,20) -> 4 | BZ22: =VLOOKUP(BY22,$AV$10:$AW$29,2,FALSE()) -> Tambours d'assourdissement | CB22: =BX22 -> Instruments de musique | CC22: =RANDBETWEEN(1,20) -> 18 | CD22: =VLOOKUP(CC22,$AV$10:$AW$29,2,FALSE()) -> Flûte ventriloque | CF22: =CB22 -> Instruments de musique | CG22: =RANDBETWEEN(1,20) -> 17 | CH22: =VLOOKUP(CG22,$AV$10:$AW$29,2,FALSE()) -> Flûte obsédante | CJ22: =CF22 -> Instruments de musique | CK22: =RANDBETWEEN(1,20) -> 17 | CL22: =VLOOKUP(CK22,$AV$10:$AW$29,2,FALSE()) -> Flûte obsédante | CN22: =CJ22 -> Instruments de musique | CO22: =RANDBETWEEN(1,20) -> 12 | CP22: =VLOOKUP(CO22,$AV$10:$AW$29,2,FALSE()) -> Cor du bien (du mal) | CR22: =CN22 -> Instruments de musique | CS22: =RANDBETWEEN(1,20) -> 11 | CT22: =VLOOKUP(CS22,$AV$10:$AW$29,2,FALSE()) -> Corde brume | CV22: Joyaux et bijoux | CW22: =RANDBETWEEN(1,40) -> 3 | CX22: =VLOOKUP(CW22,$AM$33:$AN$72,2,FALSE()) -> Amulette des Plans | CZ22: Joyaux et bijoux | DA22: =RANDBETWEEN(1,40) -> 23 | DB22: =VLOOKUP(DA22,$AM$33:$AN$72,2,FALSE()) -> Perle de sagesse (prêtre) | DE22: =VLOOKUP(DE21,DF21:DG22,2,FALSE()) -> Morgenstern (+3) | DF22: Armes | DG22: =VLOOKUP(DH22,BH11:BI69,2,FALSE()) -> Morgenstern (+3) | DH22: =RANDBETWEEN(1,59) -> 22 | DK22: Field Plate | DL22: 6 | DM22: Harnois | DN22: 14
A23: S | G23: S | M23: S | S23: R | T23: =IF(W23<=V23,U23,0) -> 2 | U23: =RANDBETWEEN(1,3) -> 2 | V23: 100 | W23: =RANDBETWEEN(1,100) -> 38 | Y23: 14 | Z23: Potion de Grands soins | AC23: 14 | AD23: 3 Sorts niveau 1d4 | AF23: 13 | AG23: Anneau de Folie | AI23: 14 | AJ23: Sceptre de Sécurité | AM23: 14 | AN23: Manuel d'agilité | AP23: 14 | AQ23: Robe d'impuissance (magicien) | AS23: 14 | AT23: Bouteille fumante | AV23: 14 | AW23: Cor du Walhalla | AY23: 13 | AZ23: =CONCATENATE(BA23,BC23) -> Armure annelée (+2) | BA23: Armure annelée | BB23: =RANDBETWEEN(1,20) -> 11 | BC23: =VLOOKUP(BB23,$BD$10:$BE$29,2,FALSE()) -> (+2) | BD23: 14 | BE23: (+2) | BH23: 13 | BI23: =CONCATENATE(BJ23,BK23) -> Fléau (+2) | BJ23: Fléau | BK23: =VLOOKUP(BL23,$BM$11:$BN$30,2,FALSE()) -> (+2) | BL23: =RANDBETWEEN(1,20) -> 14 | BM23: 13 | BN23: (+2) | BU23: 19 | BV23: Potions et huiles | BW23: 58 | BX23: =BV63 -> Bizarreries | BY23: =RANDBETWEEN(1,40) -> 6 | BZ23: =VLOOKUP(BY23,$AV$33:$AW$72,2,FALSE()) -> Encensoir contrôlant les élémentaux d'air (magicien) | CB23: =BX23 -> Bizarreries | CC23: =RANDBETWEEN(1,40) -> 36 | CD23: =VLOOKUP(CC23,$AV$33:$AW$72,2,FALSE()) -> Puits des mondes | CF23: =CB23 -> Bizarreries | CG23: =RANDBETWEEN(1,40) -> 25 | CH23: =VLOOKUP(CG23,$AV$33:$AW$72,2,FALSE()) -> Fers du zéphyr | CJ23: =CF23 -> Bizarreries | CK23: =RANDBETWEEN(1,40) -> 9 | CL23: =VLOOKUP(CK23,$AV$33:$AW$72,2,FALSE()) -> Boule de cristal (magicien) | CN23: =CJ23 -> Bizarreries | CO23: =RANDBETWEEN(1,40) -> 40 | CP23: =VLOOKUP(CO23,$AV$33:$AW$72,2,FALSE()) -> Bizarreries au choix du MD | CR23: =CN23 -> Bizarreries | CS23: =RANDBETWEEN(1,40) -> 33 | CT23: =VLOOKUP(CS23,$AV$33:$AW$72,2,FALSE()) -> Drap de petitesse | CV23: Capes et robes | CW23: =RANDBETWEEN(1,20) -> 19 | CX23: =VLOOKUP(CW23,$AP$10:$AQ$29,2,FALSE()) -> Robe de vermine (magicien) | CZ23: Capes et robes | DA23: =RANDBETWEEN(1,20) -> 17 | DB23: =VLOOKUP(DA23,$AP$10:$AQ$29,2,FALSE()) -> Robe d'utilité (magicien) | DK23: Full Plate | DL23: 7 | DM23: Harnois plain | DN23: 15
A24: T | G24: T | M24: T | S24: S | T24: =IF(W24<=V24,U24,0) -> 2 | U24: =RANDBETWEEN(1,8) -> 2 | V24: 100 | W24: =RANDBETWEEN(1,100) -> 96 | Y24: 15 | Z24: Potion de Grands soins | AC24: 15 | AD24: 3 Sorts 1d8+1/niveau 1d6+1 | AF24: 14 | AG24: Anneau de Folie | AI24: 15 | AJ24: Sceptre de Châtiment | AM24: 15 | AN24: Manuel des larcins furtifs | AP24: 15 | AQ24: Robe scintillante (prêtre, magicien) | AS24: 15 | AT24: Flacon de malédiction | AV24: 15 | AW24: Lyre de construction | AY24: 14 | AZ24: =CONCATENATE(BA24,BC24) -> Armure d'écailles (+3) | BA24: Armure d'écailles | BB24: =RANDBETWEEN(1,20) -> 16 | BC24: =VLOOKUP(BB24,$BD$10:$BE$29,2,FALSE()) -> (+3) | BD24: 15 | BE24: (+3) | BH24: 14 | BI24: =CONCATENATE(BJ24,BK24) -> Javelot (1d2) (+3) | BJ24: Javelot (1d2) | BK24: =VLOOKUP(BL24,$BM$11:$BN$30,2,FALSE()) -> (+3) | BL24: =RANDBETWEEN(1,20) -> 17 | BM24: 14 | BN24: (+2) | BU24: 20 | BV24: Potions et huiles | BW24: 60 | BX24: =BV65 -> Armures et boucliers | BY24: =RANDBETWEEN(1,20) -> 7 | BZ24: =VLOOKUP(BY24,$AY$11:$AZ$30,2,FALSE()) -> Harnois plain (+2) | CB24: =BX24 -> Armures et boucliers | CC24: =RANDBETWEEN(1,20) -> 5 | CD24: =VLOOKUP(CC24,$AY$11:$AZ$30,2,FALSE()) -> Cotte de mailles (+4) | CF24: =CB24 -> Armures et boucliers | CG24: =RANDBETWEEN(1,20) -> 1 | CH24: =VLOOKUP(CG24,$AY$11:$AZ$30,2,FALSE()) -> Armure à bandes (+2) | CJ24: =CF24 -> Armures et boucliers | CK24: =RANDBETWEEN(1,20) -> 12 | CL24: =VLOOKUP(CK24,$AY$11:$AZ$30,2,FALSE()) -> Armure de plates (+5) | CN24: =CJ24 -> Armures et boucliers | CO24: =RANDBETWEEN(1,20) -> 15 | CP24: =VLOOKUP(CO24,$AY$11:$AZ$30,2,FALSE()) -> Bouclier (+3) | CR24: =CN24 -> Armures et boucliers | CS24: =RANDBETWEEN(1,20) -> 4 | CT24: =VLOOKUP(CS24,$AY$11:$AZ$30,2,FALSE()) -> Cotte de mailles (+1) | CV24: Bottes et gants | CW24: =RANDBETWEEN(1,20) -> 10 | CX24: =VLOOKUP(CW24,$AP$33:$AQ$52,2,FALSE()) -> Bracelets des jungles | CZ24: Bottes et gants | DA24: =RANDBETWEEN(1,20) -> 17 | DB24: =VLOOKUP(DA24,$AP$33:$AQ$52,2,FALSE()) -> Gantelets de natation et d'escalade (prêtre, roublard, combattant) | DK24: Leather | DL24: 8 | DM24: Cuir | DN24: 10
A25: U | G25: U | M25: U | N25: =IF(Q25<=P25,O25,0) -> 2 | O25: =RANDBETWEEN(2,16) -> 2 | P25: =90+B31 -> 90 | Q25: =RANDBETWEEN(1,100) -> 35 | S25: T | T25: =IF(W25<=V25,U25,0) -> 2 | U25: =RANDBETWEEN(1,4) -> 2 | V25: 100 | W25: =RANDBETWEEN(1,100) -> 24 | Y25: 16 | Z25: Potion de Souffle de feu | AC25: 16 | AD25: 4 Sorts niveau 1d6 | AF25: 15 | AG25: Anneau de Conjuration de Djinns | AI25: 16 | AJ25: Sceptre de Châtiment | AM25: 16 | AN25: Traité de pensée claire | AP25: 16 | AQ25: Robe étoilée (magicien) | AS25: 16 | AT25: Havresac de Heward | AV25: 16 | AW25: Flûte de hantise | AY25: 15 | AZ25: =CONCATENATE(BA25,BC25) -> Bouclier (+3) | BA25: Bouclier | BB25: =RANDBETWEEN(1,20) -> 16 | BC25: =VLOOKUP(BB25,$BD$10:$BE$29,2,FALSE()) -> (+3) | BD25: 16 | BE25: (+3) | BH25: 15 | BI25: =CONCATENATE(BJ25,BK25) -> Couteau (+2) | BJ25: Couteau | BK25: =VLOOKUP(BL25,$BM$11:$BN$30,2,FALSE()) -> (+2) | BL25: =RANDBETWEEN(1,20) -> 12 | BM25: 15 | BN25: (+3) | BU25: 21 | BV25: Parchemins | BW25: 75 | BX25: =BV80 -> Armes | BY25: =RANDBETWEEN(1,59) -> 51 | BZ25: =VLOOKUP(BY25,$BH$11:$BI$69,2,FALSE()) -> Épée (+2) | CB25: =BX25 -> Armes | CC25: =RANDBETWEEN(1,59) -> 3 | CD25: =VLOOKUP(CC25,$BH$11:$BI$69,2,FALSE()) -> Flèches (2d6) (+3) | CF25: =CB25 -> Armes | CG25: =RANDBETWEEN(1,59) -> 53 | CH25: =VLOOKUP(CG25,$BH$11:$BI$69,2,FALSE()) -> Trident (+5) | CJ25: =CF25 -> Armes | CK25: =RANDBETWEEN(1,59) -> 23 | CL25: =VLOOKUP(CK25,$BH$11:$BI$69,2,FALSE()) -> Arme d'hast (+2) | CN25: =CJ25 -> Armes | CO25: =RANDBETWEEN(1,59) -> 21 | CP25: =VLOOKUP(CO25,$BH$11:$BI$69,2,FALSE()) -> Morgenstern (+2) | CR25: =CN25 -> Armes | CS25: =RANDBETWEEN(1,59) -> 7 | CT25: =VLOOKUP(CS25,$BH$11:$BI$69,2,FALSE()) -> Carreaux (2d10) (+1) | CV25: Ceinturons et heaumes | CW25: =RANDBETWEEN(1,20) -> 18 | CX25: =VLOOKUP(CW25,$AP$56:$AQ$75,2,FALSE()) -> Heaume des eaux | CZ25: Ceinturons et heaumes | DA25: =RANDBETWEEN(1,20) -> 4 | DB25: =VLOOKUP(DA25,$AP$56:$AQ$75,2,FALSE()) -> Ceinturon d'hermaphrodite | DF25: 1 | DG25: Armures et boucliers | DK25: Plate Mail | DL25: 9-12 | DM25: Plates | DN25: 16-19
A26: V | G26: V | M26: V | S26: U | T26: =IF(W26<=V26,U26,0) -> 4 | U26: =RANDBETWEEN(1,6) -> 4 | V26: 80 | W26: =RANDBETWEEN(1,100) -> 18 | Y26: 17 | Z26: Potion de Résistance au feu | AC26: 17 | AD26: 4 Sorts 1d8/niveau 1d6 | AF26: 16 | AG26: Anneau de Conjuration de Djinns | AI26: 17 | AJ26: Sceptre de Splendeur | AM26: 17 | AN26: Traité d'autorité et d'influence | AP26: 17 | AQ26: Robe d'utilité (magicien) | AS26: 17 | AT26: Flasque de fer | AV26: 17 | AW26: Flûte obsédante | AY26: 16 | AZ26: =CONCATENATE(BA26,BC26) -> Bouclier (+4) | BA26: Bouclier | BB26: =RANDBETWEEN(1,20) -> 18 | BC26: =VLOOKUP(BB26,$BD$10:$BE$29,2,FALSE()) -> (+4) | BD26: 17 | BE26: (+3) | BH26: 16 | BI26: =CONCATENATE(BJ26,BK26) -> Lance (+5) | BJ26: Lance | BK26: =VLOOKUP(BL26,$BM$11:$BN$30,2,FALSE()) -> (+5) | BL26: =RANDBETWEEN(1,20) -> 20 | BM26: 16 | BN26: (+3) | BU26: 22 | BV26: Parchemins | BW26: 100 | BX26: =BX25 -> Armes | BZ26: =BZ25 -> Épée (+2) | CB26: =BX26 -> Armes | CD26: =CD25 -> Flèches (2d6) (+3) | CF26: =CB26 -> Armes | CH26: =CH25 -> Trident (+5) | CJ26: =CF26 -> Armes | CL26: =CL25 -> Arme d'hast (+2) | CN26: =CJ26 -> Armes | CP26: =CP25 -> Morgenstern (+2) | CR26: =CN26 -> Armes | CT26: =CT25 -> Carreaux (2d10) (+1) | CV26: Sacs et bouteilles | CW26: =RANDBETWEEN(1,20) -> 11 | CX26: =VLOOKUP(CW26,$AS$10:$AT$29,2,FALSE()) -> Bourse de Bucknard | CZ26: Sacs et bouteilles | DA26: =RANDBETWEEN(1,20) -> 15 | DB26: =VLOOKUP(DA26,$AS$10:$AT$29,2,FALSE()) -> Flacon de malédiction | DF26: 2 | DG26: Armures et boucliers | DK26: Ring Mail | DL26: 13 | DM26: Annelée | DN26: 1
A27: W | G27: W | M27: W | N27: =IF(Q27<=P27,O27,0) -> 3 | O27: =RANDBETWEEN(2,16) -> 3 | P27: =60+B31 -> 60 | Q27: =RANDBETWEEN(1,100) -> 54 | S27: V | Y27: 18 | Z27: Potion de Vol | AC27: 18 | AD27: 5 Sorts niveau 1d6 | AF27: 17 | AG27: Anneau de Commande des Élémentaux | AI27: 18 | AJ27: Sceptre de Terreur | AM27: 18 | AN27: Traité de compréhension | AP27: 18 | AQ27: Robe d'utilité (magicien) | AS27: 18 | AT27: Trou portable | AV27: 18 | AW27: Flûte ventriloque | AY27: 17 | AZ27: =CONCATENATE(BA27,BC27) -> Bouclier (+1) | BA27: Bouclier | BB27: =RANDBETWEEN(1,20) -> 3 | BC27: =VLOOKUP(BB27,$BD$10:$BE$29,2,FALSE()) -> (+1) | BD27: 18 | BE27: (+4) | BH27: 17 | BI27: =CONCATENATE(BJ27,BK27) -> Masse (-1) | BJ27: Masse | BK27: =VLOOKUP(BL27,$BM$11:$BN$30,2,FALSE()) -> (-1) | BL27: =RANDBETWEEN(1,20) -> 2 | BM27: 17 | BN27: (+3) | BU27: 23 | BV27: Parchemins | CV27: Poudres et pierres | CW27: =RANDBETWEEN(1,20) -> 11 | CX27: =VLOOKUP(CW27,$AS$33:$AT$52,2,FALSE()) -> Onguent de Kéoghtom | CZ27: Poudres et pierres | DA27: =RANDBETWEEN(1,20) -> 15 | DB27: =VLOOKUP(DA27,$AS$33:$AT$52,2,FALSE()) -> Colle suprême | DF27: 3 | DG27: Armures et boucliers | DK27: Scale Mail | DL27: 14 | DM27: Ecailles | DN27: 12
A28: X | G28: X | M28: X | S28: W | T28: =IF(W28<=V28,U28,0) -> 0 | U28: =RANDBETWEEN(1,8) -> 3 | V28: =50+B31 -> 50 | W28: =RANDBETWEEN(1,100) -> 95 | Y28: 19 | Z28: Potion de Forme gazeuse | AC28: 19 | AD28: 5 Sorts 1d8/niveau 1d6 | AF28: 18 | AG28: Anneau de Commande des Élémentaux | AI28: 19 | AJ28: Sceptre de Terreur | AM28: 19 | AN28: Grimoire des vacuités | AP28: 19 | AQ28: Robe de vermine (magicien) | AS28: 19 | AT28: Bourse d'accessibilité | AV28: 19 | AW28: Flûte enchantée | AY28: 18 | AZ28: =CONCATENATE(BA28,BC28) -> Armure feuilletée (+1) | BA28: Armure feuilletée | BB28: =RANDBETWEEN(1,20) -> 6 | BC28: =VLOOKUP(BB28,$BD$10:$BE$29,2,FALSE()) -> (+1) | BD28: 19 | BE28: (+4) | BH28: 18 | BI28: =CONCATENATE(BJ28,BK28) -> Masse (-1) | BJ28: Masse | BK28: =VLOOKUP(BL28,$BM$11:$BN$30,2,FALSE()) -> (-1) | BL28: =RANDBETWEEN(1,20) -> 1 | BM28: 18 | BN28: (+4) | BU28: 24 | BV28: Parchemins | BX28: 2 | BY28: Jet | CB28: 5 | CC28: Jet | CF28: 8 | CG28: Jet | CJ28: 11 | CK28: Jet | CN28: 14 | CO28: Jet | CR28: 17 | CS28: Jet | CV28: Outils et ustensiles ménagers | CW28: =RANDBETWEEN(1,20) -> 20 | CX28: =VLOOKUP(CW28,$AS$56:$AT$75,2,FALSE()) -> Outil au choix du MD | CZ28: Outils et ustensiles ménagers | DA28: =RANDBETWEEN(1,20) -> 6 | DB28: =VLOOKUP(DA28,$AS$56:$AT$75,2,FALSE()) -> Pioche des titans (combattant) | DF28: 4 | DG28: Armures et boucliers | DK28: Shield | DL28: 15-17 | DM28: Bouclier | DN28: 3-5
A29: Y | G29: Y | M29: Y | S29: X | Y29: 20 | Z29: Potion au choix du MD | AC29: 20 | AD29: 6 Sorts niveau 1d6 | AF29: 19 | AG29: Anneau de Chute de Plume | AI29: 20 | AJ29: Sceptre au choix du MD | AM29: 20 | AN29: Livre au choix du MD | AP29: 20 | AQ29: Cape ou Robe choix du MD | AS29: 20 | AT29: Sac, bouteille ou récipient au choix du MD | AV29: 20 | AW29: Instrument de musique au choix du MD | AY29: 19 | AZ29: =CONCATENATE(BA29,BC29) -> Armure de cuir clouté (+2) | BA29: Armure de cuir clouté | BB29: =RANDBETWEEN(1,20) -> 11 | BC29: =VLOOKUP(BB29,$BD$10:$BE$29,2,FALSE()) -> (+2) | BD29: 20 | BE29: (+5) | BH29: 19 | BI29: =CONCATENATE(BJ29,BK29) -> Pic de guerre (+3) | BJ29: Pic de guerre | BK29: =VLOOKUP(BL29,$BM$11:$BN$30,2,FALSE()) -> (+3) | BL29: =RANDBETWEEN(1,20) -> 16 | BM29: 19 | BN29: (+4) | BU29: 25 | BV29: Parchemins | BX29: =BX8 -> Potions et huiles | BY29: =RANDBETWEEN(1,60) -> 4 | BZ29: =VLOOKUP(BY29,$Y$10:$AA$69,2,FALSE()) -> Potion d'Escalade | CB29: =BX29 -> Potions et huiles | CC29: =RANDBETWEEN(1,60) -> 39 | CD29: =VLOOKUP(CC29,$Y$10:$AA$69,2,FALSE()) -> Huile de glisse | CF29: =CB29 -> Potions et huiles | CG29: =RANDBETWEEN(1,60) -> 32 | CH29: =VLOOKUP(CG29,$Y$10:$AA$69,2,FALSE()) -> Huile antiacide | CJ29: =CF29 -> Potions et huiles | CK29: =RANDBETWEEN(1,60) -> 43 | CL29: =VLOOKUP(CK29,$Y$10:$AA$69,2,FALSE()) -> Philtre d'amour | CN29: =CJ29 -> Potions et huiles | CO29: =RANDBETWEEN(1,60) -> 35 | CP29: =VLOOKUP(CO29,$Y$10:$AA$69,2,FALSE()) -> Huile éthérée | CR29: =CN29 -> Potions et huiles | CS29: =RANDBETWEEN(1,60) -> 50 | CT29: =VLOOKUP(CS29,$Y$10:$AA$69,2,FALSE()) -> Potion d'Éclat irisé | CV29: Instruments de musique | CW29: =RANDBETWEEN(1,20) -> 14 | CX29: =VLOOKUP(CW29,$AV$10:$AW$29,2,FALSE()) -> Cor du Walhalla | CZ29: Instruments de musique | DA29: =RANDBETWEEN(1,20) -> 3 | DB29: =VLOOKUP(DA29,$AV$10:$AW$29,2,FALSE()) -> Carillon d'immense faim | DF29: 5 | DG29: Armures et boucliers | DK29: Splint Mail | DL29: 18 | DM29: Feuilletée | DN29: 13
A30: Z | B30: =IF(E30<=D30,C30,0) -> 135 | C30: =RANDBETWEEN(100,300) -> 135 | D30: 100 | E30: =RANDBETWEEN(1,100) -> 28 | G30: Z | H30: =IF(K30<=J30,I30,0) -> 326 | I30: =RANDBETWEEN(100,400) -> 326 | J30: 100 | M30: Z | N30: =IF(Q30<=P30,O30,0) -> 4 | O30: =RANDBETWEEN(1,6) -> 4 | P30: =55+B31 -> 55 | Q30: =RANDBETWEEN(1,100) -> 51 | S30: Y | Y30: 21 | Z30: Potion de Contrôle des géants | AC30: 21 | AD30: 6 Sorts 1d6+2/niveau 1d4+2 | AF30: 20 | AG30: Anneau de Chute de Plume | AY30: 20 | AZ30: =BA30 -> Cotte de mailles elfique (+2) | BA30: =VLOOKUP(BB30,AY32:AZ222,2,FALSE()) -> Cotte de mailles elfique (+2) | BB30: =RANDBETWEEN(1,191) -> 82 | BH30: 20 | BI30: =CONCATENATE(BJ30,BK30) -> Pic de guerre (+5) | BJ30: Pic de guerre | BK30: =VLOOKUP(BL30,$BM$11:$BN$30,2,FALSE()) -> (+5) | BL30: =RANDBETWEEN(1,20) -> 20 | BM30: 20 | BN30: (+5) | BU30: 26 | BV30: Parchemins | BX30: =BX9 -> Parchemins | BY30: =RANDBETWEEN(1,45) -> 39 | BZ30: =VLOOKUP(BY30,$AC$10:$AD$54,2,FALSE()) -> Protection contre les plantes | CB30: =BX30 -> Parchemins | CC30: =RANDBETWEEN(1,45) -> 41 | CD30: =VLOOKUP(CC30,$AC$10:$AD$54,2,FALSE()) -> Protection contre la possession | CF30: =CB30 -> Parchemins | CG30: =RANDBETWEEN(1,45) -> 32 | CH30: =VLOOKUP(CG30,$AC$10:$AD$54,2,FALSE()) -> Protection contre les élémentaux | CJ30: =CF30 -> Parchemins | CK30: =RANDBETWEEN(1,45) -> 29 | CL30: =VLOOKUP(CK30,$AC$10:$AD$54,2,FALSE()) -> Protection contre les souffles de dragon | CN30: =CJ30 -> Parchemins | CO30: =RANDBETWEEN(1,45) -> 17 | CP30: =VLOOKUP(CO30,$AC$10:$AD$54,2,FALSE()) -> 4 Sorts 1d8/niveau 1d6 | CR30: =CN30 -> Parchemins | CS30: =RANDBETWEEN(1,45) -> 40 | CT30: =VLOOKUP(CS30,$AC$10:$AD$54,2,FALSE()) -> Protection contre le poison | CV30: Bizarreries | CW30: =RANDBETWEEN(1,40) -> 37 | CX30: =VLOOKUP(CW30,$AV$33:$AW$72,2,FALSE()) -> Ëventail des vents | CZ30: Bizarreries | DA30: =RANDBETWEEN(1,40) -> 33 | DB30: =VLOOKUP(DA30,$AV$33:$AW$72,2,FALSE()) -> Drap de petitesse | DF30: 6 | DG30: Armures et boucliers | DK30: Studded Cuir | DL30: 19 | DM30: Cuir clouté | DN30: 11
A31: Luck | B31: =Trésor!B3 -> 0 | S31: Z | T31: =IF(W31<=V31,U31,0) -> 10 | U31: =RANDBETWEEN(2,12) -> 10 | V31: =50+B31 -> 50 | W31: =RANDBETWEEN(1,100) -> 13 | Y31: 22 | Z31: Potion de Force de géant (combattant) | AC31: 22 | AD31: 7 Sorts 1d8 level | AF31: 21 | AG31: Anneau de Résistance au Feu | AI31: Bâtons | AM31: Joyaux, Bijoux et Phylactères | AP31: Bottes, Bracelets, Gants | AS31: Bougies, poudres, onguents, encens et pierres | AV31: Bizarreries | BH31: 21 | BI31: =CONCATENATE(BJ31,BK31) -> Morgenstern (+2) | BJ31: Morgenstern | BK31: =VLOOKUP(BL31,$BM$11:$BN$30,2,FALSE()) -> (+2) | BL31: =RANDBETWEEN(1,20) -> 14 | BU31: 27 | BV31: Parchemins | BX31: =BX10 -> Anneaux | BY31: =RANDBETWEEN(1,60) -> 11 | BZ31: =VLOOKUP(BY31,$AF$11:$AG$70,2,FALSE()) -> Anneau de Folie | CB31: =BX31 -> Anneaux | CC31: =RANDBETWEEN(1,60) -> 11 | CD31: =VLOOKUP(CC31,$AF$11:$AG$70,2,FALSE()) -> Anneau de Folie | CF31: =CB31 -> Anneaux | CG31: =RANDBETWEEN(1,60) -> 15 | CH31: =VLOOKUP(CG31,$AF$11:$AG$70,2,FALSE()) -> Anneau de Conjuration de Djinns | CJ31: =CF31 -> Anneaux | CK31: =RANDBETWEEN(1,60) -> 5 | CL31: =VLOOKUP(CK31,$AF$11:$AG$70,2,FALSE()) -> Anneau de Caméléon | CN31: =CJ31 -> Anneaux | CO31: =RANDBETWEEN(1,60) -> 37 | CP31: =VLOOKUP(CO31,$AF$11:$AG$70,2,FALSE()) -> Anneau de Protection | CR31: =CN31 -> Anneaux | CS31: =RANDBETWEEN(1,60) -> 33 | CT31: =VLOOKUP(CS31,$AF$11:$AG$70,2,FALSE()) -> Anneau de Contrôle des Mammifères | CV31: Armures et boucliers | CW31: =RANDBETWEEN(1,20) -> 5 | CX31: =VLOOKUP(CW31,$AY$11:$AZ$30,2,FALSE()) -> Cotte de mailles (+4) | CZ31: Armures et boucliers | DA31: =RANDBETWEEN(1,20) -> 4 | DB31: =VLOOKUP(DA31,$AY$11:$AZ$30,2,FALSE()) -> Cotte de mailles (+1) | DF31: 7 | DG31: Armures et boucliers
A32: PO | G32: PP | M32: Objets | Y32: 23 | Z32: Potion de Croissance | AC32: 23 | AD32: 7 Sorts 1d8+1/niveau 1d6+1 | AF32: 22 | AG32: Anneau de Résistance au Feu | AY32: 1 | AZ32: =CONCATENATE(BA32,BC32) -> Armure à bandes de commandement (+4) | BA32: Armure à bandes de commandement | BB32: =RANDBETWEEN(1,18) -> 16 | BC32: =VLOOKUP(BB32,$BD$32:$BE$49,2,FALSE()) -> (+4) | BD32: 1 | BE32: (+1) | BH32: 22 | BI32: =CONCATENATE(BJ32,BK32) -> Morgenstern (+3) | BJ32: Morgenstern | BK32: =VLOOKUP(BL32,$BM$11:$BN$30,2,FALSE()) -> (+3) | BL32: =RANDBETWEEN(1,20) -> 16 | BU32: 28 | BV32: Parchemins | BX32: =BX11 -> Sceptres | BY32: =RANDBETWEEN(1,20) -> 18 | BZ32: =VLOOKUP(BY32,$AI$10:$AJ$29,2,FALSE()) -> Sceptre de Terreur | CB32: =BX32 -> Sceptres | CC32: =RANDBETWEEN(1,20) -> 19 | CD32: =VLOOKUP(CC32,$AI$10:$AJ$29,2,FALSE()) -> Sceptre de Terreur | CF32: =CB32 -> Sceptres | CG32: =RANDBETWEEN(1,20) -> 10 | CH32: =VLOOKUP(CG32,$AI$10:$AJ$29,2,FALSE()) -> Sceptre de Passage | CJ32: =CF32 -> Sceptres | CK32: =RANDBETWEEN(1,20) -> 9 | CL32: =VLOOKUP(CK32,$AI$10:$AJ$29,2,FALSE()) -> Sceptre de Puissance altière | CN32: =CJ32 -> Sceptres | CO32: =RANDBETWEEN(1,20) -> 2 | CP32: =VLOOKUP(CO32,$AI$10:$AJ$29,2,FALSE()) -> Sceptre de Absorption | CR32: =CN32 -> Sceptres | CS32: =RANDBETWEEN(1,20) -> 8 | CT32: =VLOOKUP(CS32,$AI$10:$AJ$29,2,FALSE()) -> Sceptre de Fléau d'armes | CV32: Armures et boucliers | CX32: =CX31 -> Cotte de mailles (+4) | CZ32: Armures et boucliers | DB32: =DB31 -> Cotte de mailles (+1) | DF32: 8 | DG32: Armures et boucliers
B33: Actual Yield | C33: Yield | D33: %CHANCE | E33: CHANCE | H33: Actual Yield | I33: Yield | J33: %CHANCE | K33: CHANCE | N33: Actual Yield | O33: Yield | P33: %CHANCE | Q33: CHANCE | Y33: 24 | Z33: Potion de Soins | AC33: 24 | AD33: 7 Sorts 1d6+3/niveau 1d4+3 | AF33: 23 | AG33: Anneau d'Action Libre | AI33: 1 | AJ33: Bâton Masse d'Armes | AM33: 1 | AN33: Amulette de Détection Infaillible | AP33: 1 | AQ33: Bottes de danse | AS33: 1 | AT33: Cierge d'invocation (prêtre) | AV33: 1 | AW33: Appareil de Kwalish | AY33: 2 | AZ33: =CONCATENATE(BA33,BC33) -> Brigandine de commandement (+4) | BA33: Brigandine de commandement | BB33: =RANDBETWEEN(1,18) -> 17 | BC33: =VLOOKUP(BB33,$BD$32:$BE$49,2,FALSE()) -> (+4) | BD33: 2 | BE33: (+1) | BH33: 23 | BI33: =CONCATENATE(BJ33,BK33) -> Arme d'hast (+2) | BJ33: Arme d'hast | BK33: =VLOOKUP(BL33,$BM$11:$BN$30,2,FALSE()) -> (+2) | BL33: =RANDBETWEEN(1,20) -> 13 | BU33: 29 | BV33: Parchemins | BX33: =BX12 -> Bâtons | BY33: =RANDBETWEEN(1,20) -> 8 | BZ33: =VLOOKUP(BY33,$AI$33:$AJ$52,2,FALSE()) -> Bâton Serpent | CB33: =BX33 -> Bâtons | CC33: =RANDBETWEEN(1,20) -> 19 | CD33: =VLOOKUP(CC33,$AI$33:$AJ$52,2,FALSE()) -> Bâton des Grandes Forêts | CF33: =CB33 -> Bâtons | CG33: =RANDBETWEEN(1,20) -> 17 | CH33: =VLOOKUP(CG33,$AI$33:$AJ$52,2,FALSE()) -> Bâton de Soins | CJ33: =CF33 -> Bâtons | CK33: =RANDBETWEEN(1,20) -> 6 | CL33: =VLOOKUP(CK33,$AI$33:$AJ$52,2,FALSE()) -> Bâton de Mage | CN33: =CJ33 -> Bâtons | CO33: =RANDBETWEEN(1,20) -> 2 | CP33: =VLOOKUP(CO33,$AI$33:$AJ$52,2,FALSE()) -> Bâton Masse d'Armes | CR33: =CN33 -> Bâtons | CS33: =RANDBETWEEN(1,20) -> 1 | CT33: =VLOOKUP(CS33,$AI$33:$AJ$52,2,FALSE()) -> Bâton Masse d'Armes | DF33: 9 | DG33: Armures et boucliers
A34: A | B34: =IF(E34<=D34,C34,0) -> 0 | C34: =RANDBETWEEN(1000,6000) -> 5503 | D34: =40+B31 -> 40 | E34: =RANDBETWEEN(1,100) -> 68 | G34: A | H34: =IF(K34<=J34,I34,0) -> 0 | I34: =RANDBETWEEN(300,1800) -> 565 | J34: =35+B31 -> 35 | K34: =RANDBETWEEN(1,100) -> 56 | M34: A | N34: =IF(Q34<=P34,O34,0) -> Tous 3 items | O34: Tous 3 items | P34: =30+B31 -> 30 | Q34: =RANDBETWEEN(1,100) -> 1 | S34: Objets magiques divers | Y34: 25 | Z34: Potion de Soins | AC34: 25 | AD34: Parchemin choix du MD | AF34: 24 | AG34: Anneau d'Action Libre | AI34: 2 | AJ34: Bâton Masse d'Armes | AM34: 2 | AN34: Amulette de Protection Vitale | AP34: 2 | AQ34: Bottes elfiques | AS34: 2 | AT34: Poudre d'apparition | AV34: 2 | AW34: Bateau pliable | AY34: 3 | AZ34: =CONCATENATE(BA34,BC34) -> Cotte de mailles de commandement (+4) | BA34: Cotte de mailles de commandement | BB34: =RANDBETWEEN(1,18) -> 17 | BC34: =VLOOKUP(BB34,$BD$32:$BE$49,2,FALSE()) -> (+4) | BD34: 3 | BE34: (+1) | BH34: 24 | BI34: =CONCATENATE(BJ34,BK34) -> Arme d'hast (+1) | BJ34: Arme d'hast | BK34: =VLOOKUP(BL34,$BM$11:$BN$30,2,FALSE()) -> (+1) | BL34: =RANDBETWEEN(1,20) -> 4 | BU34: 30 | BV34: Parchemins | BX34: =BX13 -> Baguettes | BY34: =RANDBETWEEN(1,20) -> 11 | BZ34: =VLOOKUP(BY34,$AI$56:$AJ$75,2,FALSE()) -> Baguette de Détection de la magie 21 Charges | CB34: =BX34 -> Baguettes | CC34: =RANDBETWEEN(1,20) -> 10 | CD34: =VLOOKUP(CC34,$AI$56:$AJ$75,2,FALSE()) -> Baguette de Foudre (magicien) 47 Charges | CF34: =CB34 -> Baguettes | CG34: =RANDBETWEEN(1,20) -> 19 | CH34: =VLOOKUP(CG34,$AI$56:$AJ$75,2,FALSE()) -> Baguette Prodigieuse 13 Charges | CJ34: =CF34 -> Baguettes | CK34: =RANDBETWEEN(1,20) -> 5 | CL34: =VLOOKUP(CK34,$AI$56:$AJ$75,2,FALSE()) -> Baguette de Feu (magicien) 93 Charges | CN34: =CJ34 -> Baguettes | CO34: =RANDBETWEEN(1,20) -> 20 | CP34: =VLOOKUP(CO34,$AI$56:$AJ$75,2,FALSE()) -> Baguette choix du MD | CR34: =CN34 -> Baguettes | CS34: =RANDBETWEEN(1,20) -> 10 | CT34: =VLOOKUP(CS34,$AI$56:$AJ$75,2,FALSE()) -> Baguette de Foudre (magicien) 47 Charges | CV34: 2 | CW34: Jet | CZ34: 5 | DA34: Jet | DF34: 10 | DG34: Armures et boucliers
